{"text_format":"1","workbook":"xlsx","n_sheets":7,"sheets":["UNITCOST ITEMS (Data Entry)","COST ESTIMATE SUMMARY","Assessment Reimbursement Area","Additional Parcel Owner Info","Instructions","ADMIN USE ONLY - Fee Calculator","REFERENCE SHEET"],"not_rendered":{"charts":0,"images":1,"macros":1,"external_links":0,"defined_names":12,"comments":0,"pivot_tables":0},"unopened":[],"bounds":{"document_bytes":16777216,"sheet_cells":100000,"rows_first":2000,"rows_last":500,"rows_between":2000,"halvings":0,"cell_chars":16384,"cell_head_chars":4096},"cells_cut":0,"cells_raw":0,"read":"whole","date_system":"1900"}

{"sheet":"UNITCOST ITEMS (Data Entry)","index":0,"n_rows":505,"n_cols":16,"rows_kept":505,"cut":false,"hidden":true,"merged":[[12,15,50,20]]}
["Line # Usage","Category Line # Usage","Line Type","BID ITEM","BID ITEM DESCRIPTION","UNIT","QUANTITY","STANDARD UNIT COST","CUSTOM UNIT COST","TOTAL PRICE",null,"Type of Row",{"$f":"CONCATENATE(\"'UNITCOST ITEMS (Data Entry)'!$D$1:$J$\",MAX(L1:L505))","v":"'UNITCOST ITEMS (Data Entry)'!$D$1:$J$2"}]
[null,null,null,null,null,null,null,null,null,null,null,{"$f":"ROW()","v":2}]
[{"$f":"IF(C3>0,1,0)","v":0},{"$f":"IF(C3=2,1,0)","v":0},{"$f":"IF(SUM(C4:C6)>0,2,0)","v":0},"SECTION 1-10","TEMPORARY TRAFFIC CONTROL",null,null,null,null,{"$f":"SUM(J4:J6)","v":0},null,{"$f":"IF(C3>0,ROW(),\"\")","v":""}]
[{"$f":"IF(C4>0,SUM(MAX($A$3),IF(C4>0,1,0)),0)","v":0},{"$f":"IF(C4=2,SUM(MAX($B$3),IF(C4=2,1,0)),0)","v":0},{"$f":"IF(G4>0,1,0)","v":0},110005,"MAINTENANCE AND PROTECTION OF TRAFFIC CONTROL",{"$f":"IFERROR(VLOOKUP(VALUE(D4),BIDITEM,3,FALSE),\"\")","v":"LS"},null,{"$f":"IF(AND(G4>0,I4=0),IFERROR(VLOOKUP(VALUE(D4),BIDITEM,4,FALSE),\"\"),\"\")","v":""},null,{"$f":"IF(AND(G4>0,OR(H4>0,I4>0)),IF(I4>0,PRODUCT(I4,G4),PRODUCT(H4,G4)),\"\")","v":""},null,{"$f":"IF(C4>0,ROW(),\"\")","v":""}]
[{"$f":"IF(C5>0,SUM(MAX($A$3:A4),IF(C5>0,1,0)),0)","v":0},{"$f":"IF(C5=2,SUM(MAX($B$3:B4),IF(C5=2,1,0)),0)","v":0},{"$f":"IF(G5>0,1,0)","v":0},null,"INCLUDING FLAGGING",null,null,null,null,{"$f":"IF(AND(G5>0,OR(H5>0,I5>0)),IF(I5>0,PRODUCT(I5,G5),PRODUCT(H5,G5)),\"\")","v":""},null,{"$f":"IF(C5>0,ROW(),\"\")","v":""}]
[{"$f":"IF(C6>0,SUM(MAX($A$3:A5),IF(C6>0,1,0)),0)","v":0},{"$f":"IF(C6=2,SUM(MAX($B$3:B5),IF(C6=2,1,0)),0)","v":0},{"$f":"IF(G6>0,1,0)","v":0},110020,"TRAFFIC CONTROL PEACE OFFICERS",{"$f":"IFERROR(VLOOKUP(VALUE(D6),BIDITEM,3,FALSE),\"\")","v":"HR"},null,{"$f":"IF(AND(G6>0,I6=0),IFERROR(VLOOKUP(VALUE(D6),BIDITEM,4,FALSE),\"\"),\"\")","v":""},null,{"$f":"IF(AND(G6>0,OR(H6>0,I6>0)),IF(I6>0,PRODUCT(I6,G6),PRODUCT(H6,G6)),\"\")","v":""},null,{"$f":"IF(C6>0,ROW(),\"\")","v":""}]
[{"$f":"IF(C7>0,SUM(MAX($A$3:A6),IF(C7>0,1,0)),0)","v":0},{"$f":"IF(C7=2,SUM(MAX($B$3:B6),IF(C7=2,1,0)),0)","v":0},0,null,null,null,null,null,null,null,null,{"$f":"IF(C8>0,ROW(),\"\")","v":""}]
[{"$f":"IF(C8>0,SUM(MAX($A$3:A7),IF(C8>0,1,0)),0)","v":0},{"$f":"IF(C8=2,SUM(MAX($B$3:B7),IF(C8=2,1,0)),0)","v":0},{"$f":"IF(SUM(C9:C14)>0,2,0)","v":0},"SECTION 2-01","CLEARING, GRUBBING, AND ROADSIDE CLEANUP",null,null,null,null,{"$f":"SUM(J9:J14)","v":0},null,""]
[{"$f":"IF(C9>0,SUM(MAX($A$3:A8),IF(C9>0,1,0)),0)","v":0},{"$f":"IF(C9=2,SUM(MAX($B$3:B8),IF(C9=2,1,0)),0)","v":0},0,201005,"CLEARING & GRUBBING",{"$f":"IFERROR(VLOOKUP(VALUE(D9),BIDITEM,3,FALSE),\"\")","v":"SF"},null,{"$f":"IF(AND(G9>0,I9=0),IFERROR(VLOOKUP(VALUE(D9),BIDITEM,4,FALSE),\"\"),\"\")","v":""},null,{"$f":"IF(AND(G9>0,OR(H9>0,I9>0)),IF(I9>0,PRODUCT(I9,G9),PRODUCT(H9,G9)),\"\")","v":""},null,{"$f":"IF(C9>0,ROW(),\"\")","v":""}]
[{"$f":"IF(C10>0,SUM(MAX($A$3:A9),IF(C10>0,1,0)),0)","v":0},{"$f":"IF(C10=2,SUM(MAX($B$3:B9),IF(C10=2,1,0)),0)","v":0},0,"201010","CLEARING & GRUBBING","LS",null,"",null,"",null,{"$f":"IF(C10>0,ROW(),\"\")","v":""}]
[{"$f":"IF(C11>0,SUM(MAX($A$3:A10),IF(C11>0,1,0)),0)","v":0},{"$f":"IF(C11=2,SUM(MAX($B$3:B10),IF(C11=2,1,0)),0)","v":0},0,201020,"CLEARING","SF",null,"",null,"",null,""]
[{"$f":"IF(C12>0,SUM(MAX($A$3:A11),IF(C12>0,1,0)),0)","v":0},{"$f":"IF(C12=2,SUM(MAX($B$3:B11),IF(C12=2,1,0)),0)","v":0},0,201025,"CLEARING","LS",null,"",null,"",null,""]
[{"$f":"IF(C13>0,SUM(MAX($A$3:A12),IF(C13>0,1,0)),0)","v":0},{"$f":"IF(C13=2,SUM(MAX($B$3:B12),IF(C13=2,1,0)),0)","v":0},0,201030,"GRUBBING","SF",null,"",null,"",null,"",null,null,null,"\n INSTRUCTIONS:   The applicant should fill in yellow cells (where applicable). The white cells are locked with formulas to calculate based on data entered \n                                                        in yellow cells. The white cells will populate with the APWA standard costs for these bid items. You do not need to fill out the \n                                                        yellow cells in the custom unit cost column unless your costs differ from those in the standard unit cost column. \n\n                                                              •  Fill in the quantity for each applicable bid item.\n                                                              •  The Standard Unit Cost will appear when you fill in a quantity (based on the APWA 2017 guide).\n                                                              •  Override the standard unit cost, if necessary, by entering an appropriate dollar amount in the custom unit cost column. \n                                                              •  Your costs will autopopulate on the next tab: COST ESTIMATE SUMMARY.\n                                                              •  Save the COST ESTIMATE SUMMARY and submit with your Latecomer package to the SPUwateravailability@seattle.gov \n                                                                  mailbox.\n                                                              •  To ensure that there is no delay in your final cost reconciliation by SPU, your final invoices should match the bid item \n                                                                   numbers exactly. Final costs may be different, but the bid items should be the same. If you submit final bulk item \n                                                                   invoices, this may delay the processing of your agreement.\n UNIT COST ITEMS:\n\n    - Quantity - Enter the number of units for each of the applicable bid items from the UNITCOST ITEMS list \n      (enter number in yellow cell). \n    - Unit - For bid items with no standard units specified, there will be a yellow cell to enter applicable units. \n    - Standard Unit Cost - Each of the standard bid items has a standard unit cost that will display if a quantity of 1 or \n       more is entered.\n    - Customer Unit Cost - If the standard unit cost is not correct for a bid item, enter a custom unit cost. The custom\n       unit cost will be used in place of the standard unit cost.\n\nCOST ESTIMATE SUMMARY:\n\n    When data entry is complete on the UNITCOST ITEMS (Data Entry) sheet, the summary of the items selected \n    will display on the COST ESTIMATE SUMMARY sheet.\n\n    - Add'l Info Provided - If additional information is provided for any of the bid items, use the yellow cells on the \n       row  in the COST ESTIMATE SUMMARY sheet and select 'yes'.\n\n  Identifiying Information:  Enter the latecomer agreement & project identification information at the top of \n  the COST ESTIMATE SUMMARY sheet in the yellow cells.\n\n    - Date - Enter the date for the cost estimate.\n    - Latecomer Agreement # - Enter the agreement number for the cost estimate.\n    - Project Name - Enter the project name for the cost estimate.\n    - Project Contact Name/e-mail - Enter the contact name or email address for the cost estimate.\n    - Estimate By - Enter the name for the person who prepared the cost estimate.\n\nAUTOMATED FUNCTIONS:\n\n    - Print Cost Estimate - Macro button to print the range of non-blank rows for the COST ESTIMATE SUMMARY sheet.\n    - Print Unit Cost - Macro button to print the range of non-blank rows for the UNITCOST ITEMS (Data Entry) sheet.\n"]
[{"$f":"IF(C14>0,SUM(MAX($A$3:A13),IF(C14>0,1,0)),0)","v":0},{"$f":"IF(C14=2,SUM(MAX($B$3:B13),IF(C14=2,1,0)),0)","v":0},0,201035,"GRUBBING","LS",null,"",null,"",null,""]
[{"$f":"IF(C15>0,SUM(MAX($A$3:A14),IF(C15>0,1,0)),0)","v":0},{"$f":"IF(C15=2,SUM(MAX($B$3:B14),IF(C15=2,1,0)),0)","v":0},0,null,null,null,null,null,null,null,null,""]
[{"$f":"IF(C16>0,SUM(MAX($A$3:A15),IF(C16>0,1,0)),0)","v":0},{"$f":"IF(C16=2,SUM(MAX($B$3:B15),IF(C16=2,1,0)),0)","v":0},{"$f":"IF(SUM(C17:C69)>0,2,0)","v":0},"SECTION 2-02","REMOVE, ABANDON, OR RELOCATE STRUCTURES AND OBSTRUCTIONS ",null,null,null,null,{"$f":"SUM(J17:J69)","v":0},null,""]
[{"$f":"IF(C17>0,SUM(MAX($A$3:A16),IF(C17>0,1,0)),0)","v":0},{"$f":"IF(C17=2,SUM(MAX($B$3:B16),IF(C17=2,1,0)),0)","v":0},0,202015,"REMOVE ROCK FACING",{"$f":"IFERROR(VLOOKUP(VALUE(D17),BIDITEM,3,FALSE),\"\")","v":"SF"},null,{"$f":"IF(AND(G17>0,I17=0),IFERROR(VLOOKUP(VALUE(D17),BIDITEM,4,FALSE),\"\"),\"\")","v":""},null,{"$f":"IF(AND(G17>0,OR(H17>0,I17>0)),IF(I17>0,PRODUCT(I17,G17),PRODUCT(H17,G17)),\"\")","v":""},null,""]
[{"$f":"IF(C18>0,SUM(MAX($A$3:A17),IF(C18>0,1,0)),0)","v":0},{"$f":"IF(C18=2,SUM(MAX($B$3:B17),IF(C18=2,1,0)),0)","v":0},0,202025,"REMOVE ASPHALT OVERLAY ","SY",null,"",null,"",null,""]
[{"$f":"IF(C19>0,SUM(MAX($A$3:A18),IF(C19>0,1,0)),0)","v":0},{"$f":"IF(C19=2,SUM(MAX($B$3:B18),IF(C19=2,1,0)),0)","v":0},0,202030,"REMOVE ASPHALT PAVEMENT","SY",null,"",null,"",null,""]
[{"$f":"IF(C20>0,SUM(MAX($A$3:A19),IF(C20>0,1,0)),0)","v":0},{"$f":"IF(C20=2,SUM(MAX($B$3:B19),IF(C20=2,1,0)),0)","v":0},0,202035,"REMOVE CEM CONC SIDEWALK","SY",null,"",null,"",null,""]
[{"$f":"IF(C21>0,SUM(MAX($A$3:A20),IF(C21>0,1,0)),0)","v":0},{"$f":"IF(C21=2,SUM(MAX($B$3:B20),IF(C21=2,1,0)),0)","v":0},0,202045,"REMOVE PAVEMENT","SY",null,"",null,"",null,""]
[{"$f":"IF(C22>0,SUM(MAX($A$3:A21),IF(C22>0,1,0)),0)","v":0},{"$f":"IF(C22=2,SUM(MAX($B$3:B21),IF(C22=2,1,0)),0)","v":0},0,202062,"REMOVE PAVEMENT, OVER 14\" IN DEPTH, INCLUDING RAILS & TIES","SY",null,"",null,"",null,""]
[{"$f":"IF(C23>0,SUM(MAX($A$3:A22),IF(C23>0,1,0)),0)","v":0},{"$f":"IF(C23=2,SUM(MAX($B$3:B22),IF(C23=2,1,0)),0)","v":0},0,202064,"REMOVE PAVEMENT, OVER 14\" IN DEPTH, INCLUDING RAILROAD TIES","SY",null,"",null,"",null,""]
[{"$f":"IF(C24>0,SUM(MAX($A$3:A23),IF(C24>0,1,0)),0)","v":0},{"$f":"IF(C24=2,SUM(MAX($B$3:B23),IF(C24=2,1,0)),0)","v":0},0,202066,"REMOVE PAVEMENT, OVER 14\" IN DEPTH","SY",null,"",null,"",null,""]
[{"$f":"IF(C25>0,SUM(MAX($A$3:A24),IF(C25>0,1,0)),0)","v":0},{"$f":"IF(C25=2,SUM(MAX($B$3:B24),IF(C25=2,1,0)),0)","v":0},0,202125,"REMOVE BEAM GUARD RAIL","LF",null,"",null,"",null,""]
[{"$f":"IF(C26>0,SUM(MAX($A$3:A25),IF(C26>0,1,0)),0)","v":0},{"$f":"IF(C26=2,SUM(MAX($B$3:B25),IF(C26=2,1,0)),0)","v":0},0,202130,"REMOVE CONC TRAFFIC BARRIER","LF",null,"",null,"",null,""]
[{"$f":"IF(C27>0,SUM(MAX($A$3:A26),IF(C27>0,1,0)),0)","v":0},{"$f":"IF(C27=2,SUM(MAX($B$3:B26),IF(C27=2,1,0)),0)","v":0},0,202135,"REMOVE CONDUIT","LF",null,"",null,"",null,""]
[{"$f":"IF(C28>0,SUM(MAX($A$3:A27),IF(C28>0,1,0)),0)","v":0},{"$f":"IF(C28=2,SUM(MAX($B$3:B27),IF(C28=2,1,0)),0)","v":0},0,202140,"REMOVE CULVERT","LF",null,"",null,"",null,""]
[{"$f":"IF(C29>0,SUM(MAX($A$3:A28),IF(C29>0,1,0)),0)","v":0},{"$f":"IF(C29=2,SUM(MAX($B$3:B28),IF(C29=2,1,0)),0)","v":0},0,202145,"REMOVE CURB","LF",null,"",null,"",null,""]
[{"$f":"IF(C30>0,SUM(MAX($A$3:A29),IF(C30>0,1,0)),0)","v":0},{"$f":"IF(C30=2,SUM(MAX($B$3:B29),IF(C30=2,1,0)),0)","v":0},0,202155,"REMOVE CURB & GUTTER","LF",null,"",null,"",null,""]
[{"$f":"IF(C31>0,SUM(MAX($A$3:A30),IF(C31>0,1,0)),0)","v":0},{"$f":"IF(C31=2,SUM(MAX($B$3:B30),IF(C31=2,1,0)),0)","v":0},0,202165,"REMOVE FENCE, WOOD","LF",null,"",null,"",null,""]
[{"$f":"IF(C32>0,SUM(MAX($A$3:A31),IF(C32>0,1,0)),0)","v":0},{"$f":"IF(C32=2,SUM(MAX($B$3:B31),IF(C32=2,1,0)),0)","v":0},0,202170,"REMOVE FENCE, CHAIN LINK","LF",null,"",null,"",null,""]
[{"$f":"IF(C33>0,SUM(MAX($A$3:A32),IF(C33>0,1,0)),0)","v":0},{"$f":"IF(C33=2,SUM(MAX($B$3:B32),IF(C33=2,1,0)),0)","v":0},0,202180,"REMOVE PAVEMENT MARKING","LF",null,"",null,"",null,""]
[{"$f":"IF(C34>0,SUM(MAX($A$3:A33),IF(C34>0,1,0)),0)","v":0},{"$f":"IF(C34=2,SUM(MAX($B$3:B33),IF(C34=2,1,0)),0)","v":0},0,202190,"REMOVE PIPE","LF",null,"",null,"",null,""]
[{"$f":"IF(C35>0,SUM(MAX($A$3:A34),IF(C35>0,1,0)),0)","v":0},{"$f":"IF(C35=2,SUM(MAX($B$3:B34),IF(C35=2,1,0)),0)","v":0},0,202200,"REMOVE PAVEMENT MARKING, THERMOPLASTIC","LF",null,"",null,"",null,""]
[{"$f":"IF(C36>0,SUM(MAX($A$3:A35),IF(C36>0,1,0)),0)","v":0},{"$f":"IF(C36=2,SUM(MAX($B$3:B35),IF(C36=2,1,0)),0)","v":0},0,202250,"REMOVE BOLLARD","EA",null,"",null,"",null,""]
[{"$f":"IF(C37>0,SUM(MAX($A$3:A36),IF(C37>0,1,0)),0)","v":0},{"$f":"IF(C37=2,SUM(MAX($B$3:B36),IF(C37=2,1,0)),0)","v":0},0,202270,"REMOVE CATCH BASIN OR SAND BOX","EA",null,"",null,"",null,""]
[{"$f":"IF(C38>0,SUM(MAX($A$3:A37),IF(C38>0,1,0)),0)","v":0},{"$f":"IF(C38=2,SUM(MAX($B$3:B37),IF(C38=2,1,0)),0)","v":0},0,202275,"REMOVE CONDUIT RISER","EA",null,"",null,"",null,""]
[{"$f":"IF(C39>0,SUM(MAX($A$3:A38),IF(C39>0,1,0)),0)","v":0},{"$f":"IF(C39=2,SUM(MAX($B$3:B38),IF(C39=2,1,0)),0)","v":0},0,202305,"REMOVE FOUNDATION, METAL POLE","EA",null,"",null,"",null,""]
[{"$f":"IF(C40>0,SUM(MAX($A$3:A39),IF(C40>0,1,0)),0)","v":0},{"$f":"IF(C40=2,SUM(MAX($B$3:B39),IF(C40=2,1,0)),0)","v":0},0,202325,"REMOVE GATE VALVE","EA",null,"",null,"",null,""]
[{"$f":"IF(C41>0,SUM(MAX($A$3:A40),IF(C41>0,1,0)),0)","v":0},{"$f":"IF(C41=2,SUM(MAX($B$3:B40),IF(C41=2,1,0)),0)","v":0},0,202330,"REMOVE HANDHOLE","EA",null,"",null,"",null,""]
[{"$f":"IF(C42>0,SUM(MAX($A$3:A41),IF(C42>0,1,0)),0)","v":0},{"$f":"IF(C42=2,SUM(MAX($B$3:B41),IF(C42=2,1,0)),0)","v":0},0,202335,"REMOVE HYDRANT","EA",null,"",null,"",null,""]
[{"$f":"IF(C43>0,SUM(MAX($A$3:A42),IF(C43>0,1,0)),0)","v":0},{"$f":"IF(C43=2,SUM(MAX($B$3:B42),IF(C43=2,1,0)),0)","v":0},0,202340,"REMOVE INLET","EA",null,"",null,"",null,""]
[{"$f":"IF(C44>0,SUM(MAX($A$3:A43),IF(C44>0,1,0)),0)","v":0},{"$f":"IF(C44=2,SUM(MAX($B$3:B43),IF(C44=2,1,0)),0)","v":0},0,202355,"REMOVE MAINTENANCE HOLE","EA",null,"",null,"",null,""]
[{"$f":"IF(C45>0,SUM(MAX($A$3:A44),IF(C45>0,1,0)),0)","v":0},{"$f":"IF(C45=2,SUM(MAX($B$3:B44),IF(C45=2,1,0)),0)","v":0},0,202365,"REMOVE PAVEMENT MARKING LEGEND/SYMBOL","EA",null,"",null,"",null,""]
[{"$f":"IF(C46>0,SUM(MAX($A$3:A45),IF(C46>0,1,0)),0)","v":0},{"$f":"IF(C46=2,SUM(MAX($B$3:B45),IF(C46=2,1,0)),0)","v":0},0,202395,"REMOVE POLE, WOOD","EA",null,"",null,"",null,""]
[{"$f":"IF(C47>0,SUM(MAX($A$3:A46),IF(C47>0,1,0)),0)","v":0},{"$f":"IF(C47=2,SUM(MAX($B$3:B46),IF(C47=2,1,0)),0)","v":0},0,202400,"REMOVE POST, BUS ZONE","EA",null,"",null,"",null,""]
[{"$f":"IF(C48>0,SUM(MAX($A$3:A47),IF(C48>0,1,0)),0)","v":0},{"$f":"IF(C48=2,SUM(MAX($B$3:B47),IF(C48=2,1,0)),0)","v":0},0,202405,"REMOVE POST, PARKING METER","EA",null,"",null,"",null,""]
[{"$f":"IF(C49>0,SUM(MAX($A$3:A48),IF(C49>0,1,0)),0)","v":0},{"$f":"IF(C49=2,SUM(MAX($B$3:B48),IF(C49=2,1,0)),0)","v":0},0,202410,"REMOVE POST, PEDESTRIAN PUSHBUTTON",{"$f":"IFERROR(VLOOKUP(VALUE(D49),BIDITEM,3,FALSE),\"\")","v":"EA"},null,{"$f":"IF(AND(G49>0,I49=0),IFERROR(VLOOKUP(VALUE(D49),BIDITEM,4,FALSE),\"\"),\"\")","v":""},null,"",null,""]
[{"$f":"IF(C50>0,SUM(MAX($A$3:A49),IF(C50>0,1,0)),0)","v":0},{"$f":"IF(C50=2,SUM(MAX($B$3:B49),IF(C50=2,1,0)),0)","v":0},0,202415,"REMOVE POST, STREET NAME","EA",null,"",null,"",null,""]
[{"$f":"IF(C51>0,SUM(MAX($A$3:A50),IF(C51>0,1,0)),0)","v":0},{"$f":"IF(C51=2,SUM(MAX($B$3:B50),IF(C51=2,1,0)),0)","v":0},0,202420,"REMOVE POST, TRAFFIC SIGN","EA",null,"",null,"",null,""]
[{"$f":"IF(C52>0,SUM(MAX($A$3:A51),IF(C52>0,1,0)),0)","v":0},{"$f":"IF(C52=2,SUM(MAX($B$3:B51),IF(C52=2,1,0)),0)","v":0},0,202425,"REMOVE SHRUB","EA",null,"",null,"",null,""]
[{"$f":"IF(C53>0,SUM(MAX($A$3:A52),IF(C53>0,1,0)),0)","v":0},{"$f":"IF(C53=2,SUM(MAX($B$3:B52),IF(C53=2,1,0)),0)","v":0},0,202430,"REMOVE SIGN","EA",null,"",null,"",null,""]
[{"$f":"IF(C54>0,SUM(MAX($A$3:A53),IF(C54>0,1,0)),0)","v":0},{"$f":"IF(C54=2,SUM(MAX($B$3:B53),IF(C54=2,1,0)),0)","v":0},0,202435,"REMOVE SIGN, BUS ZONE","EA",null,"",null,"",null,""]
[{"$f":"IF(C55>0,SUM(MAX($A$3:A54),IF(C55>0,1,0)),0)","v":0},{"$f":"IF(C55=2,SUM(MAX($B$3:B54),IF(C55=2,1,0)),0)","v":0},0,202445,"REMOVE SIGN, OVERHEAD","EA",null,"",null,"",null,""]
[{"$f":"IF(C56>0,SUM(MAX($A$3:A55),IF(C56>0,1,0)),0)","v":0},{"$f":"IF(C56=2,SUM(MAX($B$3:B55),IF(C56=2,1,0)),0)","v":0},0,202450,"REMOVE SIGN, TRAFFIC","EA",null,"",null,"",null,""]
[{"$f":"IF(C57>0,SUM(MAX($A$3:A56),IF(C57>0,1,0)),0)","v":0},{"$f":"IF(C57=2,SUM(MAX($B$3:B56),IF(C57=2,1,0)),0)","v":0},0,202455,"REMOVE PAVEMENT MARKING LEGEND/SYMBOL, THERMOPLASTIC","EA",null,"",null,"",null,""]
[{"$f":"IF(C58>0,SUM(MAX($A$3:A57),IF(C58>0,1,0)),0)","v":0},{"$f":"IF(C58=2,SUM(MAX($B$3:B57),IF(C58=2,1,0)),0)","v":0},0,202480,"REMOVE TREE","EA",null,"",null,"",null,""]
[{"$f":"IF(C59>0,SUM(MAX($A$3:A58),IF(C59>0,1,0)),0)","v":0},{"$f":"IF(C59=2,SUM(MAX($B$3:B58),IF(C59=2,1,0)),0)","v":0},0,202500,"REMOVE VALVE BOX","EA",null,"",null,"",null,""]
[{"$f":"IF(C60>0,SUM(MAX($A$3:A59),IF(C60>0,1,0)),0)","v":0},{"$f":"IF(C60=2,SUM(MAX($B$3:B59),IF(C60=2,1,0)),0)","v":0},0,202505,"REMOVE VALVE CHAMBER","EA",null,"",null,"",null,""]
[{"$f":"IF(C61>0,SUM(MAX($A$3:A60),IF(C61>0,1,0)),0)","v":0},{"$f":"IF(C61=2,SUM(MAX($B$3:B60),IF(C61=2,1,0)),0)","v":0},0,202750,"SAWCUT ASPHALT CONCRETE, FULL DEPTH","LF",null,"",null,"",null,""]
[{"$f":"IF(C62>0,SUM(MAX($A$3:A61),IF(C62>0,1,0)),0)","v":0},{"$f":"IF(C62=2,SUM(MAX($B$3:B61),IF(C62=2,1,0)),0)","v":0},0,202767,"SAWCUT CEMENT CONCRETE SIDEWALK, FULL DEPTH","LF",null,"",null,"",null,""]
[{"$f":"IF(C63>0,SUM(MAX($A$3:A62),IF(C63>0,1,0)),0)","v":0},{"$f":"IF(C63=2,SUM(MAX($B$3:B62),IF(C63=2,1,0)),0)","v":0},0,202770,"SAWCUT RIGID PAVEMENT, FULL DEPTH","LF",null,"",null,"",null,""]
[{"$f":"IF(C64>0,SUM(MAX($A$3:A63),IF(C64>0,1,0)),0)","v":0},{"$f":"IF(C64=2,SUM(MAX($B$3:B63),IF(C64=2,1,0)),0)","v":0},0,202805,"ABANDON CATCH BASIN","EA",null,"",null,"",null,""]
[{"$f":"IF(C65>0,SUM(MAX($A$3:A64),IF(C65>0,1,0)),0)","v":0},{"$f":"IF(C65=2,SUM(MAX($B$3:B64),IF(C65=2,1,0)),0)","v":0},0,202812,"ABANDON EXISTING WATER SERVICE","EA",null,"",null,"",null,""]
[{"$f":"IF(C66>0,SUM(MAX($A$3:A65),IF(C66>0,1,0)),0)","v":0},{"$f":"IF(C66=2,SUM(MAX($B$3:B65),IF(C66=2,1,0)),0)","v":0},0,202815,"ABANDON INLET","EA",null,"",null,"",null,""]
[{"$f":"IF(C67>0,SUM(MAX($A$3:A66),IF(C67>0,1,0)),0)","v":0},{"$f":"IF(C67=2,SUM(MAX($B$3:B66),IF(C67=2,1,0)),0)","v":0},0,202820,"ABANDON MAINTENANCE HOLE","EA",null,"",null,"",null,""]
[{"$f":"IF(C68>0,SUM(MAX($A$3:A67),IF(C68>0,1,0)),0)","v":0},{"$f":"IF(C68=2,SUM(MAX($B$3:B67),IF(C68=2,1,0)),0)","v":0},0,202825,"ABANDON VALVE CHAMBER","EA",null,"",null,"",null,""]
[{"$f":"IF(C69>0,SUM(MAX($A$3:A68),IF(C69>0,1,0)),0)","v":0},{"$f":"IF(C69=2,SUM(MAX($B$3:B68),IF(C69=2,1,0)),0)","v":0},0,202850,"ABANDON AND FILL PIPE","LF",null,"",null,"",null,""]
[{"$f":"IF(C70>0,SUM(MAX($A$3:A69),IF(C70>0,1,0)),0)","v":0},{"$f":"IF(C70=2,SUM(MAX($B$3:B69),IF(C70=2,1,0)),0)","v":0},{"$f":"IF(G70>0,1,0)","v":0},null,null,null,null,null,null,null,null,""]
[{"$f":"IF(C71>0,SUM(MAX($A$3:A70),IF(C71>0,1,0)),0)","v":0},{"$f":"IF(C71=2,SUM(MAX($B$3:B70),IF(C71=2,1,0)),0)","v":0},{"$f":"IF(SUM(C72:C77)>0,2,0)","v":0},"SECTION 2-04","EXCAVATIONS ",null,null,null,null,{"$f":"SUM(J72:J77)","v":0},null,""]
[{"$f":"IF(C72>0,SUM(MAX($A$3:A71),IF(C72>0,1,0)),0)","v":0},{"$f":"IF(C72=2,SUM(MAX($B$3:B71),IF(C72=2,1,0)),0)","v":0},0,204005,"COMMON EXCAVATIO",{"$f":"IFERROR(VLOOKUP(VALUE(D72),BIDITEM,3,FALSE),\"\")","v":"CY"},null,{"$f":"IF(AND(G72>0,I72=0),IFERROR(VLOOKUP(VALUE(D72),BIDITEM,4,FALSE),\"\"),\"\")","v":""},null,{"$f":"IF(AND(G72>0,OR(H72>0,I72>0)),IF(I72>0,PRODUCT(I72,G72),PRODUCT(H72,G72)),\"\")","v":""},null,""]
[{"$f":"IF(C73>0,SUM(MAX($A$3:A72),IF(C73>0,1,0)),0)","v":0},{"$f":"IF(C73=2,SUM(MAX($B$3:B72),IF(C73=2,1,0)),0)","v":0},0,204010,"SOLID ROCK EXCAVATION","CY",null,"",null,"",null,""]
[{"$f":"IF(C74>0,SUM(MAX($A$3:A73),IF(C74>0,1,0)),0)","v":0},{"$f":"IF(C74=2,SUM(MAX($B$3:B73),IF(C74=2,1,0)),0)","v":0},0,204020,"STRUCTURE EXCAVATION","CY",null,"",null,"",null,{"$f":"IF(C74>0,ROW(),\"\")","v":""}]
[{"$f":"IF(C75>0,SUM(MAX($A$3:A74),IF(C75>0,1,0)),0)","v":0},{"$f":"IF(C75=2,SUM(MAX($B$3:B74),IF(C75=2,1,0)),0)","v":0},0,204025,"EXTRA EXCAVATION","CY",null,"",null,"",null,""]
[{"$f":"IF(C76>0,SUM(MAX($A$3:A75),IF(C76>0,1,0)),0)","v":0},{"$f":"IF(C76=2,SUM(MAX($B$3:B75),IF(C76=2,1,0)),0)","v":0},0,204030,"STEPPED SLOPE CONSTRUCTION","CY",null,"",null,"",null,""]
[{"$f":"IF(C77>0,SUM(MAX($A$3:A76),IF(C77>0,1,0)),0)","v":0},{"$f":"IF(C77=2,SUM(MAX($B$3:B76),IF(C77=2,1,0)),0)","v":0},0,204130,"UNSUITABLE FOUNDATION EXCAVATION","CY",null,"",null,"",null,""]
[{"$f":"IF(C78>0,SUM(MAX($A$3:A77),IF(C78>0,1,0)),0)","v":0},{"$f":"IF(C78=2,SUM(MAX($B$3:B77),IF(C78=2,1,0)),0)","v":0},0,null,null,null,null,null,null,null,null,""]
[{"$f":"IF(C79>0,SUM(MAX($A$3:A78),IF(C79>0,1,0)),0)","v":0},{"$f":"IF(C79=2,SUM(MAX($B$3:B78),IF(C79=2,1,0)),0)","v":0},{"$f":"IF(SUM(C80:C82)>0,2,0)","v":0},"SECTION 2-05","DITCH AND CHANNEL CONSTRUCTION ",null,null,null,null,{"$f":"SUM(J80:J82)","v":0},null,""]
[{"$f":"IF(C80>0,SUM(MAX($A$3:A79),IF(C80>0,1,0)),0)","v":0},{"$f":"IF(C80=2,SUM(MAX($B$3:B79),IF(C80=2,1,0)),0)","v":0},0,205010,"DITCH EXCAVATION",{"$f":"IFERROR(VLOOKUP(VALUE(D80),BIDITEM,3,FALSE),\"\")","v":"CY"},null,{"$f":"IF(AND(G80>0,I80=0),IFERROR(VLOOKUP(VALUE(D80),BIDITEM,4,FALSE),\"\"),\"\")","v":""},null,{"$f":"IF(AND(G80>0,OR(H80>0,I80>0)),IF(I80>0,PRODUCT(I80,G80),PRODUCT(H80,G80)),\"\")","v":""},null,""]
[{"$f":"IF(C81>0,SUM(MAX($A$3:A80),IF(C81>0,1,0)),0)","v":0},{"$f":"IF(C81=2,SUM(MAX($B$3:B80),IF(C81=2,1,0)),0)","v":0},0,205020,"CHANNEL EXCAVATION",{"$f":"IFERROR(VLOOKUP(VALUE(D81),BIDITEM,3,FALSE),\"\")","v":"CY"},null,{"$f":"IF(AND(G81>0,I81=0),IFERROR(VLOOKUP(VALUE(D81),BIDITEM,4,FALSE),\"\"),\"\")","v":""},null,"",null,""]
[{"$f":"IF(C82>0,SUM(MAX($A$3:A81),IF(C82>0,1,0)),0)","v":0},{"$f":"IF(C82=2,SUM(MAX($B$3:B81),IF(C82=2,1,0)),0)","v":0},0,205030,"SAFETY SYSTEM IN DITCH AND CHANNEL EXCAVATION",{"$f":"IFERROR(VLOOKUP(VALUE(D82),BIDITEM,3,FALSE),\"\")","v":"LS"},null,{"$f":"IF(AND(G82>0,I82=0),IFERROR(VLOOKUP(VALUE(D82),BIDITEM,4,FALSE),\"\"),\"\")","v":""},null,"",null,""]
[{"$f":"IF(C83>0,SUM(MAX($A$3:A82),IF(C83>0,1,0)),0)","v":0},{"$f":"IF(C83=2,SUM(MAX($B$3:B82),IF(C83=2,1,0)),0)","v":0},0,null,null,null,null,null,null,null,null,""]
[{"$f":"IF(C84>0,SUM(MAX($A$3:A83),IF(C84>0,1,0)),0)","v":0},{"$f":"IF(C84=2,SUM(MAX($B$3:B83),IF(C84=2,1,0)),0)","v":0},{"$f":"IF(SUM(C85:C87)>0,2,0)","v":0},"SECTION 2-07","PROTECTIVE SYSTEMS ",null,null,null,null,{"$f":"SUM(J85:J87)","v":0},null,""]
[{"$f":"IF(C85>0,SUM(MAX($A$3:A84),IF(C85>0,1,0)),0)","v":0},{"$f":"IF(C85=2,SUM(MAX($B$3:B84),IF(C85=2,1,0)),0)","v":0},0,207010,"SAFETY SYSTEMS IN TRENCH EXCAVATION, MIN. BID = $0.80 PER SF",{"$f":"IFERROR(VLOOKUP(VALUE(D85),BIDITEM,3,FALSE),\"\")","v":"SF"},null,{"$f":"IF(AND(G85>0,I85=0),IFERROR(VLOOKUP(VALUE(D85),BIDITEM,4,FALSE),\"\"),\"\")","v":""},null,{"$f":"IF(AND(G85>0,OR(H85>0,I85>0)),IF(I85>0,PRODUCT(I85,G85),PRODUCT(H85,G85)),\"\")","v":""},null,""]
[{"$f":"IF(C86>0,SUM(MAX($A$3:A85),IF(C86>0,1,0)),0)","v":0},{"$f":"IF(C86=2,SUM(MAX($B$3:B85),IF(C86=2,1,0)),0)","v":0},0,207020,"SUPPORT AND SAFETY SYSTEM",{"$f":"IFERROR(VLOOKUP(VALUE(D86),BIDITEM,3,FALSE),\"\")","v":"SF"},null,{"$f":"IF(AND(G86>0,I86=0),IFERROR(VLOOKUP(VALUE(D86),BIDITEM,4,FALSE),\"\"),\"\")","v":""},null,"",null,""]
[{"$f":"IF(C87>0,SUM(MAX($A$3:A86),IF(C87>0,1,0)),0)","v":0},{"$f":"IF(C87=2,SUM(MAX($B$3:B86),IF(C87=2,1,0)),0)","v":0},0,207030,"SAFETY SYSTEMS IN STRUCTURAL EXCAVATION",{"$f":"IFERROR(VLOOKUP(VALUE(D87),BIDITEM,3,FALSE),\"\")","v":"LS"},null,{"$f":"IF(AND(G87>0,I87=0),IFERROR(VLOOKUP(VALUE(D87),BIDITEM,4,FALSE),\"\"),\"\")","v":""},null,"",null,""]
[{"$f":"IF(C88>0,SUM(MAX($A$3:A87),IF(C88>0,1,0)),0)","v":0},{"$f":"IF(C88=2,SUM(MAX($B$3:B87),IF(C88=2,1,0)),0)","v":0},0,null,null,null,null,null,null,null,null,""]
[{"$f":"IF(C89>0,SUM(MAX($A$3:A88),IF(C89>0,1,0)),0)","v":0},{"$f":"IF(C89=2,SUM(MAX($B$3:B88),IF(C89=2,1,0)),0)","v":0},{"$f":"IF(SUM(C90:C93)>0,2,0)","v":0},"SECTION 2-10","BACKFILLING ",null,null,null,null,{"$f":"SUM(J90:J93)","v":0},null,""]
[{"$f":"IF(C90>0,SUM(MAX($A$3:A89),IF(C90>0,1,0)),0)","v":0},{"$f":"IF(C90=2,SUM(MAX($B$3:B89),IF(C90=2,1,0)),0)","v":0},0,210005,"SELECT MATERIAL",{"$f":"IFERROR(VLOOKUP(VALUE(D90),BIDITEM,3,FALSE),\"\")","v":"CY"},null,{"$f":"IF(AND(G90>0,I90=0),IFERROR(VLOOKUP(VALUE(D90),BIDITEM,4,FALSE),\"\"),\"\")","v":""},null,{"$f":"IF(AND(G90>0,OR(H90>0,I90>0)),IF(I90>0,PRODUCT(I90,G90),PRODUCT(H90,G90)),\"\")","v":""},null,""]
[{"$f":"IF(C91>0,SUM(MAX($A$3:A90),IF(C91>0,1,0)),0)","v":0},{"$f":"IF(C91=2,SUM(MAX($B$3:B90),IF(C91=2,1,0)),0)","v":0},0,210010,"CONTROLLED DENSITY FILL",{"$f":"IFERROR(VLOOKUP(VALUE(D91),BIDITEM,3,FALSE),\"\")","v":"CY"},null,{"$f":"IF(AND(G91>0,I91=0),IFERROR(VLOOKUP(VALUE(D91),BIDITEM,4,FALSE),\"\"),\"\")","v":""},null,"",null,""]
[{"$f":"IF(C92>0,SUM(MAX($A$3:A91),IF(C92>0,1,0)),0)","v":0},{"$f":"IF(C92=2,SUM(MAX($B$3:B91),IF(C92=2,1,0)),0)","v":0},0,210015,"UNCLASSIFIED BORROW",{"$f":"IFERROR(VLOOKUP(VALUE(D92),BIDITEM,3,FALSE),\"\")","v":"TN"},null,{"$f":"IF(AND(G92>0,I92=0),IFERROR(VLOOKUP(VALUE(D92),BIDITEM,4,FALSE),\"\"),\"\")","v":""},null,"",null,""]
[{"$f":"IF(C93>0,SUM(MAX($A$3:A92),IF(C93>0,1,0)),0)","v":0},{"$f":"IF(C93=2,SUM(MAX($B$3:B92),IF(C93=2,1,0)),0)","v":0},0,210067,"BORROW, TYPE 17",{"$f":"IFERROR(VLOOKUP(VALUE(D93),BIDITEM,3,FALSE),\"\")","v":"TN"},null,{"$f":"IF(AND(G93>0,I93=0),IFERROR(VLOOKUP(VALUE(D93),BIDITEM,4,FALSE),\"\"),\"\")","v":""},null,"",null,""]
[{"$f":"IF(C94>0,SUM(MAX($A$3:A93),IF(C94>0,1,0)),0)","v":0},{"$f":"IF(C94=2,SUM(MAX($B$3:B93),IF(C94=2,1,0)),0)","v":0},0,null,null,null,null,null,null,null,null,""]
[{"$f":"IF(C95>0,SUM(MAX($A$3:A94),IF(C95>0,1,0)),0)","v":0},{"$f":"IF(C95=2,SUM(MAX($B$3:B94),IF(C95=2,1,0)),0)","v":0},{"$f":"IF(SUM(C96:C98)>0,2,0)","v":0},"SECTION 2-13","ROCK FACING",null,null,null,null,{"$f":"SUM(J96:J98)","v":0},null,""]
[{"$f":"IF(C96>0,SUM(MAX($A$3:A95),IF(C96>0,1,0)),0)","v":0},{"$f":"IF(C96=2,SUM(MAX($B$3:B95),IF(C96=2,1,0)),0)","v":0},0,213005,"ROCK FACING",{"$f":"IFERROR(VLOOKUP(VALUE(D96),BIDITEM,3,FALSE),\"\")","v":"SF"},null,{"$f":"IF(AND(G96>0,I96=0),IFERROR(VLOOKUP(VALUE(D96),BIDITEM,4,FALSE),\"\"),\"\")","v":""},null,{"$f":"IF(AND(G96>0,OR(H96>0,I96>0)),IF(I96>0,PRODUCT(I96,G96),PRODUCT(H96,G96)),\"\")","v":""},null,""]
[{"$f":"IF(C97>0,SUM(MAX($A$3:A96),IF(C97>0,1,0)),0)","v":0},{"$f":"IF(C97=2,SUM(MAX($B$3:B96),IF(C97=2,1,0)),0)","v":0},0,213010,"REBUILD ROCK FACING",{"$f":"IFERROR(VLOOKUP(VALUE(D97),BIDITEM,3,FALSE),\"\")","v":"SF"},null,{"$f":"IF(AND(G97>0,I97=0),IFERROR(VLOOKUP(VALUE(D97),BIDITEM,4,FALSE),\"\"),\"\")","v":""},null,"",null,""]
[{"$f":"IF(C98>0,SUM(MAX($A$3:A97),IF(C98>0,1,0)),0)","v":0},{"$f":"IF(C98=2,SUM(MAX($B$3:B97),IF(C98=2,1,0)),0)","v":0},0,213015,"RELOCATE ROCK FACING",{"$f":"IFERROR(VLOOKUP(VALUE(D98),BIDITEM,3,FALSE),\"\")","v":"SF"},null,{"$f":"IF(AND(G98>0,I98=0),IFERROR(VLOOKUP(VALUE(D98),BIDITEM,4,FALSE),\"\"),\"\")","v":""},null,"",null,""]
[{"$f":"IF(C99>0,SUM(MAX($A$3:A98),IF(C99>0,1,0)),0)","v":0},{"$f":"IF(C99=2,SUM(MAX($B$3:B98),IF(C99=2,1,0)),0)","v":0},0,null,null,null,null,null,null,null,null,""]
[{"$f":"IF(C100>0,SUM(MAX($A$3:A99),IF(C100>0,1,0)),0)","v":0},{"$f":"IF(C100=2,SUM(MAX($B$3:B99),IF(C100=2,1,0)),0)","v":0},{"$f":"IF(SUM(C101:C104)>0,2,0)","v":0},"SECTION 2-15","CONSTRUCTION GEOTEXTILE  ",null,null,null,null,{"$f":"SUM(J101:J104)","v":0},null,""]
[{"$f":"IF(C101>0,SUM(MAX($A$3:A100),IF(C101>0,1,0)),0)","v":0},{"$f":"IF(C101=2,SUM(MAX($B$3:B100),IF(C101=2,1,0)),0)","v":0},0,215010,"CONSTRUCTION GEOTEXTILE FOR UNDERGROUND DRAINAGE",{"$f":"IFERROR(VLOOKUP(VALUE(D101),BIDITEM,3,FALSE),\"\")","v":"SY"},null,{"$f":"IF(AND(G101>0,I101=0),IFERROR(VLOOKUP(VALUE(D101),BIDITEM,4,FALSE),\"\"),\"\")","v":""},null,{"$f":"IF(AND(G101>0,OR(H101>0,I101>0)),IF(I101>0,PRODUCT(I101,G101),PRODUCT(H101,G101)),\"\")","v":""},null,""]
[{"$f":"IF(C102>0,SUM(MAX($A$3:A101),IF(C102>0,1,0)),0)","v":0},{"$f":"IF(C102=2,SUM(MAX($B$3:B101),IF(C102=2,1,0)),0)","v":0},0,215020,"CONSTRUCTION GEOTEXTILE FOR SEPARATION",{"$f":"IFERROR(VLOOKUP(VALUE(D102),BIDITEM,3,FALSE),\"\")","v":"SY"},null,{"$f":"IF(AND(G102>0,I102=0),IFERROR(VLOOKUP(VALUE(D102),BIDITEM,4,FALSE),\"\"),\"\")","v":""},null,"",null,""]
[{"$f":"IF(C103>0,SUM(MAX($A$3:A102),IF(C103>0,1,0)),0)","v":0},{"$f":"IF(C103=2,SUM(MAX($B$3:B102),IF(C103=2,1,0)),0)","v":0},0,215030,"CONSTRUCTION GEOTEXTILE FOR SOIL STABILIZATION",{"$f":"IFERROR(VLOOKUP(VALUE(D103),BIDITEM,3,FALSE),\"\")","v":"SY"},null,{"$f":"IF(AND(G103>0,I103=0),IFERROR(VLOOKUP(VALUE(D103),BIDITEM,4,FALSE),\"\"),\"\")","v":""},null,"",null,""]
[{"$f":"IF(C104>0,SUM(MAX($A$3:A103),IF(C104>0,1,0)),0)","v":0},{"$f":"IF(C104=2,SUM(MAX($B$3:B103),IF(C104=2,1,0)),0)","v":0},0,215040,"CONSTRUCTION GEOTEXTILE FOR PERMANENT EROSION CONTROL",{"$f":"IFERROR(VLOOKUP(VALUE(D104),BIDITEM,3,FALSE),\"\")","v":"SY"},null,{"$f":"IF(AND(G104>0,I104=0),IFERROR(VLOOKUP(VALUE(D104),BIDITEM,4,FALSE),\"\"),\"\")","v":""},null,"",null,""]
[{"$f":"IF(C105>0,SUM(MAX($A$3:A104),IF(C105>0,1,0)),0)","v":0},{"$f":"IF(C105=2,SUM(MAX($B$3:B104),IF(C105=2,1,0)),0)","v":0},0,null,null,null,null,null,null,null,null,""]
[{"$f":"IF(C106>0,SUM(MAX($A$3:A105),IF(C106>0,1,0)),0)","v":0},{"$f":"IF(C106=2,SUM(MAX($B$3:B105),IF(C106=2,1,0)),0)","v":0},{"$f":"IF(SUM(C107:C126)>0,2,0)","v":0},"SECTION 4-01","MINERAL AGGREGATES",null,null,null,null,{"$f":"SUM(J107:J126)","v":0},null,""]
[{"$f":"IF(C107>0,SUM(MAX($A$3:A106),IF(C107>0,1,0)),0)","v":0},{"$f":"IF(C107=2,SUM(MAX($B$3:B106),IF(C107=2,1,0)),0)","v":0},0,"401001","MINERAL AGGREGATE, TYPE 1  ",{"$f":"IFERROR(VLOOKUP(VALUE(D107),BIDITEM,3,FALSE),\"\")","v":"TN"},null,{"$f":"IF(AND(G107>0,I107=0),IFERROR(VLOOKUP(VALUE(D107),BIDITEM,4,FALSE),\"\"),\"\")","v":""},null,{"$f":"IF(AND(G107>0,OR(H107>0,I107>0)),IF(I107>0,PRODUCT(I107,G107),PRODUCT(H107,G107)),\"\")","v":""},null,""]
[{"$f":"IF(C108>0,SUM(MAX($A$3:A107),IF(C108>0,1,0)),0)","v":0},{"$f":"IF(C108=2,SUM(MAX($B$3:B107),IF(C108=2,1,0)),0)","v":0},0,"401002","MINERAL AGGREGATE, TYPE 2","TN",null,"",null,"",null,""]
[{"$f":"IF(C109>0,SUM(MAX($A$3:A108),IF(C109>0,1,0)),0)","v":0},{"$f":"IF(C109=2,SUM(MAX($B$3:B108),IF(C109=2,1,0)),0)","v":0},0,"401004","MINERAL AGGREGATE, TYPE 4","TN",null,"",null,"",null,""]
[{"$f":"IF(C110>0,SUM(MAX($A$3:A109),IF(C110>0,1,0)),0)","v":0},{"$f":"IF(C110=2,SUM(MAX($B$3:B109),IF(C110=2,1,0)),0)","v":0},0,"401010","MINERAL AGGREGATE, TYPE 10","TN",null,"",null,"",null,""]
[{"$f":"IF(C111>0,SUM(MAX($A$3:A110),IF(C111>0,1,0)),0)","v":0},{"$f":"IF(C111=2,SUM(MAX($B$3:B110),IF(C111=2,1,0)),0)","v":0},0,"401011","MINERAL AGGREGATE, TYPE 11","TN",null,"",null,"",null,""]
[{"$f":"IF(C112>0,SUM(MAX($A$3:A111),IF(C112>0,1,0)),0)","v":0},{"$f":"IF(C112=2,SUM(MAX($B$3:B111),IF(C112=2,1,0)),0)","v":0},0,"401013","MINERAL AGGREGATE, TYPE 13","TN",null,"",null,"",null,""]
[{"$f":"IF(C113>0,SUM(MAX($A$3:A112),IF(C113>0,1,0)),0)","v":0},{"$f":"IF(C113=2,SUM(MAX($B$3:B112),IF(C113=2,1,0)),0)","v":0},0,"401014","MINERAL AGGREGATE, TYPE 14","TN",null,"",null,"",null,""]
[{"$f":"IF(C114>0,SUM(MAX($A$3:A113),IF(C114>0,1,0)),0)","v":0},{"$f":"IF(C114=2,SUM(MAX($B$3:B113),IF(C114=2,1,0)),0)","v":0},0,"401017","MINERAL AGGREGATE, TYPE 17","TN",null,"",null,"",null,""]
[{"$f":"IF(C115>0,SUM(MAX($A$3:A114),IF(C115>0,1,0)),0)","v":0},{"$f":"IF(C115=2,SUM(MAX($B$3:B114),IF(C115=2,1,0)),0)","v":0},0,"401022","MINERAL AGGREGATE, TYPE 22","TN",null,"",null,"",null,""]
[{"$f":"IF(C116>0,SUM(MAX($A$3:A115),IF(C116>0,1,0)),0)","v":0},{"$f":"IF(C116=2,SUM(MAX($B$3:B115),IF(C116=2,1,0)),0)","v":0},0,"401026","MINERAL AGGREGATE, TYPE 26","TN",null,"",null,"",null,""]
[{"$f":"IF(C117>0,SUM(MAX($A$3:A116),IF(C117>0,1,0)),0)","v":0},{"$f":"IF(C117=2,SUM(MAX($B$3:B116),IF(C117=2,1,0)),0)","v":0},0,"401201","MINERAL AGGREGATE, TYPE 1","CY",null,"",null,"",null,""]
[{"$f":"IF(C118>0,SUM(MAX($A$3:A117),IF(C118>0,1,0)),0)","v":0},{"$f":"IF(C118=2,SUM(MAX($B$3:B117),IF(C118=2,1,0)),0)","v":0},0,"401202","MINERAL AGGREGATE, TYPE 2","CY",null,"",null,"",null,""]
[{"$f":"IF(C119>0,SUM(MAX($A$3:A118),IF(C119>0,1,0)),0)","v":0},{"$f":"IF(C119=2,SUM(MAX($B$3:B118),IF(C119=2,1,0)),0)","v":0},0,"401206","MINERAL AGGREGATE, TYPE 6","CY",null,"",null,"",null,""]
[{"$f":"IF(C120>0,SUM(MAX($A$3:A119),IF(C120>0,1,0)),0)","v":0},{"$f":"IF(C120=2,SUM(MAX($B$3:B119),IF(C120=2,1,0)),0)","v":0},0,"401207","MINERAL AGGREGATE, TYPE 7","CY",null,"",null,"",null,""]
[{"$f":"IF(C121>0,SUM(MAX($A$3:A120),IF(C121>0,1,0)),0)","v":0},{"$f":"IF(C121=2,SUM(MAX($B$3:B120),IF(C121=2,1,0)),0)","v":0},0,"401209","MINERAL AGGREGATE, TYPE 9","CY",null,"",null,"",null,""]
[{"$f":"IF(C122>0,SUM(MAX($A$3:A121),IF(C122>0,1,0)),0)","v":0},{"$f":"IF(C122=2,SUM(MAX($B$3:B121),IF(C122=2,1,0)),0)","v":0},0,"401210","MINERAL AGGREGATE, TYPE 10","CY",null,"",null,"",null,""]
[{"$f":"IF(C123>0,SUM(MAX($A$3:A122),IF(C123>0,1,0)),0)","v":0},{"$f":"IF(C123=2,SUM(MAX($B$3:B122),IF(C123=2,1,0)),0)","v":0},0,"401213","MINERAL AGGREGATE, TYPE 13","CY",null,"",null,"",null,""]
[{"$f":"IF(C124>0,SUM(MAX($A$3:A123),IF(C124>0,1,0)),0)","v":0},{"$f":"IF(C124=2,SUM(MAX($B$3:B123),IF(C124=2,1,0)),0)","v":0},0,"401214","MINERAL AGGREGATE, TYPE 14","CY",null,"",null,"",null,""]
[{"$f":"IF(C125>0,SUM(MAX($A$3:A124),IF(C125>0,1,0)),0)","v":0},{"$f":"IF(C125=2,SUM(MAX($B$3:B124),IF(C125=2,1,0)),0)","v":0},0,"401217","MINERAL AGGREGATE, TYPE 17","CY",null,"",null,"",null,""]
[{"$f":"IF(C126>0,SUM(MAX($A$3:A125),IF(C126>0,1,0)),0)","v":0},{"$f":"IF(C126=2,SUM(MAX($B$3:B125),IF(C126=2,1,0)),0)","v":0},0,"401221","MINERAL AGGREGATE, TYPE 21","CY",null,"",null,"",null,""]
[{"$f":"IF(C127>0,SUM(MAX($A$3:A126),IF(C127>0,1,0)),0)","v":0},{"$f":"IF(C127=2,SUM(MAX($B$3:B126),IF(C127=2,1,0)),0)","v":0},0,null,null,null,null,null,null,null,null,""]
[{"$f":"IF(C128>0,SUM(MAX($A$3:A127),IF(C128>0,1,0)),0)","v":0},{"$f":"IF(C128=2,SUM(MAX($B$3:B127),IF(C128=2,1,0)),0)","v":0},{"$f":"IF(SUM(C129:C135)>0,2,0)","v":0},"SECTION 5-04","HOT MIX ASPHALT (HMA) PAVEMENT ",null,null,null,null,{"$f":"SUM(J129:J135)","v":0},null,""]
[{"$f":"IF(C129>0,SUM(MAX($A$3:A128),IF(C129>0,1,0)),0)","v":0},{"$f":"IF(C129=2,SUM(MAX($B$3:B128),IF(C129=2,1,0)),0)","v":0},0,"504020","SURFACE PREP, PRELEVEL",{"$f":"IFERROR(VLOOKUP(VALUE(D129),BIDITEM,3,FALSE),\"\")","v":"TN"},null,{"$f":"IF(AND(G129>0,I129=0),IFERROR(VLOOKUP(VALUE(D129),BIDITEM,4,FALSE),\"\"),\"\")","v":""},null,{"$f":"IF(AND(G129>0,OR(H129>0,I129>0)),IF(I129>0,PRODUCT(I129,G129),PRODUCT(H129,G129)),\"\")","v":""},null,""]
[{"$f":"IF(C130>0,SUM(MAX($A$3:A129),IF(C130>0,1,0)),0)","v":0},{"$f":"IF(C130=2,SUM(MAX($B$3:B129),IF(C130=2,1,0)),0)","v":0},0,"504025","SURFACE PREP, PLANE BITUMINOUS PAVEMENT   ","SY",null,"",null,"",null,""]
[{"$f":"IF(C131>0,SUM(MAX($A$3:A130),IF(C131>0,1,0)),0)","v":0},{"$f":"IF(C131=2,SUM(MAX($B$3:B130),IF(C131=2,1,0)),0)","v":0},0,504040,"PAVEMENT, HMA (CL 3/8 IN)","TN",null,"",null,"",null,""]
[{"$f":"IF(C132>0,SUM(MAX($A$3:A131),IF(C132>0,1,0)),0)","v":0},{"$f":"IF(C132=2,SUM(MAX($B$3:B131),IF(C132=2,1,0)),0)","v":0},0,504045,"PAVEMENT, HMA (CL 1/2 IN)","TN",null,"",null,"",null,""]
[{"$f":"IF(C133>0,SUM(MAX($A$3:A132),IF(C133>0,1,0)),0)","v":0},{"$f":"IF(C133=2,SUM(MAX($B$3:B132),IF(C133=2,1,0)),0)","v":0},0,504050,"PAVEMENT, HMA (CL 3/4 IN)","TN",null,"",null,"",null,""]
[{"$f":"IF(C134>0,SUM(MAX($A$3:A133),IF(C134>0,1,0)),0)","v":0},{"$f":"IF(C134=2,SUM(MAX($B$3:B133),IF(C134=2,1,0)),0)","v":0},{"$f":"IF(G134>0,1,0)","v":0},504055,"PAVEMENT, HMA (CL 1 IN)","TN",null,"",null,"",null,""]
[{"$f":"IF(C135>0,SUM(MAX($A$3:A134),IF(C135>0,1,0)),0)","v":0},{"$f":"IF(C135=2,SUM(MAX($B$3:B134),IF(C135=2,1,0)),0)","v":0},0,504260,"PAVEMENT PATCH, TEMPORARY","TN",null,"",null,"",null,""]
[{"$f":"IF(C136>0,SUM(MAX($A$3:A135),IF(C136>0,1,0)),0)","v":0},{"$f":"IF(C136=2,SUM(MAX($B$3:B135),IF(C136=2,1,0)),0)","v":0},0,null,null,null,null,null,null,null,null,""]
[{"$f":"IF(C137>0,SUM(MAX($A$3:A136),IF(C137>0,1,0)),0)","v":0},{"$f":"IF(C137=2,SUM(MAX($B$3:B136),IF(C137=2,1,0)),0)","v":0},{"$f":"IF(SUM(C138:C183)>0,2,0)","v":0},"SECTION 5-05","CEMENT CONCRETE FOR ROADWAY AND RELATED WORK",null,null,null,null,{"$f":"SUM(J138:J183)","v":0},null,""]
[{"$f":"IF(C138>0,SUM(MAX($A$3:A137),IF(C138>0,1,0)),0)","v":0},{"$f":"IF(C138=2,SUM(MAX($B$3:B137),IF(C138=2,1,0)),0)","v":0},0,505120,"ROADWAY CEM CONC, 6 IN",{"$f":"IFERROR(VLOOKUP(VALUE(D138),BIDITEM,3,FALSE),\"\")","v":"SY"},null,{"$f":"IF(AND(G138>0,I138=0),IFERROR(VLOOKUP(VALUE(D138),BIDITEM,4,FALSE),\"\"),\"\")","v":""},null,{"$f":"IF(AND(G138>0,OR(H138>0,I138>0)),IF(I138>0,PRODUCT(I138,G138),PRODUCT(H138,G138)),\"\")","v":""},null,{"$f":"IF(C138>0,ROW(),\"\")","v":""}]
[{"$f":"IF(C139>0,SUM(MAX($A$3:A138),IF(C139>0,1,0)),0)","v":0},{"$f":"IF(C139=2,SUM(MAX($B$3:B138),IF(C139=2,1,0)),0)","v":0},0,505121,"ROADWAY CEM CONC, 7 IN","SY",null,"",null,"",null,""]
[{"$f":"IF(C140>0,SUM(MAX($A$3:A139),IF(C140>0,1,0)),0)","v":0},{"$f":"IF(C140=2,SUM(MAX($B$3:B139),IF(C140=2,1,0)),0)","v":0},0,505122,"ROADWAY CEM CONC, 8 IN","SY",null,"",null,"",null,""]
[{"$f":"IF(C141>0,SUM(MAX($A$3:A140),IF(C141>0,1,0)),0)","v":0},{"$f":"IF(C141=2,SUM(MAX($B$3:B140),IF(C141=2,1,0)),0)","v":0},0,505123,"ROADWAY CEM CONC, 9 IN","SY",null,"",null,"",null,""]
[{"$f":"IF(C142>0,SUM(MAX($A$3:A141),IF(C142>0,1,0)),0)","v":0},{"$f":"IF(C142=2,SUM(MAX($B$3:B141),IF(C142=2,1,0)),0)","v":0},0,505124,"ROADWAY CEM CONC, 10 IN","SY",null,"",null,"",null,""]
[{"$f":"IF(C143>0,SUM(MAX($A$3:A142),IF(C143>0,1,0)),0)","v":0},{"$f":"IF(C143=2,SUM(MAX($B$3:B142),IF(C143=2,1,0)),0)","v":0},0,505125,"ROADWAY CEM CONC, 11 IN","SY",null,"",null,"",null,""]
[{"$f":"IF(C144>0,SUM(MAX($A$3:A143),IF(C144>0,1,0)),0)","v":0},{"$f":"IF(C144=2,SUM(MAX($B$3:B143),IF(C144=2,1,0)),0)","v":0},0,505126,"ROADWAY CEM CONC, 12 IN","SY",null,"",null,"",null,""]
[{"$f":"IF(C145>0,SUM(MAX($A$3:A144),IF(C145>0,1,0)),0)","v":0},{"$f":"IF(C145=2,SUM(MAX($B$3:B144),IF(C145=2,1,0)),0)","v":0},0,505130,"ROADWAY CEM CONC, HES (24 HR), 6 IN","SY",null,"",null,"",null,""]
[{"$f":"IF(C146>0,SUM(MAX($A$3:A145),IF(C146>0,1,0)),0)","v":0},{"$f":"IF(C146=2,SUM(MAX($B$3:B145),IF(C146=2,1,0)),0)","v":0},0,505131,"ROADWAY CEM CONC, HES (24 HR), 7 IN","SY",null,"",null,"",null,""]
[{"$f":"IF(C147>0,SUM(MAX($A$3:A146),IF(C147>0,1,0)),0)","v":0},{"$f":"IF(C147=2,SUM(MAX($B$3:B146),IF(C147=2,1,0)),0)","v":0},0,505132,"ROADWAY CEM CONC, HES (24 HR), 8 IN","SY",null,"",null,"",null,""]
[{"$f":"IF(C148>0,SUM(MAX($A$3:A147),IF(C148>0,1,0)),0)","v":0},{"$f":"IF(C148=2,SUM(MAX($B$3:B147),IF(C148=2,1,0)),0)","v":0},0,505133,"ROADWAY CEM CONC, HES (24 HR), 9 IN","SY",null,"",null,"",null,""]
[{"$f":"IF(C149>0,SUM(MAX($A$3:A148),IF(C149>0,1,0)),0)","v":0},{"$f":"IF(C149=2,SUM(MAX($B$3:B148),IF(C149=2,1,0)),0)","v":0},0,505134,"ROADWAY CEM CONC, HES (24 HR), 10 IN","SY",null,"",null,"",null,""]
[{"$f":"IF(C150>0,SUM(MAX($A$3:A149),IF(C150>0,1,0)),0)","v":0},{"$f":"IF(C150=2,SUM(MAX($B$3:B149),IF(C150=2,1,0)),0)","v":0},0,505135,"ROADWAY CEM CONC, HES (24 HR), 11 IN","SY",null,"",null,"",null,""]
[{"$f":"IF(C151>0,SUM(MAX($A$3:A150),IF(C151>0,1,0)),0)","v":0},{"$f":"IF(C151=2,SUM(MAX($B$3:B150),IF(C151=2,1,0)),0)","v":0},0,505136,"ROADWAY CEM CONC, HES (24 HR), 12 IN","SY",null,"",null,"",null,""]
[{"$f":"IF(C152>0,SUM(MAX($A$3:A151),IF(C152>0,1,0)),0)","v":0},{"$f":"IF(C152=2,SUM(MAX($B$3:B151),IF(C152=2,1,0)),0)","v":0},0,505140,"ROADWAY CEM CONC, HES (72 HR), 6 IN","SY",null,"",null,"",null,""]
[{"$f":"IF(C153>0,SUM(MAX($A$3:A152),IF(C153>0,1,0)),0)","v":0},{"$f":"IF(C153=2,SUM(MAX($B$3:B152),IF(C153=2,1,0)),0)","v":0},0,505141,"ROADWAY CEM CONC, HES (72 HR), 7 IN","SY",null,"",null,"",null,""]
[{"$f":"IF(C154>0,SUM(MAX($A$3:A153),IF(C154>0,1,0)),0)","v":0},{"$f":"IF(C154=2,SUM(MAX($B$3:B153),IF(C154=2,1,0)),0)","v":0},0,505142,"ROADWAY CEM CONC, HES (72 HR), 8 IN","SY",null,"",null,"",null,""]
[{"$f":"IF(C155>0,SUM(MAX($A$3:A154),IF(C155>0,1,0)),0)","v":0},{"$f":"IF(C155=2,SUM(MAX($B$3:B154),IF(C155=2,1,0)),0)","v":0},0,505143,"ROADWAY CEM CONC, HES (72 HR), 9 IN","SY",null,"",null,"",null,""]
[{"$f":"IF(C156>0,SUM(MAX($A$3:A155),IF(C156>0,1,0)),0)","v":0},{"$f":"IF(C156=2,SUM(MAX($B$3:B155),IF(C156=2,1,0)),0)","v":0},0,505144,"ROADWAY CEM CONC, HES (72 HR), 10 IN","SY",null,"",null,"",null,""]
[{"$f":"IF(C157>0,SUM(MAX($A$3:A156),IF(C157>0,1,0)),0)","v":0},{"$f":"IF(C157=2,SUM(MAX($B$3:B156),IF(C157=2,1,0)),0)","v":0},0,505145,"ROADWAY CEM CONC, HES (72 HR), 11 IN","SY",null,"",null,"",null,""]
[{"$f":"IF(C158>0,SUM(MAX($A$3:A157),IF(C158>0,1,0)),0)","v":0},{"$f":"IF(C158=2,SUM(MAX($B$3:B157),IF(C158=2,1,0)),0)","v":0},0,505146,"ROADWAY CEM CONC, HES (72 HR), 12 IN","SY",null,"",null,"",null,""]
[{"$f":"IF(C159>0,SUM(MAX($A$3:A158),IF(C159>0,1,0)),0)","v":0},{"$f":"IF(C159=2,SUM(MAX($B$3:B158),IF(C159=2,1,0)),0)","v":0},0,505220,"ROADWAY CEM CONC BASE, 6 IN","SY",null,"",null,"",null,""]
[{"$f":"IF(C160>0,SUM(MAX($A$3:A159),IF(C160>0,1,0)),0)","v":0},{"$f":"IF(C160=2,SUM(MAX($B$3:B159),IF(C160=2,1,0)),0)","v":0},0,505221,"ROADWAY CEM CONC BASE, 7 IN","SY",null,"",null,"",null,""]
[{"$f":"IF(C161>0,SUM(MAX($A$3:A160),IF(C161>0,1,0)),0)","v":0},{"$f":"IF(C161=2,SUM(MAX($B$3:B160),IF(C161=2,1,0)),0)","v":0},0,505222,"ROADWAY CEM CONC BASE, 8 IN","SY",null,"",null,"",null,""]
[{"$f":"IF(C162>0,SUM(MAX($A$3:A161),IF(C162>0,1,0)),0)","v":0},{"$f":"IF(C162=2,SUM(MAX($B$3:B161),IF(C162=2,1,0)),0)","v":0},0,505223,"ROADWAY CEM CONC BASE, 9 IN","SY",null,"",null,"",null,""]
[{"$f":"IF(C163>0,SUM(MAX($A$3:A162),IF(C163>0,1,0)),0)","v":0},{"$f":"IF(C163=2,SUM(MAX($B$3:B162),IF(C163=2,1,0)),0)","v":0},0,505224,"ROADWAY CEM CONC BASE, 10 IN","SY",null,"",null,"",null,""]
[{"$f":"IF(C164>0,SUM(MAX($A$3:A163),IF(C164>0,1,0)),0)","v":0},{"$f":"IF(C164=2,SUM(MAX($B$3:B163),IF(C164=2,1,0)),0)","v":0},0,505225,"ROADWAY CEM CONC BASE, 11 IN","SY",null,"",null,"",null,""]
[{"$f":"IF(C165>0,SUM(MAX($A$3:A164),IF(C165>0,1,0)),0)","v":0},{"$f":"IF(C165=2,SUM(MAX($B$3:B164),IF(C165=2,1,0)),0)","v":0},0,505226,"ROADWAY CEM CONC BASE, 12 IN","SY",null,"",null,"",null,""]
[{"$f":"IF(C166>0,SUM(MAX($A$3:A165),IF(C166>0,1,0)),0)","v":0},{"$f":"IF(C166=2,SUM(MAX($B$3:B165),IF(C166=2,1,0)),0)","v":0},0,505280,"ROADWAY CEM CONC BASE, HES (24 HR), 6 IN","SY",null,"",null,"",null,""]
[{"$f":"IF(C167>0,SUM(MAX($A$3:A166),IF(C167>0,1,0)),0)","v":0},{"$f":"IF(C167=2,SUM(MAX($B$3:B166),IF(C167=2,1,0)),0)","v":0},0,505281,"ROADWAY CEM CONC BASE, HES (24 HR), 7 IN","SY",null,"",null,"",null,""]
[{"$f":"IF(C168>0,SUM(MAX($A$3:A167),IF(C168>0,1,0)),0)","v":0},{"$f":"IF(C168=2,SUM(MAX($B$3:B167),IF(C168=2,1,0)),0)","v":0},0,505282,"ROADWAY CEM CONC BASE, HES (24 HR), 8 IN","SY",null,"",null,"",null,""]
[{"$f":"IF(C169>0,SUM(MAX($A$3:A168),IF(C169>0,1,0)),0)","v":0},{"$f":"IF(C169=2,SUM(MAX($B$3:B168),IF(C169=2,1,0)),0)","v":0},0,505283,"ROADWAY CEM CONC BASE, HES (24 HR), 9 IN","SY",null,"",null,"",null,""]
[{"$f":"IF(C170>0,SUM(MAX($A$3:A169),IF(C170>0,1,0)),0)","v":0},{"$f":"IF(C170=2,SUM(MAX($B$3:B169),IF(C170=2,1,0)),0)","v":0},0,505285,"ROADWAY CEM CONC BASE, HES (24 HR), 10 IN","SY",null,"",null,"",null,""]
[{"$f":"IF(C171>0,SUM(MAX($A$3:A170),IF(C171>0,1,0)),0)","v":0},{"$f":"IF(C171=2,SUM(MAX($B$3:B170),IF(C171=2,1,0)),0)","v":0},0,505287,"ROADWAY CEM CONC BASE, HES (24 HR), 11 IN","SY",null,"",null,"",null,""]
[{"$f":"IF(C172>0,SUM(MAX($A$3:A171),IF(C172>0,1,0)),0)","v":0},{"$f":"IF(C172=2,SUM(MAX($B$3:B171),IF(C172=2,1,0)),0)","v":0},0,505289,"ROADWAY CEM CONC BASE, HES (24 HR), 12 IN","SY",null,"",null,"",null,""]
[{"$f":"IF(C173>0,SUM(MAX($A$3:A172),IF(C173>0,1,0)),0)","v":0},{"$f":"IF(C173=2,SUM(MAX($B$3:B172),IF(C173=2,1,0)),0)","v":0},0,505290,"ROADWAY CEM CONC BASE, HES (72 HR), 6 IN","SY",null,"",null,"",null,""]
[{"$f":"IF(C174>0,SUM(MAX($A$3:A173),IF(C174>0,1,0)),0)","v":0},{"$f":"IF(C174=2,SUM(MAX($B$3:B173),IF(C174=2,1,0)),0)","v":0},0,505291,"ROADWAY CEM CONC BASE, HES (72 HR), 7 IN","SY",null,"",null,"",null,""]
[{"$f":"IF(C175>0,SUM(MAX($A$3:A174),IF(C175>0,1,0)),0)","v":0},{"$f":"IF(C175=2,SUM(MAX($B$3:B174),IF(C175=2,1,0)),0)","v":0},0,505292,"ROADWAY CEM CONC BASE, HES (72 HR), 8 IN","SY",null,"",null,"",null,""]
[{"$f":"IF(C176>0,SUM(MAX($A$3:A175),IF(C176>0,1,0)),0)","v":0},{"$f":"IF(C176=2,SUM(MAX($B$3:B175),IF(C176=2,1,0)),0)","v":0},0,505293,"ROADWAY CEM CONC BASE, HES (72 HR), 9 IN","SY",null,"",null,"",null,""]
[{"$f":"IF(C177>0,SUM(MAX($A$3:A176),IF(C177>0,1,0)),0)","v":0},{"$f":"IF(C177=2,SUM(MAX($B$3:B176),IF(C177=2,1,0)),0)","v":0},0,505295,"ROADWAY CEM CONC BASE, HES (72 HR), 10 IN","SY",null,"",null,"",null,""]
[{"$f":"IF(C178>0,SUM(MAX($A$3:A177),IF(C178>0,1,0)),0)","v":0},{"$f":"IF(C178=2,SUM(MAX($B$3:B177),IF(C178=2,1,0)),0)","v":0},0,505297,"ROADWAY CEM CONC BASE, HES (72 HR), 11 IN","SY",null,"",null,"",null,""]
[{"$f":"IF(C179>0,SUM(MAX($A$3:A178),IF(C179>0,1,0)),0)","v":0},{"$f":"IF(C179=2,SUM(MAX($B$3:B178),IF(C179=2,1,0)),0)","v":0},0,505299,"ROADWAY CEM CONC BASE, HES (72 HR), 12 IN","SY",null,"",null,"",null,""]
[{"$f":"IF(C180>0,SUM(MAX($A$3:A179),IF(C180>0,1,0)),0)","v":0},{"$f":"IF(C180=2,SUM(MAX($B$3:B179),IF(C180=2,1,0)),0)","v":0},0,505310,"DOWEL BAR","EA",null,"",null,"",null,""]
[{"$f":"IF(C181>0,SUM(MAX($A$3:A180),IF(C181>0,1,0)),0)","v":0},{"$f":"IF(C181=2,SUM(MAX($B$3:B180),IF(C181=2,1,0)),0)","v":0},0,505315,"TIE BAR WITH DRILL HOLE","EA",null,"",null,"",null,""]
[{"$f":"IF(C182>0,SUM(MAX($A$3:A181),IF(C182>0,1,0)),0)","v":0},{"$f":"IF(C182=2,SUM(MAX($B$3:B181),IF(C182=2,1,0)),0)","v":0},0,505330,"PATTERNED CEM CONC TREATMENT, ROADWAY PATTERNED","SY",null,"",null,"",null,""]
[{"$f":"IF(C183>0,SUM(MAX($A$3:A182),IF(C183>0,1,0)),0)","v":0},{"$f":"IF(C183=2,SUM(MAX($B$3:B182),IF(C183=2,1,0)),0)","v":0},0,505335,"PATTERNED CEM CONC TREATMENT, ROADWAY RUNNING BOND USED BRICK","SY",null,"",null,"",null,""]
[{"$f":"IF(C184>0,SUM(MAX($A$3:A183),IF(C184>0,1,0)),0)","v":0},{"$f":"IF(C184=2,SUM(MAX($B$3:B183),IF(C184=2,1,0)),0)","v":0},0,null,null,null,null,null,null,null,null,""]
[{"$f":"IF(C185>0,SUM(MAX($A$3:A184),IF(C185>0,1,0)),0)","v":0},{"$f":"IF(C185=2,SUM(MAX($B$3:B184),IF(C185=2,1,0)),0)","v":0},{"$f":"IF(SUM(C186:C186)>0,2,0)","v":0},"SECTION 5-06","PERVIOUS CEMENT CONCRETE SIDEWALK ",null,null,null,null,{"$f":"SUM(J186:J186)","v":0},null,""]
[{"$f":"IF(C186>0,SUM(MAX($A$3:A185),IF(C186>0,1,0)),0)","v":0},{"$f":"IF(C186=2,SUM(MAX($B$3:B185),IF(C186=2,1,0)),0)","v":0},0,506005,"PERVIOUS CONCRETE SIDEWALK",{"$f":"IFERROR(VLOOKUP(VALUE(D186),BIDITEM,3,FALSE),\"\")","v":"SY"},null,{"$f":"IF(AND(G186>0,I186=0),IFERROR(VLOOKUP(VALUE(D186),BIDITEM,4,FALSE),\"\"),\"\")","v":""},null,{"$f":"IF(AND(G186>0,OR(H186>0,I186>0)),IF(I186>0,PRODUCT(I186,G186),PRODUCT(H186,G186)),\"\")","v":""},null,""]
[{"$f":"IF(C187>0,SUM(MAX($A$3:A186),IF(C187>0,1,0)),0)","v":0},{"$f":"IF(C187=2,SUM(MAX($B$3:B186),IF(C187=2,1,0)),0)","v":0},0,null,null,null,null,null,null,null,null,""]
[{"$f":"IF(C188>0,SUM(MAX($A$3:A187),IF(C188>0,1,0)),0)","v":0},{"$f":"IF(C188=2,SUM(MAX($B$3:B187),IF(C188=2,1,0)),0)","v":0},{"$f":"IF(SUM(C189:C196)>0,2,0)","v":0},"SECTION 7-01","DRAINS",null,null,null,null,{"$f":"SUM(J189:J196)","v":0},null,""]
[{"$f":"IF(C189>0,SUM(MAX($A$3:A188),IF(C189>0,1,0)),0)","v":0},{"$f":"IF(C189=2,SUM(MAX($B$3:B188),IF(C189=2,1,0)),0)","v":0},0,"701106","PIPE, SUBSURFACE DRAIN, PVC,  6 IN",{"$f":"IFERROR(VLOOKUP(VALUE(D189),BIDITEM,3,FALSE),\"\")","v":"LF"},null,{"$f":"IF(AND(G189>0,I189=0),IFERROR(VLOOKUP(VALUE(D189),BIDITEM,4,FALSE),\"\"),\"\")","v":""},null,{"$f":"IF(AND(G189>0,OR(H189>0,I189>0)),IF(I189>0,PRODUCT(I189,G189),PRODUCT(H189,G189)),\"\")","v":""},null,""]
[{"$f":"IF(C190>0,SUM(MAX($A$3:A189),IF(C190>0,1,0)),0)","v":0},{"$f":"IF(C190=2,SUM(MAX($B$3:B189),IF(C190=2,1,0)),0)","v":0},0,701108,"PIPE, SUBSURFACE DRAIN, PVC,  8 IN","LF",null,"",null,"",null,""]
[{"$f":"IF(C191>0,SUM(MAX($A$3:A190),IF(C191>0,1,0)),0)","v":0},{"$f":"IF(C191=2,SUM(MAX($B$3:B190),IF(C191=2,1,0)),0)","v":0},0,701110,"PIPE, SUBSURFACE DRAIN, PVC,  10 IN","LF",null,"",null,"",null,""]
[{"$f":"IF(C192>0,SUM(MAX($A$3:A191),IF(C192>0,1,0)),0)","v":0},{"$f":"IF(C192=2,SUM(MAX($B$3:B191),IF(C192=2,1,0)),0)","v":0},0,701450,"FILTER MATERIAL, TYPE 26","CY",null,"",null,"",null,""]
[{"$f":"IF(C193>0,SUM(MAX($A$3:A192),IF(C193>0,1,0)),0)","v":0},{"$f":"IF(C193=2,SUM(MAX($B$3:B192),IF(C193=2,1,0)),0)","v":0},0,701506,"SIDEWALK DRAIN, 6 IN, PVC","LF",null,"",null,"",null,""]
[{"$f":"IF(C194>0,SUM(MAX($A$3:A193),IF(C194>0,1,0)),0)","v":0},{"$f":"IF(C194=2,SUM(MAX($B$3:B193),IF(C194=2,1,0)),0)","v":0},0,701604,"GRAVEL DRAIN, TYPE 4","LF",null,"",null,"",null,""]
[{"$f":"IF(C195>0,SUM(MAX($A$3:A194),IF(C195>0,1,0)),0)","v":0},{"$f":"IF(C195=2,SUM(MAX($B$3:B194),IF(C195=2,1,0)),0)","v":0},0,701605,"GRAVEL DRAIN, TYPE 5","LF",null,"",null,"",null,""]
[{"$f":"IF(C196>0,SUM(MAX($A$3:A195),IF(C196>0,1,0)),0)","v":0},{"$f":"IF(C196=2,SUM(MAX($B$3:B195),IF(C196=2,1,0)),0)","v":0},0,701628,"GRAVEL DRAIN, TYPE 28","LF",null,"",null,"",null,""]
[{"$f":"IF(C197>0,SUM(MAX($A$3:A196),IF(C197>0,1,0)),0)","v":0},{"$f":"IF(C197=2,SUM(MAX($B$3:B196),IF(C197=2,1,0)),0)","v":0},0,null,null,null,null,null,null,null,null,""]
[{"$f":"IF(C198>0,SUM(MAX($A$3:A197),IF(C198>0,1,0)),0)","v":0},{"$f":"IF(C198=2,SUM(MAX($B$3:B197),IF(C198=2,1,0)),0)","v":0},{"$f":"IF(SUM(C199:C204)>0,2,0)","v":0},"SECTION 7-02","CULVERTS",null,null,null,null,{"$f":"SUM(J199:J204)","v":0},null,""]
[{"$f":"IF(C199>0,SUM(MAX($A$3:A198),IF(C199>0,1,0)),0)","v":0},{"$f":"IF(C199=2,SUM(MAX($B$3:B198),IF(C199=2,1,0)),0)","v":0},{"$f":"IF(G199>0,1,0)","v":0},"702012","PIPE, CULVERT, CONC REINF C76 CL V, 12 IN",{"$f":"IFERROR(VLOOKUP(VALUE(D199),BIDITEM,3,FALSE),\"\")","v":"LF"},null,{"$f":"IF(AND(G199>0,I199=0),IFERROR(VLOOKUP(VALUE(D199),BIDITEM,4,FALSE),\"\"),\"\")","v":""},null,{"$f":"IF(AND(G199>0,OR(H199>0,I199>0)),IF(I199>0,PRODUCT(I199,G199),PRODUCT(H199,G199)),\"\")","v":""},null,""]
[{"$f":"IF(C200>0,SUM(MAX($A$3:A199),IF(C200>0,1,0)),0)","v":0},{"$f":"IF(C200=2,SUM(MAX($B$3:B199),IF(C200=2,1,0)),0)","v":0},0,"702015","PIPE, CULVERT, CONC REINF C76 CL III, 15 IN","LF",null,"",null,"",null,""]
[{"$f":"IF(C201>0,SUM(MAX($A$3:A200),IF(C201>0,1,0)),0)","v":0},{"$f":"IF(C201=2,SUM(MAX($B$3:B200),IF(C201=2,1,0)),0)","v":0},0,"702018","PIPE, CULVERT, CONC REINF C76 CL III, 18 IN","LF",null,"",null,"",null,""]
[{"$f":"IF(C202>0,SUM(MAX($A$3:A201),IF(C202>0,1,0)),0)","v":0},{"$f":"IF(C202=2,SUM(MAX($B$3:B201),IF(C202=2,1,0)),0)","v":0},0,"702024","PIPE, CULVERT, CONC REINF C76 CL III, 24 IN","LF",null,"",null,"",null,{"$f":"IF(C202>0,ROW(),\"\")","v":""}]
[{"$f":"IF(C203>0,SUM(MAX($A$3:A202),IF(C203>0,1,0)),0)","v":0},{"$f":"IF(C203=2,SUM(MAX($B$3:B202),IF(C203=2,1,0)),0)","v":0},0,"702030","PIPE, CULVERT, CONC REINF C76 CL III, 30 IN","LF",null,"",null,"",null,""]
[{"$f":"IF(C204>0,SUM(MAX($A$3:A203),IF(C204>0,1,0)),0)","v":0},{"$f":"IF(C204=2,SUM(MAX($B$3:B203),IF(C204=2,1,0)),0)","v":0},0,702310,"JUNCTION BOX","EA",null,"",null,"",null,""]
[{"$f":"IF(C205>0,SUM(MAX($A$3:A204),IF(C205>0,1,0)),0)","v":0},{"$f":"IF(C205=2,SUM(MAX($B$3:B204),IF(C205=2,1,0)),0)","v":0},0,null,null,null,null,null,null,null,null,""]
[{"$f":"IF(C206>0,SUM(MAX($A$3:A205),IF(C206>0,1,0)),0)","v":0},{"$f":"IF(C206=2,SUM(MAX($B$3:B205),IF(C206=2,1,0)),0)","v":0},{"$f":"IF(SUM(C207:C231)>0,2,0)","v":0},"SECTION 7-05","MAINTENANCE HOLE, CATCH BASINS AND INLETS",null,null,null,null,{"$f":"SUM(J207:J231)","v":0},null,""]
[{"$f":"IF(C207>0,SUM(MAX($A$3:A206),IF(C207>0,1,0)),0)","v":0},{"$f":"IF(C207=2,SUM(MAX($B$3:B206),IF(C207=2,1,0)),0)","v":0},0,705008,"MAINTENANCE HOLE, TYPE 204A",{"$f":"IFERROR(VLOOKUP(VALUE(D207),BIDITEM,3,FALSE),\"\")","v":"EA"},null,{"$f":"IF(AND(G207>0,I207=0),IFERROR(VLOOKUP(VALUE(D207),BIDITEM,4,FALSE),\"\"),\"\")","v":""},null,{"$f":"IF(AND(G207>0,OR(H207>0,I207>0)),IF(I207>0,PRODUCT(I207,G207),PRODUCT(H207,G207)),\"\")","v":""},null,""]
[{"$f":"IF(C208>0,SUM(MAX($A$3:A207),IF(C208>0,1,0)),0)","v":0},{"$f":"IF(C208=2,SUM(MAX($B$3:B207),IF(C208=2,1,0)),0)","v":0},0,705009,"MAINTENANCE HOLE, TYPE 204.5A","EA",null,"",null,"",null,""]
[{"$f":"IF(C209>0,SUM(MAX($A$3:A208),IF(C209>0,1,0)),0)","v":0},{"$f":"IF(C209=2,SUM(MAX($B$3:B208),IF(C209=2,1,0)),0)","v":0},0,705010,"MAINTENANCE HOLE, TYPE 205A","EA",null,"",null,"",null,""]
[{"$f":"IF(C210>0,SUM(MAX($A$3:A209),IF(C210>0,1,0)),0)","v":0},{"$f":"IF(C210=2,SUM(MAX($B$3:B209),IF(C210=2,1,0)),0)","v":0},0,{"$f":"D207+50","v":705058},"MAINTENANCE HOLE, TYPE 204B","EA",null,"",null,"",null,""]
[{"$f":"IF(C211>0,SUM(MAX($A$3:A210),IF(C211>0,1,0)),0)","v":0},{"$f":"IF(C211=2,SUM(MAX($B$3:B210),IF(C211=2,1,0)),0)","v":0},0,{"$f":"D208+50","v":705059},"MAINTENANCE HOLE, TYPE 204.5B","EA",null,"",null,"",null,""]
[{"$f":"IF(C212>0,SUM(MAX($A$3:A211),IF(C212>0,1,0)),0)","v":0},{"$f":"IF(C212=2,SUM(MAX($B$3:B211),IF(C212=2,1,0)),0)","v":0},0,{"$f":"D209+50","v":705060},"MAINTENANCE HOLE, TYPE 205B","EA",null,"",null,"",null,""]
[{"$f":"IF(C213>0,SUM(MAX($A$3:A212),IF(C213>0,1,0)),0)","v":0},{"$f":"IF(C213=2,SUM(MAX($B$3:B212),IF(C213=2,1,0)),0)","v":0},0,{"$f":"D207+100","v":705108},"EXTRA DEPTH, TYPE 204A MAINTENANCE HOLE","VF",null,"",null,"",null,""]
[{"$f":"IF(C214>0,SUM(MAX($A$3:A213),IF(C214>0,1,0)),0)","v":0},{"$f":"IF(C214=2,SUM(MAX($B$3:B213),IF(C214=2,1,0)),0)","v":0},0,705109,"EXTRA DEPTH, TYPE 204.5A MAINTENANCE HOLE","VF",null,"",null,"",null,""]
[{"$f":"IF(C215>0,SUM(MAX($A$3:A214),IF(C215>0,1,0)),0)","v":0},{"$f":"IF(C215=2,SUM(MAX($B$3:B214),IF(C215=2,1,0)),0)","v":0},0,705110,"EXTRA DEPTH, TYPE 205A MAINTENANCE HOLE","VF",null,"",null,"",null,""]
[{"$f":"IF(C216>0,SUM(MAX($A$3:A215),IF(C216>0,1,0)),0)","v":0},{"$f":"IF(C216=2,SUM(MAX($B$3:B215),IF(C216=2,1,0)),0)","v":0},0,705158,"EXTRA DEPTH, TYPE 204B MAINTENANCE HOLE","VF",null,"",null,"",null,""]
[{"$f":"IF(C217>0,SUM(MAX($A$3:A216),IF(C217>0,1,0)),0)","v":0},{"$f":"IF(C217=2,SUM(MAX($B$3:B216),IF(C217=2,1,0)),0)","v":0},0,705159,"EXTRA DEPTH, TYPE 204.5B MAINTENANCE HOLE","VF",null,"",null,"",null,""]
[{"$f":"IF(C218>0,SUM(MAX($A$3:A217),IF(C218>0,1,0)),0)","v":0},{"$f":"IF(C218=2,SUM(MAX($B$3:B217),IF(C218=2,1,0)),0)","v":0},0,705160,"EXTRA DEPTH, TYPE 205B MAINTENANCE HOLE","VF",null,"",null,"",null,""]
[{"$f":"IF(C219>0,SUM(MAX($A$3:A218),IF(C219>0,1,0)),0)","v":0},{"$f":"IF(C219=2,SUM(MAX($B$3:B218),IF(C219=2,1,0)),0)","v":0},0,"705300","RECHANNEL MAINTENANCE HOLE","EA",null,"",null,"",null,""]
[{"$f":"IF(C220>0,SUM(MAX($A$3:A219),IF(C220>0,1,0)),0)","v":0},{"$f":"IF(C220=2,SUM(MAX($B$3:B219),IF(C220=2,1,0)),0)","v":0},0,705305,"REBUILD BRICK MAINTENANCE HOLE","EA",null,"",null,"",null,""]
[{"$f":"IF(C221>0,SUM(MAX($A$3:A220),IF(C221>0,1,0)),0)","v":0},{"$f":"IF(C221=2,SUM(MAX($B$3:B220),IF(C221=2,1,0)),0)","v":0},0,"705352","CATCH BASIN, TYPE 240A","EA",null,"",null,"",null,""]
[{"$f":"IF(C222>0,SUM(MAX($A$3:A221),IF(C222>0,1,0)),0)","v":0},{"$f":"IF(C222=2,SUM(MAX($B$3:B221),IF(C222=2,1,0)),0)","v":0},0,"705353","CATCH BASIN, TYPE 240B","EA",null,"",null,"",null,""]
[{"$f":"IF(C223>0,SUM(MAX($A$3:A222),IF(C223>0,1,0)),0)","v":0},{"$f":"IF(C223=2,SUM(MAX($B$3:B222),IF(C223=2,1,0)),0)","v":0},0,"705354","CATCH BASIN, TYPE 241","EA",null,"",null,"",null,""]
[{"$f":"IF(C224>0,SUM(MAX($A$3:A223),IF(C224>0,1,0)),0)","v":0},{"$f":"IF(C224=2,SUM(MAX($B$3:B223),IF(C224=2,1,0)),0)","v":0},0,"705355","CATCH BASIN, TYPE 242A","EA",null,"",null,"",null,""]
[{"$f":"IF(C225>0,SUM(MAX($A$3:A224),IF(C225>0,1,0)),0)","v":0},{"$f":"IF(C225=2,SUM(MAX($B$3:B224),IF(C225=2,1,0)),0)","v":0},0,"705356","CATCH BASIN, TYPE 242B","EA",null,"",null,"",null,""]
[{"$f":"IF(C226>0,SUM(MAX($A$3:A225),IF(C226>0,1,0)),0)","v":0},{"$f":"IF(C226=2,SUM(MAX($B$3:B225),IF(C226=2,1,0)),0)","v":0},0,"705357","CATCH BASIN, TYPE 240C","EA",null,"",null,"",null,""]
[{"$f":"IF(C227>0,SUM(MAX($A$3:A226),IF(C227>0,1,0)),0)","v":0},{"$f":"IF(C227=2,SUM(MAX($B$3:B226),IF(C227=2,1,0)),0)","v":0},0,705358,"CATCH BASIN, TYPE 240D","EA",null,"",null,"",null,""]
[{"$f":"IF(C228>0,SUM(MAX($A$3:A227),IF(C228>0,1,0)),0)","v":0},{"$f":"IF(C228=2,SUM(MAX($B$3:B227),IF(C228=2,1,0)),0)","v":0},0,"705450","INLET, TYPE 250A","EA",null,"",null,"",null,""]
[{"$f":"IF(C229>0,SUM(MAX($A$3:A228),IF(C229>0,1,0)),0)","v":0},{"$f":"IF(C229=2,SUM(MAX($B$3:B228),IF(C229=2,1,0)),0)","v":0},0,"705451","INLET, TYPE 250B","EA",null,"",null,"",null,""]
[{"$f":"IF(C230>0,SUM(MAX($A$3:A229),IF(C230>0,1,0)),0)","v":0},{"$f":"IF(C230=2,SUM(MAX($B$3:B229),IF(C230=2,1,0)),0)","v":0},0,"705452","INLET, TYPE 252","EA",null,"",null,"",null,""]
[{"$f":"IF(C231>0,SUM(MAX($A$3:A230),IF(C231>0,1,0)),0)","v":0},{"$f":"IF(C231=2,SUM(MAX($B$3:B230),IF(C231=2,1,0)),0)","v":0},0,"705510","REBUILD CATCH BASIN","EA",null,"",null,"",null,""]
[{"$f":"IF(C232>0,SUM(MAX($A$3:A231),IF(C232>0,1,0)),0)","v":0},{"$f":"IF(C232=2,SUM(MAX($B$3:B231),IF(C232=2,1,0)),0)","v":0},0,null,null,null,null,null,null,null,null,""]
[{"$f":"IF(C233>0,SUM(MAX($A$3:A232),IF(C233>0,1,0)),0)","v":0},{"$f":"IF(C233=2,SUM(MAX($B$3:B232),IF(C233=2,1,0)),0)","v":0},{"$f":"IF(SUM(C234:C247)>0,2,0)","v":0},"SECTION 7-08","MISCELLANEOUS PIPE CONNECTIONS",null,null,null,null,{"$f":"SUM(J234:J247)","v":0},null,""]
[{"$f":"IF(C234>0,SUM(MAX($A$3:A233),IF(C234>0,1,0)),0)","v":0},{"$f":"IF(C234=2,SUM(MAX($B$3:B233),IF(C234=2,1,0)),0)","v":0},0,"708006","PIPE, CB CONN, CONC C14 CL 3, 6 IN",{"$f":"IFERROR(VLOOKUP(VALUE(D234),BIDITEM,3,FALSE),\"\")","v":"LF"},null,{"$f":"IF(AND(G234>0,I234=0),IFERROR(VLOOKUP(VALUE(D234),BIDITEM,4,FALSE),\"\"),\"\")","v":""},null,{"$f":"IF(AND(G234>0,OR(H234>0,I234>0)),IF(I234>0,PRODUCT(I234,G234),PRODUCT(H234,G234)),\"\")","v":""},null,""]
[{"$f":"IF(C235>0,SUM(MAX($A$3:A234),IF(C235>0,1,0)),0)","v":0},{"$f":"IF(C235=2,SUM(MAX($B$3:B234),IF(C235=2,1,0)),0)","v":0},0,"708008","PIPE, CB CONN, CONC C14 CL 3, 8 IN","LF",null,"",null,"",null,""]
[{"$f":"IF(C236>0,SUM(MAX($A$3:A235),IF(C236>0,1,0)),0)","v":0},{"$f":"IF(C236=2,SUM(MAX($B$3:B235),IF(C236=2,1,0)),0)","v":0},0,"708056","PIPE, CB CONN, D.I. CL 50, 6 IN","LF",null,"",null,"",null,""]
[{"$f":"IF(C237>0,SUM(MAX($A$3:A236),IF(C237>0,1,0)),0)","v":0},{"$f":"IF(C237=2,SUM(MAX($B$3:B236),IF(C237=2,1,0)),0)","v":0},0,"708058","PIPE, CB CONN, D.I. CL 50, 8 IN","LF",null,"",null,"",null,""]
[{"$f":"IF(C238>0,SUM(MAX($A$3:A237),IF(C238>0,1,0)),0)","v":0},{"$f":"IF(C238=2,SUM(MAX($B$3:B237),IF(C238=2,1,0)),0)","v":0},0,708062,"PIPE, CB CONN, D.I. CL 50, 12 IN","LF",null,"",null,"",null,""]
[{"$f":"IF(C239>0,SUM(MAX($A$3:A238),IF(C239>0,1,0)),0)","v":0},{"$f":"IF(C239=2,SUM(MAX($B$3:B238),IF(C239=2,1,0)),0)","v":0},0,"708106","PIPE, CB CONN, PVC, 6 IN","LF",null,"",null,"",null,""]
[{"$f":"IF(C240>0,SUM(MAX($A$3:A239),IF(C240>0,1,0)),0)","v":0},{"$f":"IF(C240=2,SUM(MAX($B$3:B239),IF(C240=2,1,0)),0)","v":0},0,708108,"PIPE, CB CONN, PVC, 8 IN","LF",null,"",null,"",null,""]
[{"$f":"IF(C241>0,SUM(MAX($A$3:A240),IF(C241>0,1,0)),0)","v":0},{"$f":"IF(C241=2,SUM(MAX($B$3:B240),IF(C241=2,1,0)),0)","v":0},0,"708206","PIPE, INLET CONN, CONC C14 CL 3, 6 IN","LF",null,"",null,"",null,""]
[{"$f":"IF(C242>0,SUM(MAX($A$3:A241),IF(C242>0,1,0)),0)","v":0},{"$f":"IF(C242=2,SUM(MAX($B$3:B241),IF(C242=2,1,0)),0)","v":0},0,"708208","PIPE, INLET CONN, CONC C14 CL 3, 8 IN","LF",null,"",null,"",null,""]
[{"$f":"IF(C243>0,SUM(MAX($A$3:A242),IF(C243>0,1,0)),0)","v":0},{"$f":"IF(C243=2,SUM(MAX($B$3:B242),IF(C243=2,1,0)),0)","v":0},0,"708256","PIPE, INLET CONN, D.I. CL 50, 6 IN","LF",null,"",null,"",null,""]
[{"$f":"IF(C244>0,SUM(MAX($A$3:A243),IF(C244>0,1,0)),0)","v":0},{"$f":"IF(C244=2,SUM(MAX($B$3:B243),IF(C244=2,1,0)),0)","v":0},0,"708258","PIPE, INLET CONN, D.I. CL 50, 8 IN","LF",null,"",null,"",null,""]
[{"$f":"IF(C245>0,SUM(MAX($A$3:A244),IF(C245>0,1,0)),0)","v":0},{"$f":"IF(C245=2,SUM(MAX($B$3:B244),IF(C245=2,1,0)),0)","v":0},0,"708406","DROP CONNECTION,  INSIDE, 6 IN","VF",null,"",null,"",null,""]
[{"$f":"IF(C246>0,SUM(MAX($A$3:A245),IF(C246>0,1,0)),0)","v":0},{"$f":"IF(C246=2,SUM(MAX($B$3:B245),IF(C246=2,1,0)),0)","v":0},0,"708408","DROP CONNECTION, INSIDE, 8 IN","VF",null,"",null,"",null,""]
[{"$f":"IF(C247>0,SUM(MAX($A$3:A246),IF(C247>0,1,0)),0)","v":0},{"$f":"IF(C247=2,SUM(MAX($B$3:B246),IF(C247=2,1,0)),0)","v":0},0,708412,"DROP CONNECTION, INSIDE, 12 IN","VF",null,"",null,"",null,""]
[{"$f":"IF(C248>0,SUM(MAX($A$3:A247),IF(C248>0,1,0)),0)","v":0},{"$f":"IF(C248=2,SUM(MAX($B$3:B247),IF(C248=2,1,0)),0)","v":0},0,null,null,null,null,null,null,null,null,""]
[{"$f":"IF(C249>0,SUM(MAX($A$3:A248),IF(C249>0,1,0)),0)","v":0},{"$f":"IF(C249=2,SUM(MAX($B$3:B248),IF(C249=2,1,0)),0)","v":0},{"$f":"IF(SUM(C250:C265)>0,2,0)","v":0},"SECTION 7-11","PIPE INSTALLATION FOR WATER MAINS",null,null,null,null,{"$f":"SUM(J250:J265)","v":0},null,""]
[{"$f":"IF(C250>0,SUM(MAX($A$3:A249),IF(C250>0,1,0)),0)","v":0},{"$f":"IF(C250=2,SUM(MAX($B$3:B249),IF(C250=2,1,0)),0)","v":0},0,"711004","PIPE, WM, D.I. CL 52, 4 IN, INCL. FITTINGS",{"$f":"IFERROR(VLOOKUP(VALUE(D250),BIDITEM,3,FALSE),\"\")","v":"LF"},null,{"$f":"IF(AND(G250>0,I250=0),IFERROR(VLOOKUP(VALUE(D250),BIDITEM,4,FALSE),\"\"),\"\")","v":""},null,{"$f":"IF(AND(G250>0,OR(H250>0,I250>0)),IF(I250>0,PRODUCT(I250,G250),PRODUCT(H250,G250)),\"\")","v":""},null,""]
[{"$f":"IF(C251>0,SUM(MAX($A$3:A250),IF(C251>0,1,0)),0)","v":0},{"$f":"IF(C251=2,SUM(MAX($B$3:B250),IF(C251=2,1,0)),0)","v":0},0,"711006","PIPE, WM, D.I. CL 52, 6 IN, INCL. FITTINGS","LF",null,"",null,"",null,""]
[{"$f":"IF(C252>0,SUM(MAX($A$3:A251),IF(C252>0,1,0)),0)","v":0},{"$f":"IF(C252=2,SUM(MAX($B$3:B251),IF(C252=2,1,0)),0)","v":0},0,"711008","PIPE, WM, D.I. CL 52, 8 IN, INCL. FITTINGS","LF",null,"",null,"",null,""]
[{"$f":"IF(C253>0,SUM(MAX($A$3:A252),IF(C253>0,1,0)),0)","v":0},{"$f":"IF(C253=2,SUM(MAX($B$3:B252),IF(C253=2,1,0)),0)","v":0},0,711010,"PIPE, WM, D.I. CL 52, 10 IN, INCL. FITTINGS","LF",null,"",null,"",null,""]
[{"$f":"IF(C254>0,SUM(MAX($A$3:A253),IF(C254>0,1,0)),0)","v":0},{"$f":"IF(C254=2,SUM(MAX($B$3:B253),IF(C254=2,1,0)),0)","v":0},0,"711012","PIPE, WM, D.I. CL 52, 12 IN, INCL. FITTINGS","LF",null,"",null,"",null,""]
[{"$f":"IF(C255>0,SUM(MAX($A$3:A254),IF(C255>0,1,0)),0)","v":0},{"$f":"IF(C255=2,SUM(MAX($B$3:B254),IF(C255=2,1,0)),0)","v":0},0,711106,"PIPE, WM, D.I. CL 52,  6 IN, RJ, INCL. FITTINGS","LF",null,"",null,"",null,""]
[{"$f":"IF(C256>0,SUM(MAX($A$3:A255),IF(C256>0,1,0)),0)","v":0},{"$f":"IF(C256=2,SUM(MAX($B$3:B255),IF(C256=2,1,0)),0)","v":0},0,"711108","PIPE, WM, D.I. CL 52,  8 IN, RJ, INCL. FITTINGS","LF",null,"",null,"",null,""]
[{"$f":"IF(C257>0,SUM(MAX($A$3:A256),IF(C257>0,1,0)),0)","v":0},{"$f":"IF(C257=2,SUM(MAX($B$3:B256),IF(C257=2,1,0)),0)","v":0},0,"711112","PIPE, WM, D.I. CL 52, 12 IN, RJ, INCL. FITTINGS","LF",null,"",null,"",null,""]
[{"$f":"IF(C258>0,SUM(MAX($A$3:A257),IF(C258>0,1,0)),0)","v":0},{"$f":"IF(C258=2,SUM(MAX($B$3:B257),IF(C258=2,1,0)),0)","v":0},0,711116,"PIPE, WM, D.I. CL 52, 16 IN, RJ, INCL. FITTINGS","LF",null,"",null,"",null,""]
[{"$f":"IF(C259>0,SUM(MAX($A$3:A258),IF(C259>0,1,0)),0)","v":0},{"$f":"IF(C259=2,SUM(MAX($B$3:B258),IF(C259=2,1,0)),0)","v":0},0,711206,"BEDDING, WATER MAIN, CL B, 6 IN PIPE","LF",null,"",null,"",null,""]
[{"$f":"IF(C260>0,SUM(MAX($A$3:A259),IF(C260>0,1,0)),0)","v":0},{"$f":"IF(C260=2,SUM(MAX($B$3:B259),IF(C260=2,1,0)),0)","v":0},0,711208,"BEDDING, WATER MAIN, CL B, 8 IN PIPE","LF",null,"",null,"",null,""]
[{"$f":"IF(C261>0,SUM(MAX($A$3:A260),IF(C261>0,1,0)),0)","v":0},{"$f":"IF(C261=2,SUM(MAX($B$3:B260),IF(C261=2,1,0)),0)","v":0},0,711210,"BEDDING, WATER MAIN, CL B, 10 IN PIPE","LF",null,"",null,"",null,""]
[{"$f":"IF(C262>0,SUM(MAX($A$3:A261),IF(C262>0,1,0)),0)","v":0},{"$f":"IF(C262=2,SUM(MAX($B$3:B261),IF(C262=2,1,0)),0)","v":0},{"$f":"IF(G262>0,1,0)","v":0},711212,"BEDDING, WATER MAIN, CL B, 12 IN PIPE","LF",null,"",null,"",null,""]
[{"$f":"IF(C263>0,SUM(MAX($A$3:A262),IF(C263>0,1,0)),0)","v":0},{"$f":"IF(C263=2,SUM(MAX($B$3:B262),IF(C263=2,1,0)),0)","v":0},0,"711400","BLOCKING, CEMENT CONCRETE","CY",null,"",null,"",null,""]
[{"$f":"IF(C264>0,SUM(MAX($A$3:A263),IF(C264>0,1,0)),0)","v":0},{"$f":"IF(C264=2,SUM(MAX($B$3:B263),IF(C264=2,1,0)),0)","v":0},0,"711402","BLOWOFF ASSEMBLY, 2 IN","EA",null,"",null,"",null,""]
[{"$f":"IF(C265>0,SUM(MAX($A$3:A264),IF(C265>0,1,0)),0)","v":0},{"$f":"IF(C265=2,SUM(MAX($B$3:B264),IF(C265=2,1,0)),0)","v":0},0,"711500","STATION, ELECTROLYSIS TEST","EA",null,"",null,"",null,""]
[{"$f":"IF(C266>0,SUM(MAX($A$3:A265),IF(C266>0,1,0)),0)","v":0},{"$f":"IF(C266=2,SUM(MAX($B$3:B265),IF(C266=2,1,0)),0)","v":0},0,null,null,null,null,null,null,null,null,{"$f":"IF(C266>0,ROW(),\"\")","v":""}]
[{"$f":"IF(C267>0,SUM(MAX($A$3:A266),IF(C267>0,1,0)),0)","v":0},{"$f":"IF(C267=2,SUM(MAX($B$3:B266),IF(C267=2,1,0)),0)","v":0},{"$f":"IF(SUM(C268:C277)>0,2,0)","v":0},"SECTION 7-12","VALVES FOR WATER MAINS",null,null,null,null,{"$f":"SUM(J268:J277)","v":0},null,""]
[{"$f":"IF(C268>0,SUM(MAX($A$3:A267),IF(C268>0,1,0)),0)","v":0},{"$f":"IF(C268=2,SUM(MAX($B$3:B267),IF(C268=2,1,0)),0)","v":0},0,712004,"VALVE, GATE, 4 IN",{"$f":"IFERROR(VLOOKUP(VALUE(D268),BIDITEM,3,FALSE),\"\")","v":"EA"},null,{"$f":"IF(AND(G268>0,I268=0),IFERROR(VLOOKUP(VALUE(D268),BIDITEM,4,FALSE),\"\"),\"\")","v":""},null,{"$f":"IF(AND(G268>0,OR(H268>0,I268>0)),IF(I268>0,PRODUCT(I268,G268),PRODUCT(H268,G268)),\"\")","v":""},null,""]
[{"$f":"IF(C269>0,SUM(MAX($A$3:A268),IF(C269>0,1,0)),0)","v":0},{"$f":"IF(C269=2,SUM(MAX($B$3:B268),IF(C269=2,1,0)),0)","v":0},0,"712006","VALVE, GATE, 6 IN","EA",null,"",null,"",null,""]
[{"$f":"IF(C270>0,SUM(MAX($A$3:A269),IF(C270>0,1,0)),0)","v":0},{"$f":"IF(C270=2,SUM(MAX($B$3:B269),IF(C270=2,1,0)),0)","v":0},0,"712008","VALVE, GATE, 8 IN","EA",null,"",null,"",null,""]
[{"$f":"IF(C271>0,SUM(MAX($A$3:A270),IF(C271>0,1,0)),0)","v":0},{"$f":"IF(C271=2,SUM(MAX($B$3:B270),IF(C271=2,1,0)),0)","v":0},0,712010,"VALVE, GATE, 10 IN","EA",null,"",null,"",null,""]
[{"$f":"IF(C272>0,SUM(MAX($A$3:A271),IF(C272>0,1,0)),0)","v":0},{"$f":"IF(C272=2,SUM(MAX($B$3:B271),IF(C272=2,1,0)),0)","v":0},0,"712012","VALVE, GATE, 12 IN","EA",null,"",null,"",null,""]
[{"$f":"IF(C273>0,SUM(MAX($A$3:A272),IF(C273>0,1,0)),0)","v":0},{"$f":"IF(C273=2,SUM(MAX($B$3:B272),IF(C273=2,1,0)),0)","v":0},0,"712106","VALVE, BUTTERFLY, 6 IN","EA",null,"",null,"",null,""]
[{"$f":"IF(C274>0,SUM(MAX($A$3:A273),IF(C274>0,1,0)),0)","v":0},{"$f":"IF(C274=2,SUM(MAX($B$3:B273),IF(C274=2,1,0)),0)","v":0},0,"712108","VALVE, BUTTERFLY, 8 IN","EA",null,"",null,"",null,""]
[{"$f":"IF(C275>0,SUM(MAX($A$3:A274),IF(C275>0,1,0)),0)","v":0},{"$f":"IF(C275=2,SUM(MAX($B$3:B274),IF(C275=2,1,0)),0)","v":0},0,"712110","VALVE, BUTTERFLY, 10 IN","EA",null,"",null,"",null,""]
[{"$f":"IF(C276>0,SUM(MAX($A$3:A275),IF(C276>0,1,0)),0)","v":0},{"$f":"IF(C276=2,SUM(MAX($B$3:B275),IF(C276=2,1,0)),0)","v":0},0,"712112","VALVE, BUTTERFLY, 12 IN","EA",null,"",null,"",null,""]
[{"$f":"IF(C277>0,SUM(MAX($A$3:A276),IF(C277>0,1,0)),0)","v":0},{"$f":"IF(C277=2,SUM(MAX($B$3:B276),IF(C277=2,1,0)),0)","v":0},0,"712500","VALVE BOX, CAST IRON","EA",null,"",null,"",null,""]
[{"$f":"IF(C278>0,SUM(MAX($A$3:A277),IF(C278>0,1,0)),0)","v":0},{"$f":"IF(C278=2,SUM(MAX($B$3:B277),IF(C278=2,1,0)),0)","v":0},0,null,null,null,null,null,null,null,null,""]
[{"$f":"IF(C279>0,SUM(MAX($A$3:A278),IF(C279>0,1,0)),0)","v":0},{"$f":"IF(C279=2,SUM(MAX($B$3:B278),IF(C279=2,1,0)),0)","v":0},{"$f":"IF(SUM(C280:C280)>0,2,0)","v":0},"SECTION 7-14","HYDRANTS",null,null,null,null,{"$f":"SUM(J280:J280)","v":0},null,""]
[{"$f":"IF(C280>0,SUM(MAX($A$3:A279),IF(C280>0,1,0)),0)","v":0},{"$f":"IF(C280=2,SUM(MAX($B$3:B279),IF(C280=2,1,0)),0)","v":0},0,"714006","HYDRANT, 6 IN CONN, INSTALL ONLY",{"$f":"IFERROR(VLOOKUP(VALUE(D280),BIDITEM,3,FALSE),\"\")","v":"EA"},null,{"$f":"IF(AND(G280>0,I280=0),IFERROR(VLOOKUP(VALUE(D280),BIDITEM,4,FALSE),\"\"),\"\")","v":""},null,{"$f":"IF(AND(G280>0,OR(H280>0,I280>0)),IF(I280>0,PRODUCT(I280,G280),PRODUCT(H280,G280)),\"\")","v":""},null,""]
[{"$f":"IF(C281>0,SUM(MAX($A$3:A280),IF(C281>0,1,0)),0)","v":0},{"$f":"IF(C281=2,SUM(MAX($B$3:B280),IF(C281=2,1,0)),0)","v":0},0,null,null,null,null,null,null,null,null,""]
[{"$f":"IF(C282>0,SUM(MAX($A$3:A281),IF(C282>0,1,0)),0)","v":0},{"$f":"IF(C282=2,SUM(MAX($B$3:B281),IF(C282=2,1,0)),0)","v":0},{"$f":"IF(SUM(C283:C367)>0,2,0)","v":0},"SECTION 7-17","STORM DRAINS AND SANITARY SEWERS",null,null,null,null,{"$f":"SUM(J283:J367)","v":0},null,""]
[{"$f":"IF(C283>0,SUM(MAX($A$3:A282),IF(C283>0,1,0)),0)","v":0},{"$f":"IF(C283=2,SUM(MAX($B$3:B282),IF(C283=2,1,0)),0)","v":0},0,"717006","BEDDING, CL B, 6 IN PIPE",{"$f":"IFERROR(VLOOKUP(VALUE(D283),BIDITEM,3,FALSE),\"\")","v":"LF"},null,{"$f":"IF(AND(G283>0,I283=0),IFERROR(VLOOKUP(VALUE(D283),BIDITEM,4,FALSE),\"\"),\"\")","v":""},null,{"$f":"IF(AND(G283>0,OR(H283>0,I283>0)),IF(I283>0,PRODUCT(I283,G283),PRODUCT(H283,G283)),\"\")","v":""},null,""]
[{"$f":"IF(C284>0,SUM(MAX($A$3:A283),IF(C284>0,1,0)),0)","v":0},{"$f":"IF(C284=2,SUM(MAX($B$3:B283),IF(C284=2,1,0)),0)","v":0},0,"717008","BEDDING, CL B, 8 IN PIPE","LF",null,"",null,"",null,""]
[{"$f":"IF(C285>0,SUM(MAX($A$3:A284),IF(C285>0,1,0)),0)","v":0},{"$f":"IF(C285=2,SUM(MAX($B$3:B284),IF(C285=2,1,0)),0)","v":0},0,"717010","BEDDING, CL B, 10 IN PIPE","LF",null,"",null,"",null,""]
[{"$f":"IF(C286>0,SUM(MAX($A$3:A285),IF(C286>0,1,0)),0)","v":0},{"$f":"IF(C286=2,SUM(MAX($B$3:B285),IF(C286=2,1,0)),0)","v":0},0,"717012","BEDDING, CL B, 12 IN PIPE","LF",null,"",null,"",null,""]
[{"$f":"IF(C287>0,SUM(MAX($A$3:A286),IF(C287>0,1,0)),0)","v":0},{"$f":"IF(C287=2,SUM(MAX($B$3:B286),IF(C287=2,1,0)),0)","v":0},0,"717015","BEDDING, CL B, 15 IN PIPE","LF",null,"",null,"",null,""]
[{"$f":"IF(C288>0,SUM(MAX($A$3:A287),IF(C288>0,1,0)),0)","v":0},{"$f":"IF(C288=2,SUM(MAX($B$3:B287),IF(C288=2,1,0)),0)","v":0},0,"717018","BEDDING, CL B, 18 IN PIPE","LF",null,"",null,"",null,""]
[{"$f":"IF(C289>0,SUM(MAX($A$3:A288),IF(C289>0,1,0)),0)","v":0},{"$f":"IF(C289=2,SUM(MAX($B$3:B288),IF(C289=2,1,0)),0)","v":0},0,"717024","BEDDING, CL B, 24 IN PIPE","LF",null,"",null,"",null,""]
[{"$f":"IF(C290>0,SUM(MAX($A$3:A289),IF(C290>0,1,0)),0)","v":0},{"$f":"IF(C290=2,SUM(MAX($B$3:B289),IF(C290=2,1,0)),0)","v":0},0,"717208","PIPE, PS, CONC C14 CL 3, 8 IN","LF",null,"",null,"",null,""]
[{"$f":"IF(C291>0,SUM(MAX($A$3:A290),IF(C291>0,1,0)),0)","v":0},{"$f":"IF(C291=2,SUM(MAX($B$3:B290),IF(C291=2,1,0)),0)","v":0},0,"717210","PIPE, PS, CONC C14 CL 3, 10 IN","LF",null,"",null,"",null,""]
[{"$f":"IF(C292>0,SUM(MAX($A$3:A291),IF(C292>0,1,0)),0)","v":0},{"$f":"IF(C292=2,SUM(MAX($B$3:B291),IF(C292=2,1,0)),0)","v":0},0,717213,"PIPE, PS, CONC REINF C76 CL IV, 12 IN","LF",null,"",null,"",null,""]
[{"$f":"IF(C293>0,SUM(MAX($A$3:A292),IF(C293>0,1,0)),0)","v":0},{"$f":"IF(C293=2,SUM(MAX($B$3:B292),IF(C293=2,1,0)),0)","v":0},0,"717216","PIPE, PS, CONC REINF C76 CL IV, 15 IN","LF",null,"",null,"",null,""]
[{"$f":"IF(C294>0,SUM(MAX($A$3:A293),IF(C294>0,1,0)),0)","v":0},{"$f":"IF(C294=2,SUM(MAX($B$3:B293),IF(C294=2,1,0)),0)","v":0},0,"717218","PIPE, PS, CONC REINF C76 CL III, 18 IN","LF",null,"",null,"",null,""]
[{"$f":"IF(C295>0,SUM(MAX($A$3:A294),IF(C295>0,1,0)),0)","v":0},{"$f":"IF(C295=2,SUM(MAX($B$3:B294),IF(C295=2,1,0)),0)","v":0},0,"717221","PIPE, PS, CONC REINF C76 CL III, 21 IN","LF",null,"",null,"",null,""]
[{"$f":"IF(C296>0,SUM(MAX($A$3:A295),IF(C296>0,1,0)),0)","v":0},{"$f":"IF(C296=2,SUM(MAX($B$3:B295),IF(C296=2,1,0)),0)","v":0},0,"717224","PIPE, PS, CONC REINF C76 CL III, 24 IN","LF",null,"",null,"",null,""]
[{"$f":"IF(C297>0,SUM(MAX($A$3:A296),IF(C297>0,1,0)),0)","v":0},{"$f":"IF(C297=2,SUM(MAX($B$3:B296),IF(C297=2,1,0)),0)","v":0},0,"717308","PIPE, PS, D.I., CL 50, 8 IN","LF",null,"",null,"",null,""]
[{"$f":"IF(C298>0,SUM(MAX($A$3:A297),IF(C298>0,1,0)),0)","v":0},{"$f":"IF(C298=2,SUM(MAX($B$3:B297),IF(C298=2,1,0)),0)","v":0},0,"717310","PIPE, PS, D.I., CL 50, 10 IN","LF",null,"",null,"",null,""]
[{"$f":"IF(C299>0,SUM(MAX($A$3:A298),IF(C299>0,1,0)),0)","v":0},{"$f":"IF(C299=2,SUM(MAX($B$3:B298),IF(C299=2,1,0)),0)","v":0},0,"717312","PIPE, PS, D.I., CL 50, 12 IN","LF",null,"",null,"",null,""]
[{"$f":"IF(C300>0,SUM(MAX($A$3:A299),IF(C300>0,1,0)),0)","v":0},{"$f":"IF(C300=2,SUM(MAX($B$3:B299),IF(C300=2,1,0)),0)","v":0},0,"717314","PIPE, PS, D.I., CL 50, 14 IN","LF",null,"",null,"",null,""]
[{"$f":"IF(C301>0,SUM(MAX($A$3:A300),IF(C301>0,1,0)),0)","v":0},{"$f":"IF(C301=2,SUM(MAX($B$3:B300),IF(C301=2,1,0)),0)","v":0},0,"717316","PIPE, PS, D.I., CL 50, 16 IN","LF",null,"",null,"",null,""]
[{"$f":"IF(C302>0,SUM(MAX($A$3:A301),IF(C302>0,1,0)),0)","v":0},{"$f":"IF(C302=2,SUM(MAX($B$3:B301),IF(C302=2,1,0)),0)","v":0},0,"717318","PIPE, PS, D.I., CL 50, 18 IN","LF",null,"",null,"",null,""]
[{"$f":"IF(C303>0,SUM(MAX($A$3:A302),IF(C303>0,1,0)),0)","v":0},{"$f":"IF(C303=2,SUM(MAX($B$3:B302),IF(C303=2,1,0)),0)","v":0},0,"717324","PIPE, PS, D.I., CL 50, 24 IN","LF",null,"",null,"",null,""]
[{"$f":"IF(C304>0,SUM(MAX($A$3:A303),IF(C304>0,1,0)),0)","v":0},{"$f":"IF(C304=2,SUM(MAX($B$3:B303),IF(C304=2,1,0)),0)","v":0},0,"717358","PIPE, PS, D.I., CL 52, 8 IN","LF",null,"",null,"",null,""]
[{"$f":"IF(C305>0,SUM(MAX($A$3:A304),IF(C305>0,1,0)),0)","v":0},{"$f":"IF(C305=2,SUM(MAX($B$3:B304),IF(C305=2,1,0)),0)","v":0},0,"717360","PIPE, PS, D.I., CL 52, 10 IN","LF",null,"",null,"",null,""]
[{"$f":"IF(C306>0,SUM(MAX($A$3:A305),IF(C306>0,1,0)),0)","v":0},{"$f":"IF(C306=2,SUM(MAX($B$3:B305),IF(C306=2,1,0)),0)","v":0},0,"717362","PIPE, PS, D.I., CL 52, 12 IN","LF",null,"",null,"",null,""]
[{"$f":"IF(C307>0,SUM(MAX($A$3:A306),IF(C307>0,1,0)),0)","v":0},{"$f":"IF(C307=2,SUM(MAX($B$3:B306),IF(C307=2,1,0)),0)","v":0},0,717368,"PIPE, PS, VCP, EXTRA STRENGTH, 8 IN","LF",null,"",null,"",null,""]
[{"$f":"IF(C308>0,SUM(MAX($A$3:A307),IF(C308>0,1,0)),0)","v":0},{"$f":"IF(C308=2,SUM(MAX($B$3:B307),IF(C308=2,1,0)),0)","v":0},0,717370,"PIPE, PS, VCP, EXTRA STRENGTH, 10 IN","LF",null,"",null,"",null,""]
[{"$f":"IF(C309>0,SUM(MAX($A$3:A308),IF(C309>0,1,0)),0)","v":0},{"$f":"IF(C309=2,SUM(MAX($B$3:B308),IF(C309=2,1,0)),0)","v":0},0,717372,"PIPE, PS, VCP, EXTRA STRENGTH, 12 IN","LF",null,"",null,"",null,""]
[{"$f":"IF(C310>0,SUM(MAX($A$3:A309),IF(C310>0,1,0)),0)","v":0},{"$f":"IF(C310=2,SUM(MAX($B$3:B309),IF(C310=2,1,0)),0)","v":0},0,717374,"PIPE, PS, VCP, EXTRA STRENGTH, 14 IN","LF",null,"",null,"",null,""]
[{"$f":"IF(C311>0,SUM(MAX($A$3:A310),IF(C311>0,1,0)),0)","v":0},{"$f":"IF(C311=2,SUM(MAX($B$3:B310),IF(C311=2,1,0)),0)","v":0},0,717376,"PIPE, PS, VCP, EXTRA STRENGTH, 16 IN","LF",null,"",null,"",null,""]
[{"$f":"IF(C312>0,SUM(MAX($A$3:A311),IF(C312>0,1,0)),0)","v":0},{"$f":"IF(C312=2,SUM(MAX($B$3:B311),IF(C312=2,1,0)),0)","v":0},0,717378,"PIPE, PS, VCP, EXTRA STRENGTH, 18 IN","LF",null,"",null,"",null,""]
[{"$f":"IF(C313>0,SUM(MAX($A$3:A312),IF(C313>0,1,0)),0)","v":0},{"$f":"IF(C313=2,SUM(MAX($B$3:B312),IF(C313=2,1,0)),0)","v":0},0,717384,"PIPE, PS, VCP, EXTRA STRENGTH, 24 IN","LF",null,"",null,"",null,""]
[{"$f":"IF(C314>0,SUM(MAX($A$3:A313),IF(C314>0,1,0)),0)","v":0},{"$f":"IF(C314=2,SUM(MAX($B$3:B313),IF(C314=2,1,0)),0)","v":0},0,717413,"PIPE, PSD, CONC REINF C76 CL IV, 12 IN","LF",null,"",null,"",null,""]
[{"$f":"IF(C315>0,SUM(MAX($A$3:A314),IF(C315>0,1,0)),0)","v":0},{"$f":"IF(C315=2,SUM(MAX($B$3:B314),IF(C315=2,1,0)),0)","v":0},0,"717416","PIPE, PSD, CONC REINF C76 CL IV, 15 IN",{"$f":"IFERROR(VLOOKUP(VALUE(D315),BIDITEM,3,FALSE),\"\")","v":"LF"},null,{"$f":"IF(AND(G315>0,I315=0),IFERROR(VLOOKUP(VALUE(D315),BIDITEM,4,FALSE),\"\"),\"\")","v":""},null,"",null,""]
[{"$f":"IF(C316>0,SUM(MAX($A$3:A315),IF(C316>0,1,0)),0)","v":0},{"$f":"IF(C316=2,SUM(MAX($B$3:B315),IF(C316=2,1,0)),0)","v":0},0,"717418","PIPE, PSD, CONC REINF C76 CL III, 18 IN","LF",null,"",null,"",null,""]
[{"$f":"IF(C317>0,SUM(MAX($A$3:A316),IF(C317>0,1,0)),0)","v":0},{"$f":"IF(C317=2,SUM(MAX($B$3:B316),IF(C317=2,1,0)),0)","v":0},0,"717421","PIPE, PSD, CONC REINF C76 CL III, 21 IN","LF",null,"",null,"",null,""]
[{"$f":"IF(C318>0,SUM(MAX($A$3:A317),IF(C318>0,1,0)),0)","v":0},{"$f":"IF(C318=2,SUM(MAX($B$3:B317),IF(C318=2,1,0)),0)","v":0},0,"717424","PIPE, PSD, CONC REINF C76 CL III, 24 IN","LF",null,"",null,"",null,""]
[{"$f":"IF(C319>0,SUM(MAX($A$3:A318),IF(C319>0,1,0)),0)","v":0},{"$f":"IF(C319=2,SUM(MAX($B$3:B318),IF(C319=2,1,0)),0)","v":0},0,"717608","PIPE, PSD, D.I. CL 50, 8 IN","LF",null,"",null,"",null,""]
[{"$f":"IF(C320>0,SUM(MAX($A$3:A319),IF(C320>0,1,0)),0)","v":0},{"$f":"IF(C320=2,SUM(MAX($B$3:B319),IF(C320=2,1,0)),0)","v":0},0,"717612","PIPE, PSD, D.I., CL 50, 12 IN","LF",null,"",null,"",null,""]
[{"$f":"IF(C321>0,SUM(MAX($A$3:A320),IF(C321>0,1,0)),0)","v":0},{"$f":"IF(C321=2,SUM(MAX($B$3:B320),IF(C321=2,1,0)),0)","v":0},0,717614,"PIPE, PSD, D.I., CL 50, 14 IN","LF",null,"",null,"",null,""]
[{"$f":"IF(C322>0,SUM(MAX($A$3:A321),IF(C322>0,1,0)),0)","v":0},{"$f":"IF(C322=2,SUM(MAX($B$3:B321),IF(C322=2,1,0)),0)","v":0},0,"717616","PIPE, PSD, D.I., CL 50, 16 IN","LF",null,"",null,"",null,""]
[{"$f":"IF(C323>0,SUM(MAX($A$3:A322),IF(C323>0,1,0)),0)","v":0},{"$f":"IF(C323=2,SUM(MAX($B$3:B322),IF(C323=2,1,0)),0)","v":0},0,"717618","PIPE, PSD, D.I., CL 50, 18 IN","LF",null,"",null,"",null,""]
[{"$f":"IF(C324>0,SUM(MAX($A$3:A323),IF(C324>0,1,0)),0)","v":0},{"$f":"IF(C324=2,SUM(MAX($B$3:B323),IF(C324=2,1,0)),0)","v":0},0,"717620","PIPE, PSD, D.I., CL 50, 20 IN","LF",null,"",null,"",null,""]
[{"$f":"IF(C325>0,SUM(MAX($A$3:A324),IF(C325>0,1,0)),0)","v":0},{"$f":"IF(C325=2,SUM(MAX($B$3:B324),IF(C325=2,1,0)),0)","v":0},0,"717624","PIPE, PSD, D.I., CL 50, 24 IN","LF",null,"",null,"",null,""]
[{"$f":"IF(C326>0,SUM(MAX($A$3:A325),IF(C326>0,1,0)),0)","v":0},{"$f":"IF(C326=2,SUM(MAX($B$3:B325),IF(C326=2,1,0)),0)","v":0},{"$f":"IF(G326>0,1,0)","v":0},717656,"PIPE, PSD, D.I., CL 52, 6 IN","LF",null,"",null,"",null,""]
[{"$f":"IF(C327>0,SUM(MAX($A$3:A326),IF(C327>0,1,0)),0)","v":0},{"$f":"IF(C327=2,SUM(MAX($B$3:B326),IF(C327=2,1,0)),0)","v":0},0,717658,"PIPE, PSD, D.I., CL 52, 8 IN","LF",null,"",null,"",null,""]
[{"$f":"IF(C328>0,SUM(MAX($A$3:A327),IF(C328>0,1,0)),0)","v":0},{"$f":"IF(C328=2,SUM(MAX($B$3:B327),IF(C328=2,1,0)),0)","v":0},0,"717662","PIPE, PSD, D.I., CL 52, 12 IN","LF",null,"",null,"",null,""]
[{"$f":"IF(C329>0,SUM(MAX($A$3:A328),IF(C329>0,1,0)),0)","v":0},{"$f":"IF(C329=2,SUM(MAX($B$3:B328),IF(C329=2,1,0)),0)","v":0},0,"717708","PIPE, PSS, CONC C14 CL 3, 8 IN","LF",null,"",null,"",null,""]
[{"$f":"IF(C330>0,SUM(MAX($A$3:A329),IF(C330>0,1,0)),0)","v":0},{"$f":"IF(C330=2,SUM(MAX($B$3:B329),IF(C330=2,1,0)),0)","v":0},0,"717710","PIPE, PSS, CONC C14 CL 3, 10 IN","LF",null,"",null,"",null,{"$f":"IF(C330>0,ROW(),\"\")","v":""}]
[{"$f":"IF(C331>0,SUM(MAX($A$3:A330),IF(C331>0,1,0)),0)","v":0},{"$f":"IF(C331=2,SUM(MAX($B$3:B330),IF(C331=2,1,0)),0)","v":0},0,717712,"PIPE, PSS, CONC REINF C76 CL IV, 12 IN","LF",null,"",null,"",null,""]
[{"$f":"IF(C332>0,SUM(MAX($A$3:A331),IF(C332>0,1,0)),0)","v":0},{"$f":"IF(C332=2,SUM(MAX($B$3:B331),IF(C332=2,1,0)),0)","v":0},0,"717716","PIPE, PSS, CONC REINF C76 CL IV, 15 IN","LF",null,"",null,"",null,""]
[{"$f":"IF(C333>0,SUM(MAX($A$3:A332),IF(C333>0,1,0)),0)","v":0},{"$f":"IF(C333=2,SUM(MAX($B$3:B332),IF(C333=2,1,0)),0)","v":0},0,717728,"PIPE, PSS, VCP, EXTRA STRENGTH, 8 IN","LF",null,"",null,"",null,""]
[{"$f":"IF(C334>0,SUM(MAX($A$3:A333),IF(C334>0,1,0)),0)","v":0},{"$f":"IF(C334=2,SUM(MAX($B$3:B333),IF(C334=2,1,0)),0)","v":0},0,717730,"PIPE, PSS, VCP, EXTRA STRENGTH, 10 IN","LF",null,"",null,"",null,""]
[{"$f":"IF(C335>0,SUM(MAX($A$3:A334),IF(C335>0,1,0)),0)","v":0},{"$f":"IF(C335=2,SUM(MAX($B$3:B334),IF(C335=2,1,0)),0)","v":0},0,717732,"PIPE, PSS, VCP, EXTRA STRENGTH, 12 IN","LF",null,"",null,"",null,""]
[{"$f":"IF(C336>0,SUM(MAX($A$3:A335),IF(C336>0,1,0)),0)","v":0},{"$f":"IF(C336=2,SUM(MAX($B$3:B335),IF(C336=2,1,0)),0)","v":0},0,717735,"PIPE, PSS, VCP, EXTRA STRENGTH, 15 IN","LF",null,"",null,"",null,""]
[{"$f":"IF(C337>0,SUM(MAX($A$3:A336),IF(C337>0,1,0)),0)","v":0},{"$f":"IF(C337=2,SUM(MAX($B$3:B336),IF(C337=2,1,0)),0)","v":0},0,717738,"PIPE, PSS, VCP, EXTRA STRENGTH, 18 IN","LF",null,"",null,"",null,""]
[{"$f":"IF(C338>0,SUM(MAX($A$3:A337),IF(C338>0,1,0)),0)","v":0},{"$f":"IF(C338=2,SUM(MAX($B$3:B337),IF(C338=2,1,0)),0)","v":0},0,717744,"PIPE, PSS, VCP, EXTRA STRENGTH, 24 IN","LF",null,"",null,"",null,""]
[{"$f":"IF(C339>0,SUM(MAX($A$3:A338),IF(C339>0,1,0)),0)","v":0},{"$f":"IF(C339=2,SUM(MAX($B$3:B338),IF(C339=2,1,0)),0)","v":0},0,"717748","PIPE, PSS, D.I., CL 50, 8 IN","LF",null,"",null,"",null,""]
[{"$f":"IF(C340>0,SUM(MAX($A$3:A339),IF(C340>0,1,0)),0)","v":0},{"$f":"IF(C340=2,SUM(MAX($B$3:B339),IF(C340=2,1,0)),0)","v":0},0,"717750","PIPE, PSS, D.I., CL 50, 10 IN","LF",null,"",null,"",null,""]
[{"$f":"IF(C341>0,SUM(MAX($A$3:A340),IF(C341>0,1,0)),0)","v":0},{"$f":"IF(C341=2,SUM(MAX($B$3:B340),IF(C341=2,1,0)),0)","v":0},0,"717752","PIPE, PSS, D.I., CL 50, 12 IN","LF",null,"",null,"",null,""]
[{"$f":"IF(C342>0,SUM(MAX($A$3:A341),IF(C342>0,1,0)),0)","v":0},{"$f":"IF(C342=2,SUM(MAX($B$3:B341),IF(C342=2,1,0)),0)","v":0},0,"717778","PIPE, PSS, D.I., CL 52, 8 IN","LF",null,"",null,"",null,""]
[{"$f":"IF(C343>0,SUM(MAX($A$3:A342),IF(C343>0,1,0)),0)","v":0},{"$f":"IF(C343=2,SUM(MAX($B$3:B342),IF(C343=2,1,0)),0)","v":0},0,"717780","PIPE, PSS, D.I., CL 52, 10 IN","LF",null,"",null,"",null,""]
[{"$f":"IF(C344>0,SUM(MAX($A$3:A343),IF(C344>0,1,0)),0)","v":0},{"$f":"IF(C344=2,SUM(MAX($B$3:B343),IF(C344=2,1,0)),0)","v":0},0,"717782","PIPE, PSS, D.I., CL 52, 12 IN","LF",null,"",null,"",null,""]
[{"$f":"IF(C345>0,SUM(MAX($A$3:A344),IF(C345>0,1,0)),0)","v":0},{"$f":"IF(C345=2,SUM(MAX($B$3:B344),IF(C345=2,1,0)),0)","v":0},0,717784,"PIPE, PSS, D.I., CL 52, 14 IN","LF",null,"",null,"",null,""]
[{"$f":"IF(C346>0,SUM(MAX($A$3:A345),IF(C346>0,1,0)),0)","v":0},{"$f":"IF(C346=2,SUM(MAX($B$3:B345),IF(C346=2,1,0)),0)","v":0},0,"717786","PIPE, PSS, D.I., CL 52, 16 IN","LF",null,"",null,"",null,""]
[{"$f":"IF(C347>0,SUM(MAX($A$3:A346),IF(C347>0,1,0)),0)","v":0},{"$f":"IF(C347=2,SUM(MAX($B$3:B346),IF(C347=2,1,0)),0)","v":0},0,"717788","PIPE, PSS, D.I., CL 52, 18 IN",{"$f":"IFERROR(VLOOKUP(VALUE(D347),BIDITEM,3,FALSE),\"\")","v":"LF"},null,{"$f":"IF(AND(G347>0,I347=0),IFERROR(VLOOKUP(VALUE(D347),BIDITEM,4,FALSE),\"\"),\"\")","v":""},null,{"$f":"IF(AND(G347>0,OR(H347>0,I347>0)),IF(I347>0,PRODUCT(I347,G347),PRODUCT(H347,G347)),\"\")","v":""},null,""]
[{"$f":"IF(C348>0,SUM(MAX($A$3:A347),IF(C348>0,1,0)),0)","v":0},{"$f":"IF(C348=2,SUM(MAX($B$3:B347),IF(C348=2,1,0)),0)","v":0},0,717790,"PIPE, PS or PSS, PVC, D3034 SDR 35, 8 IN","LF",null,"",null,"",null,""]
[{"$f":"IF(C349>0,SUM(MAX($A$3:A348),IF(C349>0,1,0)),0)","v":0},{"$f":"IF(C349=2,SUM(MAX($B$3:B348),IF(C349=2,1,0)),0)","v":0},0,717792,"PIPE, PS or PSS, PVC, D3034 SDR 35, 12 IN","LF",null,"",null,"",null,""]
[{"$f":"IF(C350>0,SUM(MAX($A$3:A349),IF(C350>0,1,0)),0)","v":0},{"$f":"IF(C350=2,SUM(MAX($B$3:B349),IF(C350=2,1,0)),0)","v":0},0,717795,"PIPE, PS or PSS, PVC, D3034 SDR 35, 15 IN","LF",null,"",null,"",null,""]
[{"$f":"IF(C351>0,SUM(MAX($A$3:A350),IF(C351>0,1,0)),0)","v":0},{"$f":"IF(C351=2,SUM(MAX($B$3:B350),IF(C351=2,1,0)),0)","v":0},0,717826,"TEE, VCP, 6 IN","EA",null,"",null,"",null,""]
[{"$f":"IF(C352>0,SUM(MAX($A$3:A351),IF(C352>0,1,0)),0)","v":0},{"$f":"IF(C352=2,SUM(MAX($B$3:B351),IF(C352=2,1,0)),0)","v":0},0,717828,"TEE, VCP, 8 IN","EA",null,"",null,"",null,""]
[{"$f":"IF(C353>0,SUM(MAX($A$3:A352),IF(C353>0,1,0)),0)","v":0},{"$f":"IF(C353=2,SUM(MAX($B$3:B352),IF(C353=2,1,0)),0)","v":0},0,717830,"TEE, VCP, 10 IN","EA",null,"",null,"",null,""]
[{"$f":"IF(C354>0,SUM(MAX($A$3:A353),IF(C354>0,1,0)),0)","v":0},{"$f":"IF(C354=2,SUM(MAX($B$3:B353),IF(C354=2,1,0)),0)","v":0},0,"717846","TEE, D.I., 6 IN","EA",null,"",null,"",null,""]
[{"$f":"IF(C355>0,SUM(MAX($A$3:A354),IF(C355>0,1,0)),0)","v":0},{"$f":"IF(C355=2,SUM(MAX($B$3:B354),IF(C355=2,1,0)),0)","v":0},0,"717848","TEE, D.I., 8 IN","EA",null,"",null,"",null,""]
[{"$f":"IF(C356>0,SUM(MAX($A$3:A355),IF(C356>0,1,0)),0)","v":0},{"$f":"IF(C356=2,SUM(MAX($B$3:B355),IF(C356=2,1,0)),0)","v":0},0,717850,"TEE, D.I., 10 IN","EA",null,"",null,"",null,""]
[{"$f":"IF(C357>0,SUM(MAX($A$3:A356),IF(C357>0,1,0)),0)","v":0},{"$f":"IF(C357=2,SUM(MAX($B$3:B356),IF(C357=2,1,0)),0)","v":0},0,717852,"TEE, D.I., 12 IN","EA",null,"",null,"",null,""]
[{"$f":"IF(C358>0,SUM(MAX($A$3:A357),IF(C358>0,1,0)),0)","v":0},{"$f":"IF(C358=2,SUM(MAX($B$3:B357),IF(C358=2,1,0)),0)","v":0},0,"717866","TEE, PVC, 6 IN","EA",null,"",null,"",null,""]
[{"$f":"IF(C359>0,SUM(MAX($A$3:A358),IF(C359>0,1,0)),0)","v":0},{"$f":"IF(C359=2,SUM(MAX($B$3:B358),IF(C359=2,1,0)),0)","v":0},0,"717868","TEE, PVC, 8 IN","EA",null,"",null,"",null,""]
[{"$f":"IF(C360>0,SUM(MAX($A$3:A359),IF(C360>0,1,0)),0)","v":0},{"$f":"IF(C360=2,SUM(MAX($B$3:B359),IF(C360=2,1,0)),0)","v":0},0,717870,"TEE, PVC, 10 IN","EA",null,"",null,"",null,""]
[{"$f":"IF(C361>0,SUM(MAX($A$3:A360),IF(C361>0,1,0)),0)","v":0},{"$f":"IF(C361=2,SUM(MAX($B$3:B360),IF(C361=2,1,0)),0)","v":0},0,"717892","TEE, 12 IN, CUT-IN EXISTING CONC PIPE","EA",null,"",null,"",null,""]
[{"$f":"IF(C362>0,SUM(MAX($A$3:A361),IF(C362>0,1,0)),0)","v":0},{"$f":"IF(C362=2,SUM(MAX($B$3:B361),IF(C362=2,1,0)),0)","v":0},0,"717896","TEE, 16 IN, CUT-IN EXISTING CONC PIPE","EA",null,"",null,"",null,""]
[{"$f":"IF(C363>0,SUM(MAX($A$3:A362),IF(C363>0,1,0)),0)","v":0},{"$f":"IF(C363=2,SUM(MAX($B$3:B362),IF(C363=2,1,0)),0)","v":0},0,"717898","TEE, 18 IN, CUT-IN EXISTING CONC PIPE","EA",null,"",null,"",null,""]
[{"$f":"IF(C364>0,SUM(MAX($A$3:A363),IF(C364>0,1,0)),0)","v":0},{"$f":"IF(C364=2,SUM(MAX($B$3:B363),IF(C364=2,1,0)),0)","v":0},0,"717899","TEE, 24 IN, CUT-IN EXISTING CONC PIPE","EA",null,"",null,"",null,""]
[{"$f":"IF(C365>0,SUM(MAX($A$3:A364),IF(C365>0,1,0)),0)","v":0},{"$f":"IF(C365=2,SUM(MAX($B$3:B364),IF(C365=2,1,0)),0)","v":0},0,"717902","DAM, CLAY TRENCH","EA",null,"",null,"",null,""]
[{"$f":"IF(C366>0,SUM(MAX($A$3:A365),IF(C366>0,1,0)),0)","v":0},{"$f":"IF(C366=2,SUM(MAX($B$3:B365),IF(C366=2,1,0)),0)","v":0},0,717985,"TEMPORARY SEWER BYPASS","LS",null,"",null,"",null,""]
[{"$f":"IF(C367>0,SUM(MAX($A$3:A366),IF(C367>0,1,0)),0)","v":0},{"$f":"IF(C367=2,SUM(MAX($B$3:B366),IF(C367=2,1,0)),0)","v":0},0,717990,"TELEVISION INSPECTION","LF",null,"",null,"",null,""]
[{"$f":"IF(C368>0,SUM(MAX($A$3:A367),IF(C368>0,1,0)),0)","v":0},{"$f":"IF(C368=2,SUM(MAX($B$3:B367),IF(C368=2,1,0)),0)","v":0},0,null,null,null,null,null,null,null,null,""]
[{"$f":"IF(C369>0,SUM(MAX($A$3:A368),IF(C369>0,1,0)),0)","v":0},{"$f":"IF(C369=2,SUM(MAX($B$3:B368),IF(C369=2,1,0)),0)","v":0},{"$f":"IF(SUM(C370:C371)>0,2,0)","v":0},"SECTION 7-19","SEWER CLEAN OUT",null,null,null,null,{"$f":"SUM(J370:J371)","v":0},null,""]
[{"$f":"IF(C370>0,SUM(MAX($A$3:A369),IF(C370>0,1,0)),0)","v":0},{"$f":"IF(C370=2,SUM(MAX($B$3:B369),IF(C370=2,1,0)),0)","v":0},0,"719006","SEWER CLEANOUT, 6 IN",{"$f":"IFERROR(VLOOKUP(VALUE(D370),BIDITEM,3,FALSE),\"\")","v":"EA"},null,{"$f":"IF(AND(G370>0,I370=0),IFERROR(VLOOKUP(VALUE(D370),BIDITEM,4,FALSE),\"\"),\"\")","v":""},null,{"$f":"IF(AND(G370>0,OR(H370>0,I370>0)),IF(I370>0,PRODUCT(I370,G370),PRODUCT(H370,G370)),\"\")","v":""},null,""]
[{"$f":"IF(C371>0,SUM(MAX($A$3:A370),IF(C371>0,1,0)),0)","v":0},{"$f":"IF(C371=2,SUM(MAX($B$3:B370),IF(C371=2,1,0)),0)","v":0},0,"719008","SEWER CLEANOUT, 8 IN",{"$f":"IFERROR(VLOOKUP(VALUE(D371),BIDITEM,3,FALSE),\"\")","v":"EA"},null,{"$f":"IF(AND(G371>0,I371=0),IFERROR(VLOOKUP(VALUE(D371),BIDITEM,4,FALSE),\"\"),\"\")","v":""},null,"",null,""]
[{"$f":"IF(C372>0,SUM(MAX($A$3:A371),IF(C372>0,1,0)),0)","v":0},{"$f":"IF(C372=2,SUM(MAX($B$3:B371),IF(C372=2,1,0)),0)","v":0},0,null,null,null,null,null,null,null,null,""]
[{"$f":"IF(C373>0,SUM(MAX($A$3:A372),IF(C373>0,1,0)),0)","v":0},{"$f":"IF(C373=2,SUM(MAX($B$3:B372),IF(C373=2,1,0)),0)","v":0},{"$f":"IF(SUM(C374:C388)>0,2,0)","v":0},"SECTION 7-20","ADJUSTMENT OF NEW AND EXISTING UTILITY STRUCTURES TO FINISH GRADE",null,null,null,null,{"$f":"SUM(J374:J388)","v":0},null,""]
[{"$f":"IF(C374>0,SUM(MAX($A$3:A373),IF(C374>0,1,0)),0)","v":0},{"$f":"IF(C374=2,SUM(MAX($B$3:B373),IF(C374=2,1,0)),0)","v":0},0,"720005","ADJUST EXISTING MH, CB, OR VC",{"$f":"IFERROR(VLOOKUP(VALUE(D374),BIDITEM,3,FALSE),\"\")","v":"EA"},null,{"$f":"IF(AND(G374>0,I374=0),IFERROR(VLOOKUP(VALUE(D374),BIDITEM,4,FALSE),\"\"),\"\")","v":""},null,{"$f":"IF(AND(G374>0,OR(H374>0,I374>0)),IF(I374>0,PRODUCT(I374,G374),PRODUCT(H374,G374)),\"\")","v":""},null,""]
[{"$f":"IF(C375>0,SUM(MAX($A$3:A374),IF(C375>0,1,0)),0)","v":0},{"$f":"IF(C375=2,SUM(MAX($B$3:B374),IF(C375=2,1,0)),0)","v":0},0,"720010","ADJUST EXISTING INLET","EA",null,"",null,"",null,""]
[{"$f":"IF(C376>0,SUM(MAX($A$3:A375),IF(C376>0,1,0)),0)","v":0},{"$f":"IF(C376=2,SUM(MAX($B$3:B375),IF(C376=2,1,0)),0)","v":0},0,"720015","ADJUST EXISTING MON FRAME & COVER","EA",null,"",null,"",null,""]
[{"$f":"IF(C377>0,SUM(MAX($A$3:A376),IF(C377>0,1,0)),0)","v":0},{"$f":"IF(C377=2,SUM(MAX($B$3:B376),IF(C377=2,1,0)),0)","v":0},0,"720020","ADJUST EXISTING VALVE BOX","EA",null,"",null,"",null,""]
[{"$f":"IF(C378>0,SUM(MAX($A$3:A377),IF(C378>0,1,0)),0)","v":0},{"$f":"IF(C378=2,SUM(MAX($B$3:B377),IF(C378=2,1,0)),0)","v":0},0,"720025","ADJUST EXISTING MH, CB, OR VC W/RING EXT","EA",null,"",null,"",null,""]
[{"$f":"IF(C379>0,SUM(MAX($A$3:A378),IF(C379>0,1,0)),0)","v":0},{"$f":"IF(C379=2,SUM(MAX($B$3:B378),IF(C379=2,1,0)),0)","v":0},0,"720030","ADJUST EXISTING INLET W/RING EXT","EA",null,"",null,"",null,""]
[{"$f":"IF(C380>0,SUM(MAX($A$3:A379),IF(C380>0,1,0)),0)","v":0},{"$f":"IF(C380=2,SUM(MAX($B$3:B379),IF(C380=2,1,0)),0)","v":0},0,"720045","ADJUST EXISTING HANDHOLE","EA",null,"",null,"",null,""]
[{"$f":"IF(C381>0,SUM(MAX($A$3:A380),IF(C381>0,1,0)),0)","v":0},{"$f":"IF(C381=2,SUM(MAX($B$3:B380),IF(C381=2,1,0)),0)","v":0},0,720047,"ADJUST EXISTING VALVE BOX W/RING EXT","EA",null,"",null,"",null,""]
[{"$f":"IF(C382>0,SUM(MAX($A$3:A381),IF(C382>0,1,0)),0)","v":0},{"$f":"IF(C382=2,SUM(MAX($B$3:B381),IF(C382=2,1,0)),0)","v":0},0,"720230","UTILITY CASTING, TYPE 230","EA",null,"",null,"",null,""]
[{"$f":"IF(C383>0,SUM(MAX($A$3:A382),IF(C383>0,1,0)),0)","v":0},{"$f":"IF(C383=2,SUM(MAX($B$3:B382),IF(C383=2,1,0)),0)","v":0},0,"720231","UTILITY CASTING, TYPE 231 (RING EXTENSION)","EA",null,"",null,"",null,""]
[{"$f":"IF(C384>0,SUM(MAX($A$3:A383),IF(C384>0,1,0)),0)","v":0},{"$f":"IF(C384=2,SUM(MAX($B$3:B383),IF(C384=2,1,0)),0)","v":0},0,"720235","UTILITY CASTING, TYPE 230L","EA",null,"",null,"",null,""]
[{"$f":"IF(C385>0,SUM(MAX($A$3:A384),IF(C385>0,1,0)),0)","v":0},{"$f":"IF(C385=2,SUM(MAX($B$3:B384),IF(C385=2,1,0)),0)","v":0},0,"720265","UTILITY CASTING, TYPE 265, VANED GRATE","EA",null,"",null,"",null,""]
[{"$f":"IF(C386>0,SUM(MAX($A$3:A385),IF(C386>0,1,0)),0)","v":0},{"$f":"IF(C386=2,SUM(MAX($B$3:B385),IF(C386=2,1,0)),0)","v":0},0,"720300","UTILITY CASTING, TYPE 361","EA",null,"",null,"",null,""]
[{"$f":"IF(C387>0,SUM(MAX($A$3:A386),IF(C387>0,1,0)),0)","v":0},{"$f":"IF(C387=2,SUM(MAX($B$3:B386),IF(C387=2,1,0)),0)","v":0},0,720310,"INSTALL CASTING, UTILITY FURNISHED","EA",null,"",null,"",null,""]
[{"$f":"IF(C388>0,SUM(MAX($A$3:A387),IF(C388>0,1,0)),0)","v":0},{"$f":"IF(C388=2,SUM(MAX($B$3:B387),IF(C388=2,1,0)),0)","v":0},0,720320,"INSTALL GRATE/COVER, OWNER FURNISHED","EA",null,"",null,"",null,""]
[{"$f":"IF(C389>0,SUM(MAX($A$3:A388),IF(C389>0,1,0)),0)","v":0},{"$f":"IF(C389=2,SUM(MAX($B$3:B388),IF(C389=2,1,0)),0)","v":0},0,null,null,null,null,null,null,null,null,""]
[{"$f":"IF(C390>0,SUM(MAX($A$3:A389),IF(C390>0,1,0)),0)","v":0},{"$f":"IF(C390=2,SUM(MAX($B$3:B389),IF(C390=2,1,0)),0)","v":0},{"$f":"IF(SUM(C391:C397)>0,2,0)","v":0},"SECTION 8-02","LANDSCAPE CONSTRUCTION",null,null,null,null,{"$f":"SUM(J391:J397)","v":0},null,""]
[{"$f":"IF(C391>0,SUM(MAX($A$3:A390),IF(C391>0,1,0)),0)","v":0},{"$f":"IF(C391=2,SUM(MAX($B$3:B390),IF(C391=2,1,0)),0)","v":0},{"$f":"IF(G391>0,1,0)","v":0},"802214","PLANTING SOIL",{"$f":"IFERROR(VLOOKUP(VALUE(D391),BIDITEM,3,FALSE),\"\")","v":"CY"},null,{"$f":"IF(AND(G391>0,I391=0),IFERROR(VLOOKUP(VALUE(D391),BIDITEM,4,FALSE),\"\"),\"\")","v":""},null,{"$f":"IF(AND(G391>0,OR(H391>0,I391>0)),IF(I391>0,PRODUCT(I391,G391),PRODUCT(H391,G391)),\"\")","v":""},null,""]
[{"$f":"IF(C392>0,SUM(MAX($A$3:A391),IF(C392>0,1,0)),0)","v":0},{"$f":"IF(C392=2,SUM(MAX($B$3:B391),IF(C392=2,1,0)),0)","v":0},0,"802220","MULCH, BARK",{"$f":"IFERROR(VLOOKUP(VALUE(D392),BIDITEM,3,FALSE),\"\")","v":"CY"},null,{"$f":"IF(AND(G392>0,I392=0),IFERROR(VLOOKUP(VALUE(D392),BIDITEM,4,FALSE),\"\"),\"\")","v":""},null,"",null,""]
[{"$f":"IF(C393>0,SUM(MAX($A$3:A392),IF(C393>0,1,0)),0)","v":0},{"$f":"IF(C393=2,SUM(MAX($B$3:B392),IF(C393=2,1,0)),0)","v":0},0,"802230","MULCH, DECOMPOSED ORGANIC",{"$f":"IFERROR(VLOOKUP(VALUE(D393),BIDITEM,3,FALSE),\"\")","v":"CY"},null,{"$f":"IF(AND(G393>0,I393=0),IFERROR(VLOOKUP(VALUE(D393),BIDITEM,4,FALSE),\"\"),\"\")","v":""},null,"",null,""]
[{"$f":"IF(C394>0,SUM(MAX($A$3:A393),IF(C394>0,1,0)),0)","v":0},{"$f":"IF(C394=2,SUM(MAX($B$3:B393),IF(C394=2,1,0)),0)","v":0},0,"802600","SODDING   { QTY > = 1,000 }",{"$f":"IFERROR(VLOOKUP(VALUE(D394),BIDITEM,3,FALSE),\"\")","v":"SF"},null,{"$f":"IF(AND(G394>0,I394=0),IFERROR(VLOOKUP(VALUE(D394),BIDITEM,4,FALSE),\"\"),\"\")","v":""},null,"",null,{"$f":"IF(C394>0,ROW(),\"\")","v":""}]
[{"$f":"IF(C395>0,SUM(MAX($A$3:A394),IF(C395>0,1,0)),0)","v":0},{"$f":"IF(C395=2,SUM(MAX($B$3:B394),IF(C395=2,1,0)),0)","v":0},0,null,"                      { QTY <  1,000 }      ",null,null,null,null,"",null,""]
[{"$f":"IF(C396>0,SUM(MAX($A$3:A395),IF(C396>0,1,0)),0)","v":0},{"$f":"IF(C396=2,SUM(MAX($B$3:B395),IF(C396=2,1,0)),0)","v":0},0,802610,"SEEDED LAWN INSTALLATION  { QTY > = 10,000 }",{"$f":"IFERROR(VLOOKUP(VALUE(D396),BIDITEM,3,FALSE),\"\")","v":"SF"},null,{"$f":"IF(AND(G396>0,I396=0),IFERROR(VLOOKUP(VALUE(D396),BIDITEM,4,FALSE),\"\"),\"\")","v":""},null,"",null,""]
[{"$f":"IF(C397>0,SUM(MAX($A$3:A396),IF(C397>0,1,0)),0)","v":0},{"$f":"IF(C397=2,SUM(MAX($B$3:B396),IF(C397=2,1,0)),0)","v":0},0,null,"                                                       { QTY <  10,000 }      ",null,null,null,null,"",null,""]
[{"$f":"IF(C398>0,SUM(MAX($A$3:A397),IF(C398>0,1,0)),0)","v":0},{"$f":"IF(C398=2,SUM(MAX($B$3:B397),IF(C398=2,1,0)),0)","v":0},0,null,null,null,null,null,null,null,null,""]
[{"$f":"IF(C399>0,SUM(MAX($A$3:A398),IF(C399>0,1,0)),0)","v":0},{"$f":"IF(C399=2,SUM(MAX($B$3:B398),IF(C399=2,1,0)),0)","v":0},{"$f":"IF(SUM(C400:C403)>0,2,0)","v":0},"SECTION 8-04","CEMENT CONCRETE CURB, CURB AND GUTTER",null,null,null,null,{"$f":"SUM(J400:J403)","v":0},null,""]
[{"$f":"IF(C400>0,SUM(MAX($A$3:A399),IF(C400>0,1,0)),0)","v":0},{"$f":"IF(C400=2,SUM(MAX($B$3:B399),IF(C400=2,1,0)),0)","v":0},0,"804005","CURB, CEM CONC    {QTY >= 1000}",{"$f":"IFERROR(VLOOKUP(VALUE(D400),BIDITEM,3,FALSE),\"\")","v":"LF"},null,{"$f":"IF(AND(G400>0,I400=0),IFERROR(VLOOKUP(VALUE(D400),BIDITEM,4,FALSE),\"\"),\"\")","v":""},null,{"$f":"IF(AND(G400>0,OR(H400>0,I400>0)),IF(I400>0,PRODUCT(I400,G400),PRODUCT(H400,G400)),\"\")","v":""},null,""]
[{"$f":"IF(C401>0,SUM(MAX($A$3:A400),IF(C401>0,1,0)),0)","v":0},{"$f":"IF(C401=2,SUM(MAX($B$3:B400),IF(C401=2,1,0)),0)","v":0},0,null,"                                    {QTY  <  1000}",null,null,null,null,"",null,""]
[{"$f":"IF(C402>0,SUM(MAX($A$3:A401),IF(C402>0,1,0)),0)","v":0},{"$f":"IF(C402=2,SUM(MAX($B$3:B401),IF(C402=2,1,0)),0)","v":0},0,"804010","CURB, CEM CONC, MOUNTABLE",{"$f":"IFERROR(VLOOKUP(VALUE(D402),BIDITEM,3,FALSE),\"\")","v":"LF"},null,{"$f":"IF(AND(G402>0,I402=0),IFERROR(VLOOKUP(VALUE(D402),BIDITEM,4,FALSE),\"\"),\"\")","v":""},null,"",null,""]
[{"$f":"IF(C403>0,SUM(MAX($A$3:A402),IF(C403>0,1,0)),0)","v":0},{"$f":"IF(C403=2,SUM(MAX($B$3:B402),IF(C403=2,1,0)),0)","v":0},0,"804015","CURB AND GUTTER, CEM CONC",{"$f":"IFERROR(VLOOKUP(VALUE(D403),BIDITEM,3,FALSE),\"\")","v":"LF"},null,{"$f":"IF(AND(G403>0,I403=0),IFERROR(VLOOKUP(VALUE(D403),BIDITEM,4,FALSE),\"\"),\"\")","v":""},null,"",null,""]
[{"$f":"IF(C404>0,SUM(MAX($A$3:A403),IF(C404>0,1,0)),0)","v":0},{"$f":"IF(C404=2,SUM(MAX($B$3:B403),IF(C404=2,1,0)),0)","v":0},0,null,null,null,null,null,null,null,null,""]
[{"$f":"IF(C405>0,SUM(MAX($A$3:A404),IF(C405>0,1,0)),0)","v":0},{"$f":"IF(C405=2,SUM(MAX($B$3:B404),IF(C405=2,1,0)),0)","v":0},{"$f":"IF(SUM(C406:C409)>0,2,0)","v":0},"SECTION 8-06","EXTRUDED CURB",null,null,null,null,{"$f":"SUM(J406:J409)","v":0},null,""]
[{"$f":"IF(C406>0,SUM(MAX($A$3:A405),IF(C406>0,1,0)),0)","v":0},{"$f":"IF(C406=2,SUM(MAX($B$3:B405),IF(C406=2,1,0)),0)","v":0},0,806002,"EXTRUDED CURB, HMA (CL 1/2 IN)",{"$f":"IFERROR(VLOOKUP(VALUE(D406),BIDITEM,3,FALSE),\"\")","v":"LF"},null,{"$f":"IF(AND(G406>0,I406=0),IFERROR(VLOOKUP(VALUE(D406),BIDITEM,4,FALSE),\"\"),\"\")","v":""},null,{"$f":"IF(AND(G406>0,OR(H406>0,I406>0)),IF(I406>0,PRODUCT(I406,G406),PRODUCT(H406,G406)),\"\")","v":""},null,""]
[{"$f":"IF(C407>0,SUM(MAX($A$3:A406),IF(C407>0,1,0)),0)","v":0},{"$f":"IF(C407=2,SUM(MAX($B$3:B406),IF(C407=2,1,0)),0)","v":0},0,806004,"EXTRUDED CURB, HMA (CL 1 IN)",{"$f":"IFERROR(VLOOKUP(VALUE(D407),BIDITEM,3,FALSE),\"\")","v":"LF"},null,{"$f":"IF(AND(G407>0,I407=0),IFERROR(VLOOKUP(VALUE(D407),BIDITEM,4,FALSE),\"\"),\"\")","v":""},null,"",null,""]
[{"$f":"IF(C408>0,SUM(MAX($A$3:A407),IF(C408>0,1,0)),0)","v":0},{"$f":"IF(C408=2,SUM(MAX($B$3:B407),IF(C408=2,1,0)),0)","v":0},0,806010,"EXTRUDED CURB, CEM CONC",{"$f":"IFERROR(VLOOKUP(VALUE(D408),BIDITEM,3,FALSE),\"\")","v":"LF"},null,{"$f":"IF(AND(G408>0,I408=0),IFERROR(VLOOKUP(VALUE(D408),BIDITEM,4,FALSE),\"\"),\"\")","v":""},null,"",null,""]
[{"$f":"IF(C409>0,SUM(MAX($A$3:A408),IF(C409>0,1,0)),0)","v":0},{"$f":"IF(C409=2,SUM(MAX($B$3:B408),IF(C409=2,1,0)),0)","v":0},0,806020,"EXTRUDED CURB, CEM CONC, HES (24 HR)",{"$f":"IFERROR(VLOOKUP(VALUE(D409),BIDITEM,3,FALSE),\"\")","v":"LF"},null,{"$f":"IF(AND(G409>0,I409=0),IFERROR(VLOOKUP(VALUE(D409),BIDITEM,4,FALSE),\"\"),\"\")","v":""},null,"",null,""]
[{"$f":"IF(C410>0,SUM(MAX($A$3:A409),IF(C410>0,1,0)),0)","v":0},{"$f":"IF(C410=2,SUM(MAX($B$3:B409),IF(C410=2,1,0)),0)","v":0},0,null,null,null,null,null,null,null,null,""]
[{"$f":"IF(C411>0,SUM(MAX($A$3:A410),IF(C411>0,1,0)),0)","v":0},{"$f":"IF(C411=2,SUM(MAX($B$3:B410),IF(C411=2,1,0)),0)","v":0},{"$f":"IF(SUM(C412:C413)>0,2,0)","v":0},"SECTION 8-07","PRECAST TRAFFIC CURB AND BLOCK TRAFFIC CURB",null,null,null,null,{"$f":"SUM(J412:J413)","v":0},null,""]
[{"$f":"IF(C412>0,SUM(MAX($A$3:A411),IF(C412>0,1,0)),0)","v":0},{"$f":"IF(C412=2,SUM(MAX($B$3:B411),IF(C412=2,1,0)),0)","v":0},0,"807005","CURB, TRAFFIC, PRECAST",{"$f":"IFERROR(VLOOKUP(VALUE(D412),BIDITEM,3,FALSE),\"\")","v":"LF"},null,{"$f":"IF(AND(G412>0,I412=0),IFERROR(VLOOKUP(VALUE(D412),BIDITEM,4,FALSE),\"\"),\"\")","v":""},null,{"$f":"IF(AND(G412>0,OR(H412>0,I412>0)),IF(I412>0,PRODUCT(I412,G412),PRODUCT(H412,G412)),\"\")","v":""},null,""]
[{"$f":"IF(C413>0,SUM(MAX($A$3:A412),IF(C413>0,1,0)),0)","v":0},{"$f":"IF(C413=2,SUM(MAX($B$3:B412),IF(C413=2,1,0)),0)","v":0},0,807010,"CURB, TRAFFIC, BLOCK",{"$f":"IFERROR(VLOOKUP(VALUE(D413),BIDITEM,3,FALSE),\"\")","v":"LF"},null,{"$f":"IF(AND(G413>0,I413=0),IFERROR(VLOOKUP(VALUE(D413),BIDITEM,4,FALSE),\"\"),\"\")","v":""},null,"",null,""]
[{"$f":"IF(C414>0,SUM(MAX($A$3:A413),IF(C414>0,1,0)),0)","v":0},{"$f":"IF(C414=2,SUM(MAX($B$3:B413),IF(C414=2,1,0)),0)","v":0},0,null,null,null,null,null,null,null,null,""]
[{"$f":"IF(C415>0,SUM(MAX($A$3:A414),IF(C415>0,1,0)),0)","v":0},{"$f":"IF(C415=2,SUM(MAX($B$3:B414),IF(C415=2,1,0)),0)","v":0},{"$f":"IF(SUM(C416:C418)>0,2,0)","v":0},"SECTION 8-08","PLASTIC LANE MARKERS AND TRAFFIC BUTTONS",null,null,null,null,{"$f":"SUM(J416:J418)","v":0},null,""]
[{"$f":"IF(C416>0,SUM(MAX($A$3:A415),IF(C416>0,1,0)),0)","v":0},{"$f":"IF(C416=2,SUM(MAX($B$3:B415),IF(C416=2,1,0)),0)","v":0},0,"808001","LANE MARKER TYPE 1",{"$f":"IFERROR(VLOOKUP(VALUE(D416),BIDITEM,3,FALSE),\"\")","v":"EA"},null,{"$f":"IF(AND(G416>0,I416=0),IFERROR(VLOOKUP(VALUE(D416),BIDITEM,4,FALSE),\"\"),\"\")","v":""},null,{"$f":"IF(AND(G416>0,OR(H416>0,I416>0)),IF(I416>0,PRODUCT(I416,G416),PRODUCT(H416,G416)),\"\")","v":""},null,""]
[{"$f":"IF(C417>0,SUM(MAX($A$3:A416),IF(C417>0,1,0)),0)","v":0},{"$f":"IF(C417=2,SUM(MAX($B$3:B416),IF(C417=2,1,0)),0)","v":0},0,"808002","LANE MARKER TYPE 2",{"$f":"IFERROR(VLOOKUP(VALUE(D417),BIDITEM,3,FALSE),\"\")","v":"EA"},null,{"$f":"IF(AND(G417>0,I417=0),IFERROR(VLOOKUP(VALUE(D417),BIDITEM,4,FALSE),\"\"),\"\")","v":""},null,"",null,""]
[{"$f":"IF(C418>0,SUM(MAX($A$3:A417),IF(C418>0,1,0)),0)","v":0},{"$f":"IF(C418=2,SUM(MAX($B$3:B417),IF(C418=2,1,0)),0)","v":0},0,808005,"PLASTIC TRAFFIC BUTTON",{"$f":"IFERROR(VLOOKUP(VALUE(D418),BIDITEM,3,FALSE),\"\")","v":"EA"},null,{"$f":"IF(AND(G418>0,I418=0),IFERROR(VLOOKUP(VALUE(D418),BIDITEM,4,FALSE),\"\"),\"\")","v":""},null,"",null,""]
[{"$f":"IF(C419>0,SUM(MAX($A$3:A418),IF(C419>0,1,0)),0)","v":0},{"$f":"IF(C419=2,SUM(MAX($B$3:B418),IF(C419=2,1,0)),0)","v":0},0,null,null,null,null,null,null,null,null,""]
[{"$f":"IF(C420>0,SUM(MAX($A$3:A419),IF(C420>0,1,0)),0)","v":0},{"$f":"IF(C420=2,SUM(MAX($B$3:B419),IF(C420=2,1,0)),0)","v":0},{"$f":"IF(SUM(C421:C424)>0,2,0)","v":0},"SECTION 8-13","MONUMENT CASES",null,null,null,null,{"$f":"SUM(J421:J424)","v":0},null,""]
[{"$f":"IF(C421>0,SUM(MAX($A$3:A420),IF(C421>0,1,0)),0)","v":0},{"$f":"IF(C421=2,SUM(MAX($B$3:B420),IF(C421=2,1,0)),0)","v":0},0,"813020","MONUMENT FRAME AND COVER",{"$f":"IFERROR(VLOOKUP(VALUE(D421),BIDITEM,3,FALSE),\"\")","v":"EA"},null,{"$f":"IF(AND(G421>0,I421=0),IFERROR(VLOOKUP(VALUE(D421),BIDITEM,4,FALSE),\"\"),\"\")","v":""},null,{"$f":"IF(AND(G421>0,OR(H421>0,I421>0)),IF(I421>0,PRODUCT(I421,G421),PRODUCT(H421,G421)),\"\")","v":""},null,""]
[{"$f":"IF(C422>0,SUM(MAX($A$3:A421),IF(C422>0,1,0)),0)","v":0},{"$f":"IF(C422=2,SUM(MAX($B$3:B421),IF(C422=2,1,0)),0)","v":0},0,813030,"RELOCATE OR RESET MON AND MON FRAME AND COVER",{"$f":"IFERROR(VLOOKUP(VALUE(D422),BIDITEM,3,FALSE),\"\")","v":"EA"},null,{"$f":"IF(AND(G422>0,I422=0),IFERROR(VLOOKUP(VALUE(D422),BIDITEM,4,FALSE),\"\"),\"\")","v":""},null,"",null,""]
[{"$f":"IF(C423>0,SUM(MAX($A$3:A422),IF(C423>0,1,0)),0)","v":0},{"$f":"IF(C423=2,SUM(MAX($B$3:B422),IF(C423=2,1,0)),0)","v":0},0,"813120","RESET MONUMENT FRAME AND COVER",{"$f":"IFERROR(VLOOKUP(VALUE(D423),BIDITEM,3,FALSE),\"\")","v":"EA"},null,{"$f":"IF(AND(G423>0,I423=0),IFERROR(VLOOKUP(VALUE(D423),BIDITEM,4,FALSE),\"\"),\"\")","v":""},null,"",null,""]
[{"$f":"IF(C424>0,SUM(MAX($A$3:A423),IF(C424>0,1,0)),0)","v":0},{"$f":"IF(C424=2,SUM(MAX($B$3:B423),IF(C424=2,1,0)),0)","v":0},0,"813125","RELOCATE MONUMENT FRAME AND COVER",{"$f":"IFERROR(VLOOKUP(VALUE(D424),BIDITEM,3,FALSE),\"\")","v":"EA"},null,{"$f":"IF(AND(G424>0,I424=0),IFERROR(VLOOKUP(VALUE(D424),BIDITEM,4,FALSE),\"\"),\"\")","v":""},null,"",null,""]
[{"$f":"IF(C425>0,SUM(MAX($A$3:A424),IF(C425>0,1,0)),0)","v":0},{"$f":"IF(C425=2,SUM(MAX($B$3:B424),IF(C425=2,1,0)),0)","v":0},0,null,null,null,null,null,null,null,null,""]
[{"$f":"IF(C426>0,SUM(MAX($A$3:A425),IF(C426>0,1,0)),0)","v":0},{"$f":"IF(C426=2,SUM(MAX($B$3:B425),IF(C426=2,1,0)),0)","v":0},{"$f":"IF(SUM(C427:C439)>0,2,0)","v":0},"SECTION 8-14","CEMENT CONCRETE SIDEWALK",null,null,null,null,{"$f":"SUM(J427:J439)","v":0},null,""]
[{"$f":"IF(C427>0,SUM(MAX($A$3:A426),IF(C427>0,1,0)),0)","v":0},{"$f":"IF(C427=2,SUM(MAX($B$3:B426),IF(C427=2,1,0)),0)","v":0},0,"814005","SIDEWALK, CEM CONC    {QTY >= 500}",{"$f":"IFERROR(VLOOKUP(VALUE(D427),BIDITEM,3,FALSE),\"\")","v":"SY"},null,{"$f":"IF(AND(G427>0,I427=0),IFERROR(VLOOKUP(VALUE(D427),BIDITEM,4,FALSE),\"\"),\"\")","v":""},null,{"$f":"IF(AND(G427>0,OR(H427>0,I427>0)),IF(I427>0,PRODUCT(I427,G427),PRODUCT(H427,G427)),\"\")","v":""},null,""]
[{"$f":"IF(C428>0,SUM(MAX($A$3:A427),IF(C428>0,1,0)),0)","v":0},{"$f":"IF(C428=2,SUM(MAX($B$3:B427),IF(C428=2,1,0)),0)","v":0},0,null,"                                            {QTY  <  500}",null,null,null,null,"",null,""]
[{"$f":"IF(C429>0,SUM(MAX($A$3:A428),IF(C429>0,1,0)),0)","v":0},{"$f":"IF(C429=2,SUM(MAX($B$3:B428),IF(C429=2,1,0)),0)","v":0},0,"814010","SIDEWALK, THICKENED EDGE",{"$f":"IFERROR(VLOOKUP(VALUE(D429),BIDITEM,3,FALSE),\"\")","v":"LF"},null,{"$f":"IF(AND(G429>0,I429=0),IFERROR(VLOOKUP(VALUE(D429),BIDITEM,4,FALSE),\"\"),\"\")","v":""},null,"",null,""]
[{"$f":"IF(C430>0,SUM(MAX($A$3:A429),IF(C430>0,1,0)),0)","v":0},{"$f":"IF(C430=2,SUM(MAX($B$3:B429),IF(C430=2,1,0)),0)","v":0},0,814020,"CURB RAMP (422A)","EA",null,"",null,"",null,""]
[{"$f":"IF(C431>0,SUM(MAX($A$3:A430),IF(C431>0,1,0)),0)","v":0},{"$f":"IF(C431=2,SUM(MAX($B$3:B430),IF(C431=2,1,0)),0)","v":0},0,814022,"CURB RAMP (422B)","EA",null,"",null,"",null,""]
[{"$f":"IF(C432>0,SUM(MAX($A$3:A431),IF(C432>0,1,0)),0)","v":0},{"$f":"IF(C432=2,SUM(MAX($B$3:B431),IF(C432=2,1,0)),0)","v":0},0,814023,"CURB RAMP (422C)","EA",null,"",null,"",null,""]
[{"$f":"IF(C433>0,SUM(MAX($A$3:A432),IF(C433>0,1,0)),0)","v":0},{"$f":"IF(C433=2,SUM(MAX($B$3:B432),IF(C433=2,1,0)),0)","v":0},0,814024,"CURB RAMP, NON-STANDARD","SY",null,"",null,"",null,""]
[{"$f":"IF(C434>0,SUM(MAX($A$3:A433),IF(C434>0,1,0)),0)","v":0},{"$f":"IF(C434=2,SUM(MAX($B$3:B433),IF(C434=2,1,0)),0)","v":0},0,814025,"DETECTABLE WARNING PLATE RETROFIT","SF",null,"",null,"",null,""]
[{"$f":"IF(C435>0,SUM(MAX($A$3:A434),IF(C435>0,1,0)),0)","v":0},{"$f":"IF(C435=2,SUM(MAX($B$3:B434),IF(C435=2,1,0)),0)","v":0},0,814030,"DETECTABLE WARNING PLATE","SY",null,"",null,"",null,""]
[{"$f":"IF(C436>0,SUM(MAX($A$3:A435),IF(C436>0,1,0)),0)","v":0},{"$f":"IF(C436=2,SUM(MAX($B$3:B435),IF(C436=2,1,0)),0)","v":0},0,814234,"EXPOSED AGGREGATE CEM CONC TREATMENT, SIDEWALK","SY",null,"",null,"",null,""]
[{"$f":"IF(C437>0,SUM(MAX($A$3:A436),IF(C437>0,1,0)),0)","v":0},{"$f":"IF(C437=2,SUM(MAX($B$3:B436),IF(C437=2,1,0)),0)","v":0},0,814240,"SIX INCH SIDEWALK, CEM CONC","SY",null,"",null,"",null,""]
[{"$f":"IF(C438>0,SUM(MAX($A$3:A437),IF(C438>0,1,0)),0)","v":0},{"$f":"IF(C438=2,SUM(MAX($B$3:B437),IF(C438=2,1,0)),0)","v":0},0,814250,"PATTERNED CEM CONC TREATMENT, SIDEWALK, (PATTERNED)","SY",null,"",null,"",null,""]
[{"$f":"IF(C439>0,SUM(MAX($A$3:A438),IF(C439>0,1,0)),0)","v":0},{"$f":"IF(C439=2,SUM(MAX($B$3:B438),IF(C439=2,1,0)),0)","v":0},0,814251,"PATTERNED CEM CONC TREATMENT, SIDEWALK, (RUNNING BOND USED BRICK)","SY",null,"",null,"",null,""]
[{"$f":"IF(C440>0,SUM(MAX($A$3:A439),IF(C440>0,1,0)),0)","v":0},{"$f":"IF(C440=2,SUM(MAX($B$3:B439),IF(C440=2,1,0)),0)","v":0},0,null,null,null,null,null,null,null,null,""]
[{"$f":"IF(C441>0,SUM(MAX($A$3:A440),IF(C441>0,1,0)),0)","v":0},{"$f":"IF(C441=2,SUM(MAX($B$3:B440),IF(C441=2,1,0)),0)","v":0},{"$f":"IF(SUM(C442:C448)>0,2,0)","v":0},"SECTION 8-18","CEMENT CONCRETE STAIRWAYS, LANDINGS AND STEPS",null,null,null,null,{"$f":"SUM(J442:J448)","v":0},null,""]
[{"$f":"IF(C442>0,SUM(MAX($A$3:A441),IF(C442>0,1,0)),0)","v":0},{"$f":"IF(C442=2,SUM(MAX($B$3:B441),IF(C442=2,1,0)),0)","v":0},0,818020,"STAIRWAY, CEM CONC, SPECIAL",{"$f":"IFERROR(VLOOKUP(VALUE(D442),BIDITEM,3,FALSE),\"\")","v":"SF"},null,{"$f":"IF(AND(G442>0,I442=0),IFERROR(VLOOKUP(VALUE(D442),BIDITEM,4,FALSE),\"\"),\"\")","v":""},null,{"$f":"IF(AND(G442>0,OR(H442>0,I442>0)),IF(I442>0,PRODUCT(I442,G442),PRODUCT(H442,G442)),\"\")","v":""},null,""]
[{"$f":"IF(C443>0,SUM(MAX($A$3:A442),IF(C443>0,1,0)),0)","v":0},{"$f":"IF(C443=2,SUM(MAX($B$3:B442),IF(C443=2,1,0)),0)","v":0},0,818030,"GUTTER, CEM CONC, TYPE 440","LF",null,"",null,"",null,""]
[{"$f":"IF(C444>0,SUM(MAX($A$3:A443),IF(C444>0,1,0)),0)","v":0},{"$f":"IF(C444=2,SUM(MAX($B$3:B443),IF(C444=2,1,0)),0)","v":0},0,"818040","STAIRWAY, CEM CONC, TYPE 440","LF",null,"",null,"",null,""]
[{"$f":"IF(C445>0,SUM(MAX($A$3:A444),IF(C445>0,1,0)),0)","v":0},{"$f":"IF(C445=2,SUM(MAX($B$3:B444),IF(C445=2,1,0)),0)","v":0},0,"818140","HANDRAIL, TYPE 440","LF",null,"",null,"",null,""]
[{"$f":"IF(C446>0,SUM(MAX($A$3:A445),IF(C446>0,1,0)),0)","v":0},{"$f":"IF(C446=2,SUM(MAX($B$3:B445),IF(C446=2,1,0)),0)","v":0},0,"818142","HANDRAIL, TYPE 442","LF",null,"",null,"",null,""]
[{"$f":"IF(C447>0,SUM(MAX($A$3:A446),IF(C447>0,1,0)),0)","v":0},{"$f":"IF(C447=2,SUM(MAX($B$3:B446),IF(C447=2,1,0)),0)","v":0},0,"818143","HANDRAIL, TYPE 443","LF",null,"",null,"",null,""]
[{"$f":"IF(C448>0,SUM(MAX($A$3:A447),IF(C448>0,1,0)),0)","v":0},{"$f":"IF(C448=2,SUM(MAX($B$3:B447),IF(C448=2,1,0)),0)","v":0},0,"818241","STEPS, CEM CONC","SF",null,"",null,"",null,""]
[{"$f":"IF(C449>0,SUM(MAX($A$3:A448),IF(C449>0,1,0)),0)","v":0},{"$f":"IF(C449=2,SUM(MAX($B$3:B448),IF(C449=2,1,0)),0)","v":0},0,null,null,null,null,null,null,null,null,""]
[{"$f":"IF(C450>0,SUM(MAX($A$3:A449),IF(C450>0,1,0)),0)","v":0},{"$f":"IF(C450=2,SUM(MAX($B$3:B449),IF(C450=2,1,0)),0)","v":0},{"$f":"IF(SUM(C451:C454)>0,2,0)","v":0},"SECTION 8-19","CEMENT CONCRETE DRIVEWAY",null,null,null,null,{"$f":"SUM(J451:J454)","v":0},null,""]
[{"$f":"IF(C451>0,SUM(MAX($A$3:A450),IF(C451>0,1,0)),0)","v":0},{"$f":"IF(C451=2,SUM(MAX($B$3:B450),IF(C451=2,1,0)),0)","v":0},0,"819006","DRIVEWAY, CEM CONC, 6 IN",{"$f":"IFERROR(VLOOKUP(VALUE(D451),BIDITEM,3,FALSE),\"\")","v":"SY"},null,{"$f":"IF(AND(G451>0,I451=0),IFERROR(VLOOKUP(VALUE(D451),BIDITEM,4,FALSE),\"\"),\"\")","v":""},null,{"$f":"IF(AND(G451>0,OR(H451>0,I451>0)),IF(I451>0,PRODUCT(I451,G451),PRODUCT(H451,G451)),\"\")","v":""},null,""]
[{"$f":"IF(C452>0,SUM(MAX($A$3:A451),IF(C452>0,1,0)),0)","v":0},{"$f":"IF(C452=2,SUM(MAX($B$3:B451),IF(C452=2,1,0)),0)","v":0},0,"819008","DRIVEWAY, CEM CONC, 8 IN",{"$f":"IFERROR(VLOOKUP(VALUE(D452),BIDITEM,3,FALSE),\"\")","v":"SY"},null,{"$f":"IF(AND(G452>0,I452=0),IFERROR(VLOOKUP(VALUE(D452),BIDITEM,4,FALSE),\"\"),\"\")","v":""},null,"",null,""]
[{"$f":"IF(C453>0,SUM(MAX($A$3:A452),IF(C453>0,1,0)),0)","v":0},{"$f":"IF(C453=2,SUM(MAX($B$3:B452),IF(C453=2,1,0)),0)","v":0},0,"819018","DRIVEWAY, CEM CONC, HES (24 HR), 8 IN",{"$f":"IFERROR(VLOOKUP(VALUE(D453),BIDITEM,3,FALSE),\"\")","v":"SY"},null,{"$f":"IF(AND(G453>0,I453=0),IFERROR(VLOOKUP(VALUE(D453),BIDITEM,4,FALSE),\"\"),\"\")","v":""},null,"",null,""]
[{"$f":"IF(C454>0,SUM(MAX($A$3:A453),IF(C454>0,1,0)),0)","v":0},{"$f":"IF(C454=2,SUM(MAX($B$3:B453),IF(C454=2,1,0)),0)","v":0},{"$f":"IF(G454>0,1,0)","v":0},819020,"DRIVEWAY, CEM CONC, HES (72 HR), 8 IN",{"$f":"IFERROR(VLOOKUP(VALUE(D454),BIDITEM,3,FALSE),\"\")","v":"SY"},null,{"$f":"IF(AND(G454>0,I454=0),IFERROR(VLOOKUP(VALUE(D454),BIDITEM,4,FALSE),\"\"),\"\")","v":""},null,"",null,""]
[{"$f":"IF(C455>0,SUM(MAX($A$3:A454),IF(C455>0,1,0)),0)","v":0},{"$f":"IF(C455=2,SUM(MAX($B$3:B454),IF(C455=2,1,0)),0)","v":0},0,null,null,null,null,null,null,null,null,""]
[{"$f":"IF(C456>0,SUM(MAX($A$3:A455),IF(C456>0,1,0)),0)","v":0},{"$f":"IF(C456=2,SUM(MAX($B$3:B455),IF(C456=2,1,0)),0)","v":0},{"$f":"IF(SUM(C457:C467)>0,2,0)","v":0},"SECTION 8-21","PERMANENT SIGNING AND POSTS",null,null,null,null,{"$f":"SUM(J457:J467)","v":0},null,""]
[{"$f":"IF(C457>0,SUM(MAX($A$3:A456),IF(C457>0,1,0)),0)","v":0},{"$f":"IF(C457=2,SUM(MAX($B$3:B456),IF(C457=2,1,0)),0)","v":0},0,821006,"INSTALL SIGN, TRAFFIC, OWNER FURNISHED",{"$f":"IFERROR(VLOOKUP(VALUE(D457),BIDITEM,3,FALSE),\"\")","v":"EA"},null,{"$f":"IF(AND(G457>0,I457=0),IFERROR(VLOOKUP(VALUE(D457),BIDITEM,4,FALSE),\"\"),\"\")","v":""},null,{"$f":"IF(AND(G457>0,OR(H457>0,I457>0)),IF(I457>0,PRODUCT(I457,G457),PRODUCT(H457,G457)),\"\")","v":""},null,""]
[{"$f":"IF(C458>0,SUM(MAX($A$3:A457),IF(C458>0,1,0)),0)","v":0},{"$f":"IF(C458=2,SUM(MAX($B$3:B457),IF(C458=2,1,0)),0)","v":0},0,821011,"INSTALL SIGN, STREET DESIGNATION, OWNER FURNISHED","EA",null,"",null,"",null,{"$f":"IF(C458>0,ROW(),\"\")","v":""}]
[{"$f":"IF(C459>0,SUM(MAX($A$3:A458),IF(C459>0,1,0)),0)","v":0},{"$f":"IF(C459=2,SUM(MAX($B$3:B458),IF(C459=2,1,0)),0)","v":0},0,821015,"INSTALL SIGN, STREET NAME, OWNER FURNISHED, POST MT","EA",null,"",null,"",null,""]
[{"$f":"IF(C460>0,SUM(MAX($A$3:A459),IF(C460>0,1,0)),0)","v":0},{"$f":"IF(C460=2,SUM(MAX($B$3:B459),IF(C460=2,1,0)),0)","v":0},0,"821025","SIGN, BUS ZONE, OWNER FURNISHED","EA",null,"",null,"",null,""]
[{"$f":"IF(C461>0,SUM(MAX($A$3:A460),IF(C461>0,1,0)),0)","v":0},{"$f":"IF(C461=2,SUM(MAX($B$3:B460),IF(C461=2,1,0)),0)","v":0},0,"821030","POST, TRAFFIC SIGN","EA",null,"",null,"",null,""]
[{"$f":"IF(C462>0,SUM(MAX($A$3:A461),IF(C462>0,1,0)),0)","v":0},{"$f":"IF(C462=2,SUM(MAX($B$3:B461),IF(C462=2,1,0)),0)","v":0},0,"821035","POST, PARKING METER","EA",null,"",null,"",null,""]
[{"$f":"IF(C463>0,SUM(MAX($A$3:A462),IF(C463>0,1,0)),0)","v":0},{"$f":"IF(C463=2,SUM(MAX($B$3:B462),IF(C463=2,1,0)),0)","v":0},0,"821040","POST, STREET NAME","EA",null,"",null,"",null,""]
[{"$f":"IF(C464>0,SUM(MAX($A$3:A463),IF(C464>0,1,0)),0)","v":0},{"$f":"IF(C464=2,SUM(MAX($B$3:B463),IF(C464=2,1,0)),0)","v":0},0,"821045","POST, BUS ZONE","EA",null,"",null,"",null,""]
[{"$f":"IF(C465>0,SUM(MAX($A$3:A464),IF(C465>0,1,0)),0)","v":0},{"$f":"IF(C465=2,SUM(MAX($B$3:B464),IF(C465=2,1,0)),0)","v":0},0,"821050","RELOCATE SIGN, TRAFFIC","EA",null,"",null,"",null,""]
[{"$f":"IF(C466>0,SUM(MAX($A$3:A465),IF(C466>0,1,0)),0)","v":0},{"$f":"IF(C466=2,SUM(MAX($B$3:B465),IF(C466=2,1,0)),0)","v":0},0,"821055","RELOCATE SIGN, STREET NAME","EA",null,"",null,"",null,""]
[{"$f":"IF(C467>0,SUM(MAX($A$3:A466),IF(C467>0,1,0)),0)","v":0},{"$f":"IF(C467=2,SUM(MAX($B$3:B466),IF(C467=2,1,0)),0)","v":0},0,"821060","RELOCATE SIGN, BUS ZONE","EA",null,"",null,"",null,""]
[{"$f":"IF(C468>0,SUM(MAX($A$3:A467),IF(C468>0,1,0)),0)","v":0},{"$f":"IF(C468=2,SUM(MAX($B$3:B467),IF(C468=2,1,0)),0)","v":0},0,null,null,null,null,null,null,null,null,""]
[{"$f":"IF(C469>0,SUM(MAX($A$3:A468),IF(C469>0,1,0)),0)","v":0},{"$f":"IF(C469=2,SUM(MAX($B$3:B468),IF(C469=2,1,0)),0)","v":0},{"$f":"IF(SUM(C470:C477)>0,2,0)","v":0},"SECTION 8-22","PAVEMENT MARKING",null,null,null,null,{"$f":"SUM(J470:J477)","v":0},null,""]
[{"$f":"IF(C470>0,SUM(MAX($A$3:A469),IF(C470>0,1,0)),0)","v":0},{"$f":"IF(C470=2,SUM(MAX($B$3:B469),IF(C470=2,1,0)),0)","v":0},0,"822004","PAVEMENT MARKING, PAINT, 4 IN STRIPE   ",{"$f":"IFERROR(VLOOKUP(VALUE(D470),BIDITEM,3,FALSE),\"\")","v":"LF"},null,{"$f":"IF(AND(G470>0,I470=0),IFERROR(VLOOKUP(VALUE(D470),BIDITEM,4,FALSE),\"\"),\"\")","v":""},null,{"$f":"IF(AND(G470>0,OR(H470>0,I470>0)),IF(I470>0,PRODUCT(I470,G470),PRODUCT(H470,G470)),\"\")","v":""},null,""]
[{"$f":"IF(C471>0,SUM(MAX($A$3:A470),IF(C471>0,1,0)),0)","v":0},{"$f":"IF(C471=2,SUM(MAX($B$3:B470),IF(C471=2,1,0)),0)","v":0},0,"822006","PAVEMENT MARKING, PAINT, 6 IN STRIPE","LF",null,"",null,"",null,""]
[{"$f":"IF(C472>0,SUM(MAX($A$3:A471),IF(C472>0,1,0)),0)","v":0},{"$f":"IF(C472=2,SUM(MAX($B$3:B471),IF(C472=2,1,0)),0)","v":0},0,"822008","PAVEMENT MARKING, PAINT, 8 IN STRIPE","LF",null,"",null,"",null,""]
[{"$f":"IF(C473>0,SUM(MAX($A$3:A472),IF(C473>0,1,0)),0)","v":0},{"$f":"IF(C473=2,SUM(MAX($B$3:B472),IF(C473=2,1,0)),0)","v":0},0,"822010","PAVEMENT MARKING, PAINT, LEGEND/SYMBOL","EA",null,"",null,"",null,""]
[{"$f":"IF(C474>0,SUM(MAX($A$3:A473),IF(C474>0,1,0)),0)","v":0},{"$f":"IF(C474=2,SUM(MAX($B$3:B473),IF(C474=2,1,0)),0)","v":0},0,"822018","PAVEMENT MARKING, THERMO, 8 IN STRIPE    ","LF",null,"",null,"",null,""]
[{"$f":"IF(C475>0,SUM(MAX($A$3:A474),IF(C475>0,1,0)),0)","v":0},{"$f":"IF(C475=2,SUM(MAX($B$3:B474),IF(C475=2,1,0)),0)","v":0},0,"822020","PAVEMENT MARKING, THERMO, LEGEND/SYMBOL","EA",null,"",null,"",null,""]
[{"$f":"IF(C476>0,SUM(MAX($A$3:A475),IF(C476>0,1,0)),0)","v":0},{"$f":"IF(C476=2,SUM(MAX($B$3:B475),IF(C476=2,1,0)),0)","v":0},0,822025,"PAVEMENT MARKING, PRESSURE SENSITIVE TAPE","LF",null,"",null,"",null,""]
[{"$f":"IF(C477>0,SUM(MAX($A$3:A476),IF(C477>0,1,0)),0)","v":0},{"$f":"IF(C477=2,SUM(MAX($B$3:B476),IF(C477=2,1,0)),0)","v":0},0,822028,"SHARROW, INSTALL OWNER FURNISHED","EA",null,"",null,"",null,""]
[{"$f":"IF(C478>0,SUM(MAX($A$3:A477),IF(C478>0,1,0)),0)","v":0},{"$f":"IF(C478=2,SUM(MAX($B$3:B477),IF(C478=2,1,0)),0)","v":0},0,null,null,null,null,null,null,null,null,""]
[{"$f":"IF(C479>0,SUM(MAX($A$3:A478),IF(C479>0,1,0)),0)","v":0},{"$f":"IF(C479=2,SUM(MAX($B$3:B478),IF(C479=2,1,0)),0)","v":0},{"$f":"IF(SUM(C480:C480)>0,2,0)","v":0},"SECTION 8-31","TRAFFIC SIGNAL SYSTEM",null,null,null,null,{"$f":"SUM(J480:J480)","v":0},null,""]
[{"$f":"IF(C480>0,SUM(MAX($A$3:A479),IF(C480>0,1,0)),0)","v":0},{"$f":"IF(C480=2,SUM(MAX($B$3:B479),IF(C480=2,1,0)),0)","v":0},0,831306,"DETECTOR LOOP, 6 FT DIA.",{"$f":"IFERROR(VLOOKUP(VALUE(D480),BIDITEM,3,FALSE),\"\")","v":"EA"},null,{"$f":"IF(AND(G480>0,I480=0),IFERROR(VLOOKUP(VALUE(D480),BIDITEM,4,FALSE),\"\"),\"\")","v":""},null,{"$f":"IF(AND(G480>0,OR(H480>0,I480>0)),IF(I480>0,PRODUCT(I480,G480),PRODUCT(H480,G480)),\"\")","v":""},null,""]
[{"$f":"IF(C481>0,SUM(MAX($A$3:A480),IF(C481>0,1,0)),0)","v":0},{"$f":"IF(C481=2,SUM(MAX($B$3:B480),IF(C481=2,1,0)),0)","v":0},{"$f":"IF(G481>0,1,0)","v":0},null,null,null,null,null,null,null,null,""]
[{"$f":"IF(C482>0,SUM(MAX($A$3:A481),IF(C482>0,1,0)),0)","v":0},{"$f":"IF(C482=2,SUM(MAX($B$3:B481),IF(C482=2,1,0)),0)","v":0},{"$f":"IF(SUM(C483:C504)>0,2,0)","v":0},"SECTION 8-40","ADDITIONAL ITEMS",null,null,null,null,{"$f":"SUM(J483:J504)","v":0},null,""]
[{"$f":"IF(C483>0,SUM(MAX($A$3:A482),IF(C483>0,1,0)),0)","v":0},{"$f":"IF(C483=2,SUM(MAX($B$3:B482),IF(C483=2,1,0)),0)","v":0},0,null,null,null,null,null,null,{"$f":"IF(AND(G483>0,OR(H483>0,I483>0)),IF(I483>0,PRODUCT(I483,G483),PRODUCT(H483,G483)),\"\")","v":""},null,""]
[{"$f":"IF(C484>0,SUM(MAX($A$3:A483),IF(C484>0,1,0)),0)","v":0},{"$f":"IF(C484=2,SUM(MAX($B$3:B483),IF(C484=2,1,0)),0)","v":0},0,null,null,null,null,null,null,"",null,""]
[{"$f":"IF(C485>0,SUM(MAX($A$3:A484),IF(C485>0,1,0)),0)","v":0},{"$f":"IF(C485=2,SUM(MAX($B$3:B484),IF(C485=2,1,0)),0)","v":0},0,null,null,null,null,null,null,"",null,""]
[{"$f":"IF(C486>0,SUM(MAX($A$3:A485),IF(C486>0,1,0)),0)","v":0},{"$f":"IF(C486=2,SUM(MAX($B$3:B485),IF(C486=2,1,0)),0)","v":0},0,null,null,null,null,null,null,"",null,""]
[{"$f":"IF(C487>0,SUM(MAX($A$3:A486),IF(C487>0,1,0)),0)","v":0},{"$f":"IF(C487=2,SUM(MAX($B$3:B486),IF(C487=2,1,0)),0)","v":0},0,null,null,null,null,null,null,"",null,""]
[{"$f":"IF(C488>0,SUM(MAX($A$3:A487),IF(C488>0,1,0)),0)","v":0},{"$f":"IF(C488=2,SUM(MAX($B$3:B487),IF(C488=2,1,0)),0)","v":0},0,null,null,null,null,null,null,"",null,""]
[{"$f":"IF(C489>0,SUM(MAX($A$3:A488),IF(C489>0,1,0)),0)","v":0},{"$f":"IF(C489=2,SUM(MAX($B$3:B488),IF(C489=2,1,0)),0)","v":0},0,null,null,null,null,null,null,"",null,""]
[{"$f":"IF(C490>0,SUM(MAX($A$3:A489),IF(C490>0,1,0)),0)","v":0},{"$f":"IF(C490=2,SUM(MAX($B$3:B489),IF(C490=2,1,0)),0)","v":0},0,null,null,null,null,null,null,"",null,""]
[{"$f":"IF(C491>0,SUM(MAX($A$3:A490),IF(C491>0,1,0)),0)","v":0},{"$f":"IF(C491=2,SUM(MAX($B$3:B490),IF(C491=2,1,0)),0)","v":0},0,null,null,null,null,null,null,"",null,""]
[{"$f":"IF(C492>0,SUM(MAX($A$3:A491),IF(C492>0,1,0)),0)","v":0},{"$f":"IF(C492=2,SUM(MAX($B$3:B491),IF(C492=2,1,0)),0)","v":0},0,null,null,null,null,null,null,"",null,""]
[{"$f":"IF(C493>0,SUM(MAX($A$3:A492),IF(C493>0,1,0)),0)","v":0},{"$f":"IF(C493=2,SUM(MAX($B$3:B492),IF(C493=2,1,0)),0)","v":0},0,null,null,null,null,null,null,"",null,""]
[{"$f":"IF(C494>0,SUM(MAX($A$3:A493),IF(C494>0,1,0)),0)","v":0},{"$f":"IF(C494=2,SUM(MAX($B$3:B493),IF(C494=2,1,0)),0)","v":0},0,null,null,null,null,null,null,"",null,""]
[{"$f":"IF(C495>0,SUM(MAX($A$3:A494),IF(C495>0,1,0)),0)","v":0},{"$f":"IF(C495=2,SUM(MAX($B$3:B494),IF(C495=2,1,0)),0)","v":0},0,null,null,null,null,null,null,"",null,""]
[{"$f":"IF(C496>0,SUM(MAX($A$3:A495),IF(C496>0,1,0)),0)","v":0},{"$f":"IF(C496=2,SUM(MAX($B$3:B495),IF(C496=2,1,0)),0)","v":0},0,null,null,null,null,null,null,"",null,""]
[{"$f":"IF(C497>0,SUM(MAX($A$3:A496),IF(C497>0,1,0)),0)","v":0},{"$f":"IF(C497=2,SUM(MAX($B$3:B496),IF(C497=2,1,0)),0)","v":0},0,null,null,null,null,null,null,"",null,""]
[{"$f":"IF(C498>0,SUM(MAX($A$3:A497),IF(C498>0,1,0)),0)","v":0},{"$f":"IF(C498=2,SUM(MAX($B$3:B497),IF(C498=2,1,0)),0)","v":0},0,null,null,null,null,null,null,"",null,""]
[{"$f":"IF(C499>0,SUM(MAX($A$3:A498),IF(C499>0,1,0)),0)","v":0},{"$f":"IF(C499=2,SUM(MAX($B$3:B498),IF(C499=2,1,0)),0)","v":0},0,null,null,null,null,null,null,"",null,""]
[{"$f":"IF(C500>0,SUM(MAX($A$3:A499),IF(C500>0,1,0)),0)","v":0},{"$f":"IF(C500=2,SUM(MAX($B$3:B499),IF(C500=2,1,0)),0)","v":0},0,null,null,null,null,null,null,"",null,""]
[{"$f":"IF(C501>0,SUM(MAX($A$3:A500),IF(C501>0,1,0)),0)","v":0},{"$f":"IF(C501=2,SUM(MAX($B$3:B500),IF(C501=2,1,0)),0)","v":0},0,null,null,null,null,null,null,"",null,""]
[{"$f":"IF(C502>0,SUM(MAX($A$3:A501),IF(C502>0,1,0)),0)","v":0},{"$f":"IF(C502=2,SUM(MAX($B$3:B501),IF(C502=2,1,0)),0)","v":0},0,null,null,null,null,null,null,"",null,""]
[{"$f":"IF(C503>0,SUM(MAX($A$3:A502),IF(C503>0,1,0)),0)","v":0},{"$f":"IF(C503=2,SUM(MAX($B$3:B502),IF(C503=2,1,0)),0)","v":0},0,null,null,null,null,null,null,"",null,""]
[{"$f":"IF(C504>0,SUM(MAX($A$3:A503),IF(C504>0,1,0)),0)","v":0},{"$f":"IF(C504=2,SUM(MAX($B$3:B503),IF(C504=2,1,0)),0)","v":0},0,null,null,null,null,null,null,"",null,""]
[{"$f":"IF(C505>0,SUM(MAX($A$3:A504),IF(C505>0,1,0)),0)","v":0},{"$f":"IF(C505=2,SUM(MAX($B$3:B504),IF(C505=2,1,0)),0)","v":0},0,null,null,null,null,null,null,null,null,""]

{"sheet":"COST ESTIMATE SUMMARY","index":1,"n_rows":480,"n_cols":14,"rows_kept":480,"cut":false,"hidden":true,"merged":[[476,2,476,3],[477,2,477,3],[478,2,478,3],[479,2,479,3],[471,2,471,3],[472,2,472,3],[473,2,473,3],[474,2,474,3],[475,2,475,3],[466,2,466,3],[467,2,467,3],[468,2,468,3],[469,2,469,3],[470,2,470,3],[461,2,461,3],[462,2,462,3],[463,2,463,3],[464,2,464,3],[465,2,465,3],[456,2,456,3],[457,2,457,3],[458,2,458,3],[459,2,459,3],[460,2,460,3],[451,2,451,3],[452,2,452,3],[453,2,453,3],[454,2,454,3],[455,2,455,3],[446,2,446,3],[447,2,447,3],[448,2,448,3],[449,2,449,3],[450,2,450,3],[441,2,441,3],[442,2,442,3],[443,2,443,3],[444,2,444,3],[445,2,445,3],[436,2,436,3],[437,2,437,3],[438,2,438,3],[439,2,439,3],[440,2,440,3],[431,2,431,3],[432,2,432,3],[433,2,433,3],[434,2,434,3],[435,2,435,3],[426,2,426,3],[427,2,427,3],[428,2,428,3],[429,2,429,3],[430,2,430,3],[421,2,421,3],[422,2,422,3],[423,2,423,3],[424,2,424,3],[425,2,425,3],[416,2,416,3],[417,2,417,3],[418,2,418,3],[419,2,419,3],[420,2,420,3],[411,2,411,3],[412,2,412,3],[413,2,413,3],[414,2,414,3],[415,2,415,3],[406,2,406,3],[407,2,407,3],[408,2,408,3],[409,2,409,3],[410,2,410,3],[401,2,401,3],[402,2,402,3],[403,2,403,3],[404,2,404,3],[405,2,405,3],[396,2,396,3],[397,2,397,3],[398,2,398,3],[399,2,399,3],[400,2,400,3],[391,2,391,3],[392,2,392,3],[393,2,393,3],[394,2,394,3],[395,2,395,3],[386,2,386,3],[387,2,387,3],[388,2,388,3],[389,2,389,3],[390,2,390,3],[381,2,381,3],[382,2,382,3],[383,2,383,3],[384,2,384,3],[385,2,385,3],[376,2,376,3],[377,2,377,3],[378,2,378,3],[379,2,379,3],[380,2,380,3],[371,2,371,3],[372,2,372,3],[373,2,373,3],[374,2,374,3],[375,2,375,3],[366,2,366,3],[367,2,367,3],[368,2,368,3],[369,2,369,3],[370,2,370,3],[361,2,361,3],[362,2,362,3],[363,2,363,3],[364,2,364,3],[365,2,365,3],[356,2,356,3],[357,2,357,3],[358,2,358,3],[359,2,359,3],[360,2,360,3],[351,2,351,3],[352,2,352,3],[353,2,353,3],[354,2,354,3],[355,2,355,3],[346,2,346,3],[347,2,347,3],[348,2,348,3],[349,2,349,3],[350,2,350,3],[341,2,341,3],[342,2,342,3],[343,2,343,3],[344,2,344,3],[345,2,345,3],[336,2,336,3],[337,2,337,3],[338,2,338,3],[339,2,339,3],[340,2,340,3],[331,2,331,3],[332,2,332,3],[333,2,333,3],[334,2,334,3],[335,2,335,3],[326,2,326,3],[327,2,327,3],[328,2,328,3],[329,2,329,3],[330,2,330,3],[321,2,321,3],[322,2,322,3],[323,2,323,3],[324,2,324,3],[325,2,325,3],[316,2,316,3],[317,2,317,3],[318,2,318,3],[319,2,319,3],[320,2,320,3],[311,2,311,3],[312,2,312,3],[313,2,313,3],[314,2,314,3],[315,2,315,3],[306,2,306,3],[307,2,307,3],[308,2,308,3],[309,2,309,3],[310,2,310,3],[301,2,301,3],[302,2,302,3],[303,2,303,3],[304,2,304,3],[305,2,305,3],[296,2,296,3],[297,2,297,3],[298,2,298,3],[299,2,299,3],[300,2,300,3],[291,2,291,3],[292,2,292,3],[293,2,293,3],[294,2,294,3],[295,2,295,3],[286,2,286,3],[287,2,287,3],[288,2,288,3],[289,2,289,3],[290,2,290,3],[281,2,281,3],[282,2,282,3],[283,2,283,3],[284,2,284,3],[285,2,285,3],[276,2,276,3],[277,2,277,3],[278,2,278,3],[279,2,279,3],[280,2,280,3],[271,2,271,3],[272,2,272,3],[273,2,273,3],[274,2,274,3],[275,2,275,3],[266,2,266,3],[267,2,267,3],[268,2,268,3],[269,2,269,3],[270,2,270,3],[261,2,261,3],[262,2,262,3],[263,2,263,3],[264,2,264,3],[265,2,265,3],[256,2,256,3],[257,2,257,3],[258,2,258,3],[259,2,259,3],[260,2,260,3],[251,2,251,3],[252,2,252,3],[253,2,253,3],[254,2,254,3],[255,2,255,3],[246,2,246,3],[247,2,247,3],[248,2,248,3],[249,2,249,3],[250,2,250,3],[241,2,241,3],[242,2,242,3],[243,2,243,3],[244,2,244,3],[245,2,245,3],[236,2,236,3],[237,2,237,3],[238,2,238,3],[239,2,239,3],[240,2,240,3],[231,2,231,3],[232,2,232,3],[233,2,233,3],[234,2,234,3],[235,2,235,3],[226,2,226,3],[227,2,227,3],[228,2,228,3],[229,2,229,3],[230,2,230,3],[221,2,221,3],[222,2,222,3],[223,2,223,3],[224,2,224,3],[225,2,225,3],[216,2,216,3],[217,2,217,3],[218,2,218,3],[219,2,219,3],[220,2,220,3],[211,2,211,3],[212,2,212,3],[213,2,213,3],[214,2,214,3],[215,2,215,3],[206,2,206,3],[207,2,207,3],[208,2,208,3],[209,2,209,3],[210,2,210,3],[201,2,201,3],[202,2,202,3],[203,2,203,3],[204,2,204,3],[205,2,205,3],[196,2,196,3],[197,2,197,3],[198,2,198,3],[199,2,199,3],[200,2,200,3],[191,2,191,3],[192,2,192,3],[193,2,193,3],[194,2,194,3],[195,2,195,3],[186,2,186,3],[187,2,187,3],[188,2,188,3],[189,2,189,3],[190,2,190,3],[181,2,181,3],[182,2,182,3],[183,2,183,3],[184,2,184,3],[185,2,185,3],[176,2,176,3],[177,2,177,3],[178,2,178,3],[179,2,179,3],[180,2,180,3],[171,2,171,3],[172,2,172,3],[173,2,173,3],[174,2,174,3],[175,2,175,3],[166,2,166,3],[167,2,167,3],[168,2,168,3],[169,2,169,3],[170,2,170,3],[161,2,161,3],[162,2,162,3],[163,2,163,3],[164,2,164,3],[165,2,165,3],[156,2,156,3],[157,2,157,3],[158,2,158,3],[159,2,159,3],[160,2,160,3],[151,2,151,3],[152,2,152,3],[153,2,153,3],[154,2,154,3],[155,2,155,3],[146,2,146,3],[147,2,147,3],[148,2,148,3],[149,2,149,3],[150,2,150,3],[141,2,141,3],[142,2,142,3],[143,2,143,3],[144,2,144,3],[145,2,145,3],[136,2,136,3],[137,2,137,3],[138,2,138,3],[139,2,139,3],[140,2,140,3],[131,2,131,3],[132,2,132,3],[133,2,133,3],[134,2,134,3],[135,2,135,3],[126,2,126,3],[127,2,127,3],[128,2,128,3],[129,2,129,3],[130,2,130,3],[121,2,121,3],[122,2,122,3],[123,2,123,3],[124,2,124,3],[125,2,125,3],[116,2,116,3],[117,2,117,3],[118,2,118,3],[119,2,119,3],[120,2,120,3],[111,2,111,3],[112,2,112,3],[113,2,113,3],[114,2,114,3],[115,2,115,3],[106,2,106,3],[107,2,107,3],[108,2,108,3],[109,2,109,3],[110,2,110,3],[101,2,101,3],[102,2,102,3],[103,2,103,3],[104,2,104,3],[105,2,105,3],[96,2,96,3],[97,2,97,3],[98,2,98,3],[99,2,99,3],[100,2,100,3],[91,2,91,3],[92,2,92,3],[93,2,93,3],[94,2,94,3],[95,2,95,3],[90,2,90,3],[79,2,79,3],[80,2,80,3],[81,2,81,3],[82,2,82,3],[83,2,83,3],[84,2,84,3],[85,2,85,3],[86,2,86,3],[87,2,87,3],[88,2,88,3],[89,2,89,3],[78,2,78,3],[67,2,67,3],[68,2,68,3],[69,2,69,3],[70,2,70,3],[71,2,71,3],[72,2,72,3],[73,2,73,3],[74,2,74,3],[75,2,75,3],[76,2,76,3],[77,2,77,3],[66,2,66,3],[55,2,55,3],[56,2,56,3],[57,2,57,3],[58,2,58,3],[59,2,59,3],[60,2,60,3],[61,2,61,3],[62,2,62,3],[63,2,63,3],[64,2,64,3],[65,2,65,3],[54,2,54,3],[43,2,43,3],[44,2,44,3],[45,2,45,3],[46,2,46,3],[47,2,47,3],[48,2,48,3],[49,2,49,3],[50,2,50,3],[51,2,51,3],[52,2,52,3],[53,2,53,3],[42,2,42,3],[31,2,31,3],[32,2,32,3],[33,2,33,3],[34,2,34,3],[35,2,35,3],[36,2,36,3],[37,2,37,3],[38,2,38,3],[39,2,39,3],[40,2,40,3],[41,2,41,3],[30,2,30,3],[19,2,19,3],[20,2,20,3],[21,2,21,3],[22,2,22,3],[23,2,23,3],[24,2,24,3],[25,2,25,3],[26,2,26,3],[27,2,27,3],[28,2,28,3],[29,2,29,3],[18,2,18,3],[7,2,7,3],[8,2,8,3],[9,2,9,3],[10,2,10,3],[11,2,11,3],[12,2,12,3],[13,2,13,3],[14,2,14,3],[15,2,15,3],[16,2,16,3],[17,2,17,3]]}
[null,null,null,null,null,null,null,null,null,null,null,{"$f":"ROW()","v":1},null,{"$f":"CONCATENATE(\"'COST ESTIMATE SUMMARY'!$B$1:$J$\",MAX(L1:L480))","v":"'COST ESTIMATE SUMMARY'!$B$1:$J$8"}]
[null,null,"Date:",null,null,"Base Construction Cost",null,null,{"$f":"SUM(I9:I300)","v":0},null,null,{"$f":"ROW()","v":2}]
[null,null,"Latecomer Agreement #:",null,null,"Sales Tax",0.10100000000000001,null,{"$f":"I2*G3","v":0},null,null,{"$f":"ROW()","v":3}]
[null,null,"Project Name:",null,null,"Total Estimated Cost",null,null,{"$f":"I2+I3","v":0},null,null,{"$f":"ROW()","v":4}]
[null,null,"Project Contact Name/e-mail:",null,null,null,null,null,null,null,null,{"$f":"ROW()","v":5}]
[null,null,"Estimate By:",null,null,null,null,null,null,null,null,{"$f":"ROW()","v":6}]
[null,null,null,null,null,null,null,"* If other unit cost applies",null,null,null,{"$f":"ROW()","v":7}]
[null,"Bid Item","Item",null,"Unit","Quantity","Standard Unit Cost","* Custom Unit Cost","Total Cost","Add'l Info Provided",null,{"$f":"ROW()","v":8}]
[1,{"$f":"IF(IFERROR(INDIRECT(CONCATENATE(\"'UNITCOST ITEMS (Data Entry)'!D\",IFERROR(SUM(MATCH(A9,'UNITCOST ITEMS (Data Entry)'!$A$3:$A$504,0),2),\"\"))),\"\")=0,\"\",IFERROR(INDIRECT(CONCATENATE(\"'UNITCOST ITEMS (Data Entry)'!D\",IFERROR(SUM(MATCH(A9,'UNITCOST ITEMS (Data Entry)'!$A$3:$A$504,0),2),\"\"))),\"\"))","v":""},{"$f":"IF(IFERROR(INDIRECT(CONCATENATE(\"'UNITCOST ITEMS (Data Entry)'!E\",IFERROR(SUM(MATCH(A9,'UNITCOST ITEMS (Data Entry)'!$A$3:$A$504,0),2),\"\"))),\"\")=0,\"\",IFERROR(INDIRECT(CONCATENATE(\"'UNITCOST ITEMS (Data Entry)'!E\",IFERROR(SUM(MATCH(A9,'UNITCOST ITEMS (Data Entry)'!$A$3:$A$504,0),2),\"\"))),\"\"))","v":""},null,{"$f":"IF(IFERROR(INDIRECT(CONCATENATE(\"'UNITCOST ITEMS (Data Entry)'!F\",IFERROR(SUM(MATCH(A9,'UNITCOST ITEMS (Data Entry)'!$A$3:$A$504,0),2),\"\"))),\"\")=0,\"\",IFERROR(INDIRECT(CONCATENATE(\"'UNITCOST ITEMS (Data Entry)'!F\",IFERROR(SUM(MATCH(A9,'UNITCOST ITEMS (Data Entry)'!$A$3:$A$504,0),2),\"\"))),\"\"))","v":""},{"$f":"IF(IFERROR(INDIRECT(CONCATENATE(\"'UNITCOST ITEMS (Data Entry)'!G\",IFERROR(SUM(MATCH(A9,'UNITCOST ITEMS (Data Entry)'!$A$3:$A$504,0),2),\"\"))),\"\")=0,\"\",IFERROR(INDIRECT(CONCATENATE(\"'UNITCOST ITEMS (Data Entry)'!G\",IFERROR(SUM(MATCH(A9,'UNITCOST ITEMS (Data Entry)'!$A$3:$A$504,0),2),\"\"))),\"\"))","v":""},{"$f":"IF(IFERROR(INDIRECT(CONCATENATE(\"'UNITCOST ITEMS (Data Entry)'!H\",IFERROR(SUM(MATCH(A9,'UNITCOST ITEMS (Data Entry)'!$A$3:$A$504,0),2),\"\"))),\"\")=0,\"\",IFERROR(INDIRECT(CONCATENATE(\"'UNITCOST ITEMS (Data Entry)'!H\",IFERROR(SUM(MATCH(A9,'UNITCOST ITEMS (Data Entry)'!$A$3:$A$504,0),2),\"\"))),\"\"))","v":""},{"$f":"IF(IFERROR(INDIRECT(CONCATENATE(\"'UNITCOST ITEMS (Data Entry)'!I\",IFERROR(SUM(MATCH(A9,'UNITCOST ITEMS (Data Entry)'!$A$3:$A$504,0),2),\"\"))),\"\")=0,\"\",IFERROR(INDIRECT(CONCATENATE(\"'UNITCOST ITEMS (Data Entry)'!I\",IFERROR(SUM(MATCH(A9,'UNITCOST ITEMS (Data Entry)'!$A$3:$A$504,0),2),\"\"))),\"\"))","v":""},{"$f":"IF(K9=2,\"\",IF(IFERROR(INDIRECT(CONCATENATE(\"'UNITCOST ITEMS (Data Entry)'!J\",IFERROR(SUM(MATCH(A9,'UNITCOST ITEMS (Data Entry)'!$A$3:$A$504,0),2),\"\"))),\"\")=0,\"\",IFERROR(INDIRECT(CONCATENATE(\"'UNITCOST ITEMS (Data Entry)'!J\",IFERROR(SUM(MATCH(A9,'UNITCOST ITEMS (Data Entry)'!$A$3:$A$504,0),2),\"\"))),\"\")))","v":""},null,{"$f":"IF(IFERROR(INDIRECT(CONCATENATE(\"'UNITCOST ITEMS (Data Entry)'!C\",IFERROR(SUM(MATCH(A9,'UNITCOST ITEMS (Data Entry)'!$A$3:$A$504,0),2),\"\"))),\"\")=0,\"\",IFERROR(INDIRECT(CONCATENATE(\"'UNITCOST ITEMS (Data Entry)'!C\",IFERROR(SUM(MATCH(A9,'UNITCOST ITEMS (Data Entry)'!$A$3:$A$504,0),2),\"\"))),\"\"))","v":""},{"$f":"IF(K9<>\"\",ROW(),\"\")","v":""}]
[{"$f":"A9+1","v":2},{"$f":"IF(IFERROR(INDIRECT(CONCATENATE(\"'UNITCOST ITEMS (Data Entry)'!D\",IFERROR(SUM(MATCH(A10,'UNITCOST ITEMS (Data Entry)'!$A$3:$A$504,0),2),\"\"))),\"\")=0,\"\",IFERROR(INDIRECT(CONCATENATE(\"'UNITCOST ITEMS (Data Entry)'!D\",IFERROR(SUM(MATCH(A10,'UNITCOST ITEMS (Data Entry)'!$A$3:$A$504,0),2),\"\"))),\"\"))","v":""},{"$f":"IF(IFERROR(INDIRECT(CONCATENATE(\"'UNITCOST ITEMS (Data Entry)'!E\",IFERROR(SUM(MATCH(A10,'UNITCOST ITEMS (Data Entry)'!$A$3:$A$504,0),2),\"\"))),\"\")=0,\"\",IFERROR(INDIRECT(CONCATENATE(\"'UNITCOST ITEMS (Data Entry)'!E\",IFERROR(SUM(MATCH(A10,'UNITCOST ITEMS (Data Entry)'!$A$3:$A$504,0),2),\"\"))),\"\"))","v":""},null,{"$f":"IF(IFERROR(INDIRECT(CONCATENATE(\"'UNITCOST ITEMS (Data Entry)'!F\",IFERROR(SUM(MATCH(A10,'UNITCOST ITEMS (Data Entry)'!$A$3:$A$504,0),2),\"\"))),\"\")=0,\"\",IFERROR(INDIRECT(CONCATENATE(\"'UNITCOST ITEMS (Data Entry)'!F\",IFERROR(SUM(MATCH(A10,'UNITCOST ITEMS (Data Entry)'!$A$3:$A$504,0),2),\"\"))),\"\"))","v":""},{"$f":"IF(IFERROR(INDIRECT(CONCATENATE(\"'UNITCOST ITEMS (Data Entry)'!G\",IFERROR(SUM(MATCH(A10,'UNITCOST ITEMS (Data Entry)'!$A$3:$A$504,0),2),\"\"))),\"\")=0,\"\",IFERROR(INDIRECT(CONCATENATE(\"'UNITCOST ITEMS (Data Entry)'!G\",IFERROR(SUM(MATCH(A10,'UNITCOST ITEMS (Data Entry)'!$A$3:$A$504,0),2),\"\"))),\"\"))","v":""},{"$f":"IF(IFERROR(INDIRECT(CONCATENATE(\"'UNITCOST ITEMS (Data Entry)'!H\",IFERROR(SUM(MATCH(A10,'UNITCOST ITEMS (Data Entry)'!$A$3:$A$504,0),2),\"\"))),\"\")=0,\"\",IFERROR(INDIRECT(CONCATENATE(\"'UNITCOST ITEMS (Data Entry)'!H\",IFERROR(SUM(MATCH(A10,'UNITCOST ITEMS (Data Entry)'!$A$3:$A$504,0),2),\"\"))),\"\"))","v":""},{"$f":"IF(IFERROR(INDIRECT(CONCATENATE(\"'UNITCOST ITEMS (Data Entry)'!I\",IFERROR(SUM(MATCH(A10,'UNITCOST ITEMS (Data Entry)'!$A$3:$A$504,0),2),\"\"))),\"\")=0,\"\",IFERROR(INDIRECT(CONCATENATE(\"'UNITCOST ITEMS (Data Entry)'!I\",IFERROR(SUM(MATCH(A10,'UNITCOST ITEMS (Data Entry)'!$A$3:$A$504,0),2),\"\"))),\"\"))","v":""},{"$f":"IF(K10=2,\"\",IF(IFERROR(INDIRECT(CONCATENATE(\"'UNITCOST ITEMS (Data Entry)'!J\",IFERROR(SUM(MATCH(A10,'UNITCOST ITEMS (Data Entry)'!$A$3:$A$504,0),2),\"\"))),\"\")=0,\"\",IFERROR(INDIRECT(CONCATENATE(\"'UNITCOST ITEMS (Data Entry)'!J\",IFERROR(SUM(MATCH(A10,'UNITCOST ITEMS (Data Entry)'!$A$3:$A$504,0),2),\"\"))),\"\")))","v":""},null,{"$f":"IF(IFERROR(INDIRECT(CONCATENATE(\"'UNITCOST ITEMS (Data Entry)'!C\",IFERROR(SUM(MATCH(A10,'UNITCOST ITEMS (Data Entry)'!$A$3:$A$504,0),2),\"\"))),\"\")=0,\"\",IFERROR(INDIRECT(CONCATENATE(\"'UNITCOST ITEMS (Data Entry)'!C\",IFERROR(SUM(MATCH(A10,'UNITCOST ITEMS (Data Entry)'!$A$3:$A$504,0),2),\"\"))),\"\"))","v":""},{"$f":"IF(K10<>\"\",ROW(),\"\")","v":""}]
[{"$f":"A10+1","v":3},{"$f":"IF(IFERROR(INDIRECT(CONCATENATE(\"'UNITCOST ITEMS (Data Entry)'!D\",IFERROR(SUM(MATCH(A11,'UNITCOST ITEMS (Data Entry)'!$A$3:$A$504,0),2),\"\"))),\"\")=0,\"\",IFERROR(INDIRECT(CONCATENATE(\"'UNITCOST ITEMS (Data Entry)'!D\",IFERROR(SUM(MATCH(A11,'UNITCOST ITEMS (Data Entry)'!$A$3:$A$504,0),2),\"\"))),\"\"))","v":""},{"$f":"IF(IFERROR(INDIRECT(CONCATENATE(\"'UNITCOST ITEMS (Data Entry)'!E\",IFERROR(SUM(MATCH(A11,'UNITCOST ITEMS (Data Entry)'!$A$3:$A$504,0),2),\"\"))),\"\")=0,\"\",IFERROR(INDIRECT(CONCATENATE(\"'UNITCOST ITEMS (Data Entry)'!E\",IFERROR(SUM(MATCH(A11,'UNITCOST ITEMS (Data Entry)'!$A$3:$A$504,0),2),\"\"))),\"\"))","v":""},null,{"$f":"IF(IFERROR(INDIRECT(CONCATENATE(\"'UNITCOST ITEMS (Data Entry)'!F\",IFERROR(SUM(MATCH(A11,'UNITCOST ITEMS (Data Entry)'!$A$3:$A$504,0),2),\"\"))),\"\")=0,\"\",IFERROR(INDIRECT(CONCATENATE(\"'UNITCOST ITEMS (Data Entry)'!F\",IFERROR(SUM(MATCH(A11,'UNITCOST ITEMS (Data Entry)'!$A$3:$A$504,0),2),\"\"))),\"\"))","v":""},{"$f":"IF(IFERROR(INDIRECT(CONCATENATE(\"'UNITCOST ITEMS (Data Entry)'!G\",IFERROR(SUM(MATCH(A11,'UNITCOST ITEMS (Data Entry)'!$A$3:$A$504,0),2),\"\"))),\"\")=0,\"\",IFERROR(INDIRECT(CONCATENATE(\"'UNITCOST ITEMS (Data Entry)'!G\",IFERROR(SUM(MATCH(A11,'UNITCOST ITEMS (Data Entry)'!$A$3:$A$504,0),2),\"\"))),\"\"))","v":""},{"$f":"IF(IFERROR(INDIRECT(CONCATENATE(\"'UNITCOST ITEMS (Data Entry)'!H\",IFERROR(SUM(MATCH(A11,'UNITCOST ITEMS (Data Entry)'!$A$3:$A$504,0),2),\"\"))),\"\")=0,\"\",IFERROR(INDIRECT(CONCATENATE(\"'UNITCOST ITEMS (Data Entry)'!H\",IFERROR(SUM(MATCH(A11,'UNITCOST ITEMS (Data Entry)'!$A$3:$A$504,0),2),\"\"))),\"\"))","v":""},{"$f":"IF(IFERROR(INDIRECT(CONCATENATE(\"'UNITCOST ITEMS (Data Entry)'!I\",IFERROR(SUM(MATCH(A11,'UNITCOST ITEMS (Data Entry)'!$A$3:$A$504,0),2),\"\"))),\"\")=0,\"\",IFERROR(INDIRECT(CONCATENATE(\"'UNITCOST ITEMS (Data Entry)'!I\",IFERROR(SUM(MATCH(A11,'UNITCOST ITEMS (Data Entry)'!$A$3:$A$504,0),2),\"\"))),\"\"))","v":""},{"$f":"IF(K11=2,\"\",IF(IFERROR(INDIRECT(CONCATENATE(\"'UNITCOST ITEMS (Data Entry)'!J\",IFERROR(SUM(MATCH(A11,'UNITCOST ITEMS (Data Entry)'!$A$3:$A$504,0),2),\"\"))),\"\")=0,\"\",IFERROR(INDIRECT(CONCATENATE(\"'UNITCOST ITEMS (Data Entry)'!J\",IFERROR(SUM(MATCH(A11,'UNITCOST ITEMS (Data Entry)'!$A$3:$A$504,0),2),\"\"))),\"\")))","v":""},null,{"$f":"IF(IFERROR(INDIRECT(CONCATENATE(\"'UNITCOST ITEMS (Data Entry)'!C\",IFERROR(SUM(MATCH(A11,'UNITCOST ITEMS (Data Entry)'!$A$3:$A$504,0),2),\"\"))),\"\")=0,\"\",IFERROR(INDIRECT(CONCATENATE(\"'UNITCOST ITEMS (Data Entry)'!C\",IFERROR(SUM(MATCH(A11,'UNITCOST ITEMS (Data Entry)'!$A$3:$A$504,0),2),\"\"))),\"\"))","v":""},""]
[4,{"$f":"IF(IFERROR(INDIRECT(CONCATENATE(\"'UNITCOST ITEMS (Data Entry)'!D\",IFERROR(SUM(MATCH(A12,'UNITCOST ITEMS (Data Entry)'!$A$3:$A$504,0),2),\"\"))),\"\")=0,\"\",IFERROR(INDIRECT(CONCATENATE(\"'UNITCOST ITEMS (Data Entry)'!D\",IFERROR(SUM(MATCH(A12,'UNITCOST ITEMS (Data Entry)'!$A$3:$A$504,0),2),\"\"))),\"\"))","v":""},{"$f":"IF(IFERROR(INDIRECT(CONCATENATE(\"'UNITCOST ITEMS (Data Entry)'!E\",IFERROR(SUM(MATCH(A12,'UNITCOST ITEMS (Data Entry)'!$A$3:$A$504,0),2),\"\"))),\"\")=0,\"\",IFERROR(INDIRECT(CONCATENATE(\"'UNITCOST ITEMS (Data Entry)'!E\",IFERROR(SUM(MATCH(A12,'UNITCOST ITEMS (Data Entry)'!$A$3:$A$504,0),2),\"\"))),\"\"))","v":""},null,{"$f":"IF(IFERROR(INDIRECT(CONCATENATE(\"'UNITCOST ITEMS (Data Entry)'!F\",IFERROR(SUM(MATCH(A12,'UNITCOST ITEMS (Data Entry)'!$A$3:$A$504,0),2),\"\"))),\"\")=0,\"\",IFERROR(INDIRECT(CONCATENATE(\"'UNITCOST ITEMS (Data Entry)'!F\",IFERROR(SUM(MATCH(A12,'UNITCOST ITEMS (Data Entry)'!$A$3:$A$504,0),2),\"\"))),\"\"))","v":""},{"$f":"IF(IFERROR(INDIRECT(CONCATENATE(\"'UNITCOST ITEMS (Data Entry)'!G\",IFERROR(SUM(MATCH(A12,'UNITCOST ITEMS (Data Entry)'!$A$3:$A$504,0),2),\"\"))),\"\")=0,\"\",IFERROR(INDIRECT(CONCATENATE(\"'UNITCOST ITEMS (Data Entry)'!G\",IFERROR(SUM(MATCH(A12,'UNITCOST ITEMS (Data Entry)'!$A$3:$A$504,0),2),\"\"))),\"\"))","v":""},{"$f":"IF(IFERROR(INDIRECT(CONCATENATE(\"'UNITCOST ITEMS (Data Entry)'!H\",IFERROR(SUM(MATCH(A12,'UNITCOST ITEMS (Data Entry)'!$A$3:$A$504,0),2),\"\"))),\"\")=0,\"\",IFERROR(INDIRECT(CONCATENATE(\"'UNITCOST ITEMS (Data Entry)'!H\",IFERROR(SUM(MATCH(A12,'UNITCOST ITEMS (Data Entry)'!$A$3:$A$504,0),2),\"\"))),\"\"))","v":""},{"$f":"IF(IFERROR(INDIRECT(CONCATENATE(\"'UNITCOST ITEMS (Data Entry)'!I\",IFERROR(SUM(MATCH(A12,'UNITCOST ITEMS (Data Entry)'!$A$3:$A$504,0),2),\"\"))),\"\")=0,\"\",IFERROR(INDIRECT(CONCATENATE(\"'UNITCOST ITEMS (Data Entry)'!I\",IFERROR(SUM(MATCH(A12,'UNITCOST ITEMS (Data Entry)'!$A$3:$A$504,0),2),\"\"))),\"\"))","v":""},{"$f":"IF(K12=2,\"\",IF(IFERROR(INDIRECT(CONCATENATE(\"'UNITCOST ITEMS (Data Entry)'!J\",IFERROR(SUM(MATCH(A12,'UNITCOST ITEMS (Data Entry)'!$A$3:$A$504,0),2),\"\"))),\"\")=0,\"\",IFERROR(INDIRECT(CONCATENATE(\"'UNITCOST ITEMS (Data Entry)'!J\",IFERROR(SUM(MATCH(A12,'UNITCOST ITEMS (Data Entry)'!$A$3:$A$504,0),2),\"\"))),\"\")))","v":""},null,{"$f":"IF(IFERROR(INDIRECT(CONCATENATE(\"'UNITCOST ITEMS (Data Entry)'!C\",IFERROR(SUM(MATCH(A12,'UNITCOST ITEMS (Data Entry)'!$A$3:$A$504,0),2),\"\"))),\"\")=0,\"\",IFERROR(INDIRECT(CONCATENATE(\"'UNITCOST ITEMS (Data Entry)'!C\",IFERROR(SUM(MATCH(A12,'UNITCOST ITEMS (Data Entry)'!$A$3:$A$504,0),2),\"\"))),\"\"))","v":""},""]
[5,{"$f":"IF(IFERROR(INDIRECT(CONCATENATE(\"'UNITCOST ITEMS (Data Entry)'!D\",IFERROR(SUM(MATCH(A13,'UNITCOST ITEMS (Data Entry)'!$A$3:$A$504,0),2),\"\"))),\"\")=0,\"\",IFERROR(INDIRECT(CONCATENATE(\"'UNITCOST ITEMS (Data Entry)'!D\",IFERROR(SUM(MATCH(A13,'UNITCOST ITEMS (Data Entry)'!$A$3:$A$504,0),2),\"\"))),\"\"))","v":""},{"$f":"IF(IFERROR(INDIRECT(CONCATENATE(\"'UNITCOST ITEMS (Data Entry)'!E\",IFERROR(SUM(MATCH(A13,'UNITCOST ITEMS (Data Entry)'!$A$3:$A$504,0),2),\"\"))),\"\")=0,\"\",IFERROR(INDIRECT(CONCATENATE(\"'UNITCOST ITEMS (Data Entry)'!E\",IFERROR(SUM(MATCH(A13,'UNITCOST ITEMS (Data Entry)'!$A$3:$A$504,0),2),\"\"))),\"\"))","v":""},null,{"$f":"IF(IFERROR(INDIRECT(CONCATENATE(\"'UNITCOST ITEMS (Data Entry)'!F\",IFERROR(SUM(MATCH(A13,'UNITCOST ITEMS (Data Entry)'!$A$3:$A$504,0),2),\"\"))),\"\")=0,\"\",IFERROR(INDIRECT(CONCATENATE(\"'UNITCOST ITEMS (Data Entry)'!F\",IFERROR(SUM(MATCH(A13,'UNITCOST ITEMS (Data Entry)'!$A$3:$A$504,0),2),\"\"))),\"\"))","v":""},{"$f":"IF(IFERROR(INDIRECT(CONCATENATE(\"'UNITCOST ITEMS (Data Entry)'!G\",IFERROR(SUM(MATCH(A13,'UNITCOST ITEMS (Data Entry)'!$A$3:$A$504,0),2),\"\"))),\"\")=0,\"\",IFERROR(INDIRECT(CONCATENATE(\"'UNITCOST ITEMS (Data Entry)'!G\",IFERROR(SUM(MATCH(A13,'UNITCOST ITEMS (Data Entry)'!$A$3:$A$504,0),2),\"\"))),\"\"))","v":""},{"$f":"IF(IFERROR(INDIRECT(CONCATENATE(\"'UNITCOST ITEMS (Data Entry)'!H\",IFERROR(SUM(MATCH(A13,'UNITCOST ITEMS (Data Entry)'!$A$3:$A$504,0),2),\"\"))),\"\")=0,\"\",IFERROR(INDIRECT(CONCATENATE(\"'UNITCOST ITEMS (Data Entry)'!H\",IFERROR(SUM(MATCH(A13,'UNITCOST ITEMS (Data Entry)'!$A$3:$A$504,0),2),\"\"))),\"\"))","v":""},{"$f":"IF(IFERROR(INDIRECT(CONCATENATE(\"'UNITCOST ITEMS (Data Entry)'!I\",IFERROR(SUM(MATCH(A13,'UNITCOST ITEMS (Data Entry)'!$A$3:$A$504,0),2),\"\"))),\"\")=0,\"\",IFERROR(INDIRECT(CONCATENATE(\"'UNITCOST ITEMS (Data Entry)'!I\",IFERROR(SUM(MATCH(A13,'UNITCOST ITEMS (Data Entry)'!$A$3:$A$504,0),2),\"\"))),\"\"))","v":""},{"$f":"IF(K13=2,\"\",IF(IFERROR(INDIRECT(CONCATENATE(\"'UNITCOST ITEMS (Data Entry)'!J\",IFERROR(SUM(MATCH(A13,'UNITCOST ITEMS (Data Entry)'!$A$3:$A$504,0),2),\"\"))),\"\")=0,\"\",IFERROR(INDIRECT(CONCATENATE(\"'UNITCOST ITEMS (Data Entry)'!J\",IFERROR(SUM(MATCH(A13,'UNITCOST ITEMS (Data Entry)'!$A$3:$A$504,0),2),\"\"))),\"\")))","v":""},null,{"$f":"IF(IFERROR(INDIRECT(CONCATENATE(\"'UNITCOST ITEMS (Data Entry)'!C\",IFERROR(SUM(MATCH(A13,'UNITCOST ITEMS (Data Entry)'!$A$3:$A$504,0),2),\"\"))),\"\")=0,\"\",IFERROR(INDIRECT(CONCATENATE(\"'UNITCOST ITEMS (Data Entry)'!C\",IFERROR(SUM(MATCH(A13,'UNITCOST ITEMS (Data Entry)'!$A$3:$A$504,0),2),\"\"))),\"\"))","v":""},""]
[6,{"$f":"IF(IFERROR(INDIRECT(CONCATENATE(\"'UNITCOST ITEMS (Data Entry)'!D\",IFERROR(SUM(MATCH(A14,'UNITCOST ITEMS (Data Entry)'!$A$3:$A$504,0),2),\"\"))),\"\")=0,\"\",IFERROR(INDIRECT(CONCATENATE(\"'UNITCOST ITEMS (Data Entry)'!D\",IFERROR(SUM(MATCH(A14,'UNITCOST ITEMS (Data Entry)'!$A$3:$A$504,0),2),\"\"))),\"\"))","v":""},{"$f":"IF(IFERROR(INDIRECT(CONCATENATE(\"'UNITCOST ITEMS (Data Entry)'!E\",IFERROR(SUM(MATCH(A14,'UNITCOST ITEMS (Data Entry)'!$A$3:$A$504,0),2),\"\"))),\"\")=0,\"\",IFERROR(INDIRECT(CONCATENATE(\"'UNITCOST ITEMS (Data Entry)'!E\",IFERROR(SUM(MATCH(A14,'UNITCOST ITEMS (Data Entry)'!$A$3:$A$504,0),2),\"\"))),\"\"))","v":""},null,{"$f":"IF(IFERROR(INDIRECT(CONCATENATE(\"'UNITCOST ITEMS (Data Entry)'!F\",IFERROR(SUM(MATCH(A14,'UNITCOST ITEMS (Data Entry)'!$A$3:$A$504,0),2),\"\"))),\"\")=0,\"\",IFERROR(INDIRECT(CONCATENATE(\"'UNITCOST ITEMS (Data Entry)'!F\",IFERROR(SUM(MATCH(A14,'UNITCOST ITEMS (Data Entry)'!$A$3:$A$504,0),2),\"\"))),\"\"))","v":""},{"$f":"IF(IFERROR(INDIRECT(CONCATENATE(\"'UNITCOST ITEMS (Data Entry)'!G\",IFERROR(SUM(MATCH(A14,'UNITCOST ITEMS (Data Entry)'!$A$3:$A$504,0),2),\"\"))),\"\")=0,\"\",IFERROR(INDIRECT(CONCATENATE(\"'UNITCOST ITEMS (Data Entry)'!G\",IFERROR(SUM(MATCH(A14,'UNITCOST ITEMS (Data Entry)'!$A$3:$A$504,0),2),\"\"))),\"\"))","v":""},{"$f":"IF(IFERROR(INDIRECT(CONCATENATE(\"'UNITCOST ITEMS (Data Entry)'!H\",IFERROR(SUM(MATCH(A14,'UNITCOST ITEMS (Data Entry)'!$A$3:$A$504,0),2),\"\"))),\"\")=0,\"\",IFERROR(INDIRECT(CONCATENATE(\"'UNITCOST ITEMS (Data Entry)'!H\",IFERROR(SUM(MATCH(A14,'UNITCOST ITEMS (Data Entry)'!$A$3:$A$504,0),2),\"\"))),\"\"))","v":""},{"$f":"IF(IFERROR(INDIRECT(CONCATENATE(\"'UNITCOST ITEMS (Data Entry)'!I\",IFERROR(SUM(MATCH(A14,'UNITCOST ITEMS (Data Entry)'!$A$3:$A$504,0),2),\"\"))),\"\")=0,\"\",IFERROR(INDIRECT(CONCATENATE(\"'UNITCOST ITEMS (Data Entry)'!I\",IFERROR(SUM(MATCH(A14,'UNITCOST ITEMS (Data Entry)'!$A$3:$A$504,0),2),\"\"))),\"\"))","v":""},{"$f":"IF(K14=2,\"\",IF(IFERROR(INDIRECT(CONCATENATE(\"'UNITCOST ITEMS (Data Entry)'!J\",IFERROR(SUM(MATCH(A14,'UNITCOST ITEMS (Data Entry)'!$A$3:$A$504,0),2),\"\"))),\"\")=0,\"\",IFERROR(INDIRECT(CONCATENATE(\"'UNITCOST ITEMS (Data Entry)'!J\",IFERROR(SUM(MATCH(A14,'UNITCOST ITEMS (Data Entry)'!$A$3:$A$504,0),2),\"\"))),\"\")))","v":""},null,{"$f":"IF(IFERROR(INDIRECT(CONCATENATE(\"'UNITCOST ITEMS (Data Entry)'!C\",IFERROR(SUM(MATCH(A14,'UNITCOST ITEMS (Data Entry)'!$A$3:$A$504,0),2),\"\"))),\"\")=0,\"\",IFERROR(INDIRECT(CONCATENATE(\"'UNITCOST ITEMS (Data Entry)'!C\",IFERROR(SUM(MATCH(A14,'UNITCOST ITEMS (Data Entry)'!$A$3:$A$504,0),2),\"\"))),\"\"))","v":""},""]
[7,{"$f":"IF(IFERROR(INDIRECT(CONCATENATE(\"'UNITCOST ITEMS (Data Entry)'!D\",IFERROR(SUM(MATCH(A15,'UNITCOST ITEMS (Data Entry)'!$A$3:$A$504,0),2),\"\"))),\"\")=0,\"\",IFERROR(INDIRECT(CONCATENATE(\"'UNITCOST ITEMS (Data Entry)'!D\",IFERROR(SUM(MATCH(A15,'UNITCOST ITEMS (Data Entry)'!$A$3:$A$504,0),2),\"\"))),\"\"))","v":""},{"$f":"IF(IFERROR(INDIRECT(CONCATENATE(\"'UNITCOST ITEMS (Data Entry)'!E\",IFERROR(SUM(MATCH(A15,'UNITCOST ITEMS (Data Entry)'!$A$3:$A$504,0),2),\"\"))),\"\")=0,\"\",IFERROR(INDIRECT(CONCATENATE(\"'UNITCOST ITEMS (Data Entry)'!E\",IFERROR(SUM(MATCH(A15,'UNITCOST ITEMS (Data Entry)'!$A$3:$A$504,0),2),\"\"))),\"\"))","v":""},null,{"$f":"IF(IFERROR(INDIRECT(CONCATENATE(\"'UNITCOST ITEMS (Data Entry)'!F\",IFERROR(SUM(MATCH(A15,'UNITCOST ITEMS (Data Entry)'!$A$3:$A$504,0),2),\"\"))),\"\")=0,\"\",IFERROR(INDIRECT(CONCATENATE(\"'UNITCOST ITEMS (Data Entry)'!F\",IFERROR(SUM(MATCH(A15,'UNITCOST ITEMS (Data Entry)'!$A$3:$A$504,0),2),\"\"))),\"\"))","v":""},{"$f":"IF(IFERROR(INDIRECT(CONCATENATE(\"'UNITCOST ITEMS (Data Entry)'!G\",IFERROR(SUM(MATCH(A15,'UNITCOST ITEMS (Data Entry)'!$A$3:$A$504,0),2),\"\"))),\"\")=0,\"\",IFERROR(INDIRECT(CONCATENATE(\"'UNITCOST ITEMS (Data Entry)'!G\",IFERROR(SUM(MATCH(A15,'UNITCOST ITEMS (Data Entry)'!$A$3:$A$504,0),2),\"\"))),\"\"))","v":""},{"$f":"IF(IFERROR(INDIRECT(CONCATENATE(\"'UNITCOST ITEMS (Data Entry)'!H\",IFERROR(SUM(MATCH(A15,'UNITCOST ITEMS (Data Entry)'!$A$3:$A$504,0),2),\"\"))),\"\")=0,\"\",IFERROR(INDIRECT(CONCATENATE(\"'UNITCOST ITEMS (Data Entry)'!H\",IFERROR(SUM(MATCH(A15,'UNITCOST ITEMS (Data Entry)'!$A$3:$A$504,0),2),\"\"))),\"\"))","v":""},{"$f":"IF(IFERROR(INDIRECT(CONCATENATE(\"'UNITCOST ITEMS (Data Entry)'!I\",IFERROR(SUM(MATCH(A15,'UNITCOST ITEMS (Data Entry)'!$A$3:$A$504,0),2),\"\"))),\"\")=0,\"\",IFERROR(INDIRECT(CONCATENATE(\"'UNITCOST ITEMS (Data Entry)'!I\",IFERROR(SUM(MATCH(A15,'UNITCOST ITEMS (Data Entry)'!$A$3:$A$504,0),2),\"\"))),\"\"))","v":""},{"$f":"IF(K15=2,\"\",IF(IFERROR(INDIRECT(CONCATENATE(\"'UNITCOST ITEMS (Data Entry)'!J\",IFERROR(SUM(MATCH(A15,'UNITCOST ITEMS (Data Entry)'!$A$3:$A$504,0),2),\"\"))),\"\")=0,\"\",IFERROR(INDIRECT(CONCATENATE(\"'UNITCOST ITEMS (Data Entry)'!J\",IFERROR(SUM(MATCH(A15,'UNITCOST ITEMS (Data Entry)'!$A$3:$A$504,0),2),\"\"))),\"\")))","v":""},null,{"$f":"IF(IFERROR(INDIRECT(CONCATENATE(\"'UNITCOST ITEMS (Data Entry)'!C\",IFERROR(SUM(MATCH(A15,'UNITCOST ITEMS (Data Entry)'!$A$3:$A$504,0),2),\"\"))),\"\")=0,\"\",IFERROR(INDIRECT(CONCATENATE(\"'UNITCOST ITEMS (Data Entry)'!C\",IFERROR(SUM(MATCH(A15,'UNITCOST ITEMS (Data Entry)'!$A$3:$A$504,0),2),\"\"))),\"\"))","v":""},""]
[8,{"$f":"IF(IFERROR(INDIRECT(CONCATENATE(\"'UNITCOST ITEMS (Data Entry)'!D\",IFERROR(SUM(MATCH(A16,'UNITCOST ITEMS (Data Entry)'!$A$3:$A$504,0),2),\"\"))),\"\")=0,\"\",IFERROR(INDIRECT(CONCATENATE(\"'UNITCOST ITEMS (Data Entry)'!D\",IFERROR(SUM(MATCH(A16,'UNITCOST ITEMS (Data Entry)'!$A$3:$A$504,0),2),\"\"))),\"\"))","v":""},{"$f":"IF(IFERROR(INDIRECT(CONCATENATE(\"'UNITCOST ITEMS (Data Entry)'!E\",IFERROR(SUM(MATCH(A16,'UNITCOST ITEMS (Data Entry)'!$A$3:$A$504,0),2),\"\"))),\"\")=0,\"\",IFERROR(INDIRECT(CONCATENATE(\"'UNITCOST ITEMS (Data Entry)'!E\",IFERROR(SUM(MATCH(A16,'UNITCOST ITEMS (Data Entry)'!$A$3:$A$504,0),2),\"\"))),\"\"))","v":""},null,{"$f":"IF(IFERROR(INDIRECT(CONCATENATE(\"'UNITCOST ITEMS (Data Entry)'!F\",IFERROR(SUM(MATCH(A16,'UNITCOST ITEMS (Data Entry)'!$A$3:$A$504,0),2),\"\"))),\"\")=0,\"\",IFERROR(INDIRECT(CONCATENATE(\"'UNITCOST ITEMS (Data Entry)'!F\",IFERROR(SUM(MATCH(A16,'UNITCOST ITEMS (Data Entry)'!$A$3:$A$504,0),2),\"\"))),\"\"))","v":""},{"$f":"IF(IFERROR(INDIRECT(CONCATENATE(\"'UNITCOST ITEMS (Data Entry)'!G\",IFERROR(SUM(MATCH(A16,'UNITCOST ITEMS (Data Entry)'!$A$3:$A$504,0),2),\"\"))),\"\")=0,\"\",IFERROR(INDIRECT(CONCATENATE(\"'UNITCOST ITEMS (Data Entry)'!G\",IFERROR(SUM(MATCH(A16,'UNITCOST ITEMS (Data Entry)'!$A$3:$A$504,0),2),\"\"))),\"\"))","v":""},{"$f":"IF(IFERROR(INDIRECT(CONCATENATE(\"'UNITCOST ITEMS (Data Entry)'!H\",IFERROR(SUM(MATCH(A16,'UNITCOST ITEMS (Data Entry)'!$A$3:$A$504,0),2),\"\"))),\"\")=0,\"\",IFERROR(INDIRECT(CONCATENATE(\"'UNITCOST ITEMS (Data Entry)'!H\",IFERROR(SUM(MATCH(A16,'UNITCOST ITEMS (Data Entry)'!$A$3:$A$504,0),2),\"\"))),\"\"))","v":""},{"$f":"IF(IFERROR(INDIRECT(CONCATENATE(\"'UNITCOST ITEMS (Data Entry)'!I\",IFERROR(SUM(MATCH(A16,'UNITCOST ITEMS (Data Entry)'!$A$3:$A$504,0),2),\"\"))),\"\")=0,\"\",IFERROR(INDIRECT(CONCATENATE(\"'UNITCOST ITEMS (Data Entry)'!I\",IFERROR(SUM(MATCH(A16,'UNITCOST ITEMS (Data Entry)'!$A$3:$A$504,0),2),\"\"))),\"\"))","v":""},{"$f":"IF(K16=2,\"\",IF(IFERROR(INDIRECT(CONCATENATE(\"'UNITCOST ITEMS (Data Entry)'!J\",IFERROR(SUM(MATCH(A16,'UNITCOST ITEMS (Data Entry)'!$A$3:$A$504,0),2),\"\"))),\"\")=0,\"\",IFERROR(INDIRECT(CONCATENATE(\"'UNITCOST ITEMS (Data Entry)'!J\",IFERROR(SUM(MATCH(A16,'UNITCOST ITEMS (Data Entry)'!$A$3:$A$504,0),2),\"\"))),\"\")))","v":""},null,{"$f":"IF(IFERROR(INDIRECT(CONCATENATE(\"'UNITCOST ITEMS (Data Entry)'!C\",IFERROR(SUM(MATCH(A16,'UNITCOST ITEMS (Data Entry)'!$A$3:$A$504,0),2),\"\"))),\"\")=0,\"\",IFERROR(INDIRECT(CONCATENATE(\"'UNITCOST ITEMS (Data Entry)'!C\",IFERROR(SUM(MATCH(A16,'UNITCOST ITEMS (Data Entry)'!$A$3:$A$504,0),2),\"\"))),\"\"))","v":""},""]
[9,{"$f":"IF(IFERROR(INDIRECT(CONCATENATE(\"'UNITCOST ITEMS (Data Entry)'!D\",IFERROR(SUM(MATCH(A17,'UNITCOST ITEMS (Data Entry)'!$A$3:$A$504,0),2),\"\"))),\"\")=0,\"\",IFERROR(INDIRECT(CONCATENATE(\"'UNITCOST ITEMS (Data Entry)'!D\",IFERROR(SUM(MATCH(A17,'UNITCOST ITEMS (Data Entry)'!$A$3:$A$504,0),2),\"\"))),\"\"))","v":""},{"$f":"IF(IFERROR(INDIRECT(CONCATENATE(\"'UNITCOST ITEMS (Data Entry)'!E\",IFERROR(SUM(MATCH(A17,'UNITCOST ITEMS (Data Entry)'!$A$3:$A$504,0),2),\"\"))),\"\")=0,\"\",IFERROR(INDIRECT(CONCATENATE(\"'UNITCOST ITEMS (Data Entry)'!E\",IFERROR(SUM(MATCH(A17,'UNITCOST ITEMS (Data Entry)'!$A$3:$A$504,0),2),\"\"))),\"\"))","v":""},null,{"$f":"IF(IFERROR(INDIRECT(CONCATENATE(\"'UNITCOST ITEMS (Data Entry)'!F\",IFERROR(SUM(MATCH(A17,'UNITCOST ITEMS (Data Entry)'!$A$3:$A$504,0),2),\"\"))),\"\")=0,\"\",IFERROR(INDIRECT(CONCATENATE(\"'UNITCOST ITEMS (Data Entry)'!F\",IFERROR(SUM(MATCH(A17,'UNITCOST ITEMS (Data Entry)'!$A$3:$A$504,0),2),\"\"))),\"\"))","v":""},{"$f":"IF(IFERROR(INDIRECT(CONCATENATE(\"'UNITCOST ITEMS (Data Entry)'!G\",IFERROR(SUM(MATCH(A17,'UNITCOST ITEMS (Data Entry)'!$A$3:$A$504,0),2),\"\"))),\"\")=0,\"\",IFERROR(INDIRECT(CONCATENATE(\"'UNITCOST ITEMS (Data Entry)'!G\",IFERROR(SUM(MATCH(A17,'UNITCOST ITEMS (Data Entry)'!$A$3:$A$504,0),2),\"\"))),\"\"))","v":""},{"$f":"IF(IFERROR(INDIRECT(CONCATENATE(\"'UNITCOST ITEMS (Data Entry)'!H\",IFERROR(SUM(MATCH(A17,'UNITCOST ITEMS (Data Entry)'!$A$3:$A$504,0),2),\"\"))),\"\")=0,\"\",IFERROR(INDIRECT(CONCATENATE(\"'UNITCOST ITEMS (Data Entry)'!H\",IFERROR(SUM(MATCH(A17,'UNITCOST ITEMS (Data Entry)'!$A$3:$A$504,0),2),\"\"))),\"\"))","v":""},{"$f":"IF(IFERROR(INDIRECT(CONCATENATE(\"'UNITCOST ITEMS (Data Entry)'!I\",IFERROR(SUM(MATCH(A17,'UNITCOST ITEMS (Data Entry)'!$A$3:$A$504,0),2),\"\"))),\"\")=0,\"\",IFERROR(INDIRECT(CONCATENATE(\"'UNITCOST ITEMS (Data Entry)'!I\",IFERROR(SUM(MATCH(A17,'UNITCOST ITEMS (Data Entry)'!$A$3:$A$504,0),2),\"\"))),\"\"))","v":""},{"$f":"IF(K17=2,\"\",IF(IFERROR(INDIRECT(CONCATENATE(\"'UNITCOST ITEMS (Data Entry)'!J\",IFERROR(SUM(MATCH(A17,'UNITCOST ITEMS (Data Entry)'!$A$3:$A$504,0),2),\"\"))),\"\")=0,\"\",IFERROR(INDIRECT(CONCATENATE(\"'UNITCOST ITEMS (Data Entry)'!J\",IFERROR(SUM(MATCH(A17,'UNITCOST ITEMS (Data Entry)'!$A$3:$A$504,0),2),\"\"))),\"\")))","v":""},null,{"$f":"IF(IFERROR(INDIRECT(CONCATENATE(\"'UNITCOST ITEMS (Data Entry)'!C\",IFERROR(SUM(MATCH(A17,'UNITCOST ITEMS (Data Entry)'!$A$3:$A$504,0),2),\"\"))),\"\")=0,\"\",IFERROR(INDIRECT(CONCATENATE(\"'UNITCOST ITEMS (Data Entry)'!C\",IFERROR(SUM(MATCH(A17,'UNITCOST ITEMS (Data Entry)'!$A$3:$A$504,0),2),\"\"))),\"\"))","v":""},""]
[10,{"$f":"IF(IFERROR(INDIRECT(CONCATENATE(\"'UNITCOST ITEMS (Data Entry)'!D\",IFERROR(SUM(MATCH(A18,'UNITCOST ITEMS (Data Entry)'!$A$3:$A$504,0),2),\"\"))),\"\")=0,\"\",IFERROR(INDIRECT(CONCATENATE(\"'UNITCOST ITEMS (Data Entry)'!D\",IFERROR(SUM(MATCH(A18,'UNITCOST ITEMS (Data Entry)'!$A$3:$A$504,0),2),\"\"))),\"\"))","v":""},{"$f":"IF(IFERROR(INDIRECT(CONCATENATE(\"'UNITCOST ITEMS (Data Entry)'!E\",IFERROR(SUM(MATCH(A18,'UNITCOST ITEMS (Data Entry)'!$A$3:$A$504,0),2),\"\"))),\"\")=0,\"\",IFERROR(INDIRECT(CONCATENATE(\"'UNITCOST ITEMS (Data Entry)'!E\",IFERROR(SUM(MATCH(A18,'UNITCOST ITEMS (Data Entry)'!$A$3:$A$504,0),2),\"\"))),\"\"))","v":""},null,{"$f":"IF(IFERROR(INDIRECT(CONCATENATE(\"'UNITCOST ITEMS (Data Entry)'!F\",IFERROR(SUM(MATCH(A18,'UNITCOST ITEMS (Data Entry)'!$A$3:$A$504,0),2),\"\"))),\"\")=0,\"\",IFERROR(INDIRECT(CONCATENATE(\"'UNITCOST ITEMS (Data Entry)'!F\",IFERROR(SUM(MATCH(A18,'UNITCOST ITEMS (Data Entry)'!$A$3:$A$504,0),2),\"\"))),\"\"))","v":""},{"$f":"IF(IFERROR(INDIRECT(CONCATENATE(\"'UNITCOST ITEMS (Data Entry)'!G\",IFERROR(SUM(MATCH(A18,'UNITCOST ITEMS (Data Entry)'!$A$3:$A$504,0),2),\"\"))),\"\")=0,\"\",IFERROR(INDIRECT(CONCATENATE(\"'UNITCOST ITEMS (Data Entry)'!G\",IFERROR(SUM(MATCH(A18,'UNITCOST ITEMS (Data Entry)'!$A$3:$A$504,0),2),\"\"))),\"\"))","v":""},{"$f":"IF(IFERROR(INDIRECT(CONCATENATE(\"'UNITCOST ITEMS (Data Entry)'!H\",IFERROR(SUM(MATCH(A18,'UNITCOST ITEMS (Data Entry)'!$A$3:$A$504,0),2),\"\"))),\"\")=0,\"\",IFERROR(INDIRECT(CONCATENATE(\"'UNITCOST ITEMS (Data Entry)'!H\",IFERROR(SUM(MATCH(A18,'UNITCOST ITEMS (Data Entry)'!$A$3:$A$504,0),2),\"\"))),\"\"))","v":""},{"$f":"IF(IFERROR(INDIRECT(CONCATENATE(\"'UNITCOST ITEMS (Data Entry)'!I\",IFERROR(SUM(MATCH(A18,'UNITCOST ITEMS (Data Entry)'!$A$3:$A$504,0),2),\"\"))),\"\")=0,\"\",IFERROR(INDIRECT(CONCATENATE(\"'UNITCOST ITEMS (Data Entry)'!I\",IFERROR(SUM(MATCH(A18,'UNITCOST ITEMS (Data Entry)'!$A$3:$A$504,0),2),\"\"))),\"\"))","v":""},{"$f":"IF(K18=2,\"\",IF(IFERROR(INDIRECT(CONCATENATE(\"'UNITCOST ITEMS (Data Entry)'!J\",IFERROR(SUM(MATCH(A18,'UNITCOST ITEMS (Data Entry)'!$A$3:$A$504,0),2),\"\"))),\"\")=0,\"\",IFERROR(INDIRECT(CONCATENATE(\"'UNITCOST ITEMS (Data Entry)'!J\",IFERROR(SUM(MATCH(A18,'UNITCOST ITEMS (Data Entry)'!$A$3:$A$504,0),2),\"\"))),\"\")))","v":""},null,{"$f":"IF(IFERROR(INDIRECT(CONCATENATE(\"'UNITCOST ITEMS (Data Entry)'!C\",IFERROR(SUM(MATCH(A18,'UNITCOST ITEMS (Data Entry)'!$A$3:$A$504,0),2),\"\"))),\"\")=0,\"\",IFERROR(INDIRECT(CONCATENATE(\"'UNITCOST ITEMS (Data Entry)'!C\",IFERROR(SUM(MATCH(A18,'UNITCOST ITEMS (Data Entry)'!$A$3:$A$504,0),2),\"\"))),\"\"))","v":""},""]
[11,{"$f":"IF(IFERROR(INDIRECT(CONCATENATE(\"'UNITCOST ITEMS (Data Entry)'!D\",IFERROR(SUM(MATCH(A19,'UNITCOST ITEMS (Data Entry)'!$A$3:$A$504,0),2),\"\"))),\"\")=0,\"\",IFERROR(INDIRECT(CONCATENATE(\"'UNITCOST ITEMS (Data Entry)'!D\",IFERROR(SUM(MATCH(A19,'UNITCOST ITEMS (Data Entry)'!$A$3:$A$504,0),2),\"\"))),\"\"))","v":""},{"$f":"IF(IFERROR(INDIRECT(CONCATENATE(\"'UNITCOST ITEMS (Data Entry)'!E\",IFERROR(SUM(MATCH(A19,'UNITCOST ITEMS (Data Entry)'!$A$3:$A$504,0),2),\"\"))),\"\")=0,\"\",IFERROR(INDIRECT(CONCATENATE(\"'UNITCOST ITEMS (Data Entry)'!E\",IFERROR(SUM(MATCH(A19,'UNITCOST ITEMS (Data Entry)'!$A$3:$A$504,0),2),\"\"))),\"\"))","v":""},null,{"$f":"IF(IFERROR(INDIRECT(CONCATENATE(\"'UNITCOST ITEMS (Data Entry)'!F\",IFERROR(SUM(MATCH(A19,'UNITCOST ITEMS (Data Entry)'!$A$3:$A$504,0),2),\"\"))),\"\")=0,\"\",IFERROR(INDIRECT(CONCATENATE(\"'UNITCOST ITEMS (Data Entry)'!F\",IFERROR(SUM(MATCH(A19,'UNITCOST ITEMS (Data Entry)'!$A$3:$A$504,0),2),\"\"))),\"\"))","v":""},{"$f":"IF(IFERROR(INDIRECT(CONCATENATE(\"'UNITCOST ITEMS (Data Entry)'!G\",IFERROR(SUM(MATCH(A19,'UNITCOST ITEMS (Data Entry)'!$A$3:$A$504,0),2),\"\"))),\"\")=0,\"\",IFERROR(INDIRECT(CONCATENATE(\"'UNITCOST ITEMS (Data Entry)'!G\",IFERROR(SUM(MATCH(A19,'UNITCOST ITEMS (Data Entry)'!$A$3:$A$504,0),2),\"\"))),\"\"))","v":""},{"$f":"IF(IFERROR(INDIRECT(CONCATENATE(\"'UNITCOST ITEMS (Data Entry)'!H\",IFERROR(SUM(MATCH(A19,'UNITCOST ITEMS (Data Entry)'!$A$3:$A$504,0),2),\"\"))),\"\")=0,\"\",IFERROR(INDIRECT(CONCATENATE(\"'UNITCOST ITEMS (Data Entry)'!H\",IFERROR(SUM(MATCH(A19,'UNITCOST ITEMS (Data Entry)'!$A$3:$A$504,0),2),\"\"))),\"\"))","v":""},{"$f":"IF(IFERROR(INDIRECT(CONCATENATE(\"'UNITCOST ITEMS (Data Entry)'!I\",IFERROR(SUM(MATCH(A19,'UNITCOST ITEMS (Data Entry)'!$A$3:$A$504,0),2),\"\"))),\"\")=0,\"\",IFERROR(INDIRECT(CONCATENATE(\"'UNITCOST ITEMS (Data Entry)'!I\",IFERROR(SUM(MATCH(A19,'UNITCOST ITEMS (Data Entry)'!$A$3:$A$504,0),2),\"\"))),\"\"))","v":""},{"$f":"IF(K19=2,\"\",IF(IFERROR(INDIRECT(CONCATENATE(\"'UNITCOST ITEMS (Data Entry)'!J\",IFERROR(SUM(MATCH(A19,'UNITCOST ITEMS (Data Entry)'!$A$3:$A$504,0),2),\"\"))),\"\")=0,\"\",IFERROR(INDIRECT(CONCATENATE(\"'UNITCOST ITEMS (Data Entry)'!J\",IFERROR(SUM(MATCH(A19,'UNITCOST ITEMS (Data Entry)'!$A$3:$A$504,0),2),\"\"))),\"\")))","v":""},null,{"$f":"IF(IFERROR(INDIRECT(CONCATENATE(\"'UNITCOST ITEMS (Data Entry)'!C\",IFERROR(SUM(MATCH(A19,'UNITCOST ITEMS (Data Entry)'!$A$3:$A$504,0),2),\"\"))),\"\")=0,\"\",IFERROR(INDIRECT(CONCATENATE(\"'UNITCOST ITEMS (Data Entry)'!C\",IFERROR(SUM(MATCH(A19,'UNITCOST ITEMS (Data Entry)'!$A$3:$A$504,0),2),\"\"))),\"\"))","v":""},""]
[12,{"$f":"IF(IFERROR(INDIRECT(CONCATENATE(\"'UNITCOST ITEMS (Data Entry)'!D\",IFERROR(SUM(MATCH(A20,'UNITCOST ITEMS (Data Entry)'!$A$3:$A$504,0),2),\"\"))),\"\")=0,\"\",IFERROR(INDIRECT(CONCATENATE(\"'UNITCOST ITEMS (Data Entry)'!D\",IFERROR(SUM(MATCH(A20,'UNITCOST ITEMS (Data Entry)'!$A$3:$A$504,0),2),\"\"))),\"\"))","v":""},{"$f":"IF(IFERROR(INDIRECT(CONCATENATE(\"'UNITCOST ITEMS (Data Entry)'!E\",IFERROR(SUM(MATCH(A20,'UNITCOST ITEMS (Data Entry)'!$A$3:$A$504,0),2),\"\"))),\"\")=0,\"\",IFERROR(INDIRECT(CONCATENATE(\"'UNITCOST ITEMS (Data Entry)'!E\",IFERROR(SUM(MATCH(A20,'UNITCOST ITEMS (Data Entry)'!$A$3:$A$504,0),2),\"\"))),\"\"))","v":""},null,{"$f":"IF(IFERROR(INDIRECT(CONCATENATE(\"'UNITCOST ITEMS (Data Entry)'!F\",IFERROR(SUM(MATCH(A20,'UNITCOST ITEMS (Data Entry)'!$A$3:$A$504,0),2),\"\"))),\"\")=0,\"\",IFERROR(INDIRECT(CONCATENATE(\"'UNITCOST ITEMS (Data Entry)'!F\",IFERROR(SUM(MATCH(A20,'UNITCOST ITEMS (Data Entry)'!$A$3:$A$504,0),2),\"\"))),\"\"))","v":""},{"$f":"IF(IFERROR(INDIRECT(CONCATENATE(\"'UNITCOST ITEMS (Data Entry)'!G\",IFERROR(SUM(MATCH(A20,'UNITCOST ITEMS (Data Entry)'!$A$3:$A$504,0),2),\"\"))),\"\")=0,\"\",IFERROR(INDIRECT(CONCATENATE(\"'UNITCOST ITEMS (Data Entry)'!G\",IFERROR(SUM(MATCH(A20,'UNITCOST ITEMS (Data Entry)'!$A$3:$A$504,0),2),\"\"))),\"\"))","v":""},{"$f":"IF(IFERROR(INDIRECT(CONCATENATE(\"'UNITCOST ITEMS (Data Entry)'!H\",IFERROR(SUM(MATCH(A20,'UNITCOST ITEMS (Data Entry)'!$A$3:$A$504,0),2),\"\"))),\"\")=0,\"\",IFERROR(INDIRECT(CONCATENATE(\"'UNITCOST ITEMS (Data Entry)'!H\",IFERROR(SUM(MATCH(A20,'UNITCOST ITEMS (Data Entry)'!$A$3:$A$504,0),2),\"\"))),\"\"))","v":""},{"$f":"IF(IFERROR(INDIRECT(CONCATENATE(\"'UNITCOST ITEMS (Data Entry)'!I\",IFERROR(SUM(MATCH(A20,'UNITCOST ITEMS (Data Entry)'!$A$3:$A$504,0),2),\"\"))),\"\")=0,\"\",IFERROR(INDIRECT(CONCATENATE(\"'UNITCOST ITEMS (Data Entry)'!I\",IFERROR(SUM(MATCH(A20,'UNITCOST ITEMS (Data Entry)'!$A$3:$A$504,0),2),\"\"))),\"\"))","v":""},{"$f":"IF(K20=2,\"\",IF(IFERROR(INDIRECT(CONCATENATE(\"'UNITCOST ITEMS (Data Entry)'!J\",IFERROR(SUM(MATCH(A20,'UNITCOST ITEMS (Data Entry)'!$A$3:$A$504,0),2),\"\"))),\"\")=0,\"\",IFERROR(INDIRECT(CONCATENATE(\"'UNITCOST ITEMS (Data Entry)'!J\",IFERROR(SUM(MATCH(A20,'UNITCOST ITEMS (Data Entry)'!$A$3:$A$504,0),2),\"\"))),\"\")))","v":""},null,{"$f":"IF(IFERROR(INDIRECT(CONCATENATE(\"'UNITCOST ITEMS (Data Entry)'!C\",IFERROR(SUM(MATCH(A20,'UNITCOST ITEMS (Data Entry)'!$A$3:$A$504,0),2),\"\"))),\"\")=0,\"\",IFERROR(INDIRECT(CONCATENATE(\"'UNITCOST ITEMS (Data Entry)'!C\",IFERROR(SUM(MATCH(A20,'UNITCOST ITEMS (Data Entry)'!$A$3:$A$504,0),2),\"\"))),\"\"))","v":""},""]
[13,{"$f":"IF(IFERROR(INDIRECT(CONCATENATE(\"'UNITCOST ITEMS (Data Entry)'!D\",IFERROR(SUM(MATCH(A21,'UNITCOST ITEMS (Data Entry)'!$A$3:$A$504,0),2),\"\"))),\"\")=0,\"\",IFERROR(INDIRECT(CONCATENATE(\"'UNITCOST ITEMS (Data Entry)'!D\",IFERROR(SUM(MATCH(A21,'UNITCOST ITEMS (Data Entry)'!$A$3:$A$504,0),2),\"\"))),\"\"))","v":""},{"$f":"IF(IFERROR(INDIRECT(CONCATENATE(\"'UNITCOST ITEMS (Data Entry)'!E\",IFERROR(SUM(MATCH(A21,'UNITCOST ITEMS (Data Entry)'!$A$3:$A$504,0),2),\"\"))),\"\")=0,\"\",IFERROR(INDIRECT(CONCATENATE(\"'UNITCOST ITEMS (Data Entry)'!E\",IFERROR(SUM(MATCH(A21,'UNITCOST ITEMS (Data Entry)'!$A$3:$A$504,0),2),\"\"))),\"\"))","v":""},null,{"$f":"IF(IFERROR(INDIRECT(CONCATENATE(\"'UNITCOST ITEMS (Data Entry)'!F\",IFERROR(SUM(MATCH(A21,'UNITCOST ITEMS (Data Entry)'!$A$3:$A$504,0),2),\"\"))),\"\")=0,\"\",IFERROR(INDIRECT(CONCATENATE(\"'UNITCOST ITEMS (Data Entry)'!F\",IFERROR(SUM(MATCH(A21,'UNITCOST ITEMS (Data Entry)'!$A$3:$A$504,0),2),\"\"))),\"\"))","v":""},{"$f":"IF(IFERROR(INDIRECT(CONCATENATE(\"'UNITCOST ITEMS (Data Entry)'!G\",IFERROR(SUM(MATCH(A21,'UNITCOST ITEMS (Data Entry)'!$A$3:$A$504,0),2),\"\"))),\"\")=0,\"\",IFERROR(INDIRECT(CONCATENATE(\"'UNITCOST ITEMS (Data Entry)'!G\",IFERROR(SUM(MATCH(A21,'UNITCOST ITEMS (Data Entry)'!$A$3:$A$504,0),2),\"\"))),\"\"))","v":""},{"$f":"IF(IFERROR(INDIRECT(CONCATENATE(\"'UNITCOST ITEMS (Data Entry)'!H\",IFERROR(SUM(MATCH(A21,'UNITCOST ITEMS (Data Entry)'!$A$3:$A$504,0),2),\"\"))),\"\")=0,\"\",IFERROR(INDIRECT(CONCATENATE(\"'UNITCOST ITEMS (Data Entry)'!H\",IFERROR(SUM(MATCH(A21,'UNITCOST ITEMS (Data Entry)'!$A$3:$A$504,0),2),\"\"))),\"\"))","v":""},{"$f":"IF(IFERROR(INDIRECT(CONCATENATE(\"'UNITCOST ITEMS (Data Entry)'!I\",IFERROR(SUM(MATCH(A21,'UNITCOST ITEMS (Data Entry)'!$A$3:$A$504,0),2),\"\"))),\"\")=0,\"\",IFERROR(INDIRECT(CONCATENATE(\"'UNITCOST ITEMS (Data Entry)'!I\",IFERROR(SUM(MATCH(A21,'UNITCOST ITEMS (Data Entry)'!$A$3:$A$504,0),2),\"\"))),\"\"))","v":""},{"$f":"IF(K21=2,\"\",IF(IFERROR(INDIRECT(CONCATENATE(\"'UNITCOST ITEMS (Data Entry)'!J\",IFERROR(SUM(MATCH(A21,'UNITCOST ITEMS (Data Entry)'!$A$3:$A$504,0),2),\"\"))),\"\")=0,\"\",IFERROR(INDIRECT(CONCATENATE(\"'UNITCOST ITEMS (Data Entry)'!J\",IFERROR(SUM(MATCH(A21,'UNITCOST ITEMS (Data Entry)'!$A$3:$A$504,0),2),\"\"))),\"\")))","v":""},null,{"$f":"IF(IFERROR(INDIRECT(CONCATENATE(\"'UNITCOST ITEMS (Data Entry)'!C\",IFERROR(SUM(MATCH(A21,'UNITCOST ITEMS (Data Entry)'!$A$3:$A$504,0),2),\"\"))),\"\")=0,\"\",IFERROR(INDIRECT(CONCATENATE(\"'UNITCOST ITEMS (Data Entry)'!C\",IFERROR(SUM(MATCH(A21,'UNITCOST ITEMS (Data Entry)'!$A$3:$A$504,0),2),\"\"))),\"\"))","v":""},""]
[14,{"$f":"IF(IFERROR(INDIRECT(CONCATENATE(\"'UNITCOST ITEMS (Data Entry)'!D\",IFERROR(SUM(MATCH(A22,'UNITCOST ITEMS (Data Entry)'!$A$3:$A$504,0),2),\"\"))),\"\")=0,\"\",IFERROR(INDIRECT(CONCATENATE(\"'UNITCOST ITEMS (Data Entry)'!D\",IFERROR(SUM(MATCH(A22,'UNITCOST ITEMS (Data Entry)'!$A$3:$A$504,0),2),\"\"))),\"\"))","v":""},{"$f":"IF(IFERROR(INDIRECT(CONCATENATE(\"'UNITCOST ITEMS (Data Entry)'!E\",IFERROR(SUM(MATCH(A22,'UNITCOST ITEMS (Data Entry)'!$A$3:$A$504,0),2),\"\"))),\"\")=0,\"\",IFERROR(INDIRECT(CONCATENATE(\"'UNITCOST ITEMS (Data Entry)'!E\",IFERROR(SUM(MATCH(A22,'UNITCOST ITEMS (Data Entry)'!$A$3:$A$504,0),2),\"\"))),\"\"))","v":""},null,{"$f":"IF(IFERROR(INDIRECT(CONCATENATE(\"'UNITCOST ITEMS (Data Entry)'!F\",IFERROR(SUM(MATCH(A22,'UNITCOST ITEMS (Data Entry)'!$A$3:$A$504,0),2),\"\"))),\"\")=0,\"\",IFERROR(INDIRECT(CONCATENATE(\"'UNITCOST ITEMS (Data Entry)'!F\",IFERROR(SUM(MATCH(A22,'UNITCOST ITEMS (Data Entry)'!$A$3:$A$504,0),2),\"\"))),\"\"))","v":""},{"$f":"IF(IFERROR(INDIRECT(CONCATENATE(\"'UNITCOST ITEMS (Data Entry)'!G\",IFERROR(SUM(MATCH(A22,'UNITCOST ITEMS (Data Entry)'!$A$3:$A$504,0),2),\"\"))),\"\")=0,\"\",IFERROR(INDIRECT(CONCATENATE(\"'UNITCOST ITEMS (Data Entry)'!G\",IFERROR(SUM(MATCH(A22,'UNITCOST ITEMS (Data Entry)'!$A$3:$A$504,0),2),\"\"))),\"\"))","v":""},{"$f":"IF(IFERROR(INDIRECT(CONCATENATE(\"'UNITCOST ITEMS (Data Entry)'!H\",IFERROR(SUM(MATCH(A22,'UNITCOST ITEMS (Data Entry)'!$A$3:$A$504,0),2),\"\"))),\"\")=0,\"\",IFERROR(INDIRECT(CONCATENATE(\"'UNITCOST ITEMS (Data Entry)'!H\",IFERROR(SUM(MATCH(A22,'UNITCOST ITEMS (Data Entry)'!$A$3:$A$504,0),2),\"\"))),\"\"))","v":""},{"$f":"IF(IFERROR(INDIRECT(CONCATENATE(\"'UNITCOST ITEMS (Data Entry)'!I\",IFERROR(SUM(MATCH(A22,'UNITCOST ITEMS (Data Entry)'!$A$3:$A$504,0),2),\"\"))),\"\")=0,\"\",IFERROR(INDIRECT(CONCATENATE(\"'UNITCOST ITEMS (Data Entry)'!I\",IFERROR(SUM(MATCH(A22,'UNITCOST ITEMS (Data Entry)'!$A$3:$A$504,0),2),\"\"))),\"\"))","v":""},{"$f":"IF(K22=2,\"\",IF(IFERROR(INDIRECT(CONCATENATE(\"'UNITCOST ITEMS (Data Entry)'!J\",IFERROR(SUM(MATCH(A22,'UNITCOST ITEMS (Data Entry)'!$A$3:$A$504,0),2),\"\"))),\"\")=0,\"\",IFERROR(INDIRECT(CONCATENATE(\"'UNITCOST ITEMS (Data Entry)'!J\",IFERROR(SUM(MATCH(A22,'UNITCOST ITEMS (Data Entry)'!$A$3:$A$504,0),2),\"\"))),\"\")))","v":""},null,{"$f":"IF(IFERROR(INDIRECT(CONCATENATE(\"'UNITCOST ITEMS (Data Entry)'!C\",IFERROR(SUM(MATCH(A22,'UNITCOST ITEMS (Data Entry)'!$A$3:$A$504,0),2),\"\"))),\"\")=0,\"\",IFERROR(INDIRECT(CONCATENATE(\"'UNITCOST ITEMS (Data Entry)'!C\",IFERROR(SUM(MATCH(A22,'UNITCOST ITEMS (Data Entry)'!$A$3:$A$504,0),2),\"\"))),\"\"))","v":""},""]
[15,{"$f":"IF(IFERROR(INDIRECT(CONCATENATE(\"'UNITCOST ITEMS (Data Entry)'!D\",IFERROR(SUM(MATCH(A23,'UNITCOST ITEMS (Data Entry)'!$A$3:$A$504,0),2),\"\"))),\"\")=0,\"\",IFERROR(INDIRECT(CONCATENATE(\"'UNITCOST ITEMS (Data Entry)'!D\",IFERROR(SUM(MATCH(A23,'UNITCOST ITEMS (Data Entry)'!$A$3:$A$504,0),2),\"\"))),\"\"))","v":""},{"$f":"IF(IFERROR(INDIRECT(CONCATENATE(\"'UNITCOST ITEMS (Data Entry)'!E\",IFERROR(SUM(MATCH(A23,'UNITCOST ITEMS (Data Entry)'!$A$3:$A$504,0),2),\"\"))),\"\")=0,\"\",IFERROR(INDIRECT(CONCATENATE(\"'UNITCOST ITEMS (Data Entry)'!E\",IFERROR(SUM(MATCH(A23,'UNITCOST ITEMS (Data Entry)'!$A$3:$A$504,0),2),\"\"))),\"\"))","v":""},null,{"$f":"IF(IFERROR(INDIRECT(CONCATENATE(\"'UNITCOST ITEMS (Data Entry)'!F\",IFERROR(SUM(MATCH(A23,'UNITCOST ITEMS (Data Entry)'!$A$3:$A$504,0),2),\"\"))),\"\")=0,\"\",IFERROR(INDIRECT(CONCATENATE(\"'UNITCOST ITEMS (Data Entry)'!F\",IFERROR(SUM(MATCH(A23,'UNITCOST ITEMS (Data Entry)'!$A$3:$A$504,0),2),\"\"))),\"\"))","v":""},{"$f":"IF(IFERROR(INDIRECT(CONCATENATE(\"'UNITCOST ITEMS (Data Entry)'!G\",IFERROR(SUM(MATCH(A23,'UNITCOST ITEMS (Data Entry)'!$A$3:$A$504,0),2),\"\"))),\"\")=0,\"\",IFERROR(INDIRECT(CONCATENATE(\"'UNITCOST ITEMS (Data Entry)'!G\",IFERROR(SUM(MATCH(A23,'UNITCOST ITEMS (Data Entry)'!$A$3:$A$504,0),2),\"\"))),\"\"))","v":""},{"$f":"IF(IFERROR(INDIRECT(CONCATENATE(\"'UNITCOST ITEMS (Data Entry)'!H\",IFERROR(SUM(MATCH(A23,'UNITCOST ITEMS (Data Entry)'!$A$3:$A$504,0),2),\"\"))),\"\")=0,\"\",IFERROR(INDIRECT(CONCATENATE(\"'UNITCOST ITEMS (Data Entry)'!H\",IFERROR(SUM(MATCH(A23,'UNITCOST ITEMS (Data Entry)'!$A$3:$A$504,0),2),\"\"))),\"\"))","v":""},{"$f":"IF(IFERROR(INDIRECT(CONCATENATE(\"'UNITCOST ITEMS (Data Entry)'!I\",IFERROR(SUM(MATCH(A23,'UNITCOST ITEMS (Data Entry)'!$A$3:$A$504,0),2),\"\"))),\"\")=0,\"\",IFERROR(INDIRECT(CONCATENATE(\"'UNITCOST ITEMS (Data Entry)'!I\",IFERROR(SUM(MATCH(A23,'UNITCOST ITEMS (Data Entry)'!$A$3:$A$504,0),2),\"\"))),\"\"))","v":""},{"$f":"IF(K23=2,\"\",IF(IFERROR(INDIRECT(CONCATENATE(\"'UNITCOST ITEMS (Data Entry)'!J\",IFERROR(SUM(MATCH(A23,'UNITCOST ITEMS (Data Entry)'!$A$3:$A$504,0),2),\"\"))),\"\")=0,\"\",IFERROR(INDIRECT(CONCATENATE(\"'UNITCOST ITEMS (Data Entry)'!J\",IFERROR(SUM(MATCH(A23,'UNITCOST ITEMS (Data Entry)'!$A$3:$A$504,0),2),\"\"))),\"\")))","v":""},null,{"$f":"IF(IFERROR(INDIRECT(CONCATENATE(\"'UNITCOST ITEMS (Data Entry)'!C\",IFERROR(SUM(MATCH(A23,'UNITCOST ITEMS (Data Entry)'!$A$3:$A$504,0),2),\"\"))),\"\")=0,\"\",IFERROR(INDIRECT(CONCATENATE(\"'UNITCOST ITEMS (Data Entry)'!C\",IFERROR(SUM(MATCH(A23,'UNITCOST ITEMS (Data Entry)'!$A$3:$A$504,0),2),\"\"))),\"\"))","v":""},""]
[16,{"$f":"IF(IFERROR(INDIRECT(CONCATENATE(\"'UNITCOST ITEMS (Data Entry)'!D\",IFERROR(SUM(MATCH(A24,'UNITCOST ITEMS (Data Entry)'!$A$3:$A$504,0),2),\"\"))),\"\")=0,\"\",IFERROR(INDIRECT(CONCATENATE(\"'UNITCOST ITEMS (Data Entry)'!D\",IFERROR(SUM(MATCH(A24,'UNITCOST ITEMS (Data Entry)'!$A$3:$A$504,0),2),\"\"))),\"\"))","v":""},{"$f":"IF(IFERROR(INDIRECT(CONCATENATE(\"'UNITCOST ITEMS (Data Entry)'!E\",IFERROR(SUM(MATCH(A24,'UNITCOST ITEMS (Data Entry)'!$A$3:$A$504,0),2),\"\"))),\"\")=0,\"\",IFERROR(INDIRECT(CONCATENATE(\"'UNITCOST ITEMS (Data Entry)'!E\",IFERROR(SUM(MATCH(A24,'UNITCOST ITEMS (Data Entry)'!$A$3:$A$504,0),2),\"\"))),\"\"))","v":""},null,{"$f":"IF(IFERROR(INDIRECT(CONCATENATE(\"'UNITCOST ITEMS (Data Entry)'!F\",IFERROR(SUM(MATCH(A24,'UNITCOST ITEMS (Data Entry)'!$A$3:$A$504,0),2),\"\"))),\"\")=0,\"\",IFERROR(INDIRECT(CONCATENATE(\"'UNITCOST ITEMS (Data Entry)'!F\",IFERROR(SUM(MATCH(A24,'UNITCOST ITEMS (Data Entry)'!$A$3:$A$504,0),2),\"\"))),\"\"))","v":""},{"$f":"IF(IFERROR(INDIRECT(CONCATENATE(\"'UNITCOST ITEMS (Data Entry)'!G\",IFERROR(SUM(MATCH(A24,'UNITCOST ITEMS (Data Entry)'!$A$3:$A$504,0),2),\"\"))),\"\")=0,\"\",IFERROR(INDIRECT(CONCATENATE(\"'UNITCOST ITEMS (Data Entry)'!G\",IFERROR(SUM(MATCH(A24,'UNITCOST ITEMS (Data Entry)'!$A$3:$A$504,0),2),\"\"))),\"\"))","v":""},{"$f":"IF(IFERROR(INDIRECT(CONCATENATE(\"'UNITCOST ITEMS (Data Entry)'!H\",IFERROR(SUM(MATCH(A24,'UNITCOST ITEMS (Data Entry)'!$A$3:$A$504,0),2),\"\"))),\"\")=0,\"\",IFERROR(INDIRECT(CONCATENATE(\"'UNITCOST ITEMS (Data Entry)'!H\",IFERROR(SUM(MATCH(A24,'UNITCOST ITEMS (Data Entry)'!$A$3:$A$504,0),2),\"\"))),\"\"))","v":""},{"$f":"IF(IFERROR(INDIRECT(CONCATENATE(\"'UNITCOST ITEMS (Data Entry)'!I\",IFERROR(SUM(MATCH(A24,'UNITCOST ITEMS (Data Entry)'!$A$3:$A$504,0),2),\"\"))),\"\")=0,\"\",IFERROR(INDIRECT(CONCATENATE(\"'UNITCOST ITEMS (Data Entry)'!I\",IFERROR(SUM(MATCH(A24,'UNITCOST ITEMS (Data Entry)'!$A$3:$A$504,0),2),\"\"))),\"\"))","v":""},{"$f":"IF(K24=2,\"\",IF(IFERROR(INDIRECT(CONCATENATE(\"'UNITCOST ITEMS (Data Entry)'!J\",IFERROR(SUM(MATCH(A24,'UNITCOST ITEMS (Data Entry)'!$A$3:$A$504,0),2),\"\"))),\"\")=0,\"\",IFERROR(INDIRECT(CONCATENATE(\"'UNITCOST ITEMS (Data Entry)'!J\",IFERROR(SUM(MATCH(A24,'UNITCOST ITEMS (Data Entry)'!$A$3:$A$504,0),2),\"\"))),\"\")))","v":""},null,{"$f":"IF(IFERROR(INDIRECT(CONCATENATE(\"'UNITCOST ITEMS (Data Entry)'!C\",IFERROR(SUM(MATCH(A24,'UNITCOST ITEMS (Data Entry)'!$A$3:$A$504,0),2),\"\"))),\"\")=0,\"\",IFERROR(INDIRECT(CONCATENATE(\"'UNITCOST ITEMS (Data Entry)'!C\",IFERROR(SUM(MATCH(A24,'UNITCOST ITEMS (Data Entry)'!$A$3:$A$504,0),2),\"\"))),\"\"))","v":""},""]
[17,{"$f":"IF(IFERROR(INDIRECT(CONCATENATE(\"'UNITCOST ITEMS (Data Entry)'!D\",IFERROR(SUM(MATCH(A25,'UNITCOST ITEMS (Data Entry)'!$A$3:$A$504,0),2),\"\"))),\"\")=0,\"\",IFERROR(INDIRECT(CONCATENATE(\"'UNITCOST ITEMS (Data Entry)'!D\",IFERROR(SUM(MATCH(A25,'UNITCOST ITEMS (Data Entry)'!$A$3:$A$504,0),2),\"\"))),\"\"))","v":""},{"$f":"IF(IFERROR(INDIRECT(CONCATENATE(\"'UNITCOST ITEMS (Data Entry)'!E\",IFERROR(SUM(MATCH(A25,'UNITCOST ITEMS (Data Entry)'!$A$3:$A$504,0),2),\"\"))),\"\")=0,\"\",IFERROR(INDIRECT(CONCATENATE(\"'UNITCOST ITEMS (Data Entry)'!E\",IFERROR(SUM(MATCH(A25,'UNITCOST ITEMS (Data Entry)'!$A$3:$A$504,0),2),\"\"))),\"\"))","v":""},null,{"$f":"IF(IFERROR(INDIRECT(CONCATENATE(\"'UNITCOST ITEMS (Data Entry)'!F\",IFERROR(SUM(MATCH(A25,'UNITCOST ITEMS (Data Entry)'!$A$3:$A$504,0),2),\"\"))),\"\")=0,\"\",IFERROR(INDIRECT(CONCATENATE(\"'UNITCOST ITEMS (Data Entry)'!F\",IFERROR(SUM(MATCH(A25,'UNITCOST ITEMS (Data Entry)'!$A$3:$A$504,0),2),\"\"))),\"\"))","v":""},{"$f":"IF(IFERROR(INDIRECT(CONCATENATE(\"'UNITCOST ITEMS (Data Entry)'!G\",IFERROR(SUM(MATCH(A25,'UNITCOST ITEMS (Data Entry)'!$A$3:$A$504,0),2),\"\"))),\"\")=0,\"\",IFERROR(INDIRECT(CONCATENATE(\"'UNITCOST ITEMS (Data Entry)'!G\",IFERROR(SUM(MATCH(A25,'UNITCOST ITEMS (Data Entry)'!$A$3:$A$504,0),2),\"\"))),\"\"))","v":""},{"$f":"IF(IFERROR(INDIRECT(CONCATENATE(\"'UNITCOST ITEMS (Data Entry)'!H\",IFERROR(SUM(MATCH(A25,'UNITCOST ITEMS (Data Entry)'!$A$3:$A$504,0),2),\"\"))),\"\")=0,\"\",IFERROR(INDIRECT(CONCATENATE(\"'UNITCOST ITEMS (Data Entry)'!H\",IFERROR(SUM(MATCH(A25,'UNITCOST ITEMS (Data Entry)'!$A$3:$A$504,0),2),\"\"))),\"\"))","v":""},{"$f":"IF(IFERROR(INDIRECT(CONCATENATE(\"'UNITCOST ITEMS (Data Entry)'!I\",IFERROR(SUM(MATCH(A25,'UNITCOST ITEMS (Data Entry)'!$A$3:$A$504,0),2),\"\"))),\"\")=0,\"\",IFERROR(INDIRECT(CONCATENATE(\"'UNITCOST ITEMS (Data Entry)'!I\",IFERROR(SUM(MATCH(A25,'UNITCOST ITEMS (Data Entry)'!$A$3:$A$504,0),2),\"\"))),\"\"))","v":""},{"$f":"IF(K25=2,\"\",IF(IFERROR(INDIRECT(CONCATENATE(\"'UNITCOST ITEMS (Data Entry)'!J\",IFERROR(SUM(MATCH(A25,'UNITCOST ITEMS (Data Entry)'!$A$3:$A$504,0),2),\"\"))),\"\")=0,\"\",IFERROR(INDIRECT(CONCATENATE(\"'UNITCOST ITEMS (Data Entry)'!J\",IFERROR(SUM(MATCH(A25,'UNITCOST ITEMS (Data Entry)'!$A$3:$A$504,0),2),\"\"))),\"\")))","v":""},null,{"$f":"IF(IFERROR(INDIRECT(CONCATENATE(\"'UNITCOST ITEMS (Data Entry)'!C\",IFERROR(SUM(MATCH(A25,'UNITCOST ITEMS (Data Entry)'!$A$3:$A$504,0),2),\"\"))),\"\")=0,\"\",IFERROR(INDIRECT(CONCATENATE(\"'UNITCOST ITEMS (Data Entry)'!C\",IFERROR(SUM(MATCH(A25,'UNITCOST ITEMS (Data Entry)'!$A$3:$A$504,0),2),\"\"))),\"\"))","v":""},""]
[18,{"$f":"IF(IFERROR(INDIRECT(CONCATENATE(\"'UNITCOST ITEMS (Data Entry)'!D\",IFERROR(SUM(MATCH(A26,'UNITCOST ITEMS (Data Entry)'!$A$3:$A$504,0),2),\"\"))),\"\")=0,\"\",IFERROR(INDIRECT(CONCATENATE(\"'UNITCOST ITEMS (Data Entry)'!D\",IFERROR(SUM(MATCH(A26,'UNITCOST ITEMS (Data Entry)'!$A$3:$A$504,0),2),\"\"))),\"\"))","v":""},{"$f":"IF(IFERROR(INDIRECT(CONCATENATE(\"'UNITCOST ITEMS (Data Entry)'!E\",IFERROR(SUM(MATCH(A26,'UNITCOST ITEMS (Data Entry)'!$A$3:$A$504,0),2),\"\"))),\"\")=0,\"\",IFERROR(INDIRECT(CONCATENATE(\"'UNITCOST ITEMS (Data Entry)'!E\",IFERROR(SUM(MATCH(A26,'UNITCOST ITEMS (Data Entry)'!$A$3:$A$504,0),2),\"\"))),\"\"))","v":""},null,{"$f":"IF(IFERROR(INDIRECT(CONCATENATE(\"'UNITCOST ITEMS (Data Entry)'!F\",IFERROR(SUM(MATCH(A26,'UNITCOST ITEMS (Data Entry)'!$A$3:$A$504,0),2),\"\"))),\"\")=0,\"\",IFERROR(INDIRECT(CONCATENATE(\"'UNITCOST ITEMS (Data Entry)'!F\",IFERROR(SUM(MATCH(A26,'UNITCOST ITEMS (Data Entry)'!$A$3:$A$504,0),2),\"\"))),\"\"))","v":""},{"$f":"IF(IFERROR(INDIRECT(CONCATENATE(\"'UNITCOST ITEMS (Data Entry)'!G\",IFERROR(SUM(MATCH(A26,'UNITCOST ITEMS (Data Entry)'!$A$3:$A$504,0),2),\"\"))),\"\")=0,\"\",IFERROR(INDIRECT(CONCATENATE(\"'UNITCOST ITEMS (Data Entry)'!G\",IFERROR(SUM(MATCH(A26,'UNITCOST ITEMS (Data Entry)'!$A$3:$A$504,0),2),\"\"))),\"\"))","v":""},{"$f":"IF(IFERROR(INDIRECT(CONCATENATE(\"'UNITCOST ITEMS (Data Entry)'!H\",IFERROR(SUM(MATCH(A26,'UNITCOST ITEMS (Data Entry)'!$A$3:$A$504,0),2),\"\"))),\"\")=0,\"\",IFERROR(INDIRECT(CONCATENATE(\"'UNITCOST ITEMS (Data Entry)'!H\",IFERROR(SUM(MATCH(A26,'UNITCOST ITEMS (Data Entry)'!$A$3:$A$504,0),2),\"\"))),\"\"))","v":""},{"$f":"IF(IFERROR(INDIRECT(CONCATENATE(\"'UNITCOST ITEMS (Data Entry)'!I\",IFERROR(SUM(MATCH(A26,'UNITCOST ITEMS (Data Entry)'!$A$3:$A$504,0),2),\"\"))),\"\")=0,\"\",IFERROR(INDIRECT(CONCATENATE(\"'UNITCOST ITEMS (Data Entry)'!I\",IFERROR(SUM(MATCH(A26,'UNITCOST ITEMS (Data Entry)'!$A$3:$A$504,0),2),\"\"))),\"\"))","v":""},{"$f":"IF(K26=2,\"\",IF(IFERROR(INDIRECT(CONCATENATE(\"'UNITCOST ITEMS (Data Entry)'!J\",IFERROR(SUM(MATCH(A26,'UNITCOST ITEMS (Data Entry)'!$A$3:$A$504,0),2),\"\"))),\"\")=0,\"\",IFERROR(INDIRECT(CONCATENATE(\"'UNITCOST ITEMS (Data Entry)'!J\",IFERROR(SUM(MATCH(A26,'UNITCOST ITEMS (Data Entry)'!$A$3:$A$504,0),2),\"\"))),\"\")))","v":""},null,{"$f":"IF(IFERROR(INDIRECT(CONCATENATE(\"'UNITCOST ITEMS (Data Entry)'!C\",IFERROR(SUM(MATCH(A26,'UNITCOST ITEMS (Data Entry)'!$A$3:$A$504,0),2),\"\"))),\"\")=0,\"\",IFERROR(INDIRECT(CONCATENATE(\"'UNITCOST ITEMS (Data Entry)'!C\",IFERROR(SUM(MATCH(A26,'UNITCOST ITEMS (Data Entry)'!$A$3:$A$504,0),2),\"\"))),\"\"))","v":""},""]
[19,{"$f":"IF(IFERROR(INDIRECT(CONCATENATE(\"'UNITCOST ITEMS (Data Entry)'!D\",IFERROR(SUM(MATCH(A27,'UNITCOST ITEMS (Data Entry)'!$A$3:$A$504,0),2),\"\"))),\"\")=0,\"\",IFERROR(INDIRECT(CONCATENATE(\"'UNITCOST ITEMS (Data Entry)'!D\",IFERROR(SUM(MATCH(A27,'UNITCOST ITEMS (Data Entry)'!$A$3:$A$504,0),2),\"\"))),\"\"))","v":""},{"$f":"IF(IFERROR(INDIRECT(CONCATENATE(\"'UNITCOST ITEMS (Data Entry)'!E\",IFERROR(SUM(MATCH(A27,'UNITCOST ITEMS (Data Entry)'!$A$3:$A$504,0),2),\"\"))),\"\")=0,\"\",IFERROR(INDIRECT(CONCATENATE(\"'UNITCOST ITEMS (Data Entry)'!E\",IFERROR(SUM(MATCH(A27,'UNITCOST ITEMS (Data Entry)'!$A$3:$A$504,0),2),\"\"))),\"\"))","v":""},null,{"$f":"IF(IFERROR(INDIRECT(CONCATENATE(\"'UNITCOST ITEMS (Data Entry)'!F\",IFERROR(SUM(MATCH(A27,'UNITCOST ITEMS (Data Entry)'!$A$3:$A$504,0),2),\"\"))),\"\")=0,\"\",IFERROR(INDIRECT(CONCATENATE(\"'UNITCOST ITEMS (Data Entry)'!F\",IFERROR(SUM(MATCH(A27,'UNITCOST ITEMS (Data Entry)'!$A$3:$A$504,0),2),\"\"))),\"\"))","v":""},{"$f":"IF(IFERROR(INDIRECT(CONCATENATE(\"'UNITCOST ITEMS (Data Entry)'!G\",IFERROR(SUM(MATCH(A27,'UNITCOST ITEMS (Data Entry)'!$A$3:$A$504,0),2),\"\"))),\"\")=0,\"\",IFERROR(INDIRECT(CONCATENATE(\"'UNITCOST ITEMS (Data Entry)'!G\",IFERROR(SUM(MATCH(A27,'UNITCOST ITEMS (Data Entry)'!$A$3:$A$504,0),2),\"\"))),\"\"))","v":""},{"$f":"IF(IFERROR(INDIRECT(CONCATENATE(\"'UNITCOST ITEMS (Data Entry)'!H\",IFERROR(SUM(MATCH(A27,'UNITCOST ITEMS (Data Entry)'!$A$3:$A$504,0),2),\"\"))),\"\")=0,\"\",IFERROR(INDIRECT(CONCATENATE(\"'UNITCOST ITEMS (Data Entry)'!H\",IFERROR(SUM(MATCH(A27,'UNITCOST ITEMS (Data Entry)'!$A$3:$A$504,0),2),\"\"))),\"\"))","v":""},{"$f":"IF(IFERROR(INDIRECT(CONCATENATE(\"'UNITCOST ITEMS (Data Entry)'!I\",IFERROR(SUM(MATCH(A27,'UNITCOST ITEMS (Data Entry)'!$A$3:$A$504,0),2),\"\"))),\"\")=0,\"\",IFERROR(INDIRECT(CONCATENATE(\"'UNITCOST ITEMS (Data Entry)'!I\",IFERROR(SUM(MATCH(A27,'UNITCOST ITEMS (Data Entry)'!$A$3:$A$504,0),2),\"\"))),\"\"))","v":""},{"$f":"IF(K27=2,\"\",IF(IFERROR(INDIRECT(CONCATENATE(\"'UNITCOST ITEMS (Data Entry)'!J\",IFERROR(SUM(MATCH(A27,'UNITCOST ITEMS (Data Entry)'!$A$3:$A$504,0),2),\"\"))),\"\")=0,\"\",IFERROR(INDIRECT(CONCATENATE(\"'UNITCOST ITEMS (Data Entry)'!J\",IFERROR(SUM(MATCH(A27,'UNITCOST ITEMS (Data Entry)'!$A$3:$A$504,0),2),\"\"))),\"\")))","v":""},null,{"$f":"IF(IFERROR(INDIRECT(CONCATENATE(\"'UNITCOST ITEMS (Data Entry)'!C\",IFERROR(SUM(MATCH(A27,'UNITCOST ITEMS (Data Entry)'!$A$3:$A$504,0),2),\"\"))),\"\")=0,\"\",IFERROR(INDIRECT(CONCATENATE(\"'UNITCOST ITEMS (Data Entry)'!C\",IFERROR(SUM(MATCH(A27,'UNITCOST ITEMS (Data Entry)'!$A$3:$A$504,0),2),\"\"))),\"\"))","v":""},""]
[20,{"$f":"IF(IFERROR(INDIRECT(CONCATENATE(\"'UNITCOST ITEMS (Data Entry)'!D\",IFERROR(SUM(MATCH(A28,'UNITCOST ITEMS (Data Entry)'!$A$3:$A$504,0),2),\"\"))),\"\")=0,\"\",IFERROR(INDIRECT(CONCATENATE(\"'UNITCOST ITEMS (Data Entry)'!D\",IFERROR(SUM(MATCH(A28,'UNITCOST ITEMS (Data Entry)'!$A$3:$A$504,0),2),\"\"))),\"\"))","v":""},{"$f":"IF(IFERROR(INDIRECT(CONCATENATE(\"'UNITCOST ITEMS (Data Entry)'!E\",IFERROR(SUM(MATCH(A28,'UNITCOST ITEMS (Data Entry)'!$A$3:$A$504,0),2),\"\"))),\"\")=0,\"\",IFERROR(INDIRECT(CONCATENATE(\"'UNITCOST ITEMS (Data Entry)'!E\",IFERROR(SUM(MATCH(A28,'UNITCOST ITEMS (Data Entry)'!$A$3:$A$504,0),2),\"\"))),\"\"))","v":""},null,{"$f":"IF(IFERROR(INDIRECT(CONCATENATE(\"'UNITCOST ITEMS (Data Entry)'!F\",IFERROR(SUM(MATCH(A28,'UNITCOST ITEMS (Data Entry)'!$A$3:$A$504,0),2),\"\"))),\"\")=0,\"\",IFERROR(INDIRECT(CONCATENATE(\"'UNITCOST ITEMS (Data Entry)'!F\",IFERROR(SUM(MATCH(A28,'UNITCOST ITEMS (Data Entry)'!$A$3:$A$504,0),2),\"\"))),\"\"))","v":""},{"$f":"IF(IFERROR(INDIRECT(CONCATENATE(\"'UNITCOST ITEMS (Data Entry)'!G\",IFERROR(SUM(MATCH(A28,'UNITCOST ITEMS (Data Entry)'!$A$3:$A$504,0),2),\"\"))),\"\")=0,\"\",IFERROR(INDIRECT(CONCATENATE(\"'UNITCOST ITEMS (Data Entry)'!G\",IFERROR(SUM(MATCH(A28,'UNITCOST ITEMS (Data Entry)'!$A$3:$A$504,0),2),\"\"))),\"\"))","v":""},{"$f":"IF(IFERROR(INDIRECT(CONCATENATE(\"'UNITCOST ITEMS (Data Entry)'!H\",IFERROR(SUM(MATCH(A28,'UNITCOST ITEMS (Data Entry)'!$A$3:$A$504,0),2),\"\"))),\"\")=0,\"\",IFERROR(INDIRECT(CONCATENATE(\"'UNITCOST ITEMS (Data Entry)'!H\",IFERROR(SUM(MATCH(A28,'UNITCOST ITEMS (Data Entry)'!$A$3:$A$504,0),2),\"\"))),\"\"))","v":""},{"$f":"IF(IFERROR(INDIRECT(CONCATENATE(\"'UNITCOST ITEMS (Data Entry)'!I\",IFERROR(SUM(MATCH(A28,'UNITCOST ITEMS (Data Entry)'!$A$3:$A$504,0),2),\"\"))),\"\")=0,\"\",IFERROR(INDIRECT(CONCATENATE(\"'UNITCOST ITEMS (Data Entry)'!I\",IFERROR(SUM(MATCH(A28,'UNITCOST ITEMS (Data Entry)'!$A$3:$A$504,0),2),\"\"))),\"\"))","v":""},{"$f":"IF(K28=2,\"\",IF(IFERROR(INDIRECT(CONCATENATE(\"'UNITCOST ITEMS (Data Entry)'!J\",IFERROR(SUM(MATCH(A28,'UNITCOST ITEMS (Data Entry)'!$A$3:$A$504,0),2),\"\"))),\"\")=0,\"\",IFERROR(INDIRECT(CONCATENATE(\"'UNITCOST ITEMS (Data Entry)'!J\",IFERROR(SUM(MATCH(A28,'UNITCOST ITEMS (Data Entry)'!$A$3:$A$504,0),2),\"\"))),\"\")))","v":""},null,{"$f":"IF(IFERROR(INDIRECT(CONCATENATE(\"'UNITCOST ITEMS (Data Entry)'!C\",IFERROR(SUM(MATCH(A28,'UNITCOST ITEMS (Data Entry)'!$A$3:$A$504,0),2),\"\"))),\"\")=0,\"\",IFERROR(INDIRECT(CONCATENATE(\"'UNITCOST ITEMS (Data Entry)'!C\",IFERROR(SUM(MATCH(A28,'UNITCOST ITEMS (Data Entry)'!$A$3:$A$504,0),2),\"\"))),\"\"))","v":""},""]
[21,{"$f":"IF(IFERROR(INDIRECT(CONCATENATE(\"'UNITCOST ITEMS (Data Entry)'!D\",IFERROR(SUM(MATCH(A29,'UNITCOST ITEMS (Data Entry)'!$A$3:$A$504,0),2),\"\"))),\"\")=0,\"\",IFERROR(INDIRECT(CONCATENATE(\"'UNITCOST ITEMS (Data Entry)'!D\",IFERROR(SUM(MATCH(A29,'UNITCOST ITEMS (Data Entry)'!$A$3:$A$504,0),2),\"\"))),\"\"))","v":""},{"$f":"IF(IFERROR(INDIRECT(CONCATENATE(\"'UNITCOST ITEMS (Data Entry)'!E\",IFERROR(SUM(MATCH(A29,'UNITCOST ITEMS (Data Entry)'!$A$3:$A$504,0),2),\"\"))),\"\")=0,\"\",IFERROR(INDIRECT(CONCATENATE(\"'UNITCOST ITEMS (Data Entry)'!E\",IFERROR(SUM(MATCH(A29,'UNITCOST ITEMS (Data Entry)'!$A$3:$A$504,0),2),\"\"))),\"\"))","v":""},null,{"$f":"IF(IFERROR(INDIRECT(CONCATENATE(\"'UNITCOST ITEMS (Data Entry)'!F\",IFERROR(SUM(MATCH(A29,'UNITCOST ITEMS (Data Entry)'!$A$3:$A$504,0),2),\"\"))),\"\")=0,\"\",IFERROR(INDIRECT(CONCATENATE(\"'UNITCOST ITEMS (Data Entry)'!F\",IFERROR(SUM(MATCH(A29,'UNITCOST ITEMS (Data Entry)'!$A$3:$A$504,0),2),\"\"))),\"\"))","v":""},{"$f":"IF(IFERROR(INDIRECT(CONCATENATE(\"'UNITCOST ITEMS (Data Entry)'!G\",IFERROR(SUM(MATCH(A29,'UNITCOST ITEMS (Data Entry)'!$A$3:$A$504,0),2),\"\"))),\"\")=0,\"\",IFERROR(INDIRECT(CONCATENATE(\"'UNITCOST ITEMS (Data Entry)'!G\",IFERROR(SUM(MATCH(A29,'UNITCOST ITEMS (Data Entry)'!$A$3:$A$504,0),2),\"\"))),\"\"))","v":""},{"$f":"IF(IFERROR(INDIRECT(CONCATENATE(\"'UNITCOST ITEMS (Data Entry)'!H\",IFERROR(SUM(MATCH(A29,'UNITCOST ITEMS (Data Entry)'!$A$3:$A$504,0),2),\"\"))),\"\")=0,\"\",IFERROR(INDIRECT(CONCATENATE(\"'UNITCOST ITEMS (Data Entry)'!H\",IFERROR(SUM(MATCH(A29,'UNITCOST ITEMS (Data Entry)'!$A$3:$A$504,0),2),\"\"))),\"\"))","v":""},{"$f":"IF(IFERROR(INDIRECT(CONCATENATE(\"'UNITCOST ITEMS (Data Entry)'!I\",IFERROR(SUM(MATCH(A29,'UNITCOST ITEMS (Data Entry)'!$A$3:$A$504,0),2),\"\"))),\"\")=0,\"\",IFERROR(INDIRECT(CONCATENATE(\"'UNITCOST ITEMS (Data Entry)'!I\",IFERROR(SUM(MATCH(A29,'UNITCOST ITEMS (Data Entry)'!$A$3:$A$504,0),2),\"\"))),\"\"))","v":""},{"$f":"IF(K29=2,\"\",IF(IFERROR(INDIRECT(CONCATENATE(\"'UNITCOST ITEMS (Data Entry)'!J\",IFERROR(SUM(MATCH(A29,'UNITCOST ITEMS (Data Entry)'!$A$3:$A$504,0),2),\"\"))),\"\")=0,\"\",IFERROR(INDIRECT(CONCATENATE(\"'UNITCOST ITEMS (Data Entry)'!J\",IFERROR(SUM(MATCH(A29,'UNITCOST ITEMS (Data Entry)'!$A$3:$A$504,0),2),\"\"))),\"\")))","v":""},null,{"$f":"IF(IFERROR(INDIRECT(CONCATENATE(\"'UNITCOST ITEMS (Data Entry)'!C\",IFERROR(SUM(MATCH(A29,'UNITCOST ITEMS (Data Entry)'!$A$3:$A$504,0),2),\"\"))),\"\")=0,\"\",IFERROR(INDIRECT(CONCATENATE(\"'UNITCOST ITEMS (Data Entry)'!C\",IFERROR(SUM(MATCH(A29,'UNITCOST ITEMS (Data Entry)'!$A$3:$A$504,0),2),\"\"))),\"\"))","v":""},""]
[22,{"$f":"IF(IFERROR(INDIRECT(CONCATENATE(\"'UNITCOST ITEMS (Data Entry)'!D\",IFERROR(SUM(MATCH(A30,'UNITCOST ITEMS (Data Entry)'!$A$3:$A$504,0),2),\"\"))),\"\")=0,\"\",IFERROR(INDIRECT(CONCATENATE(\"'UNITCOST ITEMS (Data Entry)'!D\",IFERROR(SUM(MATCH(A30,'UNITCOST ITEMS (Data Entry)'!$A$3:$A$504,0),2),\"\"))),\"\"))","v":""},{"$f":"IF(IFERROR(INDIRECT(CONCATENATE(\"'UNITCOST ITEMS (Data Entry)'!E\",IFERROR(SUM(MATCH(A30,'UNITCOST ITEMS (Data Entry)'!$A$3:$A$504,0),2),\"\"))),\"\")=0,\"\",IFERROR(INDIRECT(CONCATENATE(\"'UNITCOST ITEMS (Data Entry)'!E\",IFERROR(SUM(MATCH(A30,'UNITCOST ITEMS (Data Entry)'!$A$3:$A$504,0),2),\"\"))),\"\"))","v":""},null,{"$f":"IF(IFERROR(INDIRECT(CONCATENATE(\"'UNITCOST ITEMS (Data Entry)'!F\",IFERROR(SUM(MATCH(A30,'UNITCOST ITEMS (Data Entry)'!$A$3:$A$504,0),2),\"\"))),\"\")=0,\"\",IFERROR(INDIRECT(CONCATENATE(\"'UNITCOST ITEMS (Data Entry)'!F\",IFERROR(SUM(MATCH(A30,'UNITCOST ITEMS (Data Entry)'!$A$3:$A$504,0),2),\"\"))),\"\"))","v":""},{"$f":"IF(IFERROR(INDIRECT(CONCATENATE(\"'UNITCOST ITEMS (Data Entry)'!G\",IFERROR(SUM(MATCH(A30,'UNITCOST ITEMS (Data Entry)'!$A$3:$A$504,0),2),\"\"))),\"\")=0,\"\",IFERROR(INDIRECT(CONCATENATE(\"'UNITCOST ITEMS (Data Entry)'!G\",IFERROR(SUM(MATCH(A30,'UNITCOST ITEMS (Data Entry)'!$A$3:$A$504,0),2),\"\"))),\"\"))","v":""},{"$f":"IF(IFERROR(INDIRECT(CONCATENATE(\"'UNITCOST ITEMS (Data Entry)'!H\",IFERROR(SUM(MATCH(A30,'UNITCOST ITEMS (Data Entry)'!$A$3:$A$504,0),2),\"\"))),\"\")=0,\"\",IFERROR(INDIRECT(CONCATENATE(\"'UNITCOST ITEMS (Data Entry)'!H\",IFERROR(SUM(MATCH(A30,'UNITCOST ITEMS (Data Entry)'!$A$3:$A$504,0),2),\"\"))),\"\"))","v":""},{"$f":"IF(IFERROR(INDIRECT(CONCATENATE(\"'UNITCOST ITEMS (Data Entry)'!I\",IFERROR(SUM(MATCH(A30,'UNITCOST ITEMS (Data Entry)'!$A$3:$A$504,0),2),\"\"))),\"\")=0,\"\",IFERROR(INDIRECT(CONCATENATE(\"'UNITCOST ITEMS (Data Entry)'!I\",IFERROR(SUM(MATCH(A30,'UNITCOST ITEMS (Data Entry)'!$A$3:$A$504,0),2),\"\"))),\"\"))","v":""},{"$f":"IF(K30=2,\"\",IF(IFERROR(INDIRECT(CONCATENATE(\"'UNITCOST ITEMS (Data Entry)'!J\",IFERROR(SUM(MATCH(A30,'UNITCOST ITEMS (Data Entry)'!$A$3:$A$504,0),2),\"\"))),\"\")=0,\"\",IFERROR(INDIRECT(CONCATENATE(\"'UNITCOST ITEMS (Data Entry)'!J\",IFERROR(SUM(MATCH(A30,'UNITCOST ITEMS (Data Entry)'!$A$3:$A$504,0),2),\"\"))),\"\")))","v":""},null,{"$f":"IF(IFERROR(INDIRECT(CONCATENATE(\"'UNITCOST ITEMS (Data Entry)'!C\",IFERROR(SUM(MATCH(A30,'UNITCOST ITEMS (Data Entry)'!$A$3:$A$504,0),2),\"\"))),\"\")=0,\"\",IFERROR(INDIRECT(CONCATENATE(\"'UNITCOST ITEMS (Data Entry)'!C\",IFERROR(SUM(MATCH(A30,'UNITCOST ITEMS (Data Entry)'!$A$3:$A$504,0),2),\"\"))),\"\"))","v":""},""]
[23,{"$f":"IF(IFERROR(INDIRECT(CONCATENATE(\"'UNITCOST ITEMS (Data Entry)'!D\",IFERROR(SUM(MATCH(A31,'UNITCOST ITEMS (Data Entry)'!$A$3:$A$504,0),2),\"\"))),\"\")=0,\"\",IFERROR(INDIRECT(CONCATENATE(\"'UNITCOST ITEMS (Data Entry)'!D\",IFERROR(SUM(MATCH(A31,'UNITCOST ITEMS (Data Entry)'!$A$3:$A$504,0),2),\"\"))),\"\"))","v":""},{"$f":"IF(IFERROR(INDIRECT(CONCATENATE(\"'UNITCOST ITEMS (Data Entry)'!E\",IFERROR(SUM(MATCH(A31,'UNITCOST ITEMS (Data Entry)'!$A$3:$A$504,0),2),\"\"))),\"\")=0,\"\",IFERROR(INDIRECT(CONCATENATE(\"'UNITCOST ITEMS (Data Entry)'!E\",IFERROR(SUM(MATCH(A31,'UNITCOST ITEMS (Data Entry)'!$A$3:$A$504,0),2),\"\"))),\"\"))","v":""},null,{"$f":"IF(IFERROR(INDIRECT(CONCATENATE(\"'UNITCOST ITEMS (Data Entry)'!F\",IFERROR(SUM(MATCH(A31,'UNITCOST ITEMS (Data Entry)'!$A$3:$A$504,0),2),\"\"))),\"\")=0,\"\",IFERROR(INDIRECT(CONCATENATE(\"'UNITCOST ITEMS (Data Entry)'!F\",IFERROR(SUM(MATCH(A31,'UNITCOST ITEMS (Data Entry)'!$A$3:$A$504,0),2),\"\"))),\"\"))","v":""},{"$f":"IF(IFERROR(INDIRECT(CONCATENATE(\"'UNITCOST ITEMS (Data Entry)'!G\",IFERROR(SUM(MATCH(A31,'UNITCOST ITEMS (Data Entry)'!$A$3:$A$504,0),2),\"\"))),\"\")=0,\"\",IFERROR(INDIRECT(CONCATENATE(\"'UNITCOST ITEMS (Data Entry)'!G\",IFERROR(SUM(MATCH(A31,'UNITCOST ITEMS (Data Entry)'!$A$3:$A$504,0),2),\"\"))),\"\"))","v":""},{"$f":"IF(IFERROR(INDIRECT(CONCATENATE(\"'UNITCOST ITEMS (Data Entry)'!H\",IFERROR(SUM(MATCH(A31,'UNITCOST ITEMS (Data Entry)'!$A$3:$A$504,0),2),\"\"))),\"\")=0,\"\",IFERROR(INDIRECT(CONCATENATE(\"'UNITCOST ITEMS (Data Entry)'!H\",IFERROR(SUM(MATCH(A31,'UNITCOST ITEMS (Data Entry)'!$A$3:$A$504,0),2),\"\"))),\"\"))","v":""},{"$f":"IF(IFERROR(INDIRECT(CONCATENATE(\"'UNITCOST ITEMS (Data Entry)'!I\",IFERROR(SUM(MATCH(A31,'UNITCOST ITEMS (Data Entry)'!$A$3:$A$504,0),2),\"\"))),\"\")=0,\"\",IFERROR(INDIRECT(CONCATENATE(\"'UNITCOST ITEMS (Data Entry)'!I\",IFERROR(SUM(MATCH(A31,'UNITCOST ITEMS (Data Entry)'!$A$3:$A$504,0),2),\"\"))),\"\"))","v":""},{"$f":"IF(K31=2,\"\",IF(IFERROR(INDIRECT(CONCATENATE(\"'UNITCOST ITEMS (Data Entry)'!J\",IFERROR(SUM(MATCH(A31,'UNITCOST ITEMS (Data Entry)'!$A$3:$A$504,0),2),\"\"))),\"\")=0,\"\",IFERROR(INDIRECT(CONCATENATE(\"'UNITCOST ITEMS (Data Entry)'!J\",IFERROR(SUM(MATCH(A31,'UNITCOST ITEMS (Data Entry)'!$A$3:$A$504,0),2),\"\"))),\"\")))","v":""},null,{"$f":"IF(IFERROR(INDIRECT(CONCATENATE(\"'UNITCOST ITEMS (Data Entry)'!C\",IFERROR(SUM(MATCH(A31,'UNITCOST ITEMS (Data Entry)'!$A$3:$A$504,0),2),\"\"))),\"\")=0,\"\",IFERROR(INDIRECT(CONCATENATE(\"'UNITCOST ITEMS (Data Entry)'!C\",IFERROR(SUM(MATCH(A31,'UNITCOST ITEMS (Data Entry)'!$A$3:$A$504,0),2),\"\"))),\"\"))","v":""},""]
[24,{"$f":"IF(IFERROR(INDIRECT(CONCATENATE(\"'UNITCOST ITEMS (Data Entry)'!D\",IFERROR(SUM(MATCH(A32,'UNITCOST ITEMS (Data Entry)'!$A$3:$A$504,0),2),\"\"))),\"\")=0,\"\",IFERROR(INDIRECT(CONCATENATE(\"'UNITCOST ITEMS (Data Entry)'!D\",IFERROR(SUM(MATCH(A32,'UNITCOST ITEMS (Data Entry)'!$A$3:$A$504,0),2),\"\"))),\"\"))","v":""},{"$f":"IF(IFERROR(INDIRECT(CONCATENATE(\"'UNITCOST ITEMS (Data Entry)'!E\",IFERROR(SUM(MATCH(A32,'UNITCOST ITEMS (Data Entry)'!$A$3:$A$504,0),2),\"\"))),\"\")=0,\"\",IFERROR(INDIRECT(CONCATENATE(\"'UNITCOST ITEMS (Data Entry)'!E\",IFERROR(SUM(MATCH(A32,'UNITCOST ITEMS (Data Entry)'!$A$3:$A$504,0),2),\"\"))),\"\"))","v":""},null,{"$f":"IF(IFERROR(INDIRECT(CONCATENATE(\"'UNITCOST ITEMS (Data Entry)'!F\",IFERROR(SUM(MATCH(A32,'UNITCOST ITEMS (Data Entry)'!$A$3:$A$504,0),2),\"\"))),\"\")=0,\"\",IFERROR(INDIRECT(CONCATENATE(\"'UNITCOST ITEMS (Data Entry)'!F\",IFERROR(SUM(MATCH(A32,'UNITCOST ITEMS (Data Entry)'!$A$3:$A$504,0),2),\"\"))),\"\"))","v":""},{"$f":"IF(IFERROR(INDIRECT(CONCATENATE(\"'UNITCOST ITEMS (Data Entry)'!G\",IFERROR(SUM(MATCH(A32,'UNITCOST ITEMS (Data Entry)'!$A$3:$A$504,0),2),\"\"))),\"\")=0,\"\",IFERROR(INDIRECT(CONCATENATE(\"'UNITCOST ITEMS (Data Entry)'!G\",IFERROR(SUM(MATCH(A32,'UNITCOST ITEMS (Data Entry)'!$A$3:$A$504,0),2),\"\"))),\"\"))","v":""},{"$f":"IF(IFERROR(INDIRECT(CONCATENATE(\"'UNITCOST ITEMS (Data Entry)'!H\",IFERROR(SUM(MATCH(A32,'UNITCOST ITEMS (Data Entry)'!$A$3:$A$504,0),2),\"\"))),\"\")=0,\"\",IFERROR(INDIRECT(CONCATENATE(\"'UNITCOST ITEMS (Data Entry)'!H\",IFERROR(SUM(MATCH(A32,'UNITCOST ITEMS (Data Entry)'!$A$3:$A$504,0),2),\"\"))),\"\"))","v":""},{"$f":"IF(IFERROR(INDIRECT(CONCATENATE(\"'UNITCOST ITEMS (Data Entry)'!I\",IFERROR(SUM(MATCH(A32,'UNITCOST ITEMS (Data Entry)'!$A$3:$A$504,0),2),\"\"))),\"\")=0,\"\",IFERROR(INDIRECT(CONCATENATE(\"'UNITCOST ITEMS (Data Entry)'!I\",IFERROR(SUM(MATCH(A32,'UNITCOST ITEMS (Data Entry)'!$A$3:$A$504,0),2),\"\"))),\"\"))","v":""},{"$f":"IF(K32=2,\"\",IF(IFERROR(INDIRECT(CONCATENATE(\"'UNITCOST ITEMS (Data Entry)'!J\",IFERROR(SUM(MATCH(A32,'UNITCOST ITEMS (Data Entry)'!$A$3:$A$504,0),2),\"\"))),\"\")=0,\"\",IFERROR(INDIRECT(CONCATENATE(\"'UNITCOST ITEMS (Data Entry)'!J\",IFERROR(SUM(MATCH(A32,'UNITCOST ITEMS (Data Entry)'!$A$3:$A$504,0),2),\"\"))),\"\")))","v":""},null,{"$f":"IF(IFERROR(INDIRECT(CONCATENATE(\"'UNITCOST ITEMS (Data Entry)'!C\",IFERROR(SUM(MATCH(A32,'UNITCOST ITEMS (Data Entry)'!$A$3:$A$504,0),2),\"\"))),\"\")=0,\"\",IFERROR(INDIRECT(CONCATENATE(\"'UNITCOST ITEMS (Data Entry)'!C\",IFERROR(SUM(MATCH(A32,'UNITCOST ITEMS (Data Entry)'!$A$3:$A$504,0),2),\"\"))),\"\"))","v":""},""]
[25,{"$f":"IF(IFERROR(INDIRECT(CONCATENATE(\"'UNITCOST ITEMS (Data Entry)'!D\",IFERROR(SUM(MATCH(A33,'UNITCOST ITEMS (Data Entry)'!$A$3:$A$504,0),2),\"\"))),\"\")=0,\"\",IFERROR(INDIRECT(CONCATENATE(\"'UNITCOST ITEMS (Data Entry)'!D\",IFERROR(SUM(MATCH(A33,'UNITCOST ITEMS (Data Entry)'!$A$3:$A$504,0),2),\"\"))),\"\"))","v":""},{"$f":"IF(IFERROR(INDIRECT(CONCATENATE(\"'UNITCOST ITEMS (Data Entry)'!E\",IFERROR(SUM(MATCH(A33,'UNITCOST ITEMS (Data Entry)'!$A$3:$A$504,0),2),\"\"))),\"\")=0,\"\",IFERROR(INDIRECT(CONCATENATE(\"'UNITCOST ITEMS (Data Entry)'!E\",IFERROR(SUM(MATCH(A33,'UNITCOST ITEMS (Data Entry)'!$A$3:$A$504,0),2),\"\"))),\"\"))","v":""},null,{"$f":"IF(IFERROR(INDIRECT(CONCATENATE(\"'UNITCOST ITEMS (Data Entry)'!F\",IFERROR(SUM(MATCH(A33,'UNITCOST ITEMS (Data Entry)'!$A$3:$A$504,0),2),\"\"))),\"\")=0,\"\",IFERROR(INDIRECT(CONCATENATE(\"'UNITCOST ITEMS (Data Entry)'!F\",IFERROR(SUM(MATCH(A33,'UNITCOST ITEMS (Data Entry)'!$A$3:$A$504,0),2),\"\"))),\"\"))","v":""},{"$f":"IF(IFERROR(INDIRECT(CONCATENATE(\"'UNITCOST ITEMS (Data Entry)'!G\",IFERROR(SUM(MATCH(A33,'UNITCOST ITEMS (Data Entry)'!$A$3:$A$504,0),2),\"\"))),\"\")=0,\"\",IFERROR(INDIRECT(CONCATENATE(\"'UNITCOST ITEMS (Data Entry)'!G\",IFERROR(SUM(MATCH(A33,'UNITCOST ITEMS (Data Entry)'!$A$3:$A$504,0),2),\"\"))),\"\"))","v":""},{"$f":"IF(IFERROR(INDIRECT(CONCATENATE(\"'UNITCOST ITEMS (Data Entry)'!H\",IFERROR(SUM(MATCH(A33,'UNITCOST ITEMS (Data Entry)'!$A$3:$A$504,0),2),\"\"))),\"\")=0,\"\",IFERROR(INDIRECT(CONCATENATE(\"'UNITCOST ITEMS (Data Entry)'!H\",IFERROR(SUM(MATCH(A33,'UNITCOST ITEMS (Data Entry)'!$A$3:$A$504,0),2),\"\"))),\"\"))","v":""},{"$f":"IF(IFERROR(INDIRECT(CONCATENATE(\"'UNITCOST ITEMS (Data Entry)'!I\",IFERROR(SUM(MATCH(A33,'UNITCOST ITEMS (Data Entry)'!$A$3:$A$504,0),2),\"\"))),\"\")=0,\"\",IFERROR(INDIRECT(CONCATENATE(\"'UNITCOST ITEMS (Data Entry)'!I\",IFERROR(SUM(MATCH(A33,'UNITCOST ITEMS (Data Entry)'!$A$3:$A$504,0),2),\"\"))),\"\"))","v":""},{"$f":"IF(K33=2,\"\",IF(IFERROR(INDIRECT(CONCATENATE(\"'UNITCOST ITEMS (Data Entry)'!J\",IFERROR(SUM(MATCH(A33,'UNITCOST ITEMS (Data Entry)'!$A$3:$A$504,0),2),\"\"))),\"\")=0,\"\",IFERROR(INDIRECT(CONCATENATE(\"'UNITCOST ITEMS (Data Entry)'!J\",IFERROR(SUM(MATCH(A33,'UNITCOST ITEMS (Data Entry)'!$A$3:$A$504,0),2),\"\"))),\"\")))","v":""},null,{"$f":"IF(IFERROR(INDIRECT(CONCATENATE(\"'UNITCOST ITEMS (Data Entry)'!C\",IFERROR(SUM(MATCH(A33,'UNITCOST ITEMS (Data Entry)'!$A$3:$A$504,0),2),\"\"))),\"\")=0,\"\",IFERROR(INDIRECT(CONCATENATE(\"'UNITCOST ITEMS (Data Entry)'!C\",IFERROR(SUM(MATCH(A33,'UNITCOST ITEMS (Data Entry)'!$A$3:$A$504,0),2),\"\"))),\"\"))","v":""},""]
[26,{"$f":"IF(IFERROR(INDIRECT(CONCATENATE(\"'UNITCOST ITEMS (Data Entry)'!D\",IFERROR(SUM(MATCH(A34,'UNITCOST ITEMS (Data Entry)'!$A$3:$A$504,0),2),\"\"))),\"\")=0,\"\",IFERROR(INDIRECT(CONCATENATE(\"'UNITCOST ITEMS (Data Entry)'!D\",IFERROR(SUM(MATCH(A34,'UNITCOST ITEMS (Data Entry)'!$A$3:$A$504,0),2),\"\"))),\"\"))","v":""},{"$f":"IF(IFERROR(INDIRECT(CONCATENATE(\"'UNITCOST ITEMS (Data Entry)'!E\",IFERROR(SUM(MATCH(A34,'UNITCOST ITEMS (Data Entry)'!$A$3:$A$504,0),2),\"\"))),\"\")=0,\"\",IFERROR(INDIRECT(CONCATENATE(\"'UNITCOST ITEMS (Data Entry)'!E\",IFERROR(SUM(MATCH(A34,'UNITCOST ITEMS (Data Entry)'!$A$3:$A$504,0),2),\"\"))),\"\"))","v":""},null,{"$f":"IF(IFERROR(INDIRECT(CONCATENATE(\"'UNITCOST ITEMS (Data Entry)'!F\",IFERROR(SUM(MATCH(A34,'UNITCOST ITEMS (Data Entry)'!$A$3:$A$504,0),2),\"\"))),\"\")=0,\"\",IFERROR(INDIRECT(CONCATENATE(\"'UNITCOST ITEMS (Data Entry)'!F\",IFERROR(SUM(MATCH(A34,'UNITCOST ITEMS (Data Entry)'!$A$3:$A$504,0),2),\"\"))),\"\"))","v":""},{"$f":"IF(IFERROR(INDIRECT(CONCATENATE(\"'UNITCOST ITEMS (Data Entry)'!G\",IFERROR(SUM(MATCH(A34,'UNITCOST ITEMS (Data Entry)'!$A$3:$A$504,0),2),\"\"))),\"\")=0,\"\",IFERROR(INDIRECT(CONCATENATE(\"'UNITCOST ITEMS (Data Entry)'!G\",IFERROR(SUM(MATCH(A34,'UNITCOST ITEMS (Data Entry)'!$A$3:$A$504,0),2),\"\"))),\"\"))","v":""},{"$f":"IF(IFERROR(INDIRECT(CONCATENATE(\"'UNITCOST ITEMS (Data Entry)'!H\",IFERROR(SUM(MATCH(A34,'UNITCOST ITEMS (Data Entry)'!$A$3:$A$504,0),2),\"\"))),\"\")=0,\"\",IFERROR(INDIRECT(CONCATENATE(\"'UNITCOST ITEMS (Data Entry)'!H\",IFERROR(SUM(MATCH(A34,'UNITCOST ITEMS (Data Entry)'!$A$3:$A$504,0),2),\"\"))),\"\"))","v":""},{"$f":"IF(IFERROR(INDIRECT(CONCATENATE(\"'UNITCOST ITEMS (Data Entry)'!I\",IFERROR(SUM(MATCH(A34,'UNITCOST ITEMS (Data Entry)'!$A$3:$A$504,0),2),\"\"))),\"\")=0,\"\",IFERROR(INDIRECT(CONCATENATE(\"'UNITCOST ITEMS (Data Entry)'!I\",IFERROR(SUM(MATCH(A34,'UNITCOST ITEMS (Data Entry)'!$A$3:$A$504,0),2),\"\"))),\"\"))","v":""},{"$f":"IF(K34=2,\"\",IF(IFERROR(INDIRECT(CONCATENATE(\"'UNITCOST ITEMS (Data Entry)'!J\",IFERROR(SUM(MATCH(A34,'UNITCOST ITEMS (Data Entry)'!$A$3:$A$504,0),2),\"\"))),\"\")=0,\"\",IFERROR(INDIRECT(CONCATENATE(\"'UNITCOST ITEMS (Data Entry)'!J\",IFERROR(SUM(MATCH(A34,'UNITCOST ITEMS (Data Entry)'!$A$3:$A$504,0),2),\"\"))),\"\")))","v":""},null,{"$f":"IF(IFERROR(INDIRECT(CONCATENATE(\"'UNITCOST ITEMS (Data Entry)'!C\",IFERROR(SUM(MATCH(A34,'UNITCOST ITEMS (Data Entry)'!$A$3:$A$504,0),2),\"\"))),\"\")=0,\"\",IFERROR(INDIRECT(CONCATENATE(\"'UNITCOST ITEMS (Data Entry)'!C\",IFERROR(SUM(MATCH(A34,'UNITCOST ITEMS (Data Entry)'!$A$3:$A$504,0),2),\"\"))),\"\"))","v":""},""]
[27,{"$f":"IF(IFERROR(INDIRECT(CONCATENATE(\"'UNITCOST ITEMS (Data Entry)'!D\",IFERROR(SUM(MATCH(A35,'UNITCOST ITEMS (Data Entry)'!$A$3:$A$504,0),2),\"\"))),\"\")=0,\"\",IFERROR(INDIRECT(CONCATENATE(\"'UNITCOST ITEMS (Data Entry)'!D\",IFERROR(SUM(MATCH(A35,'UNITCOST ITEMS (Data Entry)'!$A$3:$A$504,0),2),\"\"))),\"\"))","v":""},{"$f":"IF(IFERROR(INDIRECT(CONCATENATE(\"'UNITCOST ITEMS (Data Entry)'!E\",IFERROR(SUM(MATCH(A35,'UNITCOST ITEMS (Data Entry)'!$A$3:$A$504,0),2),\"\"))),\"\")=0,\"\",IFERROR(INDIRECT(CONCATENATE(\"'UNITCOST ITEMS (Data Entry)'!E\",IFERROR(SUM(MATCH(A35,'UNITCOST ITEMS (Data Entry)'!$A$3:$A$504,0),2),\"\"))),\"\"))","v":""},null,{"$f":"IF(IFERROR(INDIRECT(CONCATENATE(\"'UNITCOST ITEMS (Data Entry)'!F\",IFERROR(SUM(MATCH(A35,'UNITCOST ITEMS (Data Entry)'!$A$3:$A$504,0),2),\"\"))),\"\")=0,\"\",IFERROR(INDIRECT(CONCATENATE(\"'UNITCOST ITEMS (Data Entry)'!F\",IFERROR(SUM(MATCH(A35,'UNITCOST ITEMS (Data Entry)'!$A$3:$A$504,0),2),\"\"))),\"\"))","v":""},{"$f":"IF(IFERROR(INDIRECT(CONCATENATE(\"'UNITCOST ITEMS (Data Entry)'!G\",IFERROR(SUM(MATCH(A35,'UNITCOST ITEMS (Data Entry)'!$A$3:$A$504,0),2),\"\"))),\"\")=0,\"\",IFERROR(INDIRECT(CONCATENATE(\"'UNITCOST ITEMS (Data Entry)'!G\",IFERROR(SUM(MATCH(A35,'UNITCOST ITEMS (Data Entry)'!$A$3:$A$504,0),2),\"\"))),\"\"))","v":""},{"$f":"IF(IFERROR(INDIRECT(CONCATENATE(\"'UNITCOST ITEMS (Data Entry)'!H\",IFERROR(SUM(MATCH(A35,'UNITCOST ITEMS (Data Entry)'!$A$3:$A$504,0),2),\"\"))),\"\")=0,\"\",IFERROR(INDIRECT(CONCATENATE(\"'UNITCOST ITEMS (Data Entry)'!H\",IFERROR(SUM(MATCH(A35,'UNITCOST ITEMS (Data Entry)'!$A$3:$A$504,0),2),\"\"))),\"\"))","v":""},{"$f":"IF(IFERROR(INDIRECT(CONCATENATE(\"'UNITCOST ITEMS (Data Entry)'!I\",IFERROR(SUM(MATCH(A35,'UNITCOST ITEMS (Data Entry)'!$A$3:$A$504,0),2),\"\"))),\"\")=0,\"\",IFERROR(INDIRECT(CONCATENATE(\"'UNITCOST ITEMS (Data Entry)'!I\",IFERROR(SUM(MATCH(A35,'UNITCOST ITEMS (Data Entry)'!$A$3:$A$504,0),2),\"\"))),\"\"))","v":""},{"$f":"IF(K35=2,\"\",IF(IFERROR(INDIRECT(CONCATENATE(\"'UNITCOST ITEMS (Data Entry)'!J\",IFERROR(SUM(MATCH(A35,'UNITCOST ITEMS (Data Entry)'!$A$3:$A$504,0),2),\"\"))),\"\")=0,\"\",IFERROR(INDIRECT(CONCATENATE(\"'UNITCOST ITEMS (Data Entry)'!J\",IFERROR(SUM(MATCH(A35,'UNITCOST ITEMS (Data Entry)'!$A$3:$A$504,0),2),\"\"))),\"\")))","v":""},null,{"$f":"IF(IFERROR(INDIRECT(CONCATENATE(\"'UNITCOST ITEMS (Data Entry)'!C\",IFERROR(SUM(MATCH(A35,'UNITCOST ITEMS (Data Entry)'!$A$3:$A$504,0),2),\"\"))),\"\")=0,\"\",IFERROR(INDIRECT(CONCATENATE(\"'UNITCOST ITEMS (Data Entry)'!C\",IFERROR(SUM(MATCH(A35,'UNITCOST ITEMS (Data Entry)'!$A$3:$A$504,0),2),\"\"))),\"\"))","v":""},""]
[28,{"$f":"IF(IFERROR(INDIRECT(CONCATENATE(\"'UNITCOST ITEMS (Data Entry)'!D\",IFERROR(SUM(MATCH(A36,'UNITCOST ITEMS (Data Entry)'!$A$3:$A$504,0),2),\"\"))),\"\")=0,\"\",IFERROR(INDIRECT(CONCATENATE(\"'UNITCOST ITEMS (Data Entry)'!D\",IFERROR(SUM(MATCH(A36,'UNITCOST ITEMS (Data Entry)'!$A$3:$A$504,0),2),\"\"))),\"\"))","v":""},{"$f":"IF(IFERROR(INDIRECT(CONCATENATE(\"'UNITCOST ITEMS (Data Entry)'!E\",IFERROR(SUM(MATCH(A36,'UNITCOST ITEMS (Data Entry)'!$A$3:$A$504,0),2),\"\"))),\"\")=0,\"\",IFERROR(INDIRECT(CONCATENATE(\"'UNITCOST ITEMS (Data Entry)'!E\",IFERROR(SUM(MATCH(A36,'UNITCOST ITEMS (Data Entry)'!$A$3:$A$504,0),2),\"\"))),\"\"))","v":""},null,{"$f":"IF(IFERROR(INDIRECT(CONCATENATE(\"'UNITCOST ITEMS (Data Entry)'!F\",IFERROR(SUM(MATCH(A36,'UNITCOST ITEMS (Data Entry)'!$A$3:$A$504,0),2),\"\"))),\"\")=0,\"\",IFERROR(INDIRECT(CONCATENATE(\"'UNITCOST ITEMS (Data Entry)'!F\",IFERROR(SUM(MATCH(A36,'UNITCOST ITEMS (Data Entry)'!$A$3:$A$504,0),2),\"\"))),\"\"))","v":""},{"$f":"IF(IFERROR(INDIRECT(CONCATENATE(\"'UNITCOST ITEMS (Data Entry)'!G\",IFERROR(SUM(MATCH(A36,'UNITCOST ITEMS (Data Entry)'!$A$3:$A$504,0),2),\"\"))),\"\")=0,\"\",IFERROR(INDIRECT(CONCATENATE(\"'UNITCOST ITEMS (Data Entry)'!G\",IFERROR(SUM(MATCH(A36,'UNITCOST ITEMS (Data Entry)'!$A$3:$A$504,0),2),\"\"))),\"\"))","v":""},{"$f":"IF(IFERROR(INDIRECT(CONCATENATE(\"'UNITCOST ITEMS (Data Entry)'!H\",IFERROR(SUM(MATCH(A36,'UNITCOST ITEMS (Data Entry)'!$A$3:$A$504,0),2),\"\"))),\"\")=0,\"\",IFERROR(INDIRECT(CONCATENATE(\"'UNITCOST ITEMS (Data Entry)'!H\",IFERROR(SUM(MATCH(A36,'UNITCOST ITEMS (Data Entry)'!$A$3:$A$504,0),2),\"\"))),\"\"))","v":""},{"$f":"IF(IFERROR(INDIRECT(CONCATENATE(\"'UNITCOST ITEMS (Data Entry)'!I\",IFERROR(SUM(MATCH(A36,'UNITCOST ITEMS (Data Entry)'!$A$3:$A$504,0),2),\"\"))),\"\")=0,\"\",IFERROR(INDIRECT(CONCATENATE(\"'UNITCOST ITEMS (Data Entry)'!I\",IFERROR(SUM(MATCH(A36,'UNITCOST ITEMS (Data Entry)'!$A$3:$A$504,0),2),\"\"))),\"\"))","v":""},{"$f":"IF(K36=2,\"\",IF(IFERROR(INDIRECT(CONCATENATE(\"'UNITCOST ITEMS (Data Entry)'!J\",IFERROR(SUM(MATCH(A36,'UNITCOST ITEMS (Data Entry)'!$A$3:$A$504,0),2),\"\"))),\"\")=0,\"\",IFERROR(INDIRECT(CONCATENATE(\"'UNITCOST ITEMS (Data Entry)'!J\",IFERROR(SUM(MATCH(A36,'UNITCOST ITEMS (Data Entry)'!$A$3:$A$504,0),2),\"\"))),\"\")))","v":""},null,{"$f":"IF(IFERROR(INDIRECT(CONCATENATE(\"'UNITCOST ITEMS (Data Entry)'!C\",IFERROR(SUM(MATCH(A36,'UNITCOST ITEMS (Data Entry)'!$A$3:$A$504,0),2),\"\"))),\"\")=0,\"\",IFERROR(INDIRECT(CONCATENATE(\"'UNITCOST ITEMS (Data Entry)'!C\",IFERROR(SUM(MATCH(A36,'UNITCOST ITEMS (Data Entry)'!$A$3:$A$504,0),2),\"\"))),\"\"))","v":""},""]
[29,{"$f":"IF(IFERROR(INDIRECT(CONCATENATE(\"'UNITCOST ITEMS (Data Entry)'!D\",IFERROR(SUM(MATCH(A37,'UNITCOST ITEMS (Data Entry)'!$A$3:$A$504,0),2),\"\"))),\"\")=0,\"\",IFERROR(INDIRECT(CONCATENATE(\"'UNITCOST ITEMS (Data Entry)'!D\",IFERROR(SUM(MATCH(A37,'UNITCOST ITEMS (Data Entry)'!$A$3:$A$504,0),2),\"\"))),\"\"))","v":""},{"$f":"IF(IFERROR(INDIRECT(CONCATENATE(\"'UNITCOST ITEMS (Data Entry)'!E\",IFERROR(SUM(MATCH(A37,'UNITCOST ITEMS (Data Entry)'!$A$3:$A$504,0),2),\"\"))),\"\")=0,\"\",IFERROR(INDIRECT(CONCATENATE(\"'UNITCOST ITEMS (Data Entry)'!E\",IFERROR(SUM(MATCH(A37,'UNITCOST ITEMS (Data Entry)'!$A$3:$A$504,0),2),\"\"))),\"\"))","v":""},null,{"$f":"IF(IFERROR(INDIRECT(CONCATENATE(\"'UNITCOST ITEMS (Data Entry)'!F\",IFERROR(SUM(MATCH(A37,'UNITCOST ITEMS (Data Entry)'!$A$3:$A$504,0),2),\"\"))),\"\")=0,\"\",IFERROR(INDIRECT(CONCATENATE(\"'UNITCOST ITEMS (Data Entry)'!F\",IFERROR(SUM(MATCH(A37,'UNITCOST ITEMS (Data Entry)'!$A$3:$A$504,0),2),\"\"))),\"\"))","v":""},{"$f":"IF(IFERROR(INDIRECT(CONCATENATE(\"'UNITCOST ITEMS (Data Entry)'!G\",IFERROR(SUM(MATCH(A37,'UNITCOST ITEMS (Data Entry)'!$A$3:$A$504,0),2),\"\"))),\"\")=0,\"\",IFERROR(INDIRECT(CONCATENATE(\"'UNITCOST ITEMS (Data Entry)'!G\",IFERROR(SUM(MATCH(A37,'UNITCOST ITEMS (Data Entry)'!$A$3:$A$504,0),2),\"\"))),\"\"))","v":""},{"$f":"IF(IFERROR(INDIRECT(CONCATENATE(\"'UNITCOST ITEMS (Data Entry)'!H\",IFERROR(SUM(MATCH(A37,'UNITCOST ITEMS (Data Entry)'!$A$3:$A$504,0),2),\"\"))),\"\")=0,\"\",IFERROR(INDIRECT(CONCATENATE(\"'UNITCOST ITEMS (Data Entry)'!H\",IFERROR(SUM(MATCH(A37,'UNITCOST ITEMS (Data Entry)'!$A$3:$A$504,0),2),\"\"))),\"\"))","v":""},{"$f":"IF(IFERROR(INDIRECT(CONCATENATE(\"'UNITCOST ITEMS (Data Entry)'!I\",IFERROR(SUM(MATCH(A37,'UNITCOST ITEMS (Data Entry)'!$A$3:$A$504,0),2),\"\"))),\"\")=0,\"\",IFERROR(INDIRECT(CONCATENATE(\"'UNITCOST ITEMS (Data Entry)'!I\",IFERROR(SUM(MATCH(A37,'UNITCOST ITEMS (Data Entry)'!$A$3:$A$504,0),2),\"\"))),\"\"))","v":""},{"$f":"IF(K37=2,\"\",IF(IFERROR(INDIRECT(CONCATENATE(\"'UNITCOST ITEMS (Data Entry)'!J\",IFERROR(SUM(MATCH(A37,'UNITCOST ITEMS (Data Entry)'!$A$3:$A$504,0),2),\"\"))),\"\")=0,\"\",IFERROR(INDIRECT(CONCATENATE(\"'UNITCOST ITEMS (Data Entry)'!J\",IFERROR(SUM(MATCH(A37,'UNITCOST ITEMS (Data Entry)'!$A$3:$A$504,0),2),\"\"))),\"\")))","v":""},null,{"$f":"IF(IFERROR(INDIRECT(CONCATENATE(\"'UNITCOST ITEMS (Data Entry)'!C\",IFERROR(SUM(MATCH(A37,'UNITCOST ITEMS (Data Entry)'!$A$3:$A$504,0),2),\"\"))),\"\")=0,\"\",IFERROR(INDIRECT(CONCATENATE(\"'UNITCOST ITEMS (Data Entry)'!C\",IFERROR(SUM(MATCH(A37,'UNITCOST ITEMS (Data Entry)'!$A$3:$A$504,0),2),\"\"))),\"\"))","v":""},""]
[30,{"$f":"IF(IFERROR(INDIRECT(CONCATENATE(\"'UNITCOST ITEMS (Data Entry)'!D\",IFERROR(SUM(MATCH(A38,'UNITCOST ITEMS (Data Entry)'!$A$3:$A$504,0),2),\"\"))),\"\")=0,\"\",IFERROR(INDIRECT(CONCATENATE(\"'UNITCOST ITEMS (Data Entry)'!D\",IFERROR(SUM(MATCH(A38,'UNITCOST ITEMS (Data Entry)'!$A$3:$A$504,0),2),\"\"))),\"\"))","v":""},{"$f":"IF(IFERROR(INDIRECT(CONCATENATE(\"'UNITCOST ITEMS (Data Entry)'!E\",IFERROR(SUM(MATCH(A38,'UNITCOST ITEMS (Data Entry)'!$A$3:$A$504,0),2),\"\"))),\"\")=0,\"\",IFERROR(INDIRECT(CONCATENATE(\"'UNITCOST ITEMS (Data Entry)'!E\",IFERROR(SUM(MATCH(A38,'UNITCOST ITEMS (Data Entry)'!$A$3:$A$504,0),2),\"\"))),\"\"))","v":""},null,{"$f":"IF(IFERROR(INDIRECT(CONCATENATE(\"'UNITCOST ITEMS (Data Entry)'!F\",IFERROR(SUM(MATCH(A38,'UNITCOST ITEMS (Data Entry)'!$A$3:$A$504,0),2),\"\"))),\"\")=0,\"\",IFERROR(INDIRECT(CONCATENATE(\"'UNITCOST ITEMS (Data Entry)'!F\",IFERROR(SUM(MATCH(A38,'UNITCOST ITEMS (Data Entry)'!$A$3:$A$504,0),2),\"\"))),\"\"))","v":""},{"$f":"IF(IFERROR(INDIRECT(CONCATENATE(\"'UNITCOST ITEMS (Data Entry)'!G\",IFERROR(SUM(MATCH(A38,'UNITCOST ITEMS (Data Entry)'!$A$3:$A$504,0),2),\"\"))),\"\")=0,\"\",IFERROR(INDIRECT(CONCATENATE(\"'UNITCOST ITEMS (Data Entry)'!G\",IFERROR(SUM(MATCH(A38,'UNITCOST ITEMS (Data Entry)'!$A$3:$A$504,0),2),\"\"))),\"\"))","v":""},{"$f":"IF(IFERROR(INDIRECT(CONCATENATE(\"'UNITCOST ITEMS (Data Entry)'!H\",IFERROR(SUM(MATCH(A38,'UNITCOST ITEMS (Data Entry)'!$A$3:$A$504,0),2),\"\"))),\"\")=0,\"\",IFERROR(INDIRECT(CONCATENATE(\"'UNITCOST ITEMS (Data Entry)'!H\",IFERROR(SUM(MATCH(A38,'UNITCOST ITEMS (Data Entry)'!$A$3:$A$504,0),2),\"\"))),\"\"))","v":""},{"$f":"IF(IFERROR(INDIRECT(CONCATENATE(\"'UNITCOST ITEMS (Data Entry)'!I\",IFERROR(SUM(MATCH(A38,'UNITCOST ITEMS (Data Entry)'!$A$3:$A$504,0),2),\"\"))),\"\")=0,\"\",IFERROR(INDIRECT(CONCATENATE(\"'UNITCOST ITEMS (Data Entry)'!I\",IFERROR(SUM(MATCH(A38,'UNITCOST ITEMS (Data Entry)'!$A$3:$A$504,0),2),\"\"))),\"\"))","v":""},{"$f":"IF(K38=2,\"\",IF(IFERROR(INDIRECT(CONCATENATE(\"'UNITCOST ITEMS (Data Entry)'!J\",IFERROR(SUM(MATCH(A38,'UNITCOST ITEMS (Data Entry)'!$A$3:$A$504,0),2),\"\"))),\"\")=0,\"\",IFERROR(INDIRECT(CONCATENATE(\"'UNITCOST ITEMS (Data Entry)'!J\",IFERROR(SUM(MATCH(A38,'UNITCOST ITEMS (Data Entry)'!$A$3:$A$504,0),2),\"\"))),\"\")))","v":""},null,{"$f":"IF(IFERROR(INDIRECT(CONCATENATE(\"'UNITCOST ITEMS (Data Entry)'!C\",IFERROR(SUM(MATCH(A38,'UNITCOST ITEMS (Data Entry)'!$A$3:$A$504,0),2),\"\"))),\"\")=0,\"\",IFERROR(INDIRECT(CONCATENATE(\"'UNITCOST ITEMS (Data Entry)'!C\",IFERROR(SUM(MATCH(A38,'UNITCOST ITEMS (Data Entry)'!$A$3:$A$504,0),2),\"\"))),\"\"))","v":""},""]
[31,{"$f":"IF(IFERROR(INDIRECT(CONCATENATE(\"'UNITCOST ITEMS (Data Entry)'!D\",IFERROR(SUM(MATCH(A39,'UNITCOST ITEMS (Data Entry)'!$A$3:$A$504,0),2),\"\"))),\"\")=0,\"\",IFERROR(INDIRECT(CONCATENATE(\"'UNITCOST ITEMS (Data Entry)'!D\",IFERROR(SUM(MATCH(A39,'UNITCOST ITEMS (Data Entry)'!$A$3:$A$504,0),2),\"\"))),\"\"))","v":""},{"$f":"IF(IFERROR(INDIRECT(CONCATENATE(\"'UNITCOST ITEMS (Data Entry)'!E\",IFERROR(SUM(MATCH(A39,'UNITCOST ITEMS (Data Entry)'!$A$3:$A$504,0),2),\"\"))),\"\")=0,\"\",IFERROR(INDIRECT(CONCATENATE(\"'UNITCOST ITEMS (Data Entry)'!E\",IFERROR(SUM(MATCH(A39,'UNITCOST ITEMS (Data Entry)'!$A$3:$A$504,0),2),\"\"))),\"\"))","v":""},null,{"$f":"IF(IFERROR(INDIRECT(CONCATENATE(\"'UNITCOST ITEMS (Data Entry)'!F\",IFERROR(SUM(MATCH(A39,'UNITCOST ITEMS (Data Entry)'!$A$3:$A$504,0),2),\"\"))),\"\")=0,\"\",IFERROR(INDIRECT(CONCATENATE(\"'UNITCOST ITEMS (Data Entry)'!F\",IFERROR(SUM(MATCH(A39,'UNITCOST ITEMS (Data Entry)'!$A$3:$A$504,0),2),\"\"))),\"\"))","v":""},{"$f":"IF(IFERROR(INDIRECT(CONCATENATE(\"'UNITCOST ITEMS (Data Entry)'!G\",IFERROR(SUM(MATCH(A39,'UNITCOST ITEMS (Data Entry)'!$A$3:$A$504,0),2),\"\"))),\"\")=0,\"\",IFERROR(INDIRECT(CONCATENATE(\"'UNITCOST ITEMS (Data Entry)'!G\",IFERROR(SUM(MATCH(A39,'UNITCOST ITEMS (Data Entry)'!$A$3:$A$504,0),2),\"\"))),\"\"))","v":""},{"$f":"IF(IFERROR(INDIRECT(CONCATENATE(\"'UNITCOST ITEMS (Data Entry)'!H\",IFERROR(SUM(MATCH(A39,'UNITCOST ITEMS (Data Entry)'!$A$3:$A$504,0),2),\"\"))),\"\")=0,\"\",IFERROR(INDIRECT(CONCATENATE(\"'UNITCOST ITEMS (Data Entry)'!H\",IFERROR(SUM(MATCH(A39,'UNITCOST ITEMS (Data Entry)'!$A$3:$A$504,0),2),\"\"))),\"\"))","v":""},{"$f":"IF(IFERROR(INDIRECT(CONCATENATE(\"'UNITCOST ITEMS (Data Entry)'!I\",IFERROR(SUM(MATCH(A39,'UNITCOST ITEMS (Data Entry)'!$A$3:$A$504,0),2),\"\"))),\"\")=0,\"\",IFERROR(INDIRECT(CONCATENATE(\"'UNITCOST ITEMS (Data Entry)'!I\",IFERROR(SUM(MATCH(A39,'UNITCOST ITEMS (Data Entry)'!$A$3:$A$504,0),2),\"\"))),\"\"))","v":""},{"$f":"IF(K39=2,\"\",IF(IFERROR(INDIRECT(CONCATENATE(\"'UNITCOST ITEMS (Data Entry)'!J\",IFERROR(SUM(MATCH(A39,'UNITCOST ITEMS (Data Entry)'!$A$3:$A$504,0),2),\"\"))),\"\")=0,\"\",IFERROR(INDIRECT(CONCATENATE(\"'UNITCOST ITEMS (Data Entry)'!J\",IFERROR(SUM(MATCH(A39,'UNITCOST ITEMS (Data Entry)'!$A$3:$A$504,0),2),\"\"))),\"\")))","v":""},null,{"$f":"IF(IFERROR(INDIRECT(CONCATENATE(\"'UNITCOST ITEMS (Data Entry)'!C\",IFERROR(SUM(MATCH(A39,'UNITCOST ITEMS (Data Entry)'!$A$3:$A$504,0),2),\"\"))),\"\")=0,\"\",IFERROR(INDIRECT(CONCATENATE(\"'UNITCOST ITEMS (Data Entry)'!C\",IFERROR(SUM(MATCH(A39,'UNITCOST ITEMS (Data Entry)'!$A$3:$A$504,0),2),\"\"))),\"\"))","v":""},""]
[32,{"$f":"IF(IFERROR(INDIRECT(CONCATENATE(\"'UNITCOST ITEMS (Data Entry)'!D\",IFERROR(SUM(MATCH(A40,'UNITCOST ITEMS (Data Entry)'!$A$3:$A$504,0),2),\"\"))),\"\")=0,\"\",IFERROR(INDIRECT(CONCATENATE(\"'UNITCOST ITEMS (Data Entry)'!D\",IFERROR(SUM(MATCH(A40,'UNITCOST ITEMS (Data Entry)'!$A$3:$A$504,0),2),\"\"))),\"\"))","v":""},{"$f":"IF(IFERROR(INDIRECT(CONCATENATE(\"'UNITCOST ITEMS (Data Entry)'!E\",IFERROR(SUM(MATCH(A40,'UNITCOST ITEMS (Data Entry)'!$A$3:$A$504,0),2),\"\"))),\"\")=0,\"\",IFERROR(INDIRECT(CONCATENATE(\"'UNITCOST ITEMS (Data Entry)'!E\",IFERROR(SUM(MATCH(A40,'UNITCOST ITEMS (Data Entry)'!$A$3:$A$504,0),2),\"\"))),\"\"))","v":""},null,{"$f":"IF(IFERROR(INDIRECT(CONCATENATE(\"'UNITCOST ITEMS (Data Entry)'!F\",IFERROR(SUM(MATCH(A40,'UNITCOST ITEMS (Data Entry)'!$A$3:$A$504,0),2),\"\"))),\"\")=0,\"\",IFERROR(INDIRECT(CONCATENATE(\"'UNITCOST ITEMS (Data Entry)'!F\",IFERROR(SUM(MATCH(A40,'UNITCOST ITEMS (Data Entry)'!$A$3:$A$504,0),2),\"\"))),\"\"))","v":""},{"$f":"IF(IFERROR(INDIRECT(CONCATENATE(\"'UNITCOST ITEMS (Data Entry)'!G\",IFERROR(SUM(MATCH(A40,'UNITCOST ITEMS (Data Entry)'!$A$3:$A$504,0),2),\"\"))),\"\")=0,\"\",IFERROR(INDIRECT(CONCATENATE(\"'UNITCOST ITEMS (Data Entry)'!G\",IFERROR(SUM(MATCH(A40,'UNITCOST ITEMS (Data Entry)'!$A$3:$A$504,0),2),\"\"))),\"\"))","v":""},{"$f":"IF(IFERROR(INDIRECT(CONCATENATE(\"'UNITCOST ITEMS (Data Entry)'!H\",IFERROR(SUM(MATCH(A40,'UNITCOST ITEMS (Data Entry)'!$A$3:$A$504,0),2),\"\"))),\"\")=0,\"\",IFERROR(INDIRECT(CONCATENATE(\"'UNITCOST ITEMS (Data Entry)'!H\",IFERROR(SUM(MATCH(A40,'UNITCOST ITEMS (Data Entry)'!$A$3:$A$504,0),2),\"\"))),\"\"))","v":""},{"$f":"IF(IFERROR(INDIRECT(CONCATENATE(\"'UNITCOST ITEMS (Data Entry)'!I\",IFERROR(SUM(MATCH(A40,'UNITCOST ITEMS (Data Entry)'!$A$3:$A$504,0),2),\"\"))),\"\")=0,\"\",IFERROR(INDIRECT(CONCATENATE(\"'UNITCOST ITEMS (Data Entry)'!I\",IFERROR(SUM(MATCH(A40,'UNITCOST ITEMS (Data Entry)'!$A$3:$A$504,0),2),\"\"))),\"\"))","v":""},{"$f":"IF(K40=2,\"\",IF(IFERROR(INDIRECT(CONCATENATE(\"'UNITCOST ITEMS (Data Entry)'!J\",IFERROR(SUM(MATCH(A40,'UNITCOST ITEMS (Data Entry)'!$A$3:$A$504,0),2),\"\"))),\"\")=0,\"\",IFERROR(INDIRECT(CONCATENATE(\"'UNITCOST ITEMS (Data Entry)'!J\",IFERROR(SUM(MATCH(A40,'UNITCOST ITEMS (Data Entry)'!$A$3:$A$504,0),2),\"\"))),\"\")))","v":""},null,{"$f":"IF(IFERROR(INDIRECT(CONCATENATE(\"'UNITCOST ITEMS (Data Entry)'!C\",IFERROR(SUM(MATCH(A40,'UNITCOST ITEMS (Data Entry)'!$A$3:$A$504,0),2),\"\"))),\"\")=0,\"\",IFERROR(INDIRECT(CONCATENATE(\"'UNITCOST ITEMS (Data Entry)'!C\",IFERROR(SUM(MATCH(A40,'UNITCOST ITEMS (Data Entry)'!$A$3:$A$504,0),2),\"\"))),\"\"))","v":""},""]
[33,{"$f":"IF(IFERROR(INDIRECT(CONCATENATE(\"'UNITCOST ITEMS (Data Entry)'!D\",IFERROR(SUM(MATCH(A41,'UNITCOST ITEMS (Data Entry)'!$A$3:$A$504,0),2),\"\"))),\"\")=0,\"\",IFERROR(INDIRECT(CONCATENATE(\"'UNITCOST ITEMS (Data Entry)'!D\",IFERROR(SUM(MATCH(A41,'UNITCOST ITEMS (Data Entry)'!$A$3:$A$504,0),2),\"\"))),\"\"))","v":""},{"$f":"IF(IFERROR(INDIRECT(CONCATENATE(\"'UNITCOST ITEMS (Data Entry)'!E\",IFERROR(SUM(MATCH(A41,'UNITCOST ITEMS (Data Entry)'!$A$3:$A$504,0),2),\"\"))),\"\")=0,\"\",IFERROR(INDIRECT(CONCATENATE(\"'UNITCOST ITEMS (Data Entry)'!E\",IFERROR(SUM(MATCH(A41,'UNITCOST ITEMS (Data Entry)'!$A$3:$A$504,0),2),\"\"))),\"\"))","v":""},null,{"$f":"IF(IFERROR(INDIRECT(CONCATENATE(\"'UNITCOST ITEMS (Data Entry)'!F\",IFERROR(SUM(MATCH(A41,'UNITCOST ITEMS (Data Entry)'!$A$3:$A$504,0),2),\"\"))),\"\")=0,\"\",IFERROR(INDIRECT(CONCATENATE(\"'UNITCOST ITEMS (Data Entry)'!F\",IFERROR(SUM(MATCH(A41,'UNITCOST ITEMS (Data Entry)'!$A$3:$A$504,0),2),\"\"))),\"\"))","v":""},{"$f":"IF(IFERROR(INDIRECT(CONCATENATE(\"'UNITCOST ITEMS (Data Entry)'!G\",IFERROR(SUM(MATCH(A41,'UNITCOST ITEMS (Data Entry)'!$A$3:$A$504,0),2),\"\"))),\"\")=0,\"\",IFERROR(INDIRECT(CONCATENATE(\"'UNITCOST ITEMS (Data Entry)'!G\",IFERROR(SUM(MATCH(A41,'UNITCOST ITEMS (Data Entry)'!$A$3:$A$504,0),2),\"\"))),\"\"))","v":""},{"$f":"IF(IFERROR(INDIRECT(CONCATENATE(\"'UNITCOST ITEMS (Data Entry)'!H\",IFERROR(SUM(MATCH(A41,'UNITCOST ITEMS (Data Entry)'!$A$3:$A$504,0),2),\"\"))),\"\")=0,\"\",IFERROR(INDIRECT(CONCATENATE(\"'UNITCOST ITEMS (Data Entry)'!H\",IFERROR(SUM(MATCH(A41,'UNITCOST ITEMS (Data Entry)'!$A$3:$A$504,0),2),\"\"))),\"\"))","v":""},{"$f":"IF(IFERROR(INDIRECT(CONCATENATE(\"'UNITCOST ITEMS (Data Entry)'!I\",IFERROR(SUM(MATCH(A41,'UNITCOST ITEMS (Data Entry)'!$A$3:$A$504,0),2),\"\"))),\"\")=0,\"\",IFERROR(INDIRECT(CONCATENATE(\"'UNITCOST ITEMS (Data Entry)'!I\",IFERROR(SUM(MATCH(A41,'UNITCOST ITEMS (Data Entry)'!$A$3:$A$504,0),2),\"\"))),\"\"))","v":""},{"$f":"IF(K41=2,\"\",IF(IFERROR(INDIRECT(CONCATENATE(\"'UNITCOST ITEMS (Data Entry)'!J\",IFERROR(SUM(MATCH(A41,'UNITCOST ITEMS (Data Entry)'!$A$3:$A$504,0),2),\"\"))),\"\")=0,\"\",IFERROR(INDIRECT(CONCATENATE(\"'UNITCOST ITEMS (Data Entry)'!J\",IFERROR(SUM(MATCH(A41,'UNITCOST ITEMS (Data Entry)'!$A$3:$A$504,0),2),\"\"))),\"\")))","v":""},null,{"$f":"IF(IFERROR(INDIRECT(CONCATENATE(\"'UNITCOST ITEMS (Data Entry)'!C\",IFERROR(SUM(MATCH(A41,'UNITCOST ITEMS (Data Entry)'!$A$3:$A$504,0),2),\"\"))),\"\")=0,\"\",IFERROR(INDIRECT(CONCATENATE(\"'UNITCOST ITEMS (Data Entry)'!C\",IFERROR(SUM(MATCH(A41,'UNITCOST ITEMS (Data Entry)'!$A$3:$A$504,0),2),\"\"))),\"\"))","v":""},""]
[34,{"$f":"IF(IFERROR(INDIRECT(CONCATENATE(\"'UNITCOST ITEMS (Data Entry)'!D\",IFERROR(SUM(MATCH(A42,'UNITCOST ITEMS (Data Entry)'!$A$3:$A$504,0),2),\"\"))),\"\")=0,\"\",IFERROR(INDIRECT(CONCATENATE(\"'UNITCOST ITEMS (Data Entry)'!D\",IFERROR(SUM(MATCH(A42,'UNITCOST ITEMS (Data Entry)'!$A$3:$A$504,0),2),\"\"))),\"\"))","v":""},{"$f":"IF(IFERROR(INDIRECT(CONCATENATE(\"'UNITCOST ITEMS (Data Entry)'!E\",IFERROR(SUM(MATCH(A42,'UNITCOST ITEMS (Data Entry)'!$A$3:$A$504,0),2),\"\"))),\"\")=0,\"\",IFERROR(INDIRECT(CONCATENATE(\"'UNITCOST ITEMS (Data Entry)'!E\",IFERROR(SUM(MATCH(A42,'UNITCOST ITEMS (Data Entry)'!$A$3:$A$504,0),2),\"\"))),\"\"))","v":""},null,{"$f":"IF(IFERROR(INDIRECT(CONCATENATE(\"'UNITCOST ITEMS (Data Entry)'!F\",IFERROR(SUM(MATCH(A42,'UNITCOST ITEMS (Data Entry)'!$A$3:$A$504,0),2),\"\"))),\"\")=0,\"\",IFERROR(INDIRECT(CONCATENATE(\"'UNITCOST ITEMS (Data Entry)'!F\",IFERROR(SUM(MATCH(A42,'UNITCOST ITEMS (Data Entry)'!$A$3:$A$504,0),2),\"\"))),\"\"))","v":""},{"$f":"IF(IFERROR(INDIRECT(CONCATENATE(\"'UNITCOST ITEMS (Data Entry)'!G\",IFERROR(SUM(MATCH(A42,'UNITCOST ITEMS (Data Entry)'!$A$3:$A$504,0),2),\"\"))),\"\")=0,\"\",IFERROR(INDIRECT(CONCATENATE(\"'UNITCOST ITEMS (Data Entry)'!G\",IFERROR(SUM(MATCH(A42,'UNITCOST ITEMS (Data Entry)'!$A$3:$A$504,0),2),\"\"))),\"\"))","v":""},{"$f":"IF(IFERROR(INDIRECT(CONCATENATE(\"'UNITCOST ITEMS (Data Entry)'!H\",IFERROR(SUM(MATCH(A42,'UNITCOST ITEMS (Data Entry)'!$A$3:$A$504,0),2),\"\"))),\"\")=0,\"\",IFERROR(INDIRECT(CONCATENATE(\"'UNITCOST ITEMS (Data Entry)'!H\",IFERROR(SUM(MATCH(A42,'UNITCOST ITEMS (Data Entry)'!$A$3:$A$504,0),2),\"\"))),\"\"))","v":""},{"$f":"IF(IFERROR(INDIRECT(CONCATENATE(\"'UNITCOST ITEMS (Data Entry)'!I\",IFERROR(SUM(MATCH(A42,'UNITCOST ITEMS (Data Entry)'!$A$3:$A$504,0),2),\"\"))),\"\")=0,\"\",IFERROR(INDIRECT(CONCATENATE(\"'UNITCOST ITEMS (Data Entry)'!I\",IFERROR(SUM(MATCH(A42,'UNITCOST ITEMS (Data Entry)'!$A$3:$A$504,0),2),\"\"))),\"\"))","v":""},{"$f":"IF(K42=2,\"\",IF(IFERROR(INDIRECT(CONCATENATE(\"'UNITCOST ITEMS (Data Entry)'!J\",IFERROR(SUM(MATCH(A42,'UNITCOST ITEMS (Data Entry)'!$A$3:$A$504,0),2),\"\"))),\"\")=0,\"\",IFERROR(INDIRECT(CONCATENATE(\"'UNITCOST ITEMS (Data Entry)'!J\",IFERROR(SUM(MATCH(A42,'UNITCOST ITEMS (Data Entry)'!$A$3:$A$504,0),2),\"\"))),\"\")))","v":""},null,{"$f":"IF(IFERROR(INDIRECT(CONCATENATE(\"'UNITCOST ITEMS (Data Entry)'!C\",IFERROR(SUM(MATCH(A42,'UNITCOST ITEMS (Data Entry)'!$A$3:$A$504,0),2),\"\"))),\"\")=0,\"\",IFERROR(INDIRECT(CONCATENATE(\"'UNITCOST ITEMS (Data Entry)'!C\",IFERROR(SUM(MATCH(A42,'UNITCOST ITEMS (Data Entry)'!$A$3:$A$504,0),2),\"\"))),\"\"))","v":""},""]
[35,{"$f":"IF(IFERROR(INDIRECT(CONCATENATE(\"'UNITCOST ITEMS (Data Entry)'!D\",IFERROR(SUM(MATCH(A43,'UNITCOST ITEMS (Data Entry)'!$A$3:$A$504,0),2),\"\"))),\"\")=0,\"\",IFERROR(INDIRECT(CONCATENATE(\"'UNITCOST ITEMS (Data Entry)'!D\",IFERROR(SUM(MATCH(A43,'UNITCOST ITEMS (Data Entry)'!$A$3:$A$504,0),2),\"\"))),\"\"))","v":""},{"$f":"IF(IFERROR(INDIRECT(CONCATENATE(\"'UNITCOST ITEMS (Data Entry)'!E\",IFERROR(SUM(MATCH(A43,'UNITCOST ITEMS (Data Entry)'!$A$3:$A$504,0),2),\"\"))),\"\")=0,\"\",IFERROR(INDIRECT(CONCATENATE(\"'UNITCOST ITEMS (Data Entry)'!E\",IFERROR(SUM(MATCH(A43,'UNITCOST ITEMS (Data Entry)'!$A$3:$A$504,0),2),\"\"))),\"\"))","v":""},null,{"$f":"IF(IFERROR(INDIRECT(CONCATENATE(\"'UNITCOST ITEMS (Data Entry)'!F\",IFERROR(SUM(MATCH(A43,'UNITCOST ITEMS (Data Entry)'!$A$3:$A$504,0),2),\"\"))),\"\")=0,\"\",IFERROR(INDIRECT(CONCATENATE(\"'UNITCOST ITEMS (Data Entry)'!F\",IFERROR(SUM(MATCH(A43,'UNITCOST ITEMS (Data Entry)'!$A$3:$A$504,0),2),\"\"))),\"\"))","v":""},{"$f":"IF(IFERROR(INDIRECT(CONCATENATE(\"'UNITCOST ITEMS (Data Entry)'!G\",IFERROR(SUM(MATCH(A43,'UNITCOST ITEMS (Data Entry)'!$A$3:$A$504,0),2),\"\"))),\"\")=0,\"\",IFERROR(INDIRECT(CONCATENATE(\"'UNITCOST ITEMS (Data Entry)'!G\",IFERROR(SUM(MATCH(A43,'UNITCOST ITEMS (Data Entry)'!$A$3:$A$504,0),2),\"\"))),\"\"))","v":""},{"$f":"IF(IFERROR(INDIRECT(CONCATENATE(\"'UNITCOST ITEMS (Data Entry)'!H\",IFERROR(SUM(MATCH(A43,'UNITCOST ITEMS (Data Entry)'!$A$3:$A$504,0),2),\"\"))),\"\")=0,\"\",IFERROR(INDIRECT(CONCATENATE(\"'UNITCOST ITEMS (Data Entry)'!H\",IFERROR(SUM(MATCH(A43,'UNITCOST ITEMS (Data Entry)'!$A$3:$A$504,0),2),\"\"))),\"\"))","v":""},{"$f":"IF(IFERROR(INDIRECT(CONCATENATE(\"'UNITCOST ITEMS (Data Entry)'!I\",IFERROR(SUM(MATCH(A43,'UNITCOST ITEMS (Data Entry)'!$A$3:$A$504,0),2),\"\"))),\"\")=0,\"\",IFERROR(INDIRECT(CONCATENATE(\"'UNITCOST ITEMS (Data Entry)'!I\",IFERROR(SUM(MATCH(A43,'UNITCOST ITEMS (Data Entry)'!$A$3:$A$504,0),2),\"\"))),\"\"))","v":""},{"$f":"IF(K43=2,\"\",IF(IFERROR(INDIRECT(CONCATENATE(\"'UNITCOST ITEMS (Data Entry)'!J\",IFERROR(SUM(MATCH(A43,'UNITCOST ITEMS (Data Entry)'!$A$3:$A$504,0),2),\"\"))),\"\")=0,\"\",IFERROR(INDIRECT(CONCATENATE(\"'UNITCOST ITEMS (Data Entry)'!J\",IFERROR(SUM(MATCH(A43,'UNITCOST ITEMS (Data Entry)'!$A$3:$A$504,0),2),\"\"))),\"\")))","v":""},null,{"$f":"IF(IFERROR(INDIRECT(CONCATENATE(\"'UNITCOST ITEMS (Data Entry)'!C\",IFERROR(SUM(MATCH(A43,'UNITCOST ITEMS (Data Entry)'!$A$3:$A$504,0),2),\"\"))),\"\")=0,\"\",IFERROR(INDIRECT(CONCATENATE(\"'UNITCOST ITEMS (Data Entry)'!C\",IFERROR(SUM(MATCH(A43,'UNITCOST ITEMS (Data Entry)'!$A$3:$A$504,0),2),\"\"))),\"\"))","v":""},""]
[36,{"$f":"IF(IFERROR(INDIRECT(CONCATENATE(\"'UNITCOST ITEMS (Data Entry)'!D\",IFERROR(SUM(MATCH(A44,'UNITCOST ITEMS (Data Entry)'!$A$3:$A$504,0),2),\"\"))),\"\")=0,\"\",IFERROR(INDIRECT(CONCATENATE(\"'UNITCOST ITEMS (Data Entry)'!D\",IFERROR(SUM(MATCH(A44,'UNITCOST ITEMS (Data Entry)'!$A$3:$A$504,0),2),\"\"))),\"\"))","v":""},{"$f":"IF(IFERROR(INDIRECT(CONCATENATE(\"'UNITCOST ITEMS (Data Entry)'!E\",IFERROR(SUM(MATCH(A44,'UNITCOST ITEMS (Data Entry)'!$A$3:$A$504,0),2),\"\"))),\"\")=0,\"\",IFERROR(INDIRECT(CONCATENATE(\"'UNITCOST ITEMS (Data Entry)'!E\",IFERROR(SUM(MATCH(A44,'UNITCOST ITEMS (Data Entry)'!$A$3:$A$504,0),2),\"\"))),\"\"))","v":""},null,{"$f":"IF(IFERROR(INDIRECT(CONCATENATE(\"'UNITCOST ITEMS (Data Entry)'!F\",IFERROR(SUM(MATCH(A44,'UNITCOST ITEMS (Data Entry)'!$A$3:$A$504,0),2),\"\"))),\"\")=0,\"\",IFERROR(INDIRECT(CONCATENATE(\"'UNITCOST ITEMS (Data Entry)'!F\",IFERROR(SUM(MATCH(A44,'UNITCOST ITEMS (Data Entry)'!$A$3:$A$504,0),2),\"\"))),\"\"))","v":""},{"$f":"IF(IFERROR(INDIRECT(CONCATENATE(\"'UNITCOST ITEMS (Data Entry)'!G\",IFERROR(SUM(MATCH(A44,'UNITCOST ITEMS (Data Entry)'!$A$3:$A$504,0),2),\"\"))),\"\")=0,\"\",IFERROR(INDIRECT(CONCATENATE(\"'UNITCOST ITEMS (Data Entry)'!G\",IFERROR(SUM(MATCH(A44,'UNITCOST ITEMS (Data Entry)'!$A$3:$A$504,0),2),\"\"))),\"\"))","v":""},{"$f":"IF(IFERROR(INDIRECT(CONCATENATE(\"'UNITCOST ITEMS (Data Entry)'!H\",IFERROR(SUM(MATCH(A44,'UNITCOST ITEMS (Data Entry)'!$A$3:$A$504,0),2),\"\"))),\"\")=0,\"\",IFERROR(INDIRECT(CONCATENATE(\"'UNITCOST ITEMS (Data Entry)'!H\",IFERROR(SUM(MATCH(A44,'UNITCOST ITEMS (Data Entry)'!$A$3:$A$504,0),2),\"\"))),\"\"))","v":""},{"$f":"IF(IFERROR(INDIRECT(CONCATENATE(\"'UNITCOST ITEMS (Data Entry)'!I\",IFERROR(SUM(MATCH(A44,'UNITCOST ITEMS (Data Entry)'!$A$3:$A$504,0),2),\"\"))),\"\")=0,\"\",IFERROR(INDIRECT(CONCATENATE(\"'UNITCOST ITEMS (Data Entry)'!I\",IFERROR(SUM(MATCH(A44,'UNITCOST ITEMS (Data Entry)'!$A$3:$A$504,0),2),\"\"))),\"\"))","v":""},{"$f":"IF(K44=2,\"\",IF(IFERROR(INDIRECT(CONCATENATE(\"'UNITCOST ITEMS (Data Entry)'!J\",IFERROR(SUM(MATCH(A44,'UNITCOST ITEMS (Data Entry)'!$A$3:$A$504,0),2),\"\"))),\"\")=0,\"\",IFERROR(INDIRECT(CONCATENATE(\"'UNITCOST ITEMS (Data Entry)'!J\",IFERROR(SUM(MATCH(A44,'UNITCOST ITEMS (Data Entry)'!$A$3:$A$504,0),2),\"\"))),\"\")))","v":""},null,{"$f":"IF(IFERROR(INDIRECT(CONCATENATE(\"'UNITCOST ITEMS (Data Entry)'!C\",IFERROR(SUM(MATCH(A44,'UNITCOST ITEMS (Data Entry)'!$A$3:$A$504,0),2),\"\"))),\"\")=0,\"\",IFERROR(INDIRECT(CONCATENATE(\"'UNITCOST ITEMS (Data Entry)'!C\",IFERROR(SUM(MATCH(A44,'UNITCOST ITEMS (Data Entry)'!$A$3:$A$504,0),2),\"\"))),\"\"))","v":""},""]
[37,{"$f":"IF(IFERROR(INDIRECT(CONCATENATE(\"'UNITCOST ITEMS (Data Entry)'!D\",IFERROR(SUM(MATCH(A45,'UNITCOST ITEMS (Data Entry)'!$A$3:$A$504,0),2),\"\"))),\"\")=0,\"\",IFERROR(INDIRECT(CONCATENATE(\"'UNITCOST ITEMS (Data Entry)'!D\",IFERROR(SUM(MATCH(A45,'UNITCOST ITEMS (Data Entry)'!$A$3:$A$504,0),2),\"\"))),\"\"))","v":""},{"$f":"IF(IFERROR(INDIRECT(CONCATENATE(\"'UNITCOST ITEMS (Data Entry)'!E\",IFERROR(SUM(MATCH(A45,'UNITCOST ITEMS (Data Entry)'!$A$3:$A$504,0),2),\"\"))),\"\")=0,\"\",IFERROR(INDIRECT(CONCATENATE(\"'UNITCOST ITEMS (Data Entry)'!E\",IFERROR(SUM(MATCH(A45,'UNITCOST ITEMS (Data Entry)'!$A$3:$A$504,0),2),\"\"))),\"\"))","v":""},null,{"$f":"IF(IFERROR(INDIRECT(CONCATENATE(\"'UNITCOST ITEMS (Data Entry)'!F\",IFERROR(SUM(MATCH(A45,'UNITCOST ITEMS (Data Entry)'!$A$3:$A$504,0),2),\"\"))),\"\")=0,\"\",IFERROR(INDIRECT(CONCATENATE(\"'UNITCOST ITEMS (Data Entry)'!F\",IFERROR(SUM(MATCH(A45,'UNITCOST ITEMS (Data Entry)'!$A$3:$A$504,0),2),\"\"))),\"\"))","v":""},{"$f":"IF(IFERROR(INDIRECT(CONCATENATE(\"'UNITCOST ITEMS (Data Entry)'!G\",IFERROR(SUM(MATCH(A45,'UNITCOST ITEMS (Data Entry)'!$A$3:$A$504,0),2),\"\"))),\"\")=0,\"\",IFERROR(INDIRECT(CONCATENATE(\"'UNITCOST ITEMS (Data Entry)'!G\",IFERROR(SUM(MATCH(A45,'UNITCOST ITEMS (Data Entry)'!$A$3:$A$504,0),2),\"\"))),\"\"))","v":""},{"$f":"IF(IFERROR(INDIRECT(CONCATENATE(\"'UNITCOST ITEMS (Data Entry)'!H\",IFERROR(SUM(MATCH(A45,'UNITCOST ITEMS (Data Entry)'!$A$3:$A$504,0),2),\"\"))),\"\")=0,\"\",IFERROR(INDIRECT(CONCATENATE(\"'UNITCOST ITEMS (Data Entry)'!H\",IFERROR(SUM(MATCH(A45,'UNITCOST ITEMS (Data Entry)'!$A$3:$A$504,0),2),\"\"))),\"\"))","v":""},{"$f":"IF(IFERROR(INDIRECT(CONCATENATE(\"'UNITCOST ITEMS (Data Entry)'!I\",IFERROR(SUM(MATCH(A45,'UNITCOST ITEMS (Data Entry)'!$A$3:$A$504,0),2),\"\"))),\"\")=0,\"\",IFERROR(INDIRECT(CONCATENATE(\"'UNITCOST ITEMS (Data Entry)'!I\",IFERROR(SUM(MATCH(A45,'UNITCOST ITEMS (Data Entry)'!$A$3:$A$504,0),2),\"\"))),\"\"))","v":""},{"$f":"IF(K45=2,\"\",IF(IFERROR(INDIRECT(CONCATENATE(\"'UNITCOST ITEMS (Data Entry)'!J\",IFERROR(SUM(MATCH(A45,'UNITCOST ITEMS (Data Entry)'!$A$3:$A$504,0),2),\"\"))),\"\")=0,\"\",IFERROR(INDIRECT(CONCATENATE(\"'UNITCOST ITEMS (Data Entry)'!J\",IFERROR(SUM(MATCH(A45,'UNITCOST ITEMS (Data Entry)'!$A$3:$A$504,0),2),\"\"))),\"\")))","v":""},null,{"$f":"IF(IFERROR(INDIRECT(CONCATENATE(\"'UNITCOST ITEMS (Data Entry)'!C\",IFERROR(SUM(MATCH(A45,'UNITCOST ITEMS (Data Entry)'!$A$3:$A$504,0),2),\"\"))),\"\")=0,\"\",IFERROR(INDIRECT(CONCATENATE(\"'UNITCOST ITEMS (Data Entry)'!C\",IFERROR(SUM(MATCH(A45,'UNITCOST ITEMS (Data Entry)'!$A$3:$A$504,0),2),\"\"))),\"\"))","v":""},""]
[38,{"$f":"IF(IFERROR(INDIRECT(CONCATENATE(\"'UNITCOST ITEMS (Data Entry)'!D\",IFERROR(SUM(MATCH(A46,'UNITCOST ITEMS (Data Entry)'!$A$3:$A$504,0),2),\"\"))),\"\")=0,\"\",IFERROR(INDIRECT(CONCATENATE(\"'UNITCOST ITEMS (Data Entry)'!D\",IFERROR(SUM(MATCH(A46,'UNITCOST ITEMS (Data Entry)'!$A$3:$A$504,0),2),\"\"))),\"\"))","v":""},{"$f":"IF(IFERROR(INDIRECT(CONCATENATE(\"'UNITCOST ITEMS (Data Entry)'!E\",IFERROR(SUM(MATCH(A46,'UNITCOST ITEMS (Data Entry)'!$A$3:$A$504,0),2),\"\"))),\"\")=0,\"\",IFERROR(INDIRECT(CONCATENATE(\"'UNITCOST ITEMS (Data Entry)'!E\",IFERROR(SUM(MATCH(A46,'UNITCOST ITEMS (Data Entry)'!$A$3:$A$504,0),2),\"\"))),\"\"))","v":""},null,{"$f":"IF(IFERROR(INDIRECT(CONCATENATE(\"'UNITCOST ITEMS (Data Entry)'!F\",IFERROR(SUM(MATCH(A46,'UNITCOST ITEMS (Data Entry)'!$A$3:$A$504,0),2),\"\"))),\"\")=0,\"\",IFERROR(INDIRECT(CONCATENATE(\"'UNITCOST ITEMS (Data Entry)'!F\",IFERROR(SUM(MATCH(A46,'UNITCOST ITEMS (Data Entry)'!$A$3:$A$504,0),2),\"\"))),\"\"))","v":""},{"$f":"IF(IFERROR(INDIRECT(CONCATENATE(\"'UNITCOST ITEMS (Data Entry)'!G\",IFERROR(SUM(MATCH(A46,'UNITCOST ITEMS (Data Entry)'!$A$3:$A$504,0),2),\"\"))),\"\")=0,\"\",IFERROR(INDIRECT(CONCATENATE(\"'UNITCOST ITEMS (Data Entry)'!G\",IFERROR(SUM(MATCH(A46,'UNITCOST ITEMS (Data Entry)'!$A$3:$A$504,0),2),\"\"))),\"\"))","v":""},{"$f":"IF(IFERROR(INDIRECT(CONCATENATE(\"'UNITCOST ITEMS (Data Entry)'!H\",IFERROR(SUM(MATCH(A46,'UNITCOST ITEMS (Data Entry)'!$A$3:$A$504,0),2),\"\"))),\"\")=0,\"\",IFERROR(INDIRECT(CONCATENATE(\"'UNITCOST ITEMS (Data Entry)'!H\",IFERROR(SUM(MATCH(A46,'UNITCOST ITEMS (Data Entry)'!$A$3:$A$504,0),2),\"\"))),\"\"))","v":""},{"$f":"IF(IFERROR(INDIRECT(CONCATENATE(\"'UNITCOST ITEMS (Data Entry)'!I\",IFERROR(SUM(MATCH(A46,'UNITCOST ITEMS (Data Entry)'!$A$3:$A$504,0),2),\"\"))),\"\")=0,\"\",IFERROR(INDIRECT(CONCATENATE(\"'UNITCOST ITEMS (Data Entry)'!I\",IFERROR(SUM(MATCH(A46,'UNITCOST ITEMS (Data Entry)'!$A$3:$A$504,0),2),\"\"))),\"\"))","v":""},{"$f":"IF(K46=2,\"\",IF(IFERROR(INDIRECT(CONCATENATE(\"'UNITCOST ITEMS (Data Entry)'!J\",IFERROR(SUM(MATCH(A46,'UNITCOST ITEMS (Data Entry)'!$A$3:$A$504,0),2),\"\"))),\"\")=0,\"\",IFERROR(INDIRECT(CONCATENATE(\"'UNITCOST ITEMS (Data Entry)'!J\",IFERROR(SUM(MATCH(A46,'UNITCOST ITEMS (Data Entry)'!$A$3:$A$504,0),2),\"\"))),\"\")))","v":""},null,{"$f":"IF(IFERROR(INDIRECT(CONCATENATE(\"'UNITCOST ITEMS (Data Entry)'!C\",IFERROR(SUM(MATCH(A46,'UNITCOST ITEMS (Data Entry)'!$A$3:$A$504,0),2),\"\"))),\"\")=0,\"\",IFERROR(INDIRECT(CONCATENATE(\"'UNITCOST ITEMS (Data Entry)'!C\",IFERROR(SUM(MATCH(A46,'UNITCOST ITEMS (Data Entry)'!$A$3:$A$504,0),2),\"\"))),\"\"))","v":""},""]
[39,{"$f":"IF(IFERROR(INDIRECT(CONCATENATE(\"'UNITCOST ITEMS (Data Entry)'!D\",IFERROR(SUM(MATCH(A47,'UNITCOST ITEMS (Data Entry)'!$A$3:$A$504,0),2),\"\"))),\"\")=0,\"\",IFERROR(INDIRECT(CONCATENATE(\"'UNITCOST ITEMS (Data Entry)'!D\",IFERROR(SUM(MATCH(A47,'UNITCOST ITEMS (Data Entry)'!$A$3:$A$504,0),2),\"\"))),\"\"))","v":""},{"$f":"IF(IFERROR(INDIRECT(CONCATENATE(\"'UNITCOST ITEMS (Data Entry)'!E\",IFERROR(SUM(MATCH(A47,'UNITCOST ITEMS (Data Entry)'!$A$3:$A$504,0),2),\"\"))),\"\")=0,\"\",IFERROR(INDIRECT(CONCATENATE(\"'UNITCOST ITEMS (Data Entry)'!E\",IFERROR(SUM(MATCH(A47,'UNITCOST ITEMS (Data Entry)'!$A$3:$A$504,0),2),\"\"))),\"\"))","v":""},null,{"$f":"IF(IFERROR(INDIRECT(CONCATENATE(\"'UNITCOST ITEMS (Data Entry)'!F\",IFERROR(SUM(MATCH(A47,'UNITCOST ITEMS (Data Entry)'!$A$3:$A$504,0),2),\"\"))),\"\")=0,\"\",IFERROR(INDIRECT(CONCATENATE(\"'UNITCOST ITEMS (Data Entry)'!F\",IFERROR(SUM(MATCH(A47,'UNITCOST ITEMS (Data Entry)'!$A$3:$A$504,0),2),\"\"))),\"\"))","v":""},{"$f":"IF(IFERROR(INDIRECT(CONCATENATE(\"'UNITCOST ITEMS (Data Entry)'!G\",IFERROR(SUM(MATCH(A47,'UNITCOST ITEMS (Data Entry)'!$A$3:$A$504,0),2),\"\"))),\"\")=0,\"\",IFERROR(INDIRECT(CONCATENATE(\"'UNITCOST ITEMS (Data Entry)'!G\",IFERROR(SUM(MATCH(A47,'UNITCOST ITEMS (Data Entry)'!$A$3:$A$504,0),2),\"\"))),\"\"))","v":""},{"$f":"IF(IFERROR(INDIRECT(CONCATENATE(\"'UNITCOST ITEMS (Data Entry)'!H\",IFERROR(SUM(MATCH(A47,'UNITCOST ITEMS (Data Entry)'!$A$3:$A$504,0),2),\"\"))),\"\")=0,\"\",IFERROR(INDIRECT(CONCATENATE(\"'UNITCOST ITEMS (Data Entry)'!H\",IFERROR(SUM(MATCH(A47,'UNITCOST ITEMS (Data Entry)'!$A$3:$A$504,0),2),\"\"))),\"\"))","v":""},{"$f":"IF(IFERROR(INDIRECT(CONCATENATE(\"'UNITCOST ITEMS (Data Entry)'!I\",IFERROR(SUM(MATCH(A47,'UNITCOST ITEMS (Data Entry)'!$A$3:$A$504,0),2),\"\"))),\"\")=0,\"\",IFERROR(INDIRECT(CONCATENATE(\"'UNITCOST ITEMS (Data Entry)'!I\",IFERROR(SUM(MATCH(A47,'UNITCOST ITEMS (Data Entry)'!$A$3:$A$504,0),2),\"\"))),\"\"))","v":""},{"$f":"IF(K47=2,\"\",IF(IFERROR(INDIRECT(CONCATENATE(\"'UNITCOST ITEMS (Data Entry)'!J\",IFERROR(SUM(MATCH(A47,'UNITCOST ITEMS (Data Entry)'!$A$3:$A$504,0),2),\"\"))),\"\")=0,\"\",IFERROR(INDIRECT(CONCATENATE(\"'UNITCOST ITEMS (Data Entry)'!J\",IFERROR(SUM(MATCH(A47,'UNITCOST ITEMS (Data Entry)'!$A$3:$A$504,0),2),\"\"))),\"\")))","v":""},null,{"$f":"IF(IFERROR(INDIRECT(CONCATENATE(\"'UNITCOST ITEMS (Data Entry)'!C\",IFERROR(SUM(MATCH(A47,'UNITCOST ITEMS (Data Entry)'!$A$3:$A$504,0),2),\"\"))),\"\")=0,\"\",IFERROR(INDIRECT(CONCATENATE(\"'UNITCOST ITEMS (Data Entry)'!C\",IFERROR(SUM(MATCH(A47,'UNITCOST ITEMS (Data Entry)'!$A$3:$A$504,0),2),\"\"))),\"\"))","v":""},""]
[40,{"$f":"IF(IFERROR(INDIRECT(CONCATENATE(\"'UNITCOST ITEMS (Data Entry)'!D\",IFERROR(SUM(MATCH(A48,'UNITCOST ITEMS (Data Entry)'!$A$3:$A$504,0),2),\"\"))),\"\")=0,\"\",IFERROR(INDIRECT(CONCATENATE(\"'UNITCOST ITEMS (Data Entry)'!D\",IFERROR(SUM(MATCH(A48,'UNITCOST ITEMS (Data Entry)'!$A$3:$A$504,0),2),\"\"))),\"\"))","v":""},{"$f":"IF(IFERROR(INDIRECT(CONCATENATE(\"'UNITCOST ITEMS (Data Entry)'!E\",IFERROR(SUM(MATCH(A48,'UNITCOST ITEMS (Data Entry)'!$A$3:$A$504,0),2),\"\"))),\"\")=0,\"\",IFERROR(INDIRECT(CONCATENATE(\"'UNITCOST ITEMS (Data Entry)'!E\",IFERROR(SUM(MATCH(A48,'UNITCOST ITEMS (Data Entry)'!$A$3:$A$504,0),2),\"\"))),\"\"))","v":""},null,{"$f":"IF(IFERROR(INDIRECT(CONCATENATE(\"'UNITCOST ITEMS (Data Entry)'!F\",IFERROR(SUM(MATCH(A48,'UNITCOST ITEMS (Data Entry)'!$A$3:$A$504,0),2),\"\"))),\"\")=0,\"\",IFERROR(INDIRECT(CONCATENATE(\"'UNITCOST ITEMS (Data Entry)'!F\",IFERROR(SUM(MATCH(A48,'UNITCOST ITEMS (Data Entry)'!$A$3:$A$504,0),2),\"\"))),\"\"))","v":""},{"$f":"IF(IFERROR(INDIRECT(CONCATENATE(\"'UNITCOST ITEMS (Data Entry)'!G\",IFERROR(SUM(MATCH(A48,'UNITCOST ITEMS (Data Entry)'!$A$3:$A$504,0),2),\"\"))),\"\")=0,\"\",IFERROR(INDIRECT(CONCATENATE(\"'UNITCOST ITEMS (Data Entry)'!G\",IFERROR(SUM(MATCH(A48,'UNITCOST ITEMS (Data Entry)'!$A$3:$A$504,0),2),\"\"))),\"\"))","v":""},{"$f":"IF(IFERROR(INDIRECT(CONCATENATE(\"'UNITCOST ITEMS (Data Entry)'!H\",IFERROR(SUM(MATCH(A48,'UNITCOST ITEMS (Data Entry)'!$A$3:$A$504,0),2),\"\"))),\"\")=0,\"\",IFERROR(INDIRECT(CONCATENATE(\"'UNITCOST ITEMS (Data Entry)'!H\",IFERROR(SUM(MATCH(A48,'UNITCOST ITEMS (Data Entry)'!$A$3:$A$504,0),2),\"\"))),\"\"))","v":""},{"$f":"IF(IFERROR(INDIRECT(CONCATENATE(\"'UNITCOST ITEMS (Data Entry)'!I\",IFERROR(SUM(MATCH(A48,'UNITCOST ITEMS (Data Entry)'!$A$3:$A$504,0),2),\"\"))),\"\")=0,\"\",IFERROR(INDIRECT(CONCATENATE(\"'UNITCOST ITEMS (Data Entry)'!I\",IFERROR(SUM(MATCH(A48,'UNITCOST ITEMS (Data Entry)'!$A$3:$A$504,0),2),\"\"))),\"\"))","v":""},{"$f":"IF(K48=2,\"\",IF(IFERROR(INDIRECT(CONCATENATE(\"'UNITCOST ITEMS (Data Entry)'!J\",IFERROR(SUM(MATCH(A48,'UNITCOST ITEMS (Data Entry)'!$A$3:$A$504,0),2),\"\"))),\"\")=0,\"\",IFERROR(INDIRECT(CONCATENATE(\"'UNITCOST ITEMS (Data Entry)'!J\",IFERROR(SUM(MATCH(A48,'UNITCOST ITEMS (Data Entry)'!$A$3:$A$504,0),2),\"\"))),\"\")))","v":""},null,{"$f":"IF(IFERROR(INDIRECT(CONCATENATE(\"'UNITCOST ITEMS (Data Entry)'!C\",IFERROR(SUM(MATCH(A48,'UNITCOST ITEMS (Data Entry)'!$A$3:$A$504,0),2),\"\"))),\"\")=0,\"\",IFERROR(INDIRECT(CONCATENATE(\"'UNITCOST ITEMS (Data Entry)'!C\",IFERROR(SUM(MATCH(A48,'UNITCOST ITEMS (Data Entry)'!$A$3:$A$504,0),2),\"\"))),\"\"))","v":""},""]
[41,{"$f":"IF(IFERROR(INDIRECT(CONCATENATE(\"'UNITCOST ITEMS (Data Entry)'!D\",IFERROR(SUM(MATCH(A49,'UNITCOST ITEMS (Data Entry)'!$A$3:$A$504,0),2),\"\"))),\"\")=0,\"\",IFERROR(INDIRECT(CONCATENATE(\"'UNITCOST ITEMS (Data Entry)'!D\",IFERROR(SUM(MATCH(A49,'UNITCOST ITEMS (Data Entry)'!$A$3:$A$504,0),2),\"\"))),\"\"))","v":""},{"$f":"IF(IFERROR(INDIRECT(CONCATENATE(\"'UNITCOST ITEMS (Data Entry)'!E\",IFERROR(SUM(MATCH(A49,'UNITCOST ITEMS (Data Entry)'!$A$3:$A$504,0),2),\"\"))),\"\")=0,\"\",IFERROR(INDIRECT(CONCATENATE(\"'UNITCOST ITEMS (Data Entry)'!E\",IFERROR(SUM(MATCH(A49,'UNITCOST ITEMS (Data Entry)'!$A$3:$A$504,0),2),\"\"))),\"\"))","v":""},null,{"$f":"IF(IFERROR(INDIRECT(CONCATENATE(\"'UNITCOST ITEMS (Data Entry)'!F\",IFERROR(SUM(MATCH(A49,'UNITCOST ITEMS (Data Entry)'!$A$3:$A$504,0),2),\"\"))),\"\")=0,\"\",IFERROR(INDIRECT(CONCATENATE(\"'UNITCOST ITEMS (Data Entry)'!F\",IFERROR(SUM(MATCH(A49,'UNITCOST ITEMS (Data Entry)'!$A$3:$A$504,0),2),\"\"))),\"\"))","v":""},{"$f":"IF(IFERROR(INDIRECT(CONCATENATE(\"'UNITCOST ITEMS (Data Entry)'!G\",IFERROR(SUM(MATCH(A49,'UNITCOST ITEMS (Data Entry)'!$A$3:$A$504,0),2),\"\"))),\"\")=0,\"\",IFERROR(INDIRECT(CONCATENATE(\"'UNITCOST ITEMS (Data Entry)'!G\",IFERROR(SUM(MATCH(A49,'UNITCOST ITEMS (Data Entry)'!$A$3:$A$504,0),2),\"\"))),\"\"))","v":""},{"$f":"IF(IFERROR(INDIRECT(CONCATENATE(\"'UNITCOST ITEMS (Data Entry)'!H\",IFERROR(SUM(MATCH(A49,'UNITCOST ITEMS (Data Entry)'!$A$3:$A$504,0),2),\"\"))),\"\")=0,\"\",IFERROR(INDIRECT(CONCATENATE(\"'UNITCOST ITEMS (Data Entry)'!H\",IFERROR(SUM(MATCH(A49,'UNITCOST ITEMS (Data Entry)'!$A$3:$A$504,0),2),\"\"))),\"\"))","v":""},{"$f":"IF(IFERROR(INDIRECT(CONCATENATE(\"'UNITCOST ITEMS (Data Entry)'!I\",IFERROR(SUM(MATCH(A49,'UNITCOST ITEMS (Data Entry)'!$A$3:$A$504,0),2),\"\"))),\"\")=0,\"\",IFERROR(INDIRECT(CONCATENATE(\"'UNITCOST ITEMS (Data Entry)'!I\",IFERROR(SUM(MATCH(A49,'UNITCOST ITEMS (Data Entry)'!$A$3:$A$504,0),2),\"\"))),\"\"))","v":""},{"$f":"IF(K49=2,\"\",IF(IFERROR(INDIRECT(CONCATENATE(\"'UNITCOST ITEMS (Data Entry)'!J\",IFERROR(SUM(MATCH(A49,'UNITCOST ITEMS (Data Entry)'!$A$3:$A$504,0),2),\"\"))),\"\")=0,\"\",IFERROR(INDIRECT(CONCATENATE(\"'UNITCOST ITEMS (Data Entry)'!J\",IFERROR(SUM(MATCH(A49,'UNITCOST ITEMS (Data Entry)'!$A$3:$A$504,0),2),\"\"))),\"\")))","v":""},null,{"$f":"IF(IFERROR(INDIRECT(CONCATENATE(\"'UNITCOST ITEMS (Data Entry)'!C\",IFERROR(SUM(MATCH(A49,'UNITCOST ITEMS (Data Entry)'!$A$3:$A$504,0),2),\"\"))),\"\")=0,\"\",IFERROR(INDIRECT(CONCATENATE(\"'UNITCOST ITEMS (Data Entry)'!C\",IFERROR(SUM(MATCH(A49,'UNITCOST ITEMS (Data Entry)'!$A$3:$A$504,0),2),\"\"))),\"\"))","v":""},""]
[42,{"$f":"IF(IFERROR(INDIRECT(CONCATENATE(\"'UNITCOST ITEMS (Data Entry)'!D\",IFERROR(SUM(MATCH(A50,'UNITCOST ITEMS (Data Entry)'!$A$3:$A$504,0),2),\"\"))),\"\")=0,\"\",IFERROR(INDIRECT(CONCATENATE(\"'UNITCOST ITEMS (Data Entry)'!D\",IFERROR(SUM(MATCH(A50,'UNITCOST ITEMS (Data Entry)'!$A$3:$A$504,0),2),\"\"))),\"\"))","v":""},{"$f":"IF(IFERROR(INDIRECT(CONCATENATE(\"'UNITCOST ITEMS (Data Entry)'!E\",IFERROR(SUM(MATCH(A50,'UNITCOST ITEMS (Data Entry)'!$A$3:$A$504,0),2),\"\"))),\"\")=0,\"\",IFERROR(INDIRECT(CONCATENATE(\"'UNITCOST ITEMS (Data Entry)'!E\",IFERROR(SUM(MATCH(A50,'UNITCOST ITEMS (Data Entry)'!$A$3:$A$504,0),2),\"\"))),\"\"))","v":""},null,{"$f":"IF(IFERROR(INDIRECT(CONCATENATE(\"'UNITCOST ITEMS (Data Entry)'!F\",IFERROR(SUM(MATCH(A50,'UNITCOST ITEMS (Data Entry)'!$A$3:$A$504,0),2),\"\"))),\"\")=0,\"\",IFERROR(INDIRECT(CONCATENATE(\"'UNITCOST ITEMS (Data Entry)'!F\",IFERROR(SUM(MATCH(A50,'UNITCOST ITEMS (Data Entry)'!$A$3:$A$504,0),2),\"\"))),\"\"))","v":""},{"$f":"IF(IFERROR(INDIRECT(CONCATENATE(\"'UNITCOST ITEMS (Data Entry)'!G\",IFERROR(SUM(MATCH(A50,'UNITCOST ITEMS (Data Entry)'!$A$3:$A$504,0),2),\"\"))),\"\")=0,\"\",IFERROR(INDIRECT(CONCATENATE(\"'UNITCOST ITEMS (Data Entry)'!G\",IFERROR(SUM(MATCH(A50,'UNITCOST ITEMS (Data Entry)'!$A$3:$A$504,0),2),\"\"))),\"\"))","v":""},{"$f":"IF(IFERROR(INDIRECT(CONCATENATE(\"'UNITCOST ITEMS (Data Entry)'!H\",IFERROR(SUM(MATCH(A50,'UNITCOST ITEMS (Data Entry)'!$A$3:$A$504,0),2),\"\"))),\"\")=0,\"\",IFERROR(INDIRECT(CONCATENATE(\"'UNITCOST ITEMS (Data Entry)'!H\",IFERROR(SUM(MATCH(A50,'UNITCOST ITEMS (Data Entry)'!$A$3:$A$504,0),2),\"\"))),\"\"))","v":""},{"$f":"IF(IFERROR(INDIRECT(CONCATENATE(\"'UNITCOST ITEMS (Data Entry)'!I\",IFERROR(SUM(MATCH(A50,'UNITCOST ITEMS (Data Entry)'!$A$3:$A$504,0),2),\"\"))),\"\")=0,\"\",IFERROR(INDIRECT(CONCATENATE(\"'UNITCOST ITEMS (Data Entry)'!I\",IFERROR(SUM(MATCH(A50,'UNITCOST ITEMS (Data Entry)'!$A$3:$A$504,0),2),\"\"))),\"\"))","v":""},{"$f":"IF(K50=2,\"\",IF(IFERROR(INDIRECT(CONCATENATE(\"'UNITCOST ITEMS (Data Entry)'!J\",IFERROR(SUM(MATCH(A50,'UNITCOST ITEMS (Data Entry)'!$A$3:$A$504,0),2),\"\"))),\"\")=0,\"\",IFERROR(INDIRECT(CONCATENATE(\"'UNITCOST ITEMS (Data Entry)'!J\",IFERROR(SUM(MATCH(A50,'UNITCOST ITEMS (Data Entry)'!$A$3:$A$504,0),2),\"\"))),\"\")))","v":""},null,{"$f":"IF(IFERROR(INDIRECT(CONCATENATE(\"'UNITCOST ITEMS (Data Entry)'!C\",IFERROR(SUM(MATCH(A50,'UNITCOST ITEMS (Data Entry)'!$A$3:$A$504,0),2),\"\"))),\"\")=0,\"\",IFERROR(INDIRECT(CONCATENATE(\"'UNITCOST ITEMS (Data Entry)'!C\",IFERROR(SUM(MATCH(A50,'UNITCOST ITEMS (Data Entry)'!$A$3:$A$504,0),2),\"\"))),\"\"))","v":""},""]
[43,{"$f":"IF(IFERROR(INDIRECT(CONCATENATE(\"'UNITCOST ITEMS (Data Entry)'!D\",IFERROR(SUM(MATCH(A51,'UNITCOST ITEMS (Data Entry)'!$A$3:$A$504,0),2),\"\"))),\"\")=0,\"\",IFERROR(INDIRECT(CONCATENATE(\"'UNITCOST ITEMS (Data Entry)'!D\",IFERROR(SUM(MATCH(A51,'UNITCOST ITEMS (Data Entry)'!$A$3:$A$504,0),2),\"\"))),\"\"))","v":""},{"$f":"IF(IFERROR(INDIRECT(CONCATENATE(\"'UNITCOST ITEMS (Data Entry)'!E\",IFERROR(SUM(MATCH(A51,'UNITCOST ITEMS (Data Entry)'!$A$3:$A$504,0),2),\"\"))),\"\")=0,\"\",IFERROR(INDIRECT(CONCATENATE(\"'UNITCOST ITEMS (Data Entry)'!E\",IFERROR(SUM(MATCH(A51,'UNITCOST ITEMS (Data Entry)'!$A$3:$A$504,0),2),\"\"))),\"\"))","v":""},null,{"$f":"IF(IFERROR(INDIRECT(CONCATENATE(\"'UNITCOST ITEMS (Data Entry)'!F\",IFERROR(SUM(MATCH(A51,'UNITCOST ITEMS (Data Entry)'!$A$3:$A$504,0),2),\"\"))),\"\")=0,\"\",IFERROR(INDIRECT(CONCATENATE(\"'UNITCOST ITEMS (Data Entry)'!F\",IFERROR(SUM(MATCH(A51,'UNITCOST ITEMS (Data Entry)'!$A$3:$A$504,0),2),\"\"))),\"\"))","v":""},{"$f":"IF(IFERROR(INDIRECT(CONCATENATE(\"'UNITCOST ITEMS (Data Entry)'!G\",IFERROR(SUM(MATCH(A51,'UNITCOST ITEMS (Data Entry)'!$A$3:$A$504,0),2),\"\"))),\"\")=0,\"\",IFERROR(INDIRECT(CONCATENATE(\"'UNITCOST ITEMS (Data Entry)'!G\",IFERROR(SUM(MATCH(A51,'UNITCOST ITEMS (Data Entry)'!$A$3:$A$504,0),2),\"\"))),\"\"))","v":""},{"$f":"IF(IFERROR(INDIRECT(CONCATENATE(\"'UNITCOST ITEMS (Data Entry)'!H\",IFERROR(SUM(MATCH(A51,'UNITCOST ITEMS (Data Entry)'!$A$3:$A$504,0),2),\"\"))),\"\")=0,\"\",IFERROR(INDIRECT(CONCATENATE(\"'UNITCOST ITEMS (Data Entry)'!H\",IFERROR(SUM(MATCH(A51,'UNITCOST ITEMS (Data Entry)'!$A$3:$A$504,0),2),\"\"))),\"\"))","v":""},{"$f":"IF(IFERROR(INDIRECT(CONCATENATE(\"'UNITCOST ITEMS (Data Entry)'!I\",IFERROR(SUM(MATCH(A51,'UNITCOST ITEMS (Data Entry)'!$A$3:$A$504,0),2),\"\"))),\"\")=0,\"\",IFERROR(INDIRECT(CONCATENATE(\"'UNITCOST ITEMS (Data Entry)'!I\",IFERROR(SUM(MATCH(A51,'UNITCOST ITEMS (Data Entry)'!$A$3:$A$504,0),2),\"\"))),\"\"))","v":""},{"$f":"IF(K51=2,\"\",IF(IFERROR(INDIRECT(CONCATENATE(\"'UNITCOST ITEMS (Data Entry)'!J\",IFERROR(SUM(MATCH(A51,'UNITCOST ITEMS (Data Entry)'!$A$3:$A$504,0),2),\"\"))),\"\")=0,\"\",IFERROR(INDIRECT(CONCATENATE(\"'UNITCOST ITEMS (Data Entry)'!J\",IFERROR(SUM(MATCH(A51,'UNITCOST ITEMS (Data Entry)'!$A$3:$A$504,0),2),\"\"))),\"\")))","v":""},null,{"$f":"IF(IFERROR(INDIRECT(CONCATENATE(\"'UNITCOST ITEMS (Data Entry)'!C\",IFERROR(SUM(MATCH(A51,'UNITCOST ITEMS (Data Entry)'!$A$3:$A$504,0),2),\"\"))),\"\")=0,\"\",IFERROR(INDIRECT(CONCATENATE(\"'UNITCOST ITEMS (Data Entry)'!C\",IFERROR(SUM(MATCH(A51,'UNITCOST ITEMS (Data Entry)'!$A$3:$A$504,0),2),\"\"))),\"\"))","v":""},""]
[44,{"$f":"IF(IFERROR(INDIRECT(CONCATENATE(\"'UNITCOST ITEMS (Data Entry)'!D\",IFERROR(SUM(MATCH(A52,'UNITCOST ITEMS (Data Entry)'!$A$3:$A$504,0),2),\"\"))),\"\")=0,\"\",IFERROR(INDIRECT(CONCATENATE(\"'UNITCOST ITEMS (Data Entry)'!D\",IFERROR(SUM(MATCH(A52,'UNITCOST ITEMS (Data Entry)'!$A$3:$A$504,0),2),\"\"))),\"\"))","v":""},{"$f":"IF(IFERROR(INDIRECT(CONCATENATE(\"'UNITCOST ITEMS (Data Entry)'!E\",IFERROR(SUM(MATCH(A52,'UNITCOST ITEMS (Data Entry)'!$A$3:$A$504,0),2),\"\"))),\"\")=0,\"\",IFERROR(INDIRECT(CONCATENATE(\"'UNITCOST ITEMS (Data Entry)'!E\",IFERROR(SUM(MATCH(A52,'UNITCOST ITEMS (Data Entry)'!$A$3:$A$504,0),2),\"\"))),\"\"))","v":""},null,{"$f":"IF(IFERROR(INDIRECT(CONCATENATE(\"'UNITCOST ITEMS (Data Entry)'!F\",IFERROR(SUM(MATCH(A52,'UNITCOST ITEMS (Data Entry)'!$A$3:$A$504,0),2),\"\"))),\"\")=0,\"\",IFERROR(INDIRECT(CONCATENATE(\"'UNITCOST ITEMS (Data Entry)'!F\",IFERROR(SUM(MATCH(A52,'UNITCOST ITEMS (Data Entry)'!$A$3:$A$504,0),2),\"\"))),\"\"))","v":""},{"$f":"IF(IFERROR(INDIRECT(CONCATENATE(\"'UNITCOST ITEMS (Data Entry)'!G\",IFERROR(SUM(MATCH(A52,'UNITCOST ITEMS (Data Entry)'!$A$3:$A$504,0),2),\"\"))),\"\")=0,\"\",IFERROR(INDIRECT(CONCATENATE(\"'UNITCOST ITEMS (Data Entry)'!G\",IFERROR(SUM(MATCH(A52,'UNITCOST ITEMS (Data Entry)'!$A$3:$A$504,0),2),\"\"))),\"\"))","v":""},{"$f":"IF(IFERROR(INDIRECT(CONCATENATE(\"'UNITCOST ITEMS (Data Entry)'!H\",IFERROR(SUM(MATCH(A52,'UNITCOST ITEMS (Data Entry)'!$A$3:$A$504,0),2),\"\"))),\"\")=0,\"\",IFERROR(INDIRECT(CONCATENATE(\"'UNITCOST ITEMS (Data Entry)'!H\",IFERROR(SUM(MATCH(A52,'UNITCOST ITEMS (Data Entry)'!$A$3:$A$504,0),2),\"\"))),\"\"))","v":""},{"$f":"IF(IFERROR(INDIRECT(CONCATENATE(\"'UNITCOST ITEMS (Data Entry)'!I\",IFERROR(SUM(MATCH(A52,'UNITCOST ITEMS (Data Entry)'!$A$3:$A$504,0),2),\"\"))),\"\")=0,\"\",IFERROR(INDIRECT(CONCATENATE(\"'UNITCOST ITEMS (Data Entry)'!I\",IFERROR(SUM(MATCH(A52,'UNITCOST ITEMS (Data Entry)'!$A$3:$A$504,0),2),\"\"))),\"\"))","v":""},{"$f":"IF(K52=2,\"\",IF(IFERROR(INDIRECT(CONCATENATE(\"'UNITCOST ITEMS (Data Entry)'!J\",IFERROR(SUM(MATCH(A52,'UNITCOST ITEMS (Data Entry)'!$A$3:$A$504,0),2),\"\"))),\"\")=0,\"\",IFERROR(INDIRECT(CONCATENATE(\"'UNITCOST ITEMS (Data Entry)'!J\",IFERROR(SUM(MATCH(A52,'UNITCOST ITEMS (Data Entry)'!$A$3:$A$504,0),2),\"\"))),\"\")))","v":""},null,{"$f":"IF(IFERROR(INDIRECT(CONCATENATE(\"'UNITCOST ITEMS (Data Entry)'!C\",IFERROR(SUM(MATCH(A52,'UNITCOST ITEMS (Data Entry)'!$A$3:$A$504,0),2),\"\"))),\"\")=0,\"\",IFERROR(INDIRECT(CONCATENATE(\"'UNITCOST ITEMS (Data Entry)'!C\",IFERROR(SUM(MATCH(A52,'UNITCOST ITEMS (Data Entry)'!$A$3:$A$504,0),2),\"\"))),\"\"))","v":""},""]
[45,{"$f":"IF(IFERROR(INDIRECT(CONCATENATE(\"'UNITCOST ITEMS (Data Entry)'!D\",IFERROR(SUM(MATCH(A53,'UNITCOST ITEMS (Data Entry)'!$A$3:$A$504,0),2),\"\"))),\"\")=0,\"\",IFERROR(INDIRECT(CONCATENATE(\"'UNITCOST ITEMS (Data Entry)'!D\",IFERROR(SUM(MATCH(A53,'UNITCOST ITEMS (Data Entry)'!$A$3:$A$504,0),2),\"\"))),\"\"))","v":""},{"$f":"IF(IFERROR(INDIRECT(CONCATENATE(\"'UNITCOST ITEMS (Data Entry)'!E\",IFERROR(SUM(MATCH(A53,'UNITCOST ITEMS (Data Entry)'!$A$3:$A$504,0),2),\"\"))),\"\")=0,\"\",IFERROR(INDIRECT(CONCATENATE(\"'UNITCOST ITEMS (Data Entry)'!E\",IFERROR(SUM(MATCH(A53,'UNITCOST ITEMS (Data Entry)'!$A$3:$A$504,0),2),\"\"))),\"\"))","v":""},null,{"$f":"IF(IFERROR(INDIRECT(CONCATENATE(\"'UNITCOST ITEMS (Data Entry)'!F\",IFERROR(SUM(MATCH(A53,'UNITCOST ITEMS (Data Entry)'!$A$3:$A$504,0),2),\"\"))),\"\")=0,\"\",IFERROR(INDIRECT(CONCATENATE(\"'UNITCOST ITEMS (Data Entry)'!F\",IFERROR(SUM(MATCH(A53,'UNITCOST ITEMS (Data Entry)'!$A$3:$A$504,0),2),\"\"))),\"\"))","v":""},{"$f":"IF(IFERROR(INDIRECT(CONCATENATE(\"'UNITCOST ITEMS (Data Entry)'!G\",IFERROR(SUM(MATCH(A53,'UNITCOST ITEMS (Data Entry)'!$A$3:$A$504,0),2),\"\"))),\"\")=0,\"\",IFERROR(INDIRECT(CONCATENATE(\"'UNITCOST ITEMS (Data Entry)'!G\",IFERROR(SUM(MATCH(A53,'UNITCOST ITEMS (Data Entry)'!$A$3:$A$504,0),2),\"\"))),\"\"))","v":""},{"$f":"IF(IFERROR(INDIRECT(CONCATENATE(\"'UNITCOST ITEMS (Data Entry)'!H\",IFERROR(SUM(MATCH(A53,'UNITCOST ITEMS (Data Entry)'!$A$3:$A$504,0),2),\"\"))),\"\")=0,\"\",IFERROR(INDIRECT(CONCATENATE(\"'UNITCOST ITEMS (Data Entry)'!H\",IFERROR(SUM(MATCH(A53,'UNITCOST ITEMS (Data Entry)'!$A$3:$A$504,0),2),\"\"))),\"\"))","v":""},{"$f":"IF(IFERROR(INDIRECT(CONCATENATE(\"'UNITCOST ITEMS (Data Entry)'!I\",IFERROR(SUM(MATCH(A53,'UNITCOST ITEMS (Data Entry)'!$A$3:$A$504,0),2),\"\"))),\"\")=0,\"\",IFERROR(INDIRECT(CONCATENATE(\"'UNITCOST ITEMS (Data Entry)'!I\",IFERROR(SUM(MATCH(A53,'UNITCOST ITEMS (Data Entry)'!$A$3:$A$504,0),2),\"\"))),\"\"))","v":""},{"$f":"IF(K53=2,\"\",IF(IFERROR(INDIRECT(CONCATENATE(\"'UNITCOST ITEMS (Data Entry)'!J\",IFERROR(SUM(MATCH(A53,'UNITCOST ITEMS (Data Entry)'!$A$3:$A$504,0),2),\"\"))),\"\")=0,\"\",IFERROR(INDIRECT(CONCATENATE(\"'UNITCOST ITEMS (Data Entry)'!J\",IFERROR(SUM(MATCH(A53,'UNITCOST ITEMS (Data Entry)'!$A$3:$A$504,0),2),\"\"))),\"\")))","v":""},null,{"$f":"IF(IFERROR(INDIRECT(CONCATENATE(\"'UNITCOST ITEMS (Data Entry)'!C\",IFERROR(SUM(MATCH(A53,'UNITCOST ITEMS (Data Entry)'!$A$3:$A$504,0),2),\"\"))),\"\")=0,\"\",IFERROR(INDIRECT(CONCATENATE(\"'UNITCOST ITEMS (Data Entry)'!C\",IFERROR(SUM(MATCH(A53,'UNITCOST ITEMS (Data Entry)'!$A$3:$A$504,0),2),\"\"))),\"\"))","v":""},""]
[46,{"$f":"IF(IFERROR(INDIRECT(CONCATENATE(\"'UNITCOST ITEMS (Data Entry)'!D\",IFERROR(SUM(MATCH(A54,'UNITCOST ITEMS (Data Entry)'!$A$3:$A$504,0),2),\"\"))),\"\")=0,\"\",IFERROR(INDIRECT(CONCATENATE(\"'UNITCOST ITEMS (Data Entry)'!D\",IFERROR(SUM(MATCH(A54,'UNITCOST ITEMS (Data Entry)'!$A$3:$A$504,0),2),\"\"))),\"\"))","v":""},{"$f":"IF(IFERROR(INDIRECT(CONCATENATE(\"'UNITCOST ITEMS (Data Entry)'!E\",IFERROR(SUM(MATCH(A54,'UNITCOST ITEMS (Data Entry)'!$A$3:$A$504,0),2),\"\"))),\"\")=0,\"\",IFERROR(INDIRECT(CONCATENATE(\"'UNITCOST ITEMS (Data Entry)'!E\",IFERROR(SUM(MATCH(A54,'UNITCOST ITEMS (Data Entry)'!$A$3:$A$504,0),2),\"\"))),\"\"))","v":""},null,{"$f":"IF(IFERROR(INDIRECT(CONCATENATE(\"'UNITCOST ITEMS (Data Entry)'!F\",IFERROR(SUM(MATCH(A54,'UNITCOST ITEMS (Data Entry)'!$A$3:$A$504,0),2),\"\"))),\"\")=0,\"\",IFERROR(INDIRECT(CONCATENATE(\"'UNITCOST ITEMS (Data Entry)'!F\",IFERROR(SUM(MATCH(A54,'UNITCOST ITEMS (Data Entry)'!$A$3:$A$504,0),2),\"\"))),\"\"))","v":""},{"$f":"IF(IFERROR(INDIRECT(CONCATENATE(\"'UNITCOST ITEMS (Data Entry)'!G\",IFERROR(SUM(MATCH(A54,'UNITCOST ITEMS (Data Entry)'!$A$3:$A$504,0),2),\"\"))),\"\")=0,\"\",IFERROR(INDIRECT(CONCATENATE(\"'UNITCOST ITEMS (Data Entry)'!G\",IFERROR(SUM(MATCH(A54,'UNITCOST ITEMS (Data Entry)'!$A$3:$A$504,0),2),\"\"))),\"\"))","v":""},{"$f":"IF(IFERROR(INDIRECT(CONCATENATE(\"'UNITCOST ITEMS (Data Entry)'!H\",IFERROR(SUM(MATCH(A54,'UNITCOST ITEMS (Data Entry)'!$A$3:$A$504,0),2),\"\"))),\"\")=0,\"\",IFERROR(INDIRECT(CONCATENATE(\"'UNITCOST ITEMS (Data Entry)'!H\",IFERROR(SUM(MATCH(A54,'UNITCOST ITEMS (Data Entry)'!$A$3:$A$504,0),2),\"\"))),\"\"))","v":""},{"$f":"IF(IFERROR(INDIRECT(CONCATENATE(\"'UNITCOST ITEMS (Data Entry)'!I\",IFERROR(SUM(MATCH(A54,'UNITCOST ITEMS (Data Entry)'!$A$3:$A$504,0),2),\"\"))),\"\")=0,\"\",IFERROR(INDIRECT(CONCATENATE(\"'UNITCOST ITEMS (Data Entry)'!I\",IFERROR(SUM(MATCH(A54,'UNITCOST ITEMS (Data Entry)'!$A$3:$A$504,0),2),\"\"))),\"\"))","v":""},{"$f":"IF(K54=2,\"\",IF(IFERROR(INDIRECT(CONCATENATE(\"'UNITCOST ITEMS (Data Entry)'!J\",IFERROR(SUM(MATCH(A54,'UNITCOST ITEMS (Data Entry)'!$A$3:$A$504,0),2),\"\"))),\"\")=0,\"\",IFERROR(INDIRECT(CONCATENATE(\"'UNITCOST ITEMS (Data Entry)'!J\",IFERROR(SUM(MATCH(A54,'UNITCOST ITEMS (Data Entry)'!$A$3:$A$504,0),2),\"\"))),\"\")))","v":""},null,{"$f":"IF(IFERROR(INDIRECT(CONCATENATE(\"'UNITCOST ITEMS (Data Entry)'!C\",IFERROR(SUM(MATCH(A54,'UNITCOST ITEMS (Data Entry)'!$A$3:$A$504,0),2),\"\"))),\"\")=0,\"\",IFERROR(INDIRECT(CONCATENATE(\"'UNITCOST ITEMS (Data Entry)'!C\",IFERROR(SUM(MATCH(A54,'UNITCOST ITEMS (Data Entry)'!$A$3:$A$504,0),2),\"\"))),\"\"))","v":""},""]
[47,{"$f":"IF(IFERROR(INDIRECT(CONCATENATE(\"'UNITCOST ITEMS (Data Entry)'!D\",IFERROR(SUM(MATCH(A55,'UNITCOST ITEMS (Data Entry)'!$A$3:$A$504,0),2),\"\"))),\"\")=0,\"\",IFERROR(INDIRECT(CONCATENATE(\"'UNITCOST ITEMS (Data Entry)'!D\",IFERROR(SUM(MATCH(A55,'UNITCOST ITEMS (Data Entry)'!$A$3:$A$504,0),2),\"\"))),\"\"))","v":""},{"$f":"IF(IFERROR(INDIRECT(CONCATENATE(\"'UNITCOST ITEMS (Data Entry)'!E\",IFERROR(SUM(MATCH(A55,'UNITCOST ITEMS (Data Entry)'!$A$3:$A$504,0),2),\"\"))),\"\")=0,\"\",IFERROR(INDIRECT(CONCATENATE(\"'UNITCOST ITEMS (Data Entry)'!E\",IFERROR(SUM(MATCH(A55,'UNITCOST ITEMS (Data Entry)'!$A$3:$A$504,0),2),\"\"))),\"\"))","v":""},null,{"$f":"IF(IFERROR(INDIRECT(CONCATENATE(\"'UNITCOST ITEMS (Data Entry)'!F\",IFERROR(SUM(MATCH(A55,'UNITCOST ITEMS (Data Entry)'!$A$3:$A$504,0),2),\"\"))),\"\")=0,\"\",IFERROR(INDIRECT(CONCATENATE(\"'UNITCOST ITEMS (Data Entry)'!F\",IFERROR(SUM(MATCH(A55,'UNITCOST ITEMS (Data Entry)'!$A$3:$A$504,0),2),\"\"))),\"\"))","v":""},{"$f":"IF(IFERROR(INDIRECT(CONCATENATE(\"'UNITCOST ITEMS (Data Entry)'!G\",IFERROR(SUM(MATCH(A55,'UNITCOST ITEMS (Data Entry)'!$A$3:$A$504,0),2),\"\"))),\"\")=0,\"\",IFERROR(INDIRECT(CONCATENATE(\"'UNITCOST ITEMS (Data Entry)'!G\",IFERROR(SUM(MATCH(A55,'UNITCOST ITEMS (Data Entry)'!$A$3:$A$504,0),2),\"\"))),\"\"))","v":""},{"$f":"IF(IFERROR(INDIRECT(CONCATENATE(\"'UNITCOST ITEMS (Data Entry)'!H\",IFERROR(SUM(MATCH(A55,'UNITCOST ITEMS (Data Entry)'!$A$3:$A$504,0),2),\"\"))),\"\")=0,\"\",IFERROR(INDIRECT(CONCATENATE(\"'UNITCOST ITEMS (Data Entry)'!H\",IFERROR(SUM(MATCH(A55,'UNITCOST ITEMS (Data Entry)'!$A$3:$A$504,0),2),\"\"))),\"\"))","v":""},{"$f":"IF(IFERROR(INDIRECT(CONCATENATE(\"'UNITCOST ITEMS (Data Entry)'!I\",IFERROR(SUM(MATCH(A55,'UNITCOST ITEMS (Data Entry)'!$A$3:$A$504,0),2),\"\"))),\"\")=0,\"\",IFERROR(INDIRECT(CONCATENATE(\"'UNITCOST ITEMS (Data Entry)'!I\",IFERROR(SUM(MATCH(A55,'UNITCOST ITEMS (Data Entry)'!$A$3:$A$504,0),2),\"\"))),\"\"))","v":""},{"$f":"IF(K55=2,\"\",IF(IFERROR(INDIRECT(CONCATENATE(\"'UNITCOST ITEMS (Data Entry)'!J\",IFERROR(SUM(MATCH(A55,'UNITCOST ITEMS (Data Entry)'!$A$3:$A$504,0),2),\"\"))),\"\")=0,\"\",IFERROR(INDIRECT(CONCATENATE(\"'UNITCOST ITEMS (Data Entry)'!J\",IFERROR(SUM(MATCH(A55,'UNITCOST ITEMS (Data Entry)'!$A$3:$A$504,0),2),\"\"))),\"\")))","v":""},null,{"$f":"IF(IFERROR(INDIRECT(CONCATENATE(\"'UNITCOST ITEMS (Data Entry)'!C\",IFERROR(SUM(MATCH(A55,'UNITCOST ITEMS (Data Entry)'!$A$3:$A$504,0),2),\"\"))),\"\")=0,\"\",IFERROR(INDIRECT(CONCATENATE(\"'UNITCOST ITEMS (Data Entry)'!C\",IFERROR(SUM(MATCH(A55,'UNITCOST ITEMS (Data Entry)'!$A$3:$A$504,0),2),\"\"))),\"\"))","v":""},""]
[48,{"$f":"IF(IFERROR(INDIRECT(CONCATENATE(\"'UNITCOST ITEMS (Data Entry)'!D\",IFERROR(SUM(MATCH(A56,'UNITCOST ITEMS (Data Entry)'!$A$3:$A$504,0),2),\"\"))),\"\")=0,\"\",IFERROR(INDIRECT(CONCATENATE(\"'UNITCOST ITEMS (Data Entry)'!D\",IFERROR(SUM(MATCH(A56,'UNITCOST ITEMS (Data Entry)'!$A$3:$A$504,0),2),\"\"))),\"\"))","v":""},{"$f":"IF(IFERROR(INDIRECT(CONCATENATE(\"'UNITCOST ITEMS (Data Entry)'!E\",IFERROR(SUM(MATCH(A56,'UNITCOST ITEMS (Data Entry)'!$A$3:$A$504,0),2),\"\"))),\"\")=0,\"\",IFERROR(INDIRECT(CONCATENATE(\"'UNITCOST ITEMS (Data Entry)'!E\",IFERROR(SUM(MATCH(A56,'UNITCOST ITEMS (Data Entry)'!$A$3:$A$504,0),2),\"\"))),\"\"))","v":""},null,{"$f":"IF(IFERROR(INDIRECT(CONCATENATE(\"'UNITCOST ITEMS (Data Entry)'!F\",IFERROR(SUM(MATCH(A56,'UNITCOST ITEMS (Data Entry)'!$A$3:$A$504,0),2),\"\"))),\"\")=0,\"\",IFERROR(INDIRECT(CONCATENATE(\"'UNITCOST ITEMS (Data Entry)'!F\",IFERROR(SUM(MATCH(A56,'UNITCOST ITEMS (Data Entry)'!$A$3:$A$504,0),2),\"\"))),\"\"))","v":""},{"$f":"IF(IFERROR(INDIRECT(CONCATENATE(\"'UNITCOST ITEMS (Data Entry)'!G\",IFERROR(SUM(MATCH(A56,'UNITCOST ITEMS (Data Entry)'!$A$3:$A$504,0),2),\"\"))),\"\")=0,\"\",IFERROR(INDIRECT(CONCATENATE(\"'UNITCOST ITEMS (Data Entry)'!G\",IFERROR(SUM(MATCH(A56,'UNITCOST ITEMS (Data Entry)'!$A$3:$A$504,0),2),\"\"))),\"\"))","v":""},{"$f":"IF(IFERROR(INDIRECT(CONCATENATE(\"'UNITCOST ITEMS (Data Entry)'!H\",IFERROR(SUM(MATCH(A56,'UNITCOST ITEMS (Data Entry)'!$A$3:$A$504,0),2),\"\"))),\"\")=0,\"\",IFERROR(INDIRECT(CONCATENATE(\"'UNITCOST ITEMS (Data Entry)'!H\",IFERROR(SUM(MATCH(A56,'UNITCOST ITEMS (Data Entry)'!$A$3:$A$504,0),2),\"\"))),\"\"))","v":""},{"$f":"IF(IFERROR(INDIRECT(CONCATENATE(\"'UNITCOST ITEMS (Data Entry)'!I\",IFERROR(SUM(MATCH(A56,'UNITCOST ITEMS (Data Entry)'!$A$3:$A$504,0),2),\"\"))),\"\")=0,\"\",IFERROR(INDIRECT(CONCATENATE(\"'UNITCOST ITEMS (Data Entry)'!I\",IFERROR(SUM(MATCH(A56,'UNITCOST ITEMS (Data Entry)'!$A$3:$A$504,0),2),\"\"))),\"\"))","v":""},{"$f":"IF(K56=2,\"\",IF(IFERROR(INDIRECT(CONCATENATE(\"'UNITCOST ITEMS (Data Entry)'!J\",IFERROR(SUM(MATCH(A56,'UNITCOST ITEMS (Data Entry)'!$A$3:$A$504,0),2),\"\"))),\"\")=0,\"\",IFERROR(INDIRECT(CONCATENATE(\"'UNITCOST ITEMS (Data Entry)'!J\",IFERROR(SUM(MATCH(A56,'UNITCOST ITEMS (Data Entry)'!$A$3:$A$504,0),2),\"\"))),\"\")))","v":""},null,{"$f":"IF(IFERROR(INDIRECT(CONCATENATE(\"'UNITCOST ITEMS (Data Entry)'!C\",IFERROR(SUM(MATCH(A56,'UNITCOST ITEMS (Data Entry)'!$A$3:$A$504,0),2),\"\"))),\"\")=0,\"\",IFERROR(INDIRECT(CONCATENATE(\"'UNITCOST ITEMS (Data Entry)'!C\",IFERROR(SUM(MATCH(A56,'UNITCOST ITEMS (Data Entry)'!$A$3:$A$504,0),2),\"\"))),\"\"))","v":""},""]
[49,{"$f":"IF(IFERROR(INDIRECT(CONCATENATE(\"'UNITCOST ITEMS (Data Entry)'!D\",IFERROR(SUM(MATCH(A57,'UNITCOST ITEMS (Data Entry)'!$A$3:$A$504,0),2),\"\"))),\"\")=0,\"\",IFERROR(INDIRECT(CONCATENATE(\"'UNITCOST ITEMS (Data Entry)'!D\",IFERROR(SUM(MATCH(A57,'UNITCOST ITEMS (Data Entry)'!$A$3:$A$504,0),2),\"\"))),\"\"))","v":""},{"$f":"IF(IFERROR(INDIRECT(CONCATENATE(\"'UNITCOST ITEMS (Data Entry)'!E\",IFERROR(SUM(MATCH(A57,'UNITCOST ITEMS (Data Entry)'!$A$3:$A$504,0),2),\"\"))),\"\")=0,\"\",IFERROR(INDIRECT(CONCATENATE(\"'UNITCOST ITEMS (Data Entry)'!E\",IFERROR(SUM(MATCH(A57,'UNITCOST ITEMS (Data Entry)'!$A$3:$A$504,0),2),\"\"))),\"\"))","v":""},null,{"$f":"IF(IFERROR(INDIRECT(CONCATENATE(\"'UNITCOST ITEMS (Data Entry)'!F\",IFERROR(SUM(MATCH(A57,'UNITCOST ITEMS (Data Entry)'!$A$3:$A$504,0),2),\"\"))),\"\")=0,\"\",IFERROR(INDIRECT(CONCATENATE(\"'UNITCOST ITEMS (Data Entry)'!F\",IFERROR(SUM(MATCH(A57,'UNITCOST ITEMS (Data Entry)'!$A$3:$A$504,0),2),\"\"))),\"\"))","v":""},{"$f":"IF(IFERROR(INDIRECT(CONCATENATE(\"'UNITCOST ITEMS (Data Entry)'!G\",IFERROR(SUM(MATCH(A57,'UNITCOST ITEMS (Data Entry)'!$A$3:$A$504,0),2),\"\"))),\"\")=0,\"\",IFERROR(INDIRECT(CONCATENATE(\"'UNITCOST ITEMS (Data Entry)'!G\",IFERROR(SUM(MATCH(A57,'UNITCOST ITEMS (Data Entry)'!$A$3:$A$504,0),2),\"\"))),\"\"))","v":""},{"$f":"IF(IFERROR(INDIRECT(CONCATENATE(\"'UNITCOST ITEMS (Data Entry)'!H\",IFERROR(SUM(MATCH(A57,'UNITCOST ITEMS (Data Entry)'!$A$3:$A$504,0),2),\"\"))),\"\")=0,\"\",IFERROR(INDIRECT(CONCATENATE(\"'UNITCOST ITEMS (Data Entry)'!H\",IFERROR(SUM(MATCH(A57,'UNITCOST ITEMS (Data Entry)'!$A$3:$A$504,0),2),\"\"))),\"\"))","v":""},{"$f":"IF(IFERROR(INDIRECT(CONCATENATE(\"'UNITCOST ITEMS (Data Entry)'!I\",IFERROR(SUM(MATCH(A57,'UNITCOST ITEMS (Data Entry)'!$A$3:$A$504,0),2),\"\"))),\"\")=0,\"\",IFERROR(INDIRECT(CONCATENATE(\"'UNITCOST ITEMS (Data Entry)'!I\",IFERROR(SUM(MATCH(A57,'UNITCOST ITEMS (Data Entry)'!$A$3:$A$504,0),2),\"\"))),\"\"))","v":""},{"$f":"IF(K57=2,\"\",IF(IFERROR(INDIRECT(CONCATENATE(\"'UNITCOST ITEMS (Data Entry)'!J\",IFERROR(SUM(MATCH(A57,'UNITCOST ITEMS (Data Entry)'!$A$3:$A$504,0),2),\"\"))),\"\")=0,\"\",IFERROR(INDIRECT(CONCATENATE(\"'UNITCOST ITEMS (Data Entry)'!J\",IFERROR(SUM(MATCH(A57,'UNITCOST ITEMS (Data Entry)'!$A$3:$A$504,0),2),\"\"))),\"\")))","v":""},null,{"$f":"IF(IFERROR(INDIRECT(CONCATENATE(\"'UNITCOST ITEMS (Data Entry)'!C\",IFERROR(SUM(MATCH(A57,'UNITCOST ITEMS (Data Entry)'!$A$3:$A$504,0),2),\"\"))),\"\")=0,\"\",IFERROR(INDIRECT(CONCATENATE(\"'UNITCOST ITEMS (Data Entry)'!C\",IFERROR(SUM(MATCH(A57,'UNITCOST ITEMS (Data Entry)'!$A$3:$A$504,0),2),\"\"))),\"\"))","v":""},""]
[50,{"$f":"IF(IFERROR(INDIRECT(CONCATENATE(\"'UNITCOST ITEMS (Data Entry)'!D\",IFERROR(SUM(MATCH(A58,'UNITCOST ITEMS (Data Entry)'!$A$3:$A$504,0),2),\"\"))),\"\")=0,\"\",IFERROR(INDIRECT(CONCATENATE(\"'UNITCOST ITEMS (Data Entry)'!D\",IFERROR(SUM(MATCH(A58,'UNITCOST ITEMS (Data Entry)'!$A$3:$A$504,0),2),\"\"))),\"\"))","v":""},{"$f":"IF(IFERROR(INDIRECT(CONCATENATE(\"'UNITCOST ITEMS (Data Entry)'!E\",IFERROR(SUM(MATCH(A58,'UNITCOST ITEMS (Data Entry)'!$A$3:$A$504,0),2),\"\"))),\"\")=0,\"\",IFERROR(INDIRECT(CONCATENATE(\"'UNITCOST ITEMS (Data Entry)'!E\",IFERROR(SUM(MATCH(A58,'UNITCOST ITEMS (Data Entry)'!$A$3:$A$504,0),2),\"\"))),\"\"))","v":""},null,{"$f":"IF(IFERROR(INDIRECT(CONCATENATE(\"'UNITCOST ITEMS (Data Entry)'!F\",IFERROR(SUM(MATCH(A58,'UNITCOST ITEMS (Data Entry)'!$A$3:$A$504,0),2),\"\"))),\"\")=0,\"\",IFERROR(INDIRECT(CONCATENATE(\"'UNITCOST ITEMS (Data Entry)'!F\",IFERROR(SUM(MATCH(A58,'UNITCOST ITEMS (Data Entry)'!$A$3:$A$504,0),2),\"\"))),\"\"))","v":""},{"$f":"IF(IFERROR(INDIRECT(CONCATENATE(\"'UNITCOST ITEMS (Data Entry)'!G\",IFERROR(SUM(MATCH(A58,'UNITCOST ITEMS (Data Entry)'!$A$3:$A$504,0),2),\"\"))),\"\")=0,\"\",IFERROR(INDIRECT(CONCATENATE(\"'UNITCOST ITEMS (Data Entry)'!G\",IFERROR(SUM(MATCH(A58,'UNITCOST ITEMS (Data Entry)'!$A$3:$A$504,0),2),\"\"))),\"\"))","v":""},{"$f":"IF(IFERROR(INDIRECT(CONCATENATE(\"'UNITCOST ITEMS (Data Entry)'!H\",IFERROR(SUM(MATCH(A58,'UNITCOST ITEMS (Data Entry)'!$A$3:$A$504,0),2),\"\"))),\"\")=0,\"\",IFERROR(INDIRECT(CONCATENATE(\"'UNITCOST ITEMS (Data Entry)'!H\",IFERROR(SUM(MATCH(A58,'UNITCOST ITEMS (Data Entry)'!$A$3:$A$504,0),2),\"\"))),\"\"))","v":""},{"$f":"IF(IFERROR(INDIRECT(CONCATENATE(\"'UNITCOST ITEMS (Data Entry)'!I\",IFERROR(SUM(MATCH(A58,'UNITCOST ITEMS (Data Entry)'!$A$3:$A$504,0),2),\"\"))),\"\")=0,\"\",IFERROR(INDIRECT(CONCATENATE(\"'UNITCOST ITEMS (Data Entry)'!I\",IFERROR(SUM(MATCH(A58,'UNITCOST ITEMS (Data Entry)'!$A$3:$A$504,0),2),\"\"))),\"\"))","v":""},{"$f":"IF(K58=2,\"\",IF(IFERROR(INDIRECT(CONCATENATE(\"'UNITCOST ITEMS (Data Entry)'!J\",IFERROR(SUM(MATCH(A58,'UNITCOST ITEMS (Data Entry)'!$A$3:$A$504,0),2),\"\"))),\"\")=0,\"\",IFERROR(INDIRECT(CONCATENATE(\"'UNITCOST ITEMS (Data Entry)'!J\",IFERROR(SUM(MATCH(A58,'UNITCOST ITEMS (Data Entry)'!$A$3:$A$504,0),2),\"\"))),\"\")))","v":""},null,{"$f":"IF(IFERROR(INDIRECT(CONCATENATE(\"'UNITCOST ITEMS (Data Entry)'!C\",IFERROR(SUM(MATCH(A58,'UNITCOST ITEMS (Data Entry)'!$A$3:$A$504,0),2),\"\"))),\"\")=0,\"\",IFERROR(INDIRECT(CONCATENATE(\"'UNITCOST ITEMS (Data Entry)'!C\",IFERROR(SUM(MATCH(A58,'UNITCOST ITEMS (Data Entry)'!$A$3:$A$504,0),2),\"\"))),\"\"))","v":""},""]
[51,{"$f":"IF(IFERROR(INDIRECT(CONCATENATE(\"'UNITCOST ITEMS (Data Entry)'!D\",IFERROR(SUM(MATCH(A59,'UNITCOST ITEMS (Data Entry)'!$A$3:$A$504,0),2),\"\"))),\"\")=0,\"\",IFERROR(INDIRECT(CONCATENATE(\"'UNITCOST ITEMS (Data Entry)'!D\",IFERROR(SUM(MATCH(A59,'UNITCOST ITEMS (Data Entry)'!$A$3:$A$504,0),2),\"\"))),\"\"))","v":""},{"$f":"IF(IFERROR(INDIRECT(CONCATENATE(\"'UNITCOST ITEMS (Data Entry)'!E\",IFERROR(SUM(MATCH(A59,'UNITCOST ITEMS (Data Entry)'!$A$3:$A$504,0),2),\"\"))),\"\")=0,\"\",IFERROR(INDIRECT(CONCATENATE(\"'UNITCOST ITEMS (Data Entry)'!E\",IFERROR(SUM(MATCH(A59,'UNITCOST ITEMS (Data Entry)'!$A$3:$A$504,0),2),\"\"))),\"\"))","v":""},null,{"$f":"IF(IFERROR(INDIRECT(CONCATENATE(\"'UNITCOST ITEMS (Data Entry)'!F\",IFERROR(SUM(MATCH(A59,'UNITCOST ITEMS (Data Entry)'!$A$3:$A$504,0),2),\"\"))),\"\")=0,\"\",IFERROR(INDIRECT(CONCATENATE(\"'UNITCOST ITEMS (Data Entry)'!F\",IFERROR(SUM(MATCH(A59,'UNITCOST ITEMS (Data Entry)'!$A$3:$A$504,0),2),\"\"))),\"\"))","v":""},{"$f":"IF(IFERROR(INDIRECT(CONCATENATE(\"'UNITCOST ITEMS (Data Entry)'!G\",IFERROR(SUM(MATCH(A59,'UNITCOST ITEMS (Data Entry)'!$A$3:$A$504,0),2),\"\"))),\"\")=0,\"\",IFERROR(INDIRECT(CONCATENATE(\"'UNITCOST ITEMS (Data Entry)'!G\",IFERROR(SUM(MATCH(A59,'UNITCOST ITEMS (Data Entry)'!$A$3:$A$504,0),2),\"\"))),\"\"))","v":""},{"$f":"IF(IFERROR(INDIRECT(CONCATENATE(\"'UNITCOST ITEMS (Data Entry)'!H\",IFERROR(SUM(MATCH(A59,'UNITCOST ITEMS (Data Entry)'!$A$3:$A$504,0),2),\"\"))),\"\")=0,\"\",IFERROR(INDIRECT(CONCATENATE(\"'UNITCOST ITEMS (Data Entry)'!H\",IFERROR(SUM(MATCH(A59,'UNITCOST ITEMS (Data Entry)'!$A$3:$A$504,0),2),\"\"))),\"\"))","v":""},{"$f":"IF(IFERROR(INDIRECT(CONCATENATE(\"'UNITCOST ITEMS (Data Entry)'!I\",IFERROR(SUM(MATCH(A59,'UNITCOST ITEMS (Data Entry)'!$A$3:$A$504,0),2),\"\"))),\"\")=0,\"\",IFERROR(INDIRECT(CONCATENATE(\"'UNITCOST ITEMS (Data Entry)'!I\",IFERROR(SUM(MATCH(A59,'UNITCOST ITEMS (Data Entry)'!$A$3:$A$504,0),2),\"\"))),\"\"))","v":""},{"$f":"IF(K59=2,\"\",IF(IFERROR(INDIRECT(CONCATENATE(\"'UNITCOST ITEMS (Data Entry)'!J\",IFERROR(SUM(MATCH(A59,'UNITCOST ITEMS (Data Entry)'!$A$3:$A$504,0),2),\"\"))),\"\")=0,\"\",IFERROR(INDIRECT(CONCATENATE(\"'UNITCOST ITEMS (Data Entry)'!J\",IFERROR(SUM(MATCH(A59,'UNITCOST ITEMS (Data Entry)'!$A$3:$A$504,0),2),\"\"))),\"\")))","v":""},null,{"$f":"IF(IFERROR(INDIRECT(CONCATENATE(\"'UNITCOST ITEMS (Data Entry)'!C\",IFERROR(SUM(MATCH(A59,'UNITCOST ITEMS (Data Entry)'!$A$3:$A$504,0),2),\"\"))),\"\")=0,\"\",IFERROR(INDIRECT(CONCATENATE(\"'UNITCOST ITEMS (Data Entry)'!C\",IFERROR(SUM(MATCH(A59,'UNITCOST ITEMS (Data Entry)'!$A$3:$A$504,0),2),\"\"))),\"\"))","v":""},""]
[52,{"$f":"IF(IFERROR(INDIRECT(CONCATENATE(\"'UNITCOST ITEMS (Data Entry)'!D\",IFERROR(SUM(MATCH(A60,'UNITCOST ITEMS (Data Entry)'!$A$3:$A$504,0),2),\"\"))),\"\")=0,\"\",IFERROR(INDIRECT(CONCATENATE(\"'UNITCOST ITEMS (Data Entry)'!D\",IFERROR(SUM(MATCH(A60,'UNITCOST ITEMS (Data Entry)'!$A$3:$A$504,0),2),\"\"))),\"\"))","v":""},{"$f":"IF(IFERROR(INDIRECT(CONCATENATE(\"'UNITCOST ITEMS (Data Entry)'!E\",IFERROR(SUM(MATCH(A60,'UNITCOST ITEMS (Data Entry)'!$A$3:$A$504,0),2),\"\"))),\"\")=0,\"\",IFERROR(INDIRECT(CONCATENATE(\"'UNITCOST ITEMS (Data Entry)'!E\",IFERROR(SUM(MATCH(A60,'UNITCOST ITEMS (Data Entry)'!$A$3:$A$504,0),2),\"\"))),\"\"))","v":""},null,{"$f":"IF(IFERROR(INDIRECT(CONCATENATE(\"'UNITCOST ITEMS (Data Entry)'!F\",IFERROR(SUM(MATCH(A60,'UNITCOST ITEMS (Data Entry)'!$A$3:$A$504,0),2),\"\"))),\"\")=0,\"\",IFERROR(INDIRECT(CONCATENATE(\"'UNITCOST ITEMS (Data Entry)'!F\",IFERROR(SUM(MATCH(A60,'UNITCOST ITEMS (Data Entry)'!$A$3:$A$504,0),2),\"\"))),\"\"))","v":""},{"$f":"IF(IFERROR(INDIRECT(CONCATENATE(\"'UNITCOST ITEMS (Data Entry)'!G\",IFERROR(SUM(MATCH(A60,'UNITCOST ITEMS (Data Entry)'!$A$3:$A$504,0),2),\"\"))),\"\")=0,\"\",IFERROR(INDIRECT(CONCATENATE(\"'UNITCOST ITEMS (Data Entry)'!G\",IFERROR(SUM(MATCH(A60,'UNITCOST ITEMS (Data Entry)'!$A$3:$A$504,0),2),\"\"))),\"\"))","v":""},{"$f":"IF(IFERROR(INDIRECT(CONCATENATE(\"'UNITCOST ITEMS (Data Entry)'!H\",IFERROR(SUM(MATCH(A60,'UNITCOST ITEMS (Data Entry)'!$A$3:$A$504,0),2),\"\"))),\"\")=0,\"\",IFERROR(INDIRECT(CONCATENATE(\"'UNITCOST ITEMS (Data Entry)'!H\",IFERROR(SUM(MATCH(A60,'UNITCOST ITEMS (Data Entry)'!$A$3:$A$504,0),2),\"\"))),\"\"))","v":""},{"$f":"IF(IFERROR(INDIRECT(CONCATENATE(\"'UNITCOST ITEMS (Data Entry)'!I\",IFERROR(SUM(MATCH(A60,'UNITCOST ITEMS (Data Entry)'!$A$3:$A$504,0),2),\"\"))),\"\")=0,\"\",IFERROR(INDIRECT(CONCATENATE(\"'UNITCOST ITEMS (Data Entry)'!I\",IFERROR(SUM(MATCH(A60,'UNITCOST ITEMS (Data Entry)'!$A$3:$A$504,0),2),\"\"))),\"\"))","v":""},{"$f":"IF(K60=2,\"\",IF(IFERROR(INDIRECT(CONCATENATE(\"'UNITCOST ITEMS (Data Entry)'!J\",IFERROR(SUM(MATCH(A60,'UNITCOST ITEMS (Data Entry)'!$A$3:$A$504,0),2),\"\"))),\"\")=0,\"\",IFERROR(INDIRECT(CONCATENATE(\"'UNITCOST ITEMS (Data Entry)'!J\",IFERROR(SUM(MATCH(A60,'UNITCOST ITEMS (Data Entry)'!$A$3:$A$504,0),2),\"\"))),\"\")))","v":""},null,{"$f":"IF(IFERROR(INDIRECT(CONCATENATE(\"'UNITCOST ITEMS (Data Entry)'!C\",IFERROR(SUM(MATCH(A60,'UNITCOST ITEMS (Data Entry)'!$A$3:$A$504,0),2),\"\"))),\"\")=0,\"\",IFERROR(INDIRECT(CONCATENATE(\"'UNITCOST ITEMS (Data Entry)'!C\",IFERROR(SUM(MATCH(A60,'UNITCOST ITEMS (Data Entry)'!$A$3:$A$504,0),2),\"\"))),\"\"))","v":""},""]
[53,{"$f":"IF(IFERROR(INDIRECT(CONCATENATE(\"'UNITCOST ITEMS (Data Entry)'!D\",IFERROR(SUM(MATCH(A61,'UNITCOST ITEMS (Data Entry)'!$A$3:$A$504,0),2),\"\"))),\"\")=0,\"\",IFERROR(INDIRECT(CONCATENATE(\"'UNITCOST ITEMS (Data Entry)'!D\",IFERROR(SUM(MATCH(A61,'UNITCOST ITEMS (Data Entry)'!$A$3:$A$504,0),2),\"\"))),\"\"))","v":""},{"$f":"IF(IFERROR(INDIRECT(CONCATENATE(\"'UNITCOST ITEMS (Data Entry)'!E\",IFERROR(SUM(MATCH(A61,'UNITCOST ITEMS (Data Entry)'!$A$3:$A$504,0),2),\"\"))),\"\")=0,\"\",IFERROR(INDIRECT(CONCATENATE(\"'UNITCOST ITEMS (Data Entry)'!E\",IFERROR(SUM(MATCH(A61,'UNITCOST ITEMS (Data Entry)'!$A$3:$A$504,0),2),\"\"))),\"\"))","v":""},null,{"$f":"IF(IFERROR(INDIRECT(CONCATENATE(\"'UNITCOST ITEMS (Data Entry)'!F\",IFERROR(SUM(MATCH(A61,'UNITCOST ITEMS (Data Entry)'!$A$3:$A$504,0),2),\"\"))),\"\")=0,\"\",IFERROR(INDIRECT(CONCATENATE(\"'UNITCOST ITEMS (Data Entry)'!F\",IFERROR(SUM(MATCH(A61,'UNITCOST ITEMS (Data Entry)'!$A$3:$A$504,0),2),\"\"))),\"\"))","v":""},{"$f":"IF(IFERROR(INDIRECT(CONCATENATE(\"'UNITCOST ITEMS (Data Entry)'!G\",IFERROR(SUM(MATCH(A61,'UNITCOST ITEMS (Data Entry)'!$A$3:$A$504,0),2),\"\"))),\"\")=0,\"\",IFERROR(INDIRECT(CONCATENATE(\"'UNITCOST ITEMS (Data Entry)'!G\",IFERROR(SUM(MATCH(A61,'UNITCOST ITEMS (Data Entry)'!$A$3:$A$504,0),2),\"\"))),\"\"))","v":""},{"$f":"IF(IFERROR(INDIRECT(CONCATENATE(\"'UNITCOST ITEMS (Data Entry)'!H\",IFERROR(SUM(MATCH(A61,'UNITCOST ITEMS (Data Entry)'!$A$3:$A$504,0),2),\"\"))),\"\")=0,\"\",IFERROR(INDIRECT(CONCATENATE(\"'UNITCOST ITEMS (Data Entry)'!H\",IFERROR(SUM(MATCH(A61,'UNITCOST ITEMS (Data Entry)'!$A$3:$A$504,0),2),\"\"))),\"\"))","v":""},{"$f":"IF(IFERROR(INDIRECT(CONCATENATE(\"'UNITCOST ITEMS (Data Entry)'!I\",IFERROR(SUM(MATCH(A61,'UNITCOST ITEMS (Data Entry)'!$A$3:$A$504,0),2),\"\"))),\"\")=0,\"\",IFERROR(INDIRECT(CONCATENATE(\"'UNITCOST ITEMS (Data Entry)'!I\",IFERROR(SUM(MATCH(A61,'UNITCOST ITEMS (Data Entry)'!$A$3:$A$504,0),2),\"\"))),\"\"))","v":""},{"$f":"IF(K61=2,\"\",IF(IFERROR(INDIRECT(CONCATENATE(\"'UNITCOST ITEMS (Data Entry)'!J\",IFERROR(SUM(MATCH(A61,'UNITCOST ITEMS (Data Entry)'!$A$3:$A$504,0),2),\"\"))),\"\")=0,\"\",IFERROR(INDIRECT(CONCATENATE(\"'UNITCOST ITEMS (Data Entry)'!J\",IFERROR(SUM(MATCH(A61,'UNITCOST ITEMS (Data Entry)'!$A$3:$A$504,0),2),\"\"))),\"\")))","v":""},null,{"$f":"IF(IFERROR(INDIRECT(CONCATENATE(\"'UNITCOST ITEMS (Data Entry)'!C\",IFERROR(SUM(MATCH(A61,'UNITCOST ITEMS (Data Entry)'!$A$3:$A$504,0),2),\"\"))),\"\")=0,\"\",IFERROR(INDIRECT(CONCATENATE(\"'UNITCOST ITEMS (Data Entry)'!C\",IFERROR(SUM(MATCH(A61,'UNITCOST ITEMS (Data Entry)'!$A$3:$A$504,0),2),\"\"))),\"\"))","v":""},""]
[54,{"$f":"IF(IFERROR(INDIRECT(CONCATENATE(\"'UNITCOST ITEMS (Data Entry)'!D\",IFERROR(SUM(MATCH(A62,'UNITCOST ITEMS (Data Entry)'!$A$3:$A$504,0),2),\"\"))),\"\")=0,\"\",IFERROR(INDIRECT(CONCATENATE(\"'UNITCOST ITEMS (Data Entry)'!D\",IFERROR(SUM(MATCH(A62,'UNITCOST ITEMS (Data Entry)'!$A$3:$A$504,0),2),\"\"))),\"\"))","v":""},{"$f":"IF(IFERROR(INDIRECT(CONCATENATE(\"'UNITCOST ITEMS (Data Entry)'!E\",IFERROR(SUM(MATCH(A62,'UNITCOST ITEMS (Data Entry)'!$A$3:$A$504,0),2),\"\"))),\"\")=0,\"\",IFERROR(INDIRECT(CONCATENATE(\"'UNITCOST ITEMS (Data Entry)'!E\",IFERROR(SUM(MATCH(A62,'UNITCOST ITEMS (Data Entry)'!$A$3:$A$504,0),2),\"\"))),\"\"))","v":""},null,{"$f":"IF(IFERROR(INDIRECT(CONCATENATE(\"'UNITCOST ITEMS (Data Entry)'!F\",IFERROR(SUM(MATCH(A62,'UNITCOST ITEMS (Data Entry)'!$A$3:$A$504,0),2),\"\"))),\"\")=0,\"\",IFERROR(INDIRECT(CONCATENATE(\"'UNITCOST ITEMS (Data Entry)'!F\",IFERROR(SUM(MATCH(A62,'UNITCOST ITEMS (Data Entry)'!$A$3:$A$504,0),2),\"\"))),\"\"))","v":""},{"$f":"IF(IFERROR(INDIRECT(CONCATENATE(\"'UNITCOST ITEMS (Data Entry)'!G\",IFERROR(SUM(MATCH(A62,'UNITCOST ITEMS (Data Entry)'!$A$3:$A$504,0),2),\"\"))),\"\")=0,\"\",IFERROR(INDIRECT(CONCATENATE(\"'UNITCOST ITEMS (Data Entry)'!G\",IFERROR(SUM(MATCH(A62,'UNITCOST ITEMS (Data Entry)'!$A$3:$A$504,0),2),\"\"))),\"\"))","v":""},{"$f":"IF(IFERROR(INDIRECT(CONCATENATE(\"'UNITCOST ITEMS (Data Entry)'!H\",IFERROR(SUM(MATCH(A62,'UNITCOST ITEMS (Data Entry)'!$A$3:$A$504,0),2),\"\"))),\"\")=0,\"\",IFERROR(INDIRECT(CONCATENATE(\"'UNITCOST ITEMS (Data Entry)'!H\",IFERROR(SUM(MATCH(A62,'UNITCOST ITEMS (Data Entry)'!$A$3:$A$504,0),2),\"\"))),\"\"))","v":""},{"$f":"IF(IFERROR(INDIRECT(CONCATENATE(\"'UNITCOST ITEMS (Data Entry)'!I\",IFERROR(SUM(MATCH(A62,'UNITCOST ITEMS (Data Entry)'!$A$3:$A$504,0),2),\"\"))),\"\")=0,\"\",IFERROR(INDIRECT(CONCATENATE(\"'UNITCOST ITEMS (Data Entry)'!I\",IFERROR(SUM(MATCH(A62,'UNITCOST ITEMS (Data Entry)'!$A$3:$A$504,0),2),\"\"))),\"\"))","v":""},{"$f":"IF(K62=2,\"\",IF(IFERROR(INDIRECT(CONCATENATE(\"'UNITCOST ITEMS (Data Entry)'!J\",IFERROR(SUM(MATCH(A62,'UNITCOST ITEMS (Data Entry)'!$A$3:$A$504,0),2),\"\"))),\"\")=0,\"\",IFERROR(INDIRECT(CONCATENATE(\"'UNITCOST ITEMS (Data Entry)'!J\",IFERROR(SUM(MATCH(A62,'UNITCOST ITEMS (Data Entry)'!$A$3:$A$504,0),2),\"\"))),\"\")))","v":""},null,{"$f":"IF(IFERROR(INDIRECT(CONCATENATE(\"'UNITCOST ITEMS (Data Entry)'!C\",IFERROR(SUM(MATCH(A62,'UNITCOST ITEMS (Data Entry)'!$A$3:$A$504,0),2),\"\"))),\"\")=0,\"\",IFERROR(INDIRECT(CONCATENATE(\"'UNITCOST ITEMS (Data Entry)'!C\",IFERROR(SUM(MATCH(A62,'UNITCOST ITEMS (Data Entry)'!$A$3:$A$504,0),2),\"\"))),\"\"))","v":""},""]
[55,{"$f":"IF(IFERROR(INDIRECT(CONCATENATE(\"'UNITCOST ITEMS (Data Entry)'!D\",IFERROR(SUM(MATCH(A63,'UNITCOST ITEMS (Data Entry)'!$A$3:$A$504,0),2),\"\"))),\"\")=0,\"\",IFERROR(INDIRECT(CONCATENATE(\"'UNITCOST ITEMS (Data Entry)'!D\",IFERROR(SUM(MATCH(A63,'UNITCOST ITEMS (Data Entry)'!$A$3:$A$504,0),2),\"\"))),\"\"))","v":""},{"$f":"IF(IFERROR(INDIRECT(CONCATENATE(\"'UNITCOST ITEMS (Data Entry)'!E\",IFERROR(SUM(MATCH(A63,'UNITCOST ITEMS (Data Entry)'!$A$3:$A$504,0),2),\"\"))),\"\")=0,\"\",IFERROR(INDIRECT(CONCATENATE(\"'UNITCOST ITEMS (Data Entry)'!E\",IFERROR(SUM(MATCH(A63,'UNITCOST ITEMS (Data Entry)'!$A$3:$A$504,0),2),\"\"))),\"\"))","v":""},null,{"$f":"IF(IFERROR(INDIRECT(CONCATENATE(\"'UNITCOST ITEMS (Data Entry)'!F\",IFERROR(SUM(MATCH(A63,'UNITCOST ITEMS (Data Entry)'!$A$3:$A$504,0),2),\"\"))),\"\")=0,\"\",IFERROR(INDIRECT(CONCATENATE(\"'UNITCOST ITEMS (Data Entry)'!F\",IFERROR(SUM(MATCH(A63,'UNITCOST ITEMS (Data Entry)'!$A$3:$A$504,0),2),\"\"))),\"\"))","v":""},{"$f":"IF(IFERROR(INDIRECT(CONCATENATE(\"'UNITCOST ITEMS (Data Entry)'!G\",IFERROR(SUM(MATCH(A63,'UNITCOST ITEMS (Data Entry)'!$A$3:$A$504,0),2),\"\"))),\"\")=0,\"\",IFERROR(INDIRECT(CONCATENATE(\"'UNITCOST ITEMS (Data Entry)'!G\",IFERROR(SUM(MATCH(A63,'UNITCOST ITEMS (Data Entry)'!$A$3:$A$504,0),2),\"\"))),\"\"))","v":""},{"$f":"IF(IFERROR(INDIRECT(CONCATENATE(\"'UNITCOST ITEMS (Data Entry)'!H\",IFERROR(SUM(MATCH(A63,'UNITCOST ITEMS (Data Entry)'!$A$3:$A$504,0),2),\"\"))),\"\")=0,\"\",IFERROR(INDIRECT(CONCATENATE(\"'UNITCOST ITEMS (Data Entry)'!H\",IFERROR(SUM(MATCH(A63,'UNITCOST ITEMS (Data Entry)'!$A$3:$A$504,0),2),\"\"))),\"\"))","v":""},{"$f":"IF(IFERROR(INDIRECT(CONCATENATE(\"'UNITCOST ITEMS (Data Entry)'!I\",IFERROR(SUM(MATCH(A63,'UNITCOST ITEMS (Data Entry)'!$A$3:$A$504,0),2),\"\"))),\"\")=0,\"\",IFERROR(INDIRECT(CONCATENATE(\"'UNITCOST ITEMS (Data Entry)'!I\",IFERROR(SUM(MATCH(A63,'UNITCOST ITEMS (Data Entry)'!$A$3:$A$504,0),2),\"\"))),\"\"))","v":""},{"$f":"IF(K63=2,\"\",IF(IFERROR(INDIRECT(CONCATENATE(\"'UNITCOST ITEMS (Data Entry)'!J\",IFERROR(SUM(MATCH(A63,'UNITCOST ITEMS (Data Entry)'!$A$3:$A$504,0),2),\"\"))),\"\")=0,\"\",IFERROR(INDIRECT(CONCATENATE(\"'UNITCOST ITEMS (Data Entry)'!J\",IFERROR(SUM(MATCH(A63,'UNITCOST ITEMS (Data Entry)'!$A$3:$A$504,0),2),\"\"))),\"\")))","v":""},null,{"$f":"IF(IFERROR(INDIRECT(CONCATENATE(\"'UNITCOST ITEMS (Data Entry)'!C\",IFERROR(SUM(MATCH(A63,'UNITCOST ITEMS (Data Entry)'!$A$3:$A$504,0),2),\"\"))),\"\")=0,\"\",IFERROR(INDIRECT(CONCATENATE(\"'UNITCOST ITEMS (Data Entry)'!C\",IFERROR(SUM(MATCH(A63,'UNITCOST ITEMS (Data Entry)'!$A$3:$A$504,0),2),\"\"))),\"\"))","v":""},""]
[56,{"$f":"IF(IFERROR(INDIRECT(CONCATENATE(\"'UNITCOST ITEMS (Data Entry)'!D\",IFERROR(SUM(MATCH(A64,'UNITCOST ITEMS (Data Entry)'!$A$3:$A$504,0),2),\"\"))),\"\")=0,\"\",IFERROR(INDIRECT(CONCATENATE(\"'UNITCOST ITEMS (Data Entry)'!D\",IFERROR(SUM(MATCH(A64,'UNITCOST ITEMS (Data Entry)'!$A$3:$A$504,0),2),\"\"))),\"\"))","v":""},{"$f":"IF(IFERROR(INDIRECT(CONCATENATE(\"'UNITCOST ITEMS (Data Entry)'!E\",IFERROR(SUM(MATCH(A64,'UNITCOST ITEMS (Data Entry)'!$A$3:$A$504,0),2),\"\"))),\"\")=0,\"\",IFERROR(INDIRECT(CONCATENATE(\"'UNITCOST ITEMS (Data Entry)'!E\",IFERROR(SUM(MATCH(A64,'UNITCOST ITEMS (Data Entry)'!$A$3:$A$504,0),2),\"\"))),\"\"))","v":""},null,{"$f":"IF(IFERROR(INDIRECT(CONCATENATE(\"'UNITCOST ITEMS (Data Entry)'!F\",IFERROR(SUM(MATCH(A64,'UNITCOST ITEMS (Data Entry)'!$A$3:$A$504,0),2),\"\"))),\"\")=0,\"\",IFERROR(INDIRECT(CONCATENATE(\"'UNITCOST ITEMS (Data Entry)'!F\",IFERROR(SUM(MATCH(A64,'UNITCOST ITEMS (Data Entry)'!$A$3:$A$504,0),2),\"\"))),\"\"))","v":""},{"$f":"IF(IFERROR(INDIRECT(CONCATENATE(\"'UNITCOST ITEMS (Data Entry)'!G\",IFERROR(SUM(MATCH(A64,'UNITCOST ITEMS (Data Entry)'!$A$3:$A$504,0),2),\"\"))),\"\")=0,\"\",IFERROR(INDIRECT(CONCATENATE(\"'UNITCOST ITEMS (Data Entry)'!G\",IFERROR(SUM(MATCH(A64,'UNITCOST ITEMS (Data Entry)'!$A$3:$A$504,0),2),\"\"))),\"\"))","v":""},{"$f":"IF(IFERROR(INDIRECT(CONCATENATE(\"'UNITCOST ITEMS (Data Entry)'!H\",IFERROR(SUM(MATCH(A64,'UNITCOST ITEMS (Data Entry)'!$A$3:$A$504,0),2),\"\"))),\"\")=0,\"\",IFERROR(INDIRECT(CONCATENATE(\"'UNITCOST ITEMS (Data Entry)'!H\",IFERROR(SUM(MATCH(A64,'UNITCOST ITEMS (Data Entry)'!$A$3:$A$504,0),2),\"\"))),\"\"))","v":""},{"$f":"IF(IFERROR(INDIRECT(CONCATENATE(\"'UNITCOST ITEMS (Data Entry)'!I\",IFERROR(SUM(MATCH(A64,'UNITCOST ITEMS (Data Entry)'!$A$3:$A$504,0),2),\"\"))),\"\")=0,\"\",IFERROR(INDIRECT(CONCATENATE(\"'UNITCOST ITEMS (Data Entry)'!I\",IFERROR(SUM(MATCH(A64,'UNITCOST ITEMS (Data Entry)'!$A$3:$A$504,0),2),\"\"))),\"\"))","v":""},{"$f":"IF(K64=2,\"\",IF(IFERROR(INDIRECT(CONCATENATE(\"'UNITCOST ITEMS (Data Entry)'!J\",IFERROR(SUM(MATCH(A64,'UNITCOST ITEMS (Data Entry)'!$A$3:$A$504,0),2),\"\"))),\"\")=0,\"\",IFERROR(INDIRECT(CONCATENATE(\"'UNITCOST ITEMS (Data Entry)'!J\",IFERROR(SUM(MATCH(A64,'UNITCOST ITEMS (Data Entry)'!$A$3:$A$504,0),2),\"\"))),\"\")))","v":""},null,{"$f":"IF(IFERROR(INDIRECT(CONCATENATE(\"'UNITCOST ITEMS (Data Entry)'!C\",IFERROR(SUM(MATCH(A64,'UNITCOST ITEMS (Data Entry)'!$A$3:$A$504,0),2),\"\"))),\"\")=0,\"\",IFERROR(INDIRECT(CONCATENATE(\"'UNITCOST ITEMS (Data Entry)'!C\",IFERROR(SUM(MATCH(A64,'UNITCOST ITEMS (Data Entry)'!$A$3:$A$504,0),2),\"\"))),\"\"))","v":""},""]
[57,{"$f":"IF(IFERROR(INDIRECT(CONCATENATE(\"'UNITCOST ITEMS (Data Entry)'!D\",IFERROR(SUM(MATCH(A65,'UNITCOST ITEMS (Data Entry)'!$A$3:$A$504,0),2),\"\"))),\"\")=0,\"\",IFERROR(INDIRECT(CONCATENATE(\"'UNITCOST ITEMS (Data Entry)'!D\",IFERROR(SUM(MATCH(A65,'UNITCOST ITEMS (Data Entry)'!$A$3:$A$504,0),2),\"\"))),\"\"))","v":""},{"$f":"IF(IFERROR(INDIRECT(CONCATENATE(\"'UNITCOST ITEMS (Data Entry)'!E\",IFERROR(SUM(MATCH(A65,'UNITCOST ITEMS (Data Entry)'!$A$3:$A$504,0),2),\"\"))),\"\")=0,\"\",IFERROR(INDIRECT(CONCATENATE(\"'UNITCOST ITEMS (Data Entry)'!E\",IFERROR(SUM(MATCH(A65,'UNITCOST ITEMS (Data Entry)'!$A$3:$A$504,0),2),\"\"))),\"\"))","v":""},null,{"$f":"IF(IFERROR(INDIRECT(CONCATENATE(\"'UNITCOST ITEMS (Data Entry)'!F\",IFERROR(SUM(MATCH(A65,'UNITCOST ITEMS (Data Entry)'!$A$3:$A$504,0),2),\"\"))),\"\")=0,\"\",IFERROR(INDIRECT(CONCATENATE(\"'UNITCOST ITEMS (Data Entry)'!F\",IFERROR(SUM(MATCH(A65,'UNITCOST ITEMS (Data Entry)'!$A$3:$A$504,0),2),\"\"))),\"\"))","v":""},{"$f":"IF(IFERROR(INDIRECT(CONCATENATE(\"'UNITCOST ITEMS (Data Entry)'!G\",IFERROR(SUM(MATCH(A65,'UNITCOST ITEMS (Data Entry)'!$A$3:$A$504,0),2),\"\"))),\"\")=0,\"\",IFERROR(INDIRECT(CONCATENATE(\"'UNITCOST ITEMS (Data Entry)'!G\",IFERROR(SUM(MATCH(A65,'UNITCOST ITEMS (Data Entry)'!$A$3:$A$504,0),2),\"\"))),\"\"))","v":""},{"$f":"IF(IFERROR(INDIRECT(CONCATENATE(\"'UNITCOST ITEMS (Data Entry)'!H\",IFERROR(SUM(MATCH(A65,'UNITCOST ITEMS (Data Entry)'!$A$3:$A$504,0),2),\"\"))),\"\")=0,\"\",IFERROR(INDIRECT(CONCATENATE(\"'UNITCOST ITEMS (Data Entry)'!H\",IFERROR(SUM(MATCH(A65,'UNITCOST ITEMS (Data Entry)'!$A$3:$A$504,0),2),\"\"))),\"\"))","v":""},{"$f":"IF(IFERROR(INDIRECT(CONCATENATE(\"'UNITCOST ITEMS (Data Entry)'!I\",IFERROR(SUM(MATCH(A65,'UNITCOST ITEMS (Data Entry)'!$A$3:$A$504,0),2),\"\"))),\"\")=0,\"\",IFERROR(INDIRECT(CONCATENATE(\"'UNITCOST ITEMS (Data Entry)'!I\",IFERROR(SUM(MATCH(A65,'UNITCOST ITEMS (Data Entry)'!$A$3:$A$504,0),2),\"\"))),\"\"))","v":""},{"$f":"IF(K65=2,\"\",IF(IFERROR(INDIRECT(CONCATENATE(\"'UNITCOST ITEMS (Data Entry)'!J\",IFERROR(SUM(MATCH(A65,'UNITCOST ITEMS (Data Entry)'!$A$3:$A$504,0),2),\"\"))),\"\")=0,\"\",IFERROR(INDIRECT(CONCATENATE(\"'UNITCOST ITEMS (Data Entry)'!J\",IFERROR(SUM(MATCH(A65,'UNITCOST ITEMS (Data Entry)'!$A$3:$A$504,0),2),\"\"))),\"\")))","v":""},null,{"$f":"IF(IFERROR(INDIRECT(CONCATENATE(\"'UNITCOST ITEMS (Data Entry)'!C\",IFERROR(SUM(MATCH(A65,'UNITCOST ITEMS (Data Entry)'!$A$3:$A$504,0),2),\"\"))),\"\")=0,\"\",IFERROR(INDIRECT(CONCATENATE(\"'UNITCOST ITEMS (Data Entry)'!C\",IFERROR(SUM(MATCH(A65,'UNITCOST ITEMS (Data Entry)'!$A$3:$A$504,0),2),\"\"))),\"\"))","v":""},""]
[58,{"$f":"IF(IFERROR(INDIRECT(CONCATENATE(\"'UNITCOST ITEMS (Data Entry)'!D\",IFERROR(SUM(MATCH(A66,'UNITCOST ITEMS (Data Entry)'!$A$3:$A$504,0),2),\"\"))),\"\")=0,\"\",IFERROR(INDIRECT(CONCATENATE(\"'UNITCOST ITEMS (Data Entry)'!D\",IFERROR(SUM(MATCH(A66,'UNITCOST ITEMS (Data Entry)'!$A$3:$A$504,0),2),\"\"))),\"\"))","v":""},{"$f":"IF(IFERROR(INDIRECT(CONCATENATE(\"'UNITCOST ITEMS (Data Entry)'!E\",IFERROR(SUM(MATCH(A66,'UNITCOST ITEMS (Data Entry)'!$A$3:$A$504,0),2),\"\"))),\"\")=0,\"\",IFERROR(INDIRECT(CONCATENATE(\"'UNITCOST ITEMS (Data Entry)'!E\",IFERROR(SUM(MATCH(A66,'UNITCOST ITEMS (Data Entry)'!$A$3:$A$504,0),2),\"\"))),\"\"))","v":""},null,{"$f":"IF(IFERROR(INDIRECT(CONCATENATE(\"'UNITCOST ITEMS (Data Entry)'!F\",IFERROR(SUM(MATCH(A66,'UNITCOST ITEMS (Data Entry)'!$A$3:$A$504,0),2),\"\"))),\"\")=0,\"\",IFERROR(INDIRECT(CONCATENATE(\"'UNITCOST ITEMS (Data Entry)'!F\",IFERROR(SUM(MATCH(A66,'UNITCOST ITEMS (Data Entry)'!$A$3:$A$504,0),2),\"\"))),\"\"))","v":""},{"$f":"IF(IFERROR(INDIRECT(CONCATENATE(\"'UNITCOST ITEMS (Data Entry)'!G\",IFERROR(SUM(MATCH(A66,'UNITCOST ITEMS (Data Entry)'!$A$3:$A$504,0),2),\"\"))),\"\")=0,\"\",IFERROR(INDIRECT(CONCATENATE(\"'UNITCOST ITEMS (Data Entry)'!G\",IFERROR(SUM(MATCH(A66,'UNITCOST ITEMS (Data Entry)'!$A$3:$A$504,0),2),\"\"))),\"\"))","v":""},{"$f":"IF(IFERROR(INDIRECT(CONCATENATE(\"'UNITCOST ITEMS (Data Entry)'!H\",IFERROR(SUM(MATCH(A66,'UNITCOST ITEMS (Data Entry)'!$A$3:$A$504,0),2),\"\"))),\"\")=0,\"\",IFERROR(INDIRECT(CONCATENATE(\"'UNITCOST ITEMS (Data Entry)'!H\",IFERROR(SUM(MATCH(A66,'UNITCOST ITEMS (Data Entry)'!$A$3:$A$504,0),2),\"\"))),\"\"))","v":""},{"$f":"IF(IFERROR(INDIRECT(CONCATENATE(\"'UNITCOST ITEMS (Data Entry)'!I\",IFERROR(SUM(MATCH(A66,'UNITCOST ITEMS (Data Entry)'!$A$3:$A$504,0),2),\"\"))),\"\")=0,\"\",IFERROR(INDIRECT(CONCATENATE(\"'UNITCOST ITEMS (Data Entry)'!I\",IFERROR(SUM(MATCH(A66,'UNITCOST ITEMS (Data Entry)'!$A$3:$A$504,0),2),\"\"))),\"\"))","v":""},{"$f":"IF(K66=2,\"\",IF(IFERROR(INDIRECT(CONCATENATE(\"'UNITCOST ITEMS (Data Entry)'!J\",IFERROR(SUM(MATCH(A66,'UNITCOST ITEMS (Data Entry)'!$A$3:$A$504,0),2),\"\"))),\"\")=0,\"\",IFERROR(INDIRECT(CONCATENATE(\"'UNITCOST ITEMS (Data Entry)'!J\",IFERROR(SUM(MATCH(A66,'UNITCOST ITEMS (Data Entry)'!$A$3:$A$504,0),2),\"\"))),\"\")))","v":""},null,{"$f":"IF(IFERROR(INDIRECT(CONCATENATE(\"'UNITCOST ITEMS (Data Entry)'!C\",IFERROR(SUM(MATCH(A66,'UNITCOST ITEMS (Data Entry)'!$A$3:$A$504,0),2),\"\"))),\"\")=0,\"\",IFERROR(INDIRECT(CONCATENATE(\"'UNITCOST ITEMS (Data Entry)'!C\",IFERROR(SUM(MATCH(A66,'UNITCOST ITEMS (Data Entry)'!$A$3:$A$504,0),2),\"\"))),\"\"))","v":""},""]
[59,{"$f":"IF(IFERROR(INDIRECT(CONCATENATE(\"'UNITCOST ITEMS (Data Entry)'!D\",IFERROR(SUM(MATCH(A67,'UNITCOST ITEMS (Data Entry)'!$A$3:$A$504,0),2),\"\"))),\"\")=0,\"\",IFERROR(INDIRECT(CONCATENATE(\"'UNITCOST ITEMS (Data Entry)'!D\",IFERROR(SUM(MATCH(A67,'UNITCOST ITEMS (Data Entry)'!$A$3:$A$504,0),2),\"\"))),\"\"))","v":""},{"$f":"IF(IFERROR(INDIRECT(CONCATENATE(\"'UNITCOST ITEMS (Data Entry)'!E\",IFERROR(SUM(MATCH(A67,'UNITCOST ITEMS (Data Entry)'!$A$3:$A$504,0),2),\"\"))),\"\")=0,\"\",IFERROR(INDIRECT(CONCATENATE(\"'UNITCOST ITEMS (Data Entry)'!E\",IFERROR(SUM(MATCH(A67,'UNITCOST ITEMS (Data Entry)'!$A$3:$A$504,0),2),\"\"))),\"\"))","v":""},null,{"$f":"IF(IFERROR(INDIRECT(CONCATENATE(\"'UNITCOST ITEMS (Data Entry)'!F\",IFERROR(SUM(MATCH(A67,'UNITCOST ITEMS (Data Entry)'!$A$3:$A$504,0),2),\"\"))),\"\")=0,\"\",IFERROR(INDIRECT(CONCATENATE(\"'UNITCOST ITEMS (Data Entry)'!F\",IFERROR(SUM(MATCH(A67,'UNITCOST ITEMS (Data Entry)'!$A$3:$A$504,0),2),\"\"))),\"\"))","v":""},{"$f":"IF(IFERROR(INDIRECT(CONCATENATE(\"'UNITCOST ITEMS (Data Entry)'!G\",IFERROR(SUM(MATCH(A67,'UNITCOST ITEMS (Data Entry)'!$A$3:$A$504,0),2),\"\"))),\"\")=0,\"\",IFERROR(INDIRECT(CONCATENATE(\"'UNITCOST ITEMS (Data Entry)'!G\",IFERROR(SUM(MATCH(A67,'UNITCOST ITEMS (Data Entry)'!$A$3:$A$504,0),2),\"\"))),\"\"))","v":""},{"$f":"IF(IFERROR(INDIRECT(CONCATENATE(\"'UNITCOST ITEMS (Data Entry)'!H\",IFERROR(SUM(MATCH(A67,'UNITCOST ITEMS (Data Entry)'!$A$3:$A$504,0),2),\"\"))),\"\")=0,\"\",IFERROR(INDIRECT(CONCATENATE(\"'UNITCOST ITEMS (Data Entry)'!H\",IFERROR(SUM(MATCH(A67,'UNITCOST ITEMS (Data Entry)'!$A$3:$A$504,0),2),\"\"))),\"\"))","v":""},{"$f":"IF(IFERROR(INDIRECT(CONCATENATE(\"'UNITCOST ITEMS (Data Entry)'!I\",IFERROR(SUM(MATCH(A67,'UNITCOST ITEMS (Data Entry)'!$A$3:$A$504,0),2),\"\"))),\"\")=0,\"\",IFERROR(INDIRECT(CONCATENATE(\"'UNITCOST ITEMS (Data Entry)'!I\",IFERROR(SUM(MATCH(A67,'UNITCOST ITEMS (Data Entry)'!$A$3:$A$504,0),2),\"\"))),\"\"))","v":""},{"$f":"IF(K67=2,\"\",IF(IFERROR(INDIRECT(CONCATENATE(\"'UNITCOST ITEMS (Data Entry)'!J\",IFERROR(SUM(MATCH(A67,'UNITCOST ITEMS (Data Entry)'!$A$3:$A$504,0),2),\"\"))),\"\")=0,\"\",IFERROR(INDIRECT(CONCATENATE(\"'UNITCOST ITEMS (Data Entry)'!J\",IFERROR(SUM(MATCH(A67,'UNITCOST ITEMS (Data Entry)'!$A$3:$A$504,0),2),\"\"))),\"\")))","v":""},null,{"$f":"IF(IFERROR(INDIRECT(CONCATENATE(\"'UNITCOST ITEMS (Data Entry)'!C\",IFERROR(SUM(MATCH(A67,'UNITCOST ITEMS (Data Entry)'!$A$3:$A$504,0),2),\"\"))),\"\")=0,\"\",IFERROR(INDIRECT(CONCATENATE(\"'UNITCOST ITEMS (Data Entry)'!C\",IFERROR(SUM(MATCH(A67,'UNITCOST ITEMS (Data Entry)'!$A$3:$A$504,0),2),\"\"))),\"\"))","v":""},""]
[60,{"$f":"IF(IFERROR(INDIRECT(CONCATENATE(\"'UNITCOST ITEMS (Data Entry)'!D\",IFERROR(SUM(MATCH(A68,'UNITCOST ITEMS (Data Entry)'!$A$3:$A$504,0),2),\"\"))),\"\")=0,\"\",IFERROR(INDIRECT(CONCATENATE(\"'UNITCOST ITEMS (Data Entry)'!D\",IFERROR(SUM(MATCH(A68,'UNITCOST ITEMS (Data Entry)'!$A$3:$A$504,0),2),\"\"))),\"\"))","v":""},{"$f":"IF(IFERROR(INDIRECT(CONCATENATE(\"'UNITCOST ITEMS (Data Entry)'!E\",IFERROR(SUM(MATCH(A68,'UNITCOST ITEMS (Data Entry)'!$A$3:$A$504,0),2),\"\"))),\"\")=0,\"\",IFERROR(INDIRECT(CONCATENATE(\"'UNITCOST ITEMS (Data Entry)'!E\",IFERROR(SUM(MATCH(A68,'UNITCOST ITEMS (Data Entry)'!$A$3:$A$504,0),2),\"\"))),\"\"))","v":""},null,{"$f":"IF(IFERROR(INDIRECT(CONCATENATE(\"'UNITCOST ITEMS (Data Entry)'!F\",IFERROR(SUM(MATCH(A68,'UNITCOST ITEMS (Data Entry)'!$A$3:$A$504,0),2),\"\"))),\"\")=0,\"\",IFERROR(INDIRECT(CONCATENATE(\"'UNITCOST ITEMS (Data Entry)'!F\",IFERROR(SUM(MATCH(A68,'UNITCOST ITEMS (Data Entry)'!$A$3:$A$504,0),2),\"\"))),\"\"))","v":""},{"$f":"IF(IFERROR(INDIRECT(CONCATENATE(\"'UNITCOST ITEMS (Data Entry)'!G\",IFERROR(SUM(MATCH(A68,'UNITCOST ITEMS (Data Entry)'!$A$3:$A$504,0),2),\"\"))),\"\")=0,\"\",IFERROR(INDIRECT(CONCATENATE(\"'UNITCOST ITEMS (Data Entry)'!G\",IFERROR(SUM(MATCH(A68,'UNITCOST ITEMS (Data Entry)'!$A$3:$A$504,0),2),\"\"))),\"\"))","v":""},{"$f":"IF(IFERROR(INDIRECT(CONCATENATE(\"'UNITCOST ITEMS (Data Entry)'!H\",IFERROR(SUM(MATCH(A68,'UNITCOST ITEMS (Data Entry)'!$A$3:$A$504,0),2),\"\"))),\"\")=0,\"\",IFERROR(INDIRECT(CONCATENATE(\"'UNITCOST ITEMS (Data Entry)'!H\",IFERROR(SUM(MATCH(A68,'UNITCOST ITEMS (Data Entry)'!$A$3:$A$504,0),2),\"\"))),\"\"))","v":""},{"$f":"IF(IFERROR(INDIRECT(CONCATENATE(\"'UNITCOST ITEMS (Data Entry)'!I\",IFERROR(SUM(MATCH(A68,'UNITCOST ITEMS (Data Entry)'!$A$3:$A$504,0),2),\"\"))),\"\")=0,\"\",IFERROR(INDIRECT(CONCATENATE(\"'UNITCOST ITEMS (Data Entry)'!I\",IFERROR(SUM(MATCH(A68,'UNITCOST ITEMS (Data Entry)'!$A$3:$A$504,0),2),\"\"))),\"\"))","v":""},{"$f":"IF(K68=2,\"\",IF(IFERROR(INDIRECT(CONCATENATE(\"'UNITCOST ITEMS (Data Entry)'!J\",IFERROR(SUM(MATCH(A68,'UNITCOST ITEMS (Data Entry)'!$A$3:$A$504,0),2),\"\"))),\"\")=0,\"\",IFERROR(INDIRECT(CONCATENATE(\"'UNITCOST ITEMS (Data Entry)'!J\",IFERROR(SUM(MATCH(A68,'UNITCOST ITEMS (Data Entry)'!$A$3:$A$504,0),2),\"\"))),\"\")))","v":""},null,{"$f":"IF(IFERROR(INDIRECT(CONCATENATE(\"'UNITCOST ITEMS (Data Entry)'!C\",IFERROR(SUM(MATCH(A68,'UNITCOST ITEMS (Data Entry)'!$A$3:$A$504,0),2),\"\"))),\"\")=0,\"\",IFERROR(INDIRECT(CONCATENATE(\"'UNITCOST ITEMS (Data Entry)'!C\",IFERROR(SUM(MATCH(A68,'UNITCOST ITEMS (Data Entry)'!$A$3:$A$504,0),2),\"\"))),\"\"))","v":""},""]
[61,{"$f":"IF(IFERROR(INDIRECT(CONCATENATE(\"'UNITCOST ITEMS (Data Entry)'!D\",IFERROR(SUM(MATCH(A69,'UNITCOST ITEMS (Data Entry)'!$A$3:$A$504,0),2),\"\"))),\"\")=0,\"\",IFERROR(INDIRECT(CONCATENATE(\"'UNITCOST ITEMS (Data Entry)'!D\",IFERROR(SUM(MATCH(A69,'UNITCOST ITEMS (Data Entry)'!$A$3:$A$504,0),2),\"\"))),\"\"))","v":""},{"$f":"IF(IFERROR(INDIRECT(CONCATENATE(\"'UNITCOST ITEMS (Data Entry)'!E\",IFERROR(SUM(MATCH(A69,'UNITCOST ITEMS (Data Entry)'!$A$3:$A$504,0),2),\"\"))),\"\")=0,\"\",IFERROR(INDIRECT(CONCATENATE(\"'UNITCOST ITEMS (Data Entry)'!E\",IFERROR(SUM(MATCH(A69,'UNITCOST ITEMS (Data Entry)'!$A$3:$A$504,0),2),\"\"))),\"\"))","v":""},null,{"$f":"IF(IFERROR(INDIRECT(CONCATENATE(\"'UNITCOST ITEMS (Data Entry)'!F\",IFERROR(SUM(MATCH(A69,'UNITCOST ITEMS (Data Entry)'!$A$3:$A$504,0),2),\"\"))),\"\")=0,\"\",IFERROR(INDIRECT(CONCATENATE(\"'UNITCOST ITEMS (Data Entry)'!F\",IFERROR(SUM(MATCH(A69,'UNITCOST ITEMS (Data Entry)'!$A$3:$A$504,0),2),\"\"))),\"\"))","v":""},{"$f":"IF(IFERROR(INDIRECT(CONCATENATE(\"'UNITCOST ITEMS (Data Entry)'!G\",IFERROR(SUM(MATCH(A69,'UNITCOST ITEMS (Data Entry)'!$A$3:$A$504,0),2),\"\"))),\"\")=0,\"\",IFERROR(INDIRECT(CONCATENATE(\"'UNITCOST ITEMS (Data Entry)'!G\",IFERROR(SUM(MATCH(A69,'UNITCOST ITEMS (Data Entry)'!$A$3:$A$504,0),2),\"\"))),\"\"))","v":""},{"$f":"IF(IFERROR(INDIRECT(CONCATENATE(\"'UNITCOST ITEMS (Data Entry)'!H\",IFERROR(SUM(MATCH(A69,'UNITCOST ITEMS (Data Entry)'!$A$3:$A$504,0),2),\"\"))),\"\")=0,\"\",IFERROR(INDIRECT(CONCATENATE(\"'UNITCOST ITEMS (Data Entry)'!H\",IFERROR(SUM(MATCH(A69,'UNITCOST ITEMS (Data Entry)'!$A$3:$A$504,0),2),\"\"))),\"\"))","v":""},{"$f":"IF(IFERROR(INDIRECT(CONCATENATE(\"'UNITCOST ITEMS (Data Entry)'!I\",IFERROR(SUM(MATCH(A69,'UNITCOST ITEMS (Data Entry)'!$A$3:$A$504,0),2),\"\"))),\"\")=0,\"\",IFERROR(INDIRECT(CONCATENATE(\"'UNITCOST ITEMS (Data Entry)'!I\",IFERROR(SUM(MATCH(A69,'UNITCOST ITEMS (Data Entry)'!$A$3:$A$504,0),2),\"\"))),\"\"))","v":""},{"$f":"IF(K69=2,\"\",IF(IFERROR(INDIRECT(CONCATENATE(\"'UNITCOST ITEMS (Data Entry)'!J\",IFERROR(SUM(MATCH(A69,'UNITCOST ITEMS (Data Entry)'!$A$3:$A$504,0),2),\"\"))),\"\")=0,\"\",IFERROR(INDIRECT(CONCATENATE(\"'UNITCOST ITEMS (Data Entry)'!J\",IFERROR(SUM(MATCH(A69,'UNITCOST ITEMS (Data Entry)'!$A$3:$A$504,0),2),\"\"))),\"\")))","v":""},null,{"$f":"IF(IFERROR(INDIRECT(CONCATENATE(\"'UNITCOST ITEMS (Data Entry)'!C\",IFERROR(SUM(MATCH(A69,'UNITCOST ITEMS (Data Entry)'!$A$3:$A$504,0),2),\"\"))),\"\")=0,\"\",IFERROR(INDIRECT(CONCATENATE(\"'UNITCOST ITEMS (Data Entry)'!C\",IFERROR(SUM(MATCH(A69,'UNITCOST ITEMS (Data Entry)'!$A$3:$A$504,0),2),\"\"))),\"\"))","v":""},""]
[62,{"$f":"IF(IFERROR(INDIRECT(CONCATENATE(\"'UNITCOST ITEMS (Data Entry)'!D\",IFERROR(SUM(MATCH(A70,'UNITCOST ITEMS (Data Entry)'!$A$3:$A$504,0),2),\"\"))),\"\")=0,\"\",IFERROR(INDIRECT(CONCATENATE(\"'UNITCOST ITEMS (Data Entry)'!D\",IFERROR(SUM(MATCH(A70,'UNITCOST ITEMS (Data Entry)'!$A$3:$A$504,0),2),\"\"))),\"\"))","v":""},{"$f":"IF(IFERROR(INDIRECT(CONCATENATE(\"'UNITCOST ITEMS (Data Entry)'!E\",IFERROR(SUM(MATCH(A70,'UNITCOST ITEMS (Data Entry)'!$A$3:$A$504,0),2),\"\"))),\"\")=0,\"\",IFERROR(INDIRECT(CONCATENATE(\"'UNITCOST ITEMS (Data Entry)'!E\",IFERROR(SUM(MATCH(A70,'UNITCOST ITEMS (Data Entry)'!$A$3:$A$504,0),2),\"\"))),\"\"))","v":""},null,{"$f":"IF(IFERROR(INDIRECT(CONCATENATE(\"'UNITCOST ITEMS (Data Entry)'!F\",IFERROR(SUM(MATCH(A70,'UNITCOST ITEMS (Data Entry)'!$A$3:$A$504,0),2),\"\"))),\"\")=0,\"\",IFERROR(INDIRECT(CONCATENATE(\"'UNITCOST ITEMS (Data Entry)'!F\",IFERROR(SUM(MATCH(A70,'UNITCOST ITEMS (Data Entry)'!$A$3:$A$504,0),2),\"\"))),\"\"))","v":""},{"$f":"IF(IFERROR(INDIRECT(CONCATENATE(\"'UNITCOST ITEMS (Data Entry)'!G\",IFERROR(SUM(MATCH(A70,'UNITCOST ITEMS (Data Entry)'!$A$3:$A$504,0),2),\"\"))),\"\")=0,\"\",IFERROR(INDIRECT(CONCATENATE(\"'UNITCOST ITEMS (Data Entry)'!G\",IFERROR(SUM(MATCH(A70,'UNITCOST ITEMS (Data Entry)'!$A$3:$A$504,0),2),\"\"))),\"\"))","v":""},{"$f":"IF(IFERROR(INDIRECT(CONCATENATE(\"'UNITCOST ITEMS (Data Entry)'!H\",IFERROR(SUM(MATCH(A70,'UNITCOST ITEMS (Data Entry)'!$A$3:$A$504,0),2),\"\"))),\"\")=0,\"\",IFERROR(INDIRECT(CONCATENATE(\"'UNITCOST ITEMS (Data Entry)'!H\",IFERROR(SUM(MATCH(A70,'UNITCOST ITEMS (Data Entry)'!$A$3:$A$504,0),2),\"\"))),\"\"))","v":""},{"$f":"IF(IFERROR(INDIRECT(CONCATENATE(\"'UNITCOST ITEMS (Data Entry)'!I\",IFERROR(SUM(MATCH(A70,'UNITCOST ITEMS (Data Entry)'!$A$3:$A$504,0),2),\"\"))),\"\")=0,\"\",IFERROR(INDIRECT(CONCATENATE(\"'UNITCOST ITEMS (Data Entry)'!I\",IFERROR(SUM(MATCH(A70,'UNITCOST ITEMS (Data Entry)'!$A$3:$A$504,0),2),\"\"))),\"\"))","v":""},{"$f":"IF(K70=2,\"\",IF(IFERROR(INDIRECT(CONCATENATE(\"'UNITCOST ITEMS (Data Entry)'!J\",IFERROR(SUM(MATCH(A70,'UNITCOST ITEMS (Data Entry)'!$A$3:$A$504,0),2),\"\"))),\"\")=0,\"\",IFERROR(INDIRECT(CONCATENATE(\"'UNITCOST ITEMS (Data Entry)'!J\",IFERROR(SUM(MATCH(A70,'UNITCOST ITEMS (Data Entry)'!$A$3:$A$504,0),2),\"\"))),\"\")))","v":""},null,{"$f":"IF(IFERROR(INDIRECT(CONCATENATE(\"'UNITCOST ITEMS (Data Entry)'!C\",IFERROR(SUM(MATCH(A70,'UNITCOST ITEMS (Data Entry)'!$A$3:$A$504,0),2),\"\"))),\"\")=0,\"\",IFERROR(INDIRECT(CONCATENATE(\"'UNITCOST ITEMS (Data Entry)'!C\",IFERROR(SUM(MATCH(A70,'UNITCOST ITEMS (Data Entry)'!$A$3:$A$504,0),2),\"\"))),\"\"))","v":""},""]
[63,{"$f":"IF(IFERROR(INDIRECT(CONCATENATE(\"'UNITCOST ITEMS (Data Entry)'!D\",IFERROR(SUM(MATCH(A71,'UNITCOST ITEMS (Data Entry)'!$A$3:$A$504,0),2),\"\"))),\"\")=0,\"\",IFERROR(INDIRECT(CONCATENATE(\"'UNITCOST ITEMS (Data Entry)'!D\",IFERROR(SUM(MATCH(A71,'UNITCOST ITEMS (Data Entry)'!$A$3:$A$504,0),2),\"\"))),\"\"))","v":""},{"$f":"IF(IFERROR(INDIRECT(CONCATENATE(\"'UNITCOST ITEMS (Data Entry)'!E\",IFERROR(SUM(MATCH(A71,'UNITCOST ITEMS (Data Entry)'!$A$3:$A$504,0),2),\"\"))),\"\")=0,\"\",IFERROR(INDIRECT(CONCATENATE(\"'UNITCOST ITEMS (Data Entry)'!E\",IFERROR(SUM(MATCH(A71,'UNITCOST ITEMS (Data Entry)'!$A$3:$A$504,0),2),\"\"))),\"\"))","v":""},null,{"$f":"IF(IFERROR(INDIRECT(CONCATENATE(\"'UNITCOST ITEMS (Data Entry)'!F\",IFERROR(SUM(MATCH(A71,'UNITCOST ITEMS (Data Entry)'!$A$3:$A$504,0),2),\"\"))),\"\")=0,\"\",IFERROR(INDIRECT(CONCATENATE(\"'UNITCOST ITEMS (Data Entry)'!F\",IFERROR(SUM(MATCH(A71,'UNITCOST ITEMS (Data Entry)'!$A$3:$A$504,0),2),\"\"))),\"\"))","v":""},{"$f":"IF(IFERROR(INDIRECT(CONCATENATE(\"'UNITCOST ITEMS (Data Entry)'!G\",IFERROR(SUM(MATCH(A71,'UNITCOST ITEMS (Data Entry)'!$A$3:$A$504,0),2),\"\"))),\"\")=0,\"\",IFERROR(INDIRECT(CONCATENATE(\"'UNITCOST ITEMS (Data Entry)'!G\",IFERROR(SUM(MATCH(A71,'UNITCOST ITEMS (Data Entry)'!$A$3:$A$504,0),2),\"\"))),\"\"))","v":""},{"$f":"IF(IFERROR(INDIRECT(CONCATENATE(\"'UNITCOST ITEMS (Data Entry)'!H\",IFERROR(SUM(MATCH(A71,'UNITCOST ITEMS (Data Entry)'!$A$3:$A$504,0),2),\"\"))),\"\")=0,\"\",IFERROR(INDIRECT(CONCATENATE(\"'UNITCOST ITEMS (Data Entry)'!H\",IFERROR(SUM(MATCH(A71,'UNITCOST ITEMS (Data Entry)'!$A$3:$A$504,0),2),\"\"))),\"\"))","v":""},{"$f":"IF(IFERROR(INDIRECT(CONCATENATE(\"'UNITCOST ITEMS (Data Entry)'!I\",IFERROR(SUM(MATCH(A71,'UNITCOST ITEMS (Data Entry)'!$A$3:$A$504,0),2),\"\"))),\"\")=0,\"\",IFERROR(INDIRECT(CONCATENATE(\"'UNITCOST ITEMS (Data Entry)'!I\",IFERROR(SUM(MATCH(A71,'UNITCOST ITEMS (Data Entry)'!$A$3:$A$504,0),2),\"\"))),\"\"))","v":""},{"$f":"IF(K71=2,\"\",IF(IFERROR(INDIRECT(CONCATENATE(\"'UNITCOST ITEMS (Data Entry)'!J\",IFERROR(SUM(MATCH(A71,'UNITCOST ITEMS (Data Entry)'!$A$3:$A$504,0),2),\"\"))),\"\")=0,\"\",IFERROR(INDIRECT(CONCATENATE(\"'UNITCOST ITEMS (Data Entry)'!J\",IFERROR(SUM(MATCH(A71,'UNITCOST ITEMS (Data Entry)'!$A$3:$A$504,0),2),\"\"))),\"\")))","v":""},null,{"$f":"IF(IFERROR(INDIRECT(CONCATENATE(\"'UNITCOST ITEMS (Data Entry)'!C\",IFERROR(SUM(MATCH(A71,'UNITCOST ITEMS (Data Entry)'!$A$3:$A$504,0),2),\"\"))),\"\")=0,\"\",IFERROR(INDIRECT(CONCATENATE(\"'UNITCOST ITEMS (Data Entry)'!C\",IFERROR(SUM(MATCH(A71,'UNITCOST ITEMS (Data Entry)'!$A$3:$A$504,0),2),\"\"))),\"\"))","v":""},""]
[64,{"$f":"IF(IFERROR(INDIRECT(CONCATENATE(\"'UNITCOST ITEMS (Data Entry)'!D\",IFERROR(SUM(MATCH(A72,'UNITCOST ITEMS (Data Entry)'!$A$3:$A$504,0),2),\"\"))),\"\")=0,\"\",IFERROR(INDIRECT(CONCATENATE(\"'UNITCOST ITEMS (Data Entry)'!D\",IFERROR(SUM(MATCH(A72,'UNITCOST ITEMS (Data Entry)'!$A$3:$A$504,0),2),\"\"))),\"\"))","v":""},{"$f":"IF(IFERROR(INDIRECT(CONCATENATE(\"'UNITCOST ITEMS (Data Entry)'!E\",IFERROR(SUM(MATCH(A72,'UNITCOST ITEMS (Data Entry)'!$A$3:$A$504,0),2),\"\"))),\"\")=0,\"\",IFERROR(INDIRECT(CONCATENATE(\"'UNITCOST ITEMS (Data Entry)'!E\",IFERROR(SUM(MATCH(A72,'UNITCOST ITEMS (Data Entry)'!$A$3:$A$504,0),2),\"\"))),\"\"))","v":""},null,{"$f":"IF(IFERROR(INDIRECT(CONCATENATE(\"'UNITCOST ITEMS (Data Entry)'!F\",IFERROR(SUM(MATCH(A72,'UNITCOST ITEMS (Data Entry)'!$A$3:$A$504,0),2),\"\"))),\"\")=0,\"\",IFERROR(INDIRECT(CONCATENATE(\"'UNITCOST ITEMS (Data Entry)'!F\",IFERROR(SUM(MATCH(A72,'UNITCOST ITEMS (Data Entry)'!$A$3:$A$504,0),2),\"\"))),\"\"))","v":""},{"$f":"IF(IFERROR(INDIRECT(CONCATENATE(\"'UNITCOST ITEMS (Data Entry)'!G\",IFERROR(SUM(MATCH(A72,'UNITCOST ITEMS (Data Entry)'!$A$3:$A$504,0),2),\"\"))),\"\")=0,\"\",IFERROR(INDIRECT(CONCATENATE(\"'UNITCOST ITEMS (Data Entry)'!G\",IFERROR(SUM(MATCH(A72,'UNITCOST ITEMS (Data Entry)'!$A$3:$A$504,0),2),\"\"))),\"\"))","v":""},{"$f":"IF(IFERROR(INDIRECT(CONCATENATE(\"'UNITCOST ITEMS (Data Entry)'!H\",IFERROR(SUM(MATCH(A72,'UNITCOST ITEMS (Data Entry)'!$A$3:$A$504,0),2),\"\"))),\"\")=0,\"\",IFERROR(INDIRECT(CONCATENATE(\"'UNITCOST ITEMS (Data Entry)'!H\",IFERROR(SUM(MATCH(A72,'UNITCOST ITEMS (Data Entry)'!$A$3:$A$504,0),2),\"\"))),\"\"))","v":""},{"$f":"IF(IFERROR(INDIRECT(CONCATENATE(\"'UNITCOST ITEMS (Data Entry)'!I\",IFERROR(SUM(MATCH(A72,'UNITCOST ITEMS (Data Entry)'!$A$3:$A$504,0),2),\"\"))),\"\")=0,\"\",IFERROR(INDIRECT(CONCATENATE(\"'UNITCOST ITEMS (Data Entry)'!I\",IFERROR(SUM(MATCH(A72,'UNITCOST ITEMS (Data Entry)'!$A$3:$A$504,0),2),\"\"))),\"\"))","v":""},{"$f":"IF(K72=2,\"\",IF(IFERROR(INDIRECT(CONCATENATE(\"'UNITCOST ITEMS (Data Entry)'!J\",IFERROR(SUM(MATCH(A72,'UNITCOST ITEMS (Data Entry)'!$A$3:$A$504,0),2),\"\"))),\"\")=0,\"\",IFERROR(INDIRECT(CONCATENATE(\"'UNITCOST ITEMS (Data Entry)'!J\",IFERROR(SUM(MATCH(A72,'UNITCOST ITEMS (Data Entry)'!$A$3:$A$504,0),2),\"\"))),\"\")))","v":""},null,{"$f":"IF(IFERROR(INDIRECT(CONCATENATE(\"'UNITCOST ITEMS (Data Entry)'!C\",IFERROR(SUM(MATCH(A72,'UNITCOST ITEMS (Data Entry)'!$A$3:$A$504,0),2),\"\"))),\"\")=0,\"\",IFERROR(INDIRECT(CONCATENATE(\"'UNITCOST ITEMS (Data Entry)'!C\",IFERROR(SUM(MATCH(A72,'UNITCOST ITEMS (Data Entry)'!$A$3:$A$504,0),2),\"\"))),\"\"))","v":""},""]
[65,{"$f":"IF(IFERROR(INDIRECT(CONCATENATE(\"'UNITCOST ITEMS (Data Entry)'!D\",IFERROR(SUM(MATCH(A73,'UNITCOST ITEMS (Data Entry)'!$A$3:$A$504,0),2),\"\"))),\"\")=0,\"\",IFERROR(INDIRECT(CONCATENATE(\"'UNITCOST ITEMS (Data Entry)'!D\",IFERROR(SUM(MATCH(A73,'UNITCOST ITEMS (Data Entry)'!$A$3:$A$504,0),2),\"\"))),\"\"))","v":""},{"$f":"IF(IFERROR(INDIRECT(CONCATENATE(\"'UNITCOST ITEMS (Data Entry)'!E\",IFERROR(SUM(MATCH(A73,'UNITCOST ITEMS (Data Entry)'!$A$3:$A$504,0),2),\"\"))),\"\")=0,\"\",IFERROR(INDIRECT(CONCATENATE(\"'UNITCOST ITEMS (Data Entry)'!E\",IFERROR(SUM(MATCH(A73,'UNITCOST ITEMS (Data Entry)'!$A$3:$A$504,0),2),\"\"))),\"\"))","v":""},null,{"$f":"IF(IFERROR(INDIRECT(CONCATENATE(\"'UNITCOST ITEMS (Data Entry)'!F\",IFERROR(SUM(MATCH(A73,'UNITCOST ITEMS (Data Entry)'!$A$3:$A$504,0),2),\"\"))),\"\")=0,\"\",IFERROR(INDIRECT(CONCATENATE(\"'UNITCOST ITEMS (Data Entry)'!F\",IFERROR(SUM(MATCH(A73,'UNITCOST ITEMS (Data Entry)'!$A$3:$A$504,0),2),\"\"))),\"\"))","v":""},{"$f":"IF(IFERROR(INDIRECT(CONCATENATE(\"'UNITCOST ITEMS (Data Entry)'!G\",IFERROR(SUM(MATCH(A73,'UNITCOST ITEMS (Data Entry)'!$A$3:$A$504,0),2),\"\"))),\"\")=0,\"\",IFERROR(INDIRECT(CONCATENATE(\"'UNITCOST ITEMS (Data Entry)'!G\",IFERROR(SUM(MATCH(A73,'UNITCOST ITEMS (Data Entry)'!$A$3:$A$504,0),2),\"\"))),\"\"))","v":""},{"$f":"IF(IFERROR(INDIRECT(CONCATENATE(\"'UNITCOST ITEMS (Data Entry)'!H\",IFERROR(SUM(MATCH(A73,'UNITCOST ITEMS (Data Entry)'!$A$3:$A$504,0),2),\"\"))),\"\")=0,\"\",IFERROR(INDIRECT(CONCATENATE(\"'UNITCOST ITEMS (Data Entry)'!H\",IFERROR(SUM(MATCH(A73,'UNITCOST ITEMS (Data Entry)'!$A$3:$A$504,0),2),\"\"))),\"\"))","v":""},{"$f":"IF(IFERROR(INDIRECT(CONCATENATE(\"'UNITCOST ITEMS (Data Entry)'!I\",IFERROR(SUM(MATCH(A73,'UNITCOST ITEMS (Data Entry)'!$A$3:$A$504,0),2),\"\"))),\"\")=0,\"\",IFERROR(INDIRECT(CONCATENATE(\"'UNITCOST ITEMS (Data Entry)'!I\",IFERROR(SUM(MATCH(A73,'UNITCOST ITEMS (Data Entry)'!$A$3:$A$504,0),2),\"\"))),\"\"))","v":""},{"$f":"IF(K73=2,\"\",IF(IFERROR(INDIRECT(CONCATENATE(\"'UNITCOST ITEMS (Data Entry)'!J\",IFERROR(SUM(MATCH(A73,'UNITCOST ITEMS (Data Entry)'!$A$3:$A$504,0),2),\"\"))),\"\")=0,\"\",IFERROR(INDIRECT(CONCATENATE(\"'UNITCOST ITEMS (Data Entry)'!J\",IFERROR(SUM(MATCH(A73,'UNITCOST ITEMS (Data Entry)'!$A$3:$A$504,0),2),\"\"))),\"\")))","v":""},null,{"$f":"IF(IFERROR(INDIRECT(CONCATENATE(\"'UNITCOST ITEMS (Data Entry)'!C\",IFERROR(SUM(MATCH(A73,'UNITCOST ITEMS (Data Entry)'!$A$3:$A$504,0),2),\"\"))),\"\")=0,\"\",IFERROR(INDIRECT(CONCATENATE(\"'UNITCOST ITEMS (Data Entry)'!C\",IFERROR(SUM(MATCH(A73,'UNITCOST ITEMS (Data Entry)'!$A$3:$A$504,0),2),\"\"))),\"\"))","v":""},""]
[66,{"$f":"IF(IFERROR(INDIRECT(CONCATENATE(\"'UNITCOST ITEMS (Data Entry)'!D\",IFERROR(SUM(MATCH(A74,'UNITCOST ITEMS (Data Entry)'!$A$3:$A$504,0),2),\"\"))),\"\")=0,\"\",IFERROR(INDIRECT(CONCATENATE(\"'UNITCOST ITEMS (Data Entry)'!D\",IFERROR(SUM(MATCH(A74,'UNITCOST ITEMS (Data Entry)'!$A$3:$A$504,0),2),\"\"))),\"\"))","v":""},{"$f":"IF(IFERROR(INDIRECT(CONCATENATE(\"'UNITCOST ITEMS (Data Entry)'!E\",IFERROR(SUM(MATCH(A74,'UNITCOST ITEMS (Data Entry)'!$A$3:$A$504,0),2),\"\"))),\"\")=0,\"\",IFERROR(INDIRECT(CONCATENATE(\"'UNITCOST ITEMS (Data Entry)'!E\",IFERROR(SUM(MATCH(A74,'UNITCOST ITEMS (Data Entry)'!$A$3:$A$504,0),2),\"\"))),\"\"))","v":""},null,{"$f":"IF(IFERROR(INDIRECT(CONCATENATE(\"'UNITCOST ITEMS (Data Entry)'!F\",IFERROR(SUM(MATCH(A74,'UNITCOST ITEMS (Data Entry)'!$A$3:$A$504,0),2),\"\"))),\"\")=0,\"\",IFERROR(INDIRECT(CONCATENATE(\"'UNITCOST ITEMS (Data Entry)'!F\",IFERROR(SUM(MATCH(A74,'UNITCOST ITEMS (Data Entry)'!$A$3:$A$504,0),2),\"\"))),\"\"))","v":""},{"$f":"IF(IFERROR(INDIRECT(CONCATENATE(\"'UNITCOST ITEMS (Data Entry)'!G\",IFERROR(SUM(MATCH(A74,'UNITCOST ITEMS (Data Entry)'!$A$3:$A$504,0),2),\"\"))),\"\")=0,\"\",IFERROR(INDIRECT(CONCATENATE(\"'UNITCOST ITEMS (Data Entry)'!G\",IFERROR(SUM(MATCH(A74,'UNITCOST ITEMS (Data Entry)'!$A$3:$A$504,0),2),\"\"))),\"\"))","v":""},{"$f":"IF(IFERROR(INDIRECT(CONCATENATE(\"'UNITCOST ITEMS (Data Entry)'!H\",IFERROR(SUM(MATCH(A74,'UNITCOST ITEMS (Data Entry)'!$A$3:$A$504,0),2),\"\"))),\"\")=0,\"\",IFERROR(INDIRECT(CONCATENATE(\"'UNITCOST ITEMS (Data Entry)'!H\",IFERROR(SUM(MATCH(A74,'UNITCOST ITEMS (Data Entry)'!$A$3:$A$504,0),2),\"\"))),\"\"))","v":""},{"$f":"IF(IFERROR(INDIRECT(CONCATENATE(\"'UNITCOST ITEMS (Data Entry)'!I\",IFERROR(SUM(MATCH(A74,'UNITCOST ITEMS (Data Entry)'!$A$3:$A$504,0),2),\"\"))),\"\")=0,\"\",IFERROR(INDIRECT(CONCATENATE(\"'UNITCOST ITEMS (Data Entry)'!I\",IFERROR(SUM(MATCH(A74,'UNITCOST ITEMS (Data Entry)'!$A$3:$A$504,0),2),\"\"))),\"\"))","v":""},{"$f":"IF(K74=2,\"\",IF(IFERROR(INDIRECT(CONCATENATE(\"'UNITCOST ITEMS (Data Entry)'!J\",IFERROR(SUM(MATCH(A74,'UNITCOST ITEMS (Data Entry)'!$A$3:$A$504,0),2),\"\"))),\"\")=0,\"\",IFERROR(INDIRECT(CONCATENATE(\"'UNITCOST ITEMS (Data Entry)'!J\",IFERROR(SUM(MATCH(A74,'UNITCOST ITEMS (Data Entry)'!$A$3:$A$504,0),2),\"\"))),\"\")))","v":""},null,{"$f":"IF(IFERROR(INDIRECT(CONCATENATE(\"'UNITCOST ITEMS (Data Entry)'!C\",IFERROR(SUM(MATCH(A74,'UNITCOST ITEMS (Data Entry)'!$A$3:$A$504,0),2),\"\"))),\"\")=0,\"\",IFERROR(INDIRECT(CONCATENATE(\"'UNITCOST ITEMS (Data Entry)'!C\",IFERROR(SUM(MATCH(A74,'UNITCOST ITEMS (Data Entry)'!$A$3:$A$504,0),2),\"\"))),\"\"))","v":""},{"$f":"IF(K74<>\"\",ROW(),\"\")","v":""}]
[{"$f":"A74+1","v":67},{"$f":"IF(IFERROR(INDIRECT(CONCATENATE(\"'UNITCOST ITEMS (Data Entry)'!D\",IFERROR(SUM(MATCH(A75,'UNITCOST ITEMS (Data Entry)'!$A$3:$A$504,0),2),\"\"))),\"\")=0,\"\",IFERROR(INDIRECT(CONCATENATE(\"'UNITCOST ITEMS (Data Entry)'!D\",IFERROR(SUM(MATCH(A75,'UNITCOST ITEMS (Data Entry)'!$A$3:$A$504,0),2),\"\"))),\"\"))","v":""},{"$f":"IF(IFERROR(INDIRECT(CONCATENATE(\"'UNITCOST ITEMS (Data Entry)'!E\",IFERROR(SUM(MATCH(A75,'UNITCOST ITEMS (Data Entry)'!$A$3:$A$504,0),2),\"\"))),\"\")=0,\"\",IFERROR(INDIRECT(CONCATENATE(\"'UNITCOST ITEMS (Data Entry)'!E\",IFERROR(SUM(MATCH(A75,'UNITCOST ITEMS (Data Entry)'!$A$3:$A$504,0),2),\"\"))),\"\"))","v":""},null,{"$f":"IF(IFERROR(INDIRECT(CONCATENATE(\"'UNITCOST ITEMS (Data Entry)'!F\",IFERROR(SUM(MATCH(A75,'UNITCOST ITEMS (Data Entry)'!$A$3:$A$504,0),2),\"\"))),\"\")=0,\"\",IFERROR(INDIRECT(CONCATENATE(\"'UNITCOST ITEMS (Data Entry)'!F\",IFERROR(SUM(MATCH(A75,'UNITCOST ITEMS (Data Entry)'!$A$3:$A$504,0),2),\"\"))),\"\"))","v":""},{"$f":"IF(IFERROR(INDIRECT(CONCATENATE(\"'UNITCOST ITEMS (Data Entry)'!G\",IFERROR(SUM(MATCH(A75,'UNITCOST ITEMS (Data Entry)'!$A$3:$A$504,0),2),\"\"))),\"\")=0,\"\",IFERROR(INDIRECT(CONCATENATE(\"'UNITCOST ITEMS (Data Entry)'!G\",IFERROR(SUM(MATCH(A75,'UNITCOST ITEMS (Data Entry)'!$A$3:$A$504,0),2),\"\"))),\"\"))","v":""},{"$f":"IF(IFERROR(INDIRECT(CONCATENATE(\"'UNITCOST ITEMS (Data Entry)'!H\",IFERROR(SUM(MATCH(A75,'UNITCOST ITEMS (Data Entry)'!$A$3:$A$504,0),2),\"\"))),\"\")=0,\"\",IFERROR(INDIRECT(CONCATENATE(\"'UNITCOST ITEMS (Data Entry)'!H\",IFERROR(SUM(MATCH(A75,'UNITCOST ITEMS (Data Entry)'!$A$3:$A$504,0),2),\"\"))),\"\"))","v":""},{"$f":"IF(IFERROR(INDIRECT(CONCATENATE(\"'UNITCOST ITEMS (Data Entry)'!I\",IFERROR(SUM(MATCH(A75,'UNITCOST ITEMS (Data Entry)'!$A$3:$A$504,0),2),\"\"))),\"\")=0,\"\",IFERROR(INDIRECT(CONCATENATE(\"'UNITCOST ITEMS (Data Entry)'!I\",IFERROR(SUM(MATCH(A75,'UNITCOST ITEMS (Data Entry)'!$A$3:$A$504,0),2),\"\"))),\"\"))","v":""},{"$f":"IF(K75=2,\"\",IF(IFERROR(INDIRECT(CONCATENATE(\"'UNITCOST ITEMS (Data Entry)'!J\",IFERROR(SUM(MATCH(A75,'UNITCOST ITEMS (Data Entry)'!$A$3:$A$504,0),2),\"\"))),\"\")=0,\"\",IFERROR(INDIRECT(CONCATENATE(\"'UNITCOST ITEMS (Data Entry)'!J\",IFERROR(SUM(MATCH(A75,'UNITCOST ITEMS (Data Entry)'!$A$3:$A$504,0),2),\"\"))),\"\")))","v":""},null,{"$f":"IF(IFERROR(INDIRECT(CONCATENATE(\"'UNITCOST ITEMS (Data Entry)'!C\",IFERROR(SUM(MATCH(A75,'UNITCOST ITEMS (Data Entry)'!$A$3:$A$504,0),2),\"\"))),\"\")=0,\"\",IFERROR(INDIRECT(CONCATENATE(\"'UNITCOST ITEMS (Data Entry)'!C\",IFERROR(SUM(MATCH(A75,'UNITCOST ITEMS (Data Entry)'!$A$3:$A$504,0),2),\"\"))),\"\"))","v":""},""]
[68,{"$f":"IF(IFERROR(INDIRECT(CONCATENATE(\"'UNITCOST ITEMS (Data Entry)'!D\",IFERROR(SUM(MATCH(A76,'UNITCOST ITEMS (Data Entry)'!$A$3:$A$504,0),2),\"\"))),\"\")=0,\"\",IFERROR(INDIRECT(CONCATENATE(\"'UNITCOST ITEMS (Data Entry)'!D\",IFERROR(SUM(MATCH(A76,'UNITCOST ITEMS (Data Entry)'!$A$3:$A$504,0),2),\"\"))),\"\"))","v":""},{"$f":"IF(IFERROR(INDIRECT(CONCATENATE(\"'UNITCOST ITEMS (Data Entry)'!E\",IFERROR(SUM(MATCH(A76,'UNITCOST ITEMS (Data Entry)'!$A$3:$A$504,0),2),\"\"))),\"\")=0,\"\",IFERROR(INDIRECT(CONCATENATE(\"'UNITCOST ITEMS (Data Entry)'!E\",IFERROR(SUM(MATCH(A76,'UNITCOST ITEMS (Data Entry)'!$A$3:$A$504,0),2),\"\"))),\"\"))","v":""},null,{"$f":"IF(IFERROR(INDIRECT(CONCATENATE(\"'UNITCOST ITEMS (Data Entry)'!F\",IFERROR(SUM(MATCH(A76,'UNITCOST ITEMS (Data Entry)'!$A$3:$A$504,0),2),\"\"))),\"\")=0,\"\",IFERROR(INDIRECT(CONCATENATE(\"'UNITCOST ITEMS (Data Entry)'!F\",IFERROR(SUM(MATCH(A76,'UNITCOST ITEMS (Data Entry)'!$A$3:$A$504,0),2),\"\"))),\"\"))","v":""},{"$f":"IF(IFERROR(INDIRECT(CONCATENATE(\"'UNITCOST ITEMS (Data Entry)'!G\",IFERROR(SUM(MATCH(A76,'UNITCOST ITEMS (Data Entry)'!$A$3:$A$504,0),2),\"\"))),\"\")=0,\"\",IFERROR(INDIRECT(CONCATENATE(\"'UNITCOST ITEMS (Data Entry)'!G\",IFERROR(SUM(MATCH(A76,'UNITCOST ITEMS (Data Entry)'!$A$3:$A$504,0),2),\"\"))),\"\"))","v":""},{"$f":"IF(IFERROR(INDIRECT(CONCATENATE(\"'UNITCOST ITEMS (Data Entry)'!H\",IFERROR(SUM(MATCH(A76,'UNITCOST ITEMS (Data Entry)'!$A$3:$A$504,0),2),\"\"))),\"\")=0,\"\",IFERROR(INDIRECT(CONCATENATE(\"'UNITCOST ITEMS (Data Entry)'!H\",IFERROR(SUM(MATCH(A76,'UNITCOST ITEMS (Data Entry)'!$A$3:$A$504,0),2),\"\"))),\"\"))","v":""},{"$f":"IF(IFERROR(INDIRECT(CONCATENATE(\"'UNITCOST ITEMS (Data Entry)'!I\",IFERROR(SUM(MATCH(A76,'UNITCOST ITEMS (Data Entry)'!$A$3:$A$504,0),2),\"\"))),\"\")=0,\"\",IFERROR(INDIRECT(CONCATENATE(\"'UNITCOST ITEMS (Data Entry)'!I\",IFERROR(SUM(MATCH(A76,'UNITCOST ITEMS (Data Entry)'!$A$3:$A$504,0),2),\"\"))),\"\"))","v":""},{"$f":"IF(K76=2,\"\",IF(IFERROR(INDIRECT(CONCATENATE(\"'UNITCOST ITEMS (Data Entry)'!J\",IFERROR(SUM(MATCH(A76,'UNITCOST ITEMS (Data Entry)'!$A$3:$A$504,0),2),\"\"))),\"\")=0,\"\",IFERROR(INDIRECT(CONCATENATE(\"'UNITCOST ITEMS (Data Entry)'!J\",IFERROR(SUM(MATCH(A76,'UNITCOST ITEMS (Data Entry)'!$A$3:$A$504,0),2),\"\"))),\"\")))","v":""},null,{"$f":"IF(IFERROR(INDIRECT(CONCATENATE(\"'UNITCOST ITEMS (Data Entry)'!C\",IFERROR(SUM(MATCH(A76,'UNITCOST ITEMS (Data Entry)'!$A$3:$A$504,0),2),\"\"))),\"\")=0,\"\",IFERROR(INDIRECT(CONCATENATE(\"'UNITCOST ITEMS (Data Entry)'!C\",IFERROR(SUM(MATCH(A76,'UNITCOST ITEMS (Data Entry)'!$A$3:$A$504,0),2),\"\"))),\"\"))","v":""},""]
[69,{"$f":"IF(IFERROR(INDIRECT(CONCATENATE(\"'UNITCOST ITEMS (Data Entry)'!D\",IFERROR(SUM(MATCH(A77,'UNITCOST ITEMS (Data Entry)'!$A$3:$A$504,0),2),\"\"))),\"\")=0,\"\",IFERROR(INDIRECT(CONCATENATE(\"'UNITCOST ITEMS (Data Entry)'!D\",IFERROR(SUM(MATCH(A77,'UNITCOST ITEMS (Data Entry)'!$A$3:$A$504,0),2),\"\"))),\"\"))","v":""},{"$f":"IF(IFERROR(INDIRECT(CONCATENATE(\"'UNITCOST ITEMS (Data Entry)'!E\",IFERROR(SUM(MATCH(A77,'UNITCOST ITEMS (Data Entry)'!$A$3:$A$504,0),2),\"\"))),\"\")=0,\"\",IFERROR(INDIRECT(CONCATENATE(\"'UNITCOST ITEMS (Data Entry)'!E\",IFERROR(SUM(MATCH(A77,'UNITCOST ITEMS (Data Entry)'!$A$3:$A$504,0),2),\"\"))),\"\"))","v":""},null,{"$f":"IF(IFERROR(INDIRECT(CONCATENATE(\"'UNITCOST ITEMS (Data Entry)'!F\",IFERROR(SUM(MATCH(A77,'UNITCOST ITEMS (Data Entry)'!$A$3:$A$504,0),2),\"\"))),\"\")=0,\"\",IFERROR(INDIRECT(CONCATENATE(\"'UNITCOST ITEMS (Data Entry)'!F\",IFERROR(SUM(MATCH(A77,'UNITCOST ITEMS (Data Entry)'!$A$3:$A$504,0),2),\"\"))),\"\"))","v":""},{"$f":"IF(IFERROR(INDIRECT(CONCATENATE(\"'UNITCOST ITEMS (Data Entry)'!G\",IFERROR(SUM(MATCH(A77,'UNITCOST ITEMS (Data Entry)'!$A$3:$A$504,0),2),\"\"))),\"\")=0,\"\",IFERROR(INDIRECT(CONCATENATE(\"'UNITCOST ITEMS (Data Entry)'!G\",IFERROR(SUM(MATCH(A77,'UNITCOST ITEMS (Data Entry)'!$A$3:$A$504,0),2),\"\"))),\"\"))","v":""},{"$f":"IF(IFERROR(INDIRECT(CONCATENATE(\"'UNITCOST ITEMS (Data Entry)'!H\",IFERROR(SUM(MATCH(A77,'UNITCOST ITEMS (Data Entry)'!$A$3:$A$504,0),2),\"\"))),\"\")=0,\"\",IFERROR(INDIRECT(CONCATENATE(\"'UNITCOST ITEMS (Data Entry)'!H\",IFERROR(SUM(MATCH(A77,'UNITCOST ITEMS (Data Entry)'!$A$3:$A$504,0),2),\"\"))),\"\"))","v":""},{"$f":"IF(IFERROR(INDIRECT(CONCATENATE(\"'UNITCOST ITEMS (Data Entry)'!I\",IFERROR(SUM(MATCH(A77,'UNITCOST ITEMS (Data Entry)'!$A$3:$A$504,0),2),\"\"))),\"\")=0,\"\",IFERROR(INDIRECT(CONCATENATE(\"'UNITCOST ITEMS (Data Entry)'!I\",IFERROR(SUM(MATCH(A77,'UNITCOST ITEMS (Data Entry)'!$A$3:$A$504,0),2),\"\"))),\"\"))","v":""},{"$f":"IF(K77=2,\"\",IF(IFERROR(INDIRECT(CONCATENATE(\"'UNITCOST ITEMS (Data Entry)'!J\",IFERROR(SUM(MATCH(A77,'UNITCOST ITEMS (Data Entry)'!$A$3:$A$504,0),2),\"\"))),\"\")=0,\"\",IFERROR(INDIRECT(CONCATENATE(\"'UNITCOST ITEMS (Data Entry)'!J\",IFERROR(SUM(MATCH(A77,'UNITCOST ITEMS (Data Entry)'!$A$3:$A$504,0),2),\"\"))),\"\")))","v":""},null,{"$f":"IF(IFERROR(INDIRECT(CONCATENATE(\"'UNITCOST ITEMS (Data Entry)'!C\",IFERROR(SUM(MATCH(A77,'UNITCOST ITEMS (Data Entry)'!$A$3:$A$504,0),2),\"\"))),\"\")=0,\"\",IFERROR(INDIRECT(CONCATENATE(\"'UNITCOST ITEMS (Data Entry)'!C\",IFERROR(SUM(MATCH(A77,'UNITCOST ITEMS (Data Entry)'!$A$3:$A$504,0),2),\"\"))),\"\"))","v":""},""]
[70,{"$f":"IF(IFERROR(INDIRECT(CONCATENATE(\"'UNITCOST ITEMS (Data Entry)'!D\",IFERROR(SUM(MATCH(A78,'UNITCOST ITEMS (Data Entry)'!$A$3:$A$504,0),2),\"\"))),\"\")=0,\"\",IFERROR(INDIRECT(CONCATENATE(\"'UNITCOST ITEMS (Data Entry)'!D\",IFERROR(SUM(MATCH(A78,'UNITCOST ITEMS (Data Entry)'!$A$3:$A$504,0),2),\"\"))),\"\"))","v":""},{"$f":"IF(IFERROR(INDIRECT(CONCATENATE(\"'UNITCOST ITEMS (Data Entry)'!E\",IFERROR(SUM(MATCH(A78,'UNITCOST ITEMS (Data Entry)'!$A$3:$A$504,0),2),\"\"))),\"\")=0,\"\",IFERROR(INDIRECT(CONCATENATE(\"'UNITCOST ITEMS (Data Entry)'!E\",IFERROR(SUM(MATCH(A78,'UNITCOST ITEMS (Data Entry)'!$A$3:$A$504,0),2),\"\"))),\"\"))","v":""},null,{"$f":"IF(IFERROR(INDIRECT(CONCATENATE(\"'UNITCOST ITEMS (Data Entry)'!F\",IFERROR(SUM(MATCH(A78,'UNITCOST ITEMS (Data Entry)'!$A$3:$A$504,0),2),\"\"))),\"\")=0,\"\",IFERROR(INDIRECT(CONCATENATE(\"'UNITCOST ITEMS (Data Entry)'!F\",IFERROR(SUM(MATCH(A78,'UNITCOST ITEMS (Data Entry)'!$A$3:$A$504,0),2),\"\"))),\"\"))","v":""},{"$f":"IF(IFERROR(INDIRECT(CONCATENATE(\"'UNITCOST ITEMS (Data Entry)'!G\",IFERROR(SUM(MATCH(A78,'UNITCOST ITEMS (Data Entry)'!$A$3:$A$504,0),2),\"\"))),\"\")=0,\"\",IFERROR(INDIRECT(CONCATENATE(\"'UNITCOST ITEMS (Data Entry)'!G\",IFERROR(SUM(MATCH(A78,'UNITCOST ITEMS (Data Entry)'!$A$3:$A$504,0),2),\"\"))),\"\"))","v":""},{"$f":"IF(IFERROR(INDIRECT(CONCATENATE(\"'UNITCOST ITEMS (Data Entry)'!H\",IFERROR(SUM(MATCH(A78,'UNITCOST ITEMS (Data Entry)'!$A$3:$A$504,0),2),\"\"))),\"\")=0,\"\",IFERROR(INDIRECT(CONCATENATE(\"'UNITCOST ITEMS (Data Entry)'!H\",IFERROR(SUM(MATCH(A78,'UNITCOST ITEMS (Data Entry)'!$A$3:$A$504,0),2),\"\"))),\"\"))","v":""},{"$f":"IF(IFERROR(INDIRECT(CONCATENATE(\"'UNITCOST ITEMS (Data Entry)'!I\",IFERROR(SUM(MATCH(A78,'UNITCOST ITEMS (Data Entry)'!$A$3:$A$504,0),2),\"\"))),\"\")=0,\"\",IFERROR(INDIRECT(CONCATENATE(\"'UNITCOST ITEMS (Data Entry)'!I\",IFERROR(SUM(MATCH(A78,'UNITCOST ITEMS (Data Entry)'!$A$3:$A$504,0),2),\"\"))),\"\"))","v":""},{"$f":"IF(K78=2,\"\",IF(IFERROR(INDIRECT(CONCATENATE(\"'UNITCOST ITEMS (Data Entry)'!J\",IFERROR(SUM(MATCH(A78,'UNITCOST ITEMS (Data Entry)'!$A$3:$A$504,0),2),\"\"))),\"\")=0,\"\",IFERROR(INDIRECT(CONCATENATE(\"'UNITCOST ITEMS (Data Entry)'!J\",IFERROR(SUM(MATCH(A78,'UNITCOST ITEMS (Data Entry)'!$A$3:$A$504,0),2),\"\"))),\"\")))","v":""},null,{"$f":"IF(IFERROR(INDIRECT(CONCATENATE(\"'UNITCOST ITEMS (Data Entry)'!C\",IFERROR(SUM(MATCH(A78,'UNITCOST ITEMS (Data Entry)'!$A$3:$A$504,0),2),\"\"))),\"\")=0,\"\",IFERROR(INDIRECT(CONCATENATE(\"'UNITCOST ITEMS (Data Entry)'!C\",IFERROR(SUM(MATCH(A78,'UNITCOST ITEMS (Data Entry)'!$A$3:$A$504,0),2),\"\"))),\"\"))","v":""},""]
[71,{"$f":"IF(IFERROR(INDIRECT(CONCATENATE(\"'UNITCOST ITEMS (Data Entry)'!D\",IFERROR(SUM(MATCH(A79,'UNITCOST ITEMS (Data Entry)'!$A$3:$A$504,0),2),\"\"))),\"\")=0,\"\",IFERROR(INDIRECT(CONCATENATE(\"'UNITCOST ITEMS (Data Entry)'!D\",IFERROR(SUM(MATCH(A79,'UNITCOST ITEMS (Data Entry)'!$A$3:$A$504,0),2),\"\"))),\"\"))","v":""},{"$f":"IF(IFERROR(INDIRECT(CONCATENATE(\"'UNITCOST ITEMS (Data Entry)'!E\",IFERROR(SUM(MATCH(A79,'UNITCOST ITEMS (Data Entry)'!$A$3:$A$504,0),2),\"\"))),\"\")=0,\"\",IFERROR(INDIRECT(CONCATENATE(\"'UNITCOST ITEMS (Data Entry)'!E\",IFERROR(SUM(MATCH(A79,'UNITCOST ITEMS (Data Entry)'!$A$3:$A$504,0),2),\"\"))),\"\"))","v":""},null,{"$f":"IF(IFERROR(INDIRECT(CONCATENATE(\"'UNITCOST ITEMS (Data Entry)'!F\",IFERROR(SUM(MATCH(A79,'UNITCOST ITEMS (Data Entry)'!$A$3:$A$504,0),2),\"\"))),\"\")=0,\"\",IFERROR(INDIRECT(CONCATENATE(\"'UNITCOST ITEMS (Data Entry)'!F\",IFERROR(SUM(MATCH(A79,'UNITCOST ITEMS (Data Entry)'!$A$3:$A$504,0),2),\"\"))),\"\"))","v":""},{"$f":"IF(IFERROR(INDIRECT(CONCATENATE(\"'UNITCOST ITEMS (Data Entry)'!G\",IFERROR(SUM(MATCH(A79,'UNITCOST ITEMS (Data Entry)'!$A$3:$A$504,0),2),\"\"))),\"\")=0,\"\",IFERROR(INDIRECT(CONCATENATE(\"'UNITCOST ITEMS (Data Entry)'!G\",IFERROR(SUM(MATCH(A79,'UNITCOST ITEMS (Data Entry)'!$A$3:$A$504,0),2),\"\"))),\"\"))","v":""},{"$f":"IF(IFERROR(INDIRECT(CONCATENATE(\"'UNITCOST ITEMS (Data Entry)'!H\",IFERROR(SUM(MATCH(A79,'UNITCOST ITEMS (Data Entry)'!$A$3:$A$504,0),2),\"\"))),\"\")=0,\"\",IFERROR(INDIRECT(CONCATENATE(\"'UNITCOST ITEMS (Data Entry)'!H\",IFERROR(SUM(MATCH(A79,'UNITCOST ITEMS (Data Entry)'!$A$3:$A$504,0),2),\"\"))),\"\"))","v":""},{"$f":"IF(IFERROR(INDIRECT(CONCATENATE(\"'UNITCOST ITEMS (Data Entry)'!I\",IFERROR(SUM(MATCH(A79,'UNITCOST ITEMS (Data Entry)'!$A$3:$A$504,0),2),\"\"))),\"\")=0,\"\",IFERROR(INDIRECT(CONCATENATE(\"'UNITCOST ITEMS (Data Entry)'!I\",IFERROR(SUM(MATCH(A79,'UNITCOST ITEMS (Data Entry)'!$A$3:$A$504,0),2),\"\"))),\"\"))","v":""},{"$f":"IF(K79=2,\"\",IF(IFERROR(INDIRECT(CONCATENATE(\"'UNITCOST ITEMS (Data Entry)'!J\",IFERROR(SUM(MATCH(A79,'UNITCOST ITEMS (Data Entry)'!$A$3:$A$504,0),2),\"\"))),\"\")=0,\"\",IFERROR(INDIRECT(CONCATENATE(\"'UNITCOST ITEMS (Data Entry)'!J\",IFERROR(SUM(MATCH(A79,'UNITCOST ITEMS (Data Entry)'!$A$3:$A$504,0),2),\"\"))),\"\")))","v":""},null,{"$f":"IF(IFERROR(INDIRECT(CONCATENATE(\"'UNITCOST ITEMS (Data Entry)'!C\",IFERROR(SUM(MATCH(A79,'UNITCOST ITEMS (Data Entry)'!$A$3:$A$504,0),2),\"\"))),\"\")=0,\"\",IFERROR(INDIRECT(CONCATENATE(\"'UNITCOST ITEMS (Data Entry)'!C\",IFERROR(SUM(MATCH(A79,'UNITCOST ITEMS (Data Entry)'!$A$3:$A$504,0),2),\"\"))),\"\"))","v":""},""]
[72,{"$f":"IF(IFERROR(INDIRECT(CONCATENATE(\"'UNITCOST ITEMS (Data Entry)'!D\",IFERROR(SUM(MATCH(A80,'UNITCOST ITEMS (Data Entry)'!$A$3:$A$504,0),2),\"\"))),\"\")=0,\"\",IFERROR(INDIRECT(CONCATENATE(\"'UNITCOST ITEMS (Data Entry)'!D\",IFERROR(SUM(MATCH(A80,'UNITCOST ITEMS (Data Entry)'!$A$3:$A$504,0),2),\"\"))),\"\"))","v":""},{"$f":"IF(IFERROR(INDIRECT(CONCATENATE(\"'UNITCOST ITEMS (Data Entry)'!E\",IFERROR(SUM(MATCH(A80,'UNITCOST ITEMS (Data Entry)'!$A$3:$A$504,0),2),\"\"))),\"\")=0,\"\",IFERROR(INDIRECT(CONCATENATE(\"'UNITCOST ITEMS (Data Entry)'!E\",IFERROR(SUM(MATCH(A80,'UNITCOST ITEMS (Data Entry)'!$A$3:$A$504,0),2),\"\"))),\"\"))","v":""},null,{"$f":"IF(IFERROR(INDIRECT(CONCATENATE(\"'UNITCOST ITEMS (Data Entry)'!F\",IFERROR(SUM(MATCH(A80,'UNITCOST ITEMS (Data Entry)'!$A$3:$A$504,0),2),\"\"))),\"\")=0,\"\",IFERROR(INDIRECT(CONCATENATE(\"'UNITCOST ITEMS (Data Entry)'!F\",IFERROR(SUM(MATCH(A80,'UNITCOST ITEMS (Data Entry)'!$A$3:$A$504,0),2),\"\"))),\"\"))","v":""},{"$f":"IF(IFERROR(INDIRECT(CONCATENATE(\"'UNITCOST ITEMS (Data Entry)'!G\",IFERROR(SUM(MATCH(A80,'UNITCOST ITEMS (Data Entry)'!$A$3:$A$504,0),2),\"\"))),\"\")=0,\"\",IFERROR(INDIRECT(CONCATENATE(\"'UNITCOST ITEMS (Data Entry)'!G\",IFERROR(SUM(MATCH(A80,'UNITCOST ITEMS (Data Entry)'!$A$3:$A$504,0),2),\"\"))),\"\"))","v":""},{"$f":"IF(IFERROR(INDIRECT(CONCATENATE(\"'UNITCOST ITEMS (Data Entry)'!H\",IFERROR(SUM(MATCH(A80,'UNITCOST ITEMS (Data Entry)'!$A$3:$A$504,0),2),\"\"))),\"\")=0,\"\",IFERROR(INDIRECT(CONCATENATE(\"'UNITCOST ITEMS (Data Entry)'!H\",IFERROR(SUM(MATCH(A80,'UNITCOST ITEMS (Data Entry)'!$A$3:$A$504,0),2),\"\"))),\"\"))","v":""},{"$f":"IF(IFERROR(INDIRECT(CONCATENATE(\"'UNITCOST ITEMS (Data Entry)'!I\",IFERROR(SUM(MATCH(A80,'UNITCOST ITEMS (Data Entry)'!$A$3:$A$504,0),2),\"\"))),\"\")=0,\"\",IFERROR(INDIRECT(CONCATENATE(\"'UNITCOST ITEMS (Data Entry)'!I\",IFERROR(SUM(MATCH(A80,'UNITCOST ITEMS (Data Entry)'!$A$3:$A$504,0),2),\"\"))),\"\"))","v":""},{"$f":"IF(K80=2,\"\",IF(IFERROR(INDIRECT(CONCATENATE(\"'UNITCOST ITEMS (Data Entry)'!J\",IFERROR(SUM(MATCH(A80,'UNITCOST ITEMS (Data Entry)'!$A$3:$A$504,0),2),\"\"))),\"\")=0,\"\",IFERROR(INDIRECT(CONCATENATE(\"'UNITCOST ITEMS (Data Entry)'!J\",IFERROR(SUM(MATCH(A80,'UNITCOST ITEMS (Data Entry)'!$A$3:$A$504,0),2),\"\"))),\"\")))","v":""},null,{"$f":"IF(IFERROR(INDIRECT(CONCATENATE(\"'UNITCOST ITEMS (Data Entry)'!C\",IFERROR(SUM(MATCH(A80,'UNITCOST ITEMS (Data Entry)'!$A$3:$A$504,0),2),\"\"))),\"\")=0,\"\",IFERROR(INDIRECT(CONCATENATE(\"'UNITCOST ITEMS (Data Entry)'!C\",IFERROR(SUM(MATCH(A80,'UNITCOST ITEMS (Data Entry)'!$A$3:$A$504,0),2),\"\"))),\"\"))","v":""},""]
[73,{"$f":"IF(IFERROR(INDIRECT(CONCATENATE(\"'UNITCOST ITEMS (Data Entry)'!D\",IFERROR(SUM(MATCH(A81,'UNITCOST ITEMS (Data Entry)'!$A$3:$A$504,0),2),\"\"))),\"\")=0,\"\",IFERROR(INDIRECT(CONCATENATE(\"'UNITCOST ITEMS (Data Entry)'!D\",IFERROR(SUM(MATCH(A81,'UNITCOST ITEMS (Data Entry)'!$A$3:$A$504,0),2),\"\"))),\"\"))","v":""},{"$f":"IF(IFERROR(INDIRECT(CONCATENATE(\"'UNITCOST ITEMS (Data Entry)'!E\",IFERROR(SUM(MATCH(A81,'UNITCOST ITEMS (Data Entry)'!$A$3:$A$504,0),2),\"\"))),\"\")=0,\"\",IFERROR(INDIRECT(CONCATENATE(\"'UNITCOST ITEMS (Data Entry)'!E\",IFERROR(SUM(MATCH(A81,'UNITCOST ITEMS (Data Entry)'!$A$3:$A$504,0),2),\"\"))),\"\"))","v":""},null,{"$f":"IF(IFERROR(INDIRECT(CONCATENATE(\"'UNITCOST ITEMS (Data Entry)'!F\",IFERROR(SUM(MATCH(A81,'UNITCOST ITEMS (Data Entry)'!$A$3:$A$504,0),2),\"\"))),\"\")=0,\"\",IFERROR(INDIRECT(CONCATENATE(\"'UNITCOST ITEMS (Data Entry)'!F\",IFERROR(SUM(MATCH(A81,'UNITCOST ITEMS (Data Entry)'!$A$3:$A$504,0),2),\"\"))),\"\"))","v":""},{"$f":"IF(IFERROR(INDIRECT(CONCATENATE(\"'UNITCOST ITEMS (Data Entry)'!G\",IFERROR(SUM(MATCH(A81,'UNITCOST ITEMS (Data Entry)'!$A$3:$A$504,0),2),\"\"))),\"\")=0,\"\",IFERROR(INDIRECT(CONCATENATE(\"'UNITCOST ITEMS (Data Entry)'!G\",IFERROR(SUM(MATCH(A81,'UNITCOST ITEMS (Data Entry)'!$A$3:$A$504,0),2),\"\"))),\"\"))","v":""},{"$f":"IF(IFERROR(INDIRECT(CONCATENATE(\"'UNITCOST ITEMS (Data Entry)'!H\",IFERROR(SUM(MATCH(A81,'UNITCOST ITEMS (Data Entry)'!$A$3:$A$504,0),2),\"\"))),\"\")=0,\"\",IFERROR(INDIRECT(CONCATENATE(\"'UNITCOST ITEMS (Data Entry)'!H\",IFERROR(SUM(MATCH(A81,'UNITCOST ITEMS (Data Entry)'!$A$3:$A$504,0),2),\"\"))),\"\"))","v":""},{"$f":"IF(IFERROR(INDIRECT(CONCATENATE(\"'UNITCOST ITEMS (Data Entry)'!I\",IFERROR(SUM(MATCH(A81,'UNITCOST ITEMS (Data Entry)'!$A$3:$A$504,0),2),\"\"))),\"\")=0,\"\",IFERROR(INDIRECT(CONCATENATE(\"'UNITCOST ITEMS (Data Entry)'!I\",IFERROR(SUM(MATCH(A81,'UNITCOST ITEMS (Data Entry)'!$A$3:$A$504,0),2),\"\"))),\"\"))","v":""},{"$f":"IF(K81=2,\"\",IF(IFERROR(INDIRECT(CONCATENATE(\"'UNITCOST ITEMS (Data Entry)'!J\",IFERROR(SUM(MATCH(A81,'UNITCOST ITEMS (Data Entry)'!$A$3:$A$504,0),2),\"\"))),\"\")=0,\"\",IFERROR(INDIRECT(CONCATENATE(\"'UNITCOST ITEMS (Data Entry)'!J\",IFERROR(SUM(MATCH(A81,'UNITCOST ITEMS (Data Entry)'!$A$3:$A$504,0),2),\"\"))),\"\")))","v":""},null,{"$f":"IF(IFERROR(INDIRECT(CONCATENATE(\"'UNITCOST ITEMS (Data Entry)'!C\",IFERROR(SUM(MATCH(A81,'UNITCOST ITEMS (Data Entry)'!$A$3:$A$504,0),2),\"\"))),\"\")=0,\"\",IFERROR(INDIRECT(CONCATENATE(\"'UNITCOST ITEMS (Data Entry)'!C\",IFERROR(SUM(MATCH(A81,'UNITCOST ITEMS (Data Entry)'!$A$3:$A$504,0),2),\"\"))),\"\"))","v":""},""]
[74,{"$f":"IF(IFERROR(INDIRECT(CONCATENATE(\"'UNITCOST ITEMS (Data Entry)'!D\",IFERROR(SUM(MATCH(A82,'UNITCOST ITEMS (Data Entry)'!$A$3:$A$504,0),2),\"\"))),\"\")=0,\"\",IFERROR(INDIRECT(CONCATENATE(\"'UNITCOST ITEMS (Data Entry)'!D\",IFERROR(SUM(MATCH(A82,'UNITCOST ITEMS (Data Entry)'!$A$3:$A$504,0),2),\"\"))),\"\"))","v":""},{"$f":"IF(IFERROR(INDIRECT(CONCATENATE(\"'UNITCOST ITEMS (Data Entry)'!E\",IFERROR(SUM(MATCH(A82,'UNITCOST ITEMS (Data Entry)'!$A$3:$A$504,0),2),\"\"))),\"\")=0,\"\",IFERROR(INDIRECT(CONCATENATE(\"'UNITCOST ITEMS (Data Entry)'!E\",IFERROR(SUM(MATCH(A82,'UNITCOST ITEMS (Data Entry)'!$A$3:$A$504,0),2),\"\"))),\"\"))","v":""},null,{"$f":"IF(IFERROR(INDIRECT(CONCATENATE(\"'UNITCOST ITEMS (Data Entry)'!F\",IFERROR(SUM(MATCH(A82,'UNITCOST ITEMS (Data Entry)'!$A$3:$A$504,0),2),\"\"))),\"\")=0,\"\",IFERROR(INDIRECT(CONCATENATE(\"'UNITCOST ITEMS (Data Entry)'!F\",IFERROR(SUM(MATCH(A82,'UNITCOST ITEMS (Data Entry)'!$A$3:$A$504,0),2),\"\"))),\"\"))","v":""},{"$f":"IF(IFERROR(INDIRECT(CONCATENATE(\"'UNITCOST ITEMS (Data Entry)'!G\",IFERROR(SUM(MATCH(A82,'UNITCOST ITEMS (Data Entry)'!$A$3:$A$504,0),2),\"\"))),\"\")=0,\"\",IFERROR(INDIRECT(CONCATENATE(\"'UNITCOST ITEMS (Data Entry)'!G\",IFERROR(SUM(MATCH(A82,'UNITCOST ITEMS (Data Entry)'!$A$3:$A$504,0),2),\"\"))),\"\"))","v":""},{"$f":"IF(IFERROR(INDIRECT(CONCATENATE(\"'UNITCOST ITEMS (Data Entry)'!H\",IFERROR(SUM(MATCH(A82,'UNITCOST ITEMS (Data Entry)'!$A$3:$A$504,0),2),\"\"))),\"\")=0,\"\",IFERROR(INDIRECT(CONCATENATE(\"'UNITCOST ITEMS (Data Entry)'!H\",IFERROR(SUM(MATCH(A82,'UNITCOST ITEMS (Data Entry)'!$A$3:$A$504,0),2),\"\"))),\"\"))","v":""},{"$f":"IF(IFERROR(INDIRECT(CONCATENATE(\"'UNITCOST ITEMS (Data Entry)'!I\",IFERROR(SUM(MATCH(A82,'UNITCOST ITEMS (Data Entry)'!$A$3:$A$504,0),2),\"\"))),\"\")=0,\"\",IFERROR(INDIRECT(CONCATENATE(\"'UNITCOST ITEMS (Data Entry)'!I\",IFERROR(SUM(MATCH(A82,'UNITCOST ITEMS (Data Entry)'!$A$3:$A$504,0),2),\"\"))),\"\"))","v":""},{"$f":"IF(K82=2,\"\",IF(IFERROR(INDIRECT(CONCATENATE(\"'UNITCOST ITEMS (Data Entry)'!J\",IFERROR(SUM(MATCH(A82,'UNITCOST ITEMS (Data Entry)'!$A$3:$A$504,0),2),\"\"))),\"\")=0,\"\",IFERROR(INDIRECT(CONCATENATE(\"'UNITCOST ITEMS (Data Entry)'!J\",IFERROR(SUM(MATCH(A82,'UNITCOST ITEMS (Data Entry)'!$A$3:$A$504,0),2),\"\"))),\"\")))","v":""},null,{"$f":"IF(IFERROR(INDIRECT(CONCATENATE(\"'UNITCOST ITEMS (Data Entry)'!C\",IFERROR(SUM(MATCH(A82,'UNITCOST ITEMS (Data Entry)'!$A$3:$A$504,0),2),\"\"))),\"\")=0,\"\",IFERROR(INDIRECT(CONCATENATE(\"'UNITCOST ITEMS (Data Entry)'!C\",IFERROR(SUM(MATCH(A82,'UNITCOST ITEMS (Data Entry)'!$A$3:$A$504,0),2),\"\"))),\"\"))","v":""},""]
[75,{"$f":"IF(IFERROR(INDIRECT(CONCATENATE(\"'UNITCOST ITEMS (Data Entry)'!D\",IFERROR(SUM(MATCH(A83,'UNITCOST ITEMS (Data Entry)'!$A$3:$A$504,0),2),\"\"))),\"\")=0,\"\",IFERROR(INDIRECT(CONCATENATE(\"'UNITCOST ITEMS (Data Entry)'!D\",IFERROR(SUM(MATCH(A83,'UNITCOST ITEMS (Data Entry)'!$A$3:$A$504,0),2),\"\"))),\"\"))","v":""},{"$f":"IF(IFERROR(INDIRECT(CONCATENATE(\"'UNITCOST ITEMS (Data Entry)'!E\",IFERROR(SUM(MATCH(A83,'UNITCOST ITEMS (Data Entry)'!$A$3:$A$504,0),2),\"\"))),\"\")=0,\"\",IFERROR(INDIRECT(CONCATENATE(\"'UNITCOST ITEMS (Data Entry)'!E\",IFERROR(SUM(MATCH(A83,'UNITCOST ITEMS (Data Entry)'!$A$3:$A$504,0),2),\"\"))),\"\"))","v":""},null,{"$f":"IF(IFERROR(INDIRECT(CONCATENATE(\"'UNITCOST ITEMS (Data Entry)'!F\",IFERROR(SUM(MATCH(A83,'UNITCOST ITEMS (Data Entry)'!$A$3:$A$504,0),2),\"\"))),\"\")=0,\"\",IFERROR(INDIRECT(CONCATENATE(\"'UNITCOST ITEMS (Data Entry)'!F\",IFERROR(SUM(MATCH(A83,'UNITCOST ITEMS (Data Entry)'!$A$3:$A$504,0),2),\"\"))),\"\"))","v":""},{"$f":"IF(IFERROR(INDIRECT(CONCATENATE(\"'UNITCOST ITEMS (Data Entry)'!G\",IFERROR(SUM(MATCH(A83,'UNITCOST ITEMS (Data Entry)'!$A$3:$A$504,0),2),\"\"))),\"\")=0,\"\",IFERROR(INDIRECT(CONCATENATE(\"'UNITCOST ITEMS (Data Entry)'!G\",IFERROR(SUM(MATCH(A83,'UNITCOST ITEMS (Data Entry)'!$A$3:$A$504,0),2),\"\"))),\"\"))","v":""},{"$f":"IF(IFERROR(INDIRECT(CONCATENATE(\"'UNITCOST ITEMS (Data Entry)'!H\",IFERROR(SUM(MATCH(A83,'UNITCOST ITEMS (Data Entry)'!$A$3:$A$504,0),2),\"\"))),\"\")=0,\"\",IFERROR(INDIRECT(CONCATENATE(\"'UNITCOST ITEMS (Data Entry)'!H\",IFERROR(SUM(MATCH(A83,'UNITCOST ITEMS (Data Entry)'!$A$3:$A$504,0),2),\"\"))),\"\"))","v":""},{"$f":"IF(IFERROR(INDIRECT(CONCATENATE(\"'UNITCOST ITEMS (Data Entry)'!I\",IFERROR(SUM(MATCH(A83,'UNITCOST ITEMS (Data Entry)'!$A$3:$A$504,0),2),\"\"))),\"\")=0,\"\",IFERROR(INDIRECT(CONCATENATE(\"'UNITCOST ITEMS (Data Entry)'!I\",IFERROR(SUM(MATCH(A83,'UNITCOST ITEMS (Data Entry)'!$A$3:$A$504,0),2),\"\"))),\"\"))","v":""},{"$f":"IF(K83=2,\"\",IF(IFERROR(INDIRECT(CONCATENATE(\"'UNITCOST ITEMS (Data Entry)'!J\",IFERROR(SUM(MATCH(A83,'UNITCOST ITEMS (Data Entry)'!$A$3:$A$504,0),2),\"\"))),\"\")=0,\"\",IFERROR(INDIRECT(CONCATENATE(\"'UNITCOST ITEMS (Data Entry)'!J\",IFERROR(SUM(MATCH(A83,'UNITCOST ITEMS (Data Entry)'!$A$3:$A$504,0),2),\"\"))),\"\")))","v":""},null,{"$f":"IF(IFERROR(INDIRECT(CONCATENATE(\"'UNITCOST ITEMS (Data Entry)'!C\",IFERROR(SUM(MATCH(A83,'UNITCOST ITEMS (Data Entry)'!$A$3:$A$504,0),2),\"\"))),\"\")=0,\"\",IFERROR(INDIRECT(CONCATENATE(\"'UNITCOST ITEMS (Data Entry)'!C\",IFERROR(SUM(MATCH(A83,'UNITCOST ITEMS (Data Entry)'!$A$3:$A$504,0),2),\"\"))),\"\"))","v":""},""]
[76,{"$f":"IF(IFERROR(INDIRECT(CONCATENATE(\"'UNITCOST ITEMS (Data Entry)'!D\",IFERROR(SUM(MATCH(A84,'UNITCOST ITEMS (Data Entry)'!$A$3:$A$504,0),2),\"\"))),\"\")=0,\"\",IFERROR(INDIRECT(CONCATENATE(\"'UNITCOST ITEMS (Data Entry)'!D\",IFERROR(SUM(MATCH(A84,'UNITCOST ITEMS (Data Entry)'!$A$3:$A$504,0),2),\"\"))),\"\"))","v":""},{"$f":"IF(IFERROR(INDIRECT(CONCATENATE(\"'UNITCOST ITEMS (Data Entry)'!E\",IFERROR(SUM(MATCH(A84,'UNITCOST ITEMS (Data Entry)'!$A$3:$A$504,0),2),\"\"))),\"\")=0,\"\",IFERROR(INDIRECT(CONCATENATE(\"'UNITCOST ITEMS (Data Entry)'!E\",IFERROR(SUM(MATCH(A84,'UNITCOST ITEMS (Data Entry)'!$A$3:$A$504,0),2),\"\"))),\"\"))","v":""},null,{"$f":"IF(IFERROR(INDIRECT(CONCATENATE(\"'UNITCOST ITEMS (Data Entry)'!F\",IFERROR(SUM(MATCH(A84,'UNITCOST ITEMS (Data Entry)'!$A$3:$A$504,0),2),\"\"))),\"\")=0,\"\",IFERROR(INDIRECT(CONCATENATE(\"'UNITCOST ITEMS (Data Entry)'!F\",IFERROR(SUM(MATCH(A84,'UNITCOST ITEMS (Data Entry)'!$A$3:$A$504,0),2),\"\"))),\"\"))","v":""},{"$f":"IF(IFERROR(INDIRECT(CONCATENATE(\"'UNITCOST ITEMS (Data Entry)'!G\",IFERROR(SUM(MATCH(A84,'UNITCOST ITEMS (Data Entry)'!$A$3:$A$504,0),2),\"\"))),\"\")=0,\"\",IFERROR(INDIRECT(CONCATENATE(\"'UNITCOST ITEMS (Data Entry)'!G\",IFERROR(SUM(MATCH(A84,'UNITCOST ITEMS (Data Entry)'!$A$3:$A$504,0),2),\"\"))),\"\"))","v":""},{"$f":"IF(IFERROR(INDIRECT(CONCATENATE(\"'UNITCOST ITEMS (Data Entry)'!H\",IFERROR(SUM(MATCH(A84,'UNITCOST ITEMS (Data Entry)'!$A$3:$A$504,0),2),\"\"))),\"\")=0,\"\",IFERROR(INDIRECT(CONCATENATE(\"'UNITCOST ITEMS (Data Entry)'!H\",IFERROR(SUM(MATCH(A84,'UNITCOST ITEMS (Data Entry)'!$A$3:$A$504,0),2),\"\"))),\"\"))","v":""},{"$f":"IF(IFERROR(INDIRECT(CONCATENATE(\"'UNITCOST ITEMS (Data Entry)'!I\",IFERROR(SUM(MATCH(A84,'UNITCOST ITEMS (Data Entry)'!$A$3:$A$504,0),2),\"\"))),\"\")=0,\"\",IFERROR(INDIRECT(CONCATENATE(\"'UNITCOST ITEMS (Data Entry)'!I\",IFERROR(SUM(MATCH(A84,'UNITCOST ITEMS (Data Entry)'!$A$3:$A$504,0),2),\"\"))),\"\"))","v":""},{"$f":"IF(K84=2,\"\",IF(IFERROR(INDIRECT(CONCATENATE(\"'UNITCOST ITEMS (Data Entry)'!J\",IFERROR(SUM(MATCH(A84,'UNITCOST ITEMS (Data Entry)'!$A$3:$A$504,0),2),\"\"))),\"\")=0,\"\",IFERROR(INDIRECT(CONCATENATE(\"'UNITCOST ITEMS (Data Entry)'!J\",IFERROR(SUM(MATCH(A84,'UNITCOST ITEMS (Data Entry)'!$A$3:$A$504,0),2),\"\"))),\"\")))","v":""},null,{"$f":"IF(IFERROR(INDIRECT(CONCATENATE(\"'UNITCOST ITEMS (Data Entry)'!C\",IFERROR(SUM(MATCH(A84,'UNITCOST ITEMS (Data Entry)'!$A$3:$A$504,0),2),\"\"))),\"\")=0,\"\",IFERROR(INDIRECT(CONCATENATE(\"'UNITCOST ITEMS (Data Entry)'!C\",IFERROR(SUM(MATCH(A84,'UNITCOST ITEMS (Data Entry)'!$A$3:$A$504,0),2),\"\"))),\"\"))","v":""},""]
[77,{"$f":"IF(IFERROR(INDIRECT(CONCATENATE(\"'UNITCOST ITEMS (Data Entry)'!D\",IFERROR(SUM(MATCH(A85,'UNITCOST ITEMS (Data Entry)'!$A$3:$A$504,0),2),\"\"))),\"\")=0,\"\",IFERROR(INDIRECT(CONCATENATE(\"'UNITCOST ITEMS (Data Entry)'!D\",IFERROR(SUM(MATCH(A85,'UNITCOST ITEMS (Data Entry)'!$A$3:$A$504,0),2),\"\"))),\"\"))","v":""},{"$f":"IF(IFERROR(INDIRECT(CONCATENATE(\"'UNITCOST ITEMS (Data Entry)'!E\",IFERROR(SUM(MATCH(A85,'UNITCOST ITEMS (Data Entry)'!$A$3:$A$504,0),2),\"\"))),\"\")=0,\"\",IFERROR(INDIRECT(CONCATENATE(\"'UNITCOST ITEMS (Data Entry)'!E\",IFERROR(SUM(MATCH(A85,'UNITCOST ITEMS (Data Entry)'!$A$3:$A$504,0),2),\"\"))),\"\"))","v":""},null,{"$f":"IF(IFERROR(INDIRECT(CONCATENATE(\"'UNITCOST ITEMS (Data Entry)'!F\",IFERROR(SUM(MATCH(A85,'UNITCOST ITEMS (Data Entry)'!$A$3:$A$504,0),2),\"\"))),\"\")=0,\"\",IFERROR(INDIRECT(CONCATENATE(\"'UNITCOST ITEMS (Data Entry)'!F\",IFERROR(SUM(MATCH(A85,'UNITCOST ITEMS (Data Entry)'!$A$3:$A$504,0),2),\"\"))),\"\"))","v":""},{"$f":"IF(IFERROR(INDIRECT(CONCATENATE(\"'UNITCOST ITEMS (Data Entry)'!G\",IFERROR(SUM(MATCH(A85,'UNITCOST ITEMS (Data Entry)'!$A$3:$A$504,0),2),\"\"))),\"\")=0,\"\",IFERROR(INDIRECT(CONCATENATE(\"'UNITCOST ITEMS (Data Entry)'!G\",IFERROR(SUM(MATCH(A85,'UNITCOST ITEMS (Data Entry)'!$A$3:$A$504,0),2),\"\"))),\"\"))","v":""},{"$f":"IF(IFERROR(INDIRECT(CONCATENATE(\"'UNITCOST ITEMS (Data Entry)'!H\",IFERROR(SUM(MATCH(A85,'UNITCOST ITEMS (Data Entry)'!$A$3:$A$504,0),2),\"\"))),\"\")=0,\"\",IFERROR(INDIRECT(CONCATENATE(\"'UNITCOST ITEMS (Data Entry)'!H\",IFERROR(SUM(MATCH(A85,'UNITCOST ITEMS (Data Entry)'!$A$3:$A$504,0),2),\"\"))),\"\"))","v":""},{"$f":"IF(IFERROR(INDIRECT(CONCATENATE(\"'UNITCOST ITEMS (Data Entry)'!I\",IFERROR(SUM(MATCH(A85,'UNITCOST ITEMS (Data Entry)'!$A$3:$A$504,0),2),\"\"))),\"\")=0,\"\",IFERROR(INDIRECT(CONCATENATE(\"'UNITCOST ITEMS (Data Entry)'!I\",IFERROR(SUM(MATCH(A85,'UNITCOST ITEMS (Data Entry)'!$A$3:$A$504,0),2),\"\"))),\"\"))","v":""},{"$f":"IF(K85=2,\"\",IF(IFERROR(INDIRECT(CONCATENATE(\"'UNITCOST ITEMS (Data Entry)'!J\",IFERROR(SUM(MATCH(A85,'UNITCOST ITEMS (Data Entry)'!$A$3:$A$504,0),2),\"\"))),\"\")=0,\"\",IFERROR(INDIRECT(CONCATENATE(\"'UNITCOST ITEMS (Data Entry)'!J\",IFERROR(SUM(MATCH(A85,'UNITCOST ITEMS (Data Entry)'!$A$3:$A$504,0),2),\"\"))),\"\")))","v":""},null,{"$f":"IF(IFERROR(INDIRECT(CONCATENATE(\"'UNITCOST ITEMS (Data Entry)'!C\",IFERROR(SUM(MATCH(A85,'UNITCOST ITEMS (Data Entry)'!$A$3:$A$504,0),2),\"\"))),\"\")=0,\"\",IFERROR(INDIRECT(CONCATENATE(\"'UNITCOST ITEMS (Data Entry)'!C\",IFERROR(SUM(MATCH(A85,'UNITCOST ITEMS (Data Entry)'!$A$3:$A$504,0),2),\"\"))),\"\"))","v":""},""]
[78,{"$f":"IF(IFERROR(INDIRECT(CONCATENATE(\"'UNITCOST ITEMS (Data Entry)'!D\",IFERROR(SUM(MATCH(A86,'UNITCOST ITEMS (Data Entry)'!$A$3:$A$504,0),2),\"\"))),\"\")=0,\"\",IFERROR(INDIRECT(CONCATENATE(\"'UNITCOST ITEMS (Data Entry)'!D\",IFERROR(SUM(MATCH(A86,'UNITCOST ITEMS (Data Entry)'!$A$3:$A$504,0),2),\"\"))),\"\"))","v":""},{"$f":"IF(IFERROR(INDIRECT(CONCATENATE(\"'UNITCOST ITEMS (Data Entry)'!E\",IFERROR(SUM(MATCH(A86,'UNITCOST ITEMS (Data Entry)'!$A$3:$A$504,0),2),\"\"))),\"\")=0,\"\",IFERROR(INDIRECT(CONCATENATE(\"'UNITCOST ITEMS (Data Entry)'!E\",IFERROR(SUM(MATCH(A86,'UNITCOST ITEMS (Data Entry)'!$A$3:$A$504,0),2),\"\"))),\"\"))","v":""},null,{"$f":"IF(IFERROR(INDIRECT(CONCATENATE(\"'UNITCOST ITEMS (Data Entry)'!F\",IFERROR(SUM(MATCH(A86,'UNITCOST ITEMS (Data Entry)'!$A$3:$A$504,0),2),\"\"))),\"\")=0,\"\",IFERROR(INDIRECT(CONCATENATE(\"'UNITCOST ITEMS (Data Entry)'!F\",IFERROR(SUM(MATCH(A86,'UNITCOST ITEMS (Data Entry)'!$A$3:$A$504,0),2),\"\"))),\"\"))","v":""},{"$f":"IF(IFERROR(INDIRECT(CONCATENATE(\"'UNITCOST ITEMS (Data Entry)'!G\",IFERROR(SUM(MATCH(A86,'UNITCOST ITEMS (Data Entry)'!$A$3:$A$504,0),2),\"\"))),\"\")=0,\"\",IFERROR(INDIRECT(CONCATENATE(\"'UNITCOST ITEMS (Data Entry)'!G\",IFERROR(SUM(MATCH(A86,'UNITCOST ITEMS (Data Entry)'!$A$3:$A$504,0),2),\"\"))),\"\"))","v":""},{"$f":"IF(IFERROR(INDIRECT(CONCATENATE(\"'UNITCOST ITEMS (Data Entry)'!H\",IFERROR(SUM(MATCH(A86,'UNITCOST ITEMS (Data Entry)'!$A$3:$A$504,0),2),\"\"))),\"\")=0,\"\",IFERROR(INDIRECT(CONCATENATE(\"'UNITCOST ITEMS (Data Entry)'!H\",IFERROR(SUM(MATCH(A86,'UNITCOST ITEMS (Data Entry)'!$A$3:$A$504,0),2),\"\"))),\"\"))","v":""},{"$f":"IF(IFERROR(INDIRECT(CONCATENATE(\"'UNITCOST ITEMS (Data Entry)'!I\",IFERROR(SUM(MATCH(A86,'UNITCOST ITEMS (Data Entry)'!$A$3:$A$504,0),2),\"\"))),\"\")=0,\"\",IFERROR(INDIRECT(CONCATENATE(\"'UNITCOST ITEMS (Data Entry)'!I\",IFERROR(SUM(MATCH(A86,'UNITCOST ITEMS (Data Entry)'!$A$3:$A$504,0),2),\"\"))),\"\"))","v":""},{"$f":"IF(K86=2,\"\",IF(IFERROR(INDIRECT(CONCATENATE(\"'UNITCOST ITEMS (Data Entry)'!J\",IFERROR(SUM(MATCH(A86,'UNITCOST ITEMS (Data Entry)'!$A$3:$A$504,0),2),\"\"))),\"\")=0,\"\",IFERROR(INDIRECT(CONCATENATE(\"'UNITCOST ITEMS (Data Entry)'!J\",IFERROR(SUM(MATCH(A86,'UNITCOST ITEMS (Data Entry)'!$A$3:$A$504,0),2),\"\"))),\"\")))","v":""},null,{"$f":"IF(IFERROR(INDIRECT(CONCATENATE(\"'UNITCOST ITEMS (Data Entry)'!C\",IFERROR(SUM(MATCH(A86,'UNITCOST ITEMS (Data Entry)'!$A$3:$A$504,0),2),\"\"))),\"\")=0,\"\",IFERROR(INDIRECT(CONCATENATE(\"'UNITCOST ITEMS (Data Entry)'!C\",IFERROR(SUM(MATCH(A86,'UNITCOST ITEMS (Data Entry)'!$A$3:$A$504,0),2),\"\"))),\"\"))","v":""},""]
[79,{"$f":"IF(IFERROR(INDIRECT(CONCATENATE(\"'UNITCOST ITEMS (Data Entry)'!D\",IFERROR(SUM(MATCH(A87,'UNITCOST ITEMS (Data Entry)'!$A$3:$A$504,0),2),\"\"))),\"\")=0,\"\",IFERROR(INDIRECT(CONCATENATE(\"'UNITCOST ITEMS (Data Entry)'!D\",IFERROR(SUM(MATCH(A87,'UNITCOST ITEMS (Data Entry)'!$A$3:$A$504,0),2),\"\"))),\"\"))","v":""},{"$f":"IF(IFERROR(INDIRECT(CONCATENATE(\"'UNITCOST ITEMS (Data Entry)'!E\",IFERROR(SUM(MATCH(A87,'UNITCOST ITEMS (Data Entry)'!$A$3:$A$504,0),2),\"\"))),\"\")=0,\"\",IFERROR(INDIRECT(CONCATENATE(\"'UNITCOST ITEMS (Data Entry)'!E\",IFERROR(SUM(MATCH(A87,'UNITCOST ITEMS (Data Entry)'!$A$3:$A$504,0),2),\"\"))),\"\"))","v":""},null,{"$f":"IF(IFERROR(INDIRECT(CONCATENATE(\"'UNITCOST ITEMS (Data Entry)'!F\",IFERROR(SUM(MATCH(A87,'UNITCOST ITEMS (Data Entry)'!$A$3:$A$504,0),2),\"\"))),\"\")=0,\"\",IFERROR(INDIRECT(CONCATENATE(\"'UNITCOST ITEMS (Data Entry)'!F\",IFERROR(SUM(MATCH(A87,'UNITCOST ITEMS (Data Entry)'!$A$3:$A$504,0),2),\"\"))),\"\"))","v":""},{"$f":"IF(IFERROR(INDIRECT(CONCATENATE(\"'UNITCOST ITEMS (Data Entry)'!G\",IFERROR(SUM(MATCH(A87,'UNITCOST ITEMS (Data Entry)'!$A$3:$A$504,0),2),\"\"))),\"\")=0,\"\",IFERROR(INDIRECT(CONCATENATE(\"'UNITCOST ITEMS (Data Entry)'!G\",IFERROR(SUM(MATCH(A87,'UNITCOST ITEMS (Data Entry)'!$A$3:$A$504,0),2),\"\"))),\"\"))","v":""},{"$f":"IF(IFERROR(INDIRECT(CONCATENATE(\"'UNITCOST ITEMS (Data Entry)'!H\",IFERROR(SUM(MATCH(A87,'UNITCOST ITEMS (Data Entry)'!$A$3:$A$504,0),2),\"\"))),\"\")=0,\"\",IFERROR(INDIRECT(CONCATENATE(\"'UNITCOST ITEMS (Data Entry)'!H\",IFERROR(SUM(MATCH(A87,'UNITCOST ITEMS (Data Entry)'!$A$3:$A$504,0),2),\"\"))),\"\"))","v":""},{"$f":"IF(IFERROR(INDIRECT(CONCATENATE(\"'UNITCOST ITEMS (Data Entry)'!I\",IFERROR(SUM(MATCH(A87,'UNITCOST ITEMS (Data Entry)'!$A$3:$A$504,0),2),\"\"))),\"\")=0,\"\",IFERROR(INDIRECT(CONCATENATE(\"'UNITCOST ITEMS (Data Entry)'!I\",IFERROR(SUM(MATCH(A87,'UNITCOST ITEMS (Data Entry)'!$A$3:$A$504,0),2),\"\"))),\"\"))","v":""},{"$f":"IF(K87=2,\"\",IF(IFERROR(INDIRECT(CONCATENATE(\"'UNITCOST ITEMS (Data Entry)'!J\",IFERROR(SUM(MATCH(A87,'UNITCOST ITEMS (Data Entry)'!$A$3:$A$504,0),2),\"\"))),\"\")=0,\"\",IFERROR(INDIRECT(CONCATENATE(\"'UNITCOST ITEMS (Data Entry)'!J\",IFERROR(SUM(MATCH(A87,'UNITCOST ITEMS (Data Entry)'!$A$3:$A$504,0),2),\"\"))),\"\")))","v":""},null,{"$f":"IF(IFERROR(INDIRECT(CONCATENATE(\"'UNITCOST ITEMS (Data Entry)'!C\",IFERROR(SUM(MATCH(A87,'UNITCOST ITEMS (Data Entry)'!$A$3:$A$504,0),2),\"\"))),\"\")=0,\"\",IFERROR(INDIRECT(CONCATENATE(\"'UNITCOST ITEMS (Data Entry)'!C\",IFERROR(SUM(MATCH(A87,'UNITCOST ITEMS (Data Entry)'!$A$3:$A$504,0),2),\"\"))),\"\"))","v":""},""]
[80,{"$f":"IF(IFERROR(INDIRECT(CONCATENATE(\"'UNITCOST ITEMS (Data Entry)'!D\",IFERROR(SUM(MATCH(A88,'UNITCOST ITEMS (Data Entry)'!$A$3:$A$504,0),2),\"\"))),\"\")=0,\"\",IFERROR(INDIRECT(CONCATENATE(\"'UNITCOST ITEMS (Data Entry)'!D\",IFERROR(SUM(MATCH(A88,'UNITCOST ITEMS (Data Entry)'!$A$3:$A$504,0),2),\"\"))),\"\"))","v":""},{"$f":"IF(IFERROR(INDIRECT(CONCATENATE(\"'UNITCOST ITEMS (Data Entry)'!E\",IFERROR(SUM(MATCH(A88,'UNITCOST ITEMS (Data Entry)'!$A$3:$A$504,0),2),\"\"))),\"\")=0,\"\",IFERROR(INDIRECT(CONCATENATE(\"'UNITCOST ITEMS (Data Entry)'!E\",IFERROR(SUM(MATCH(A88,'UNITCOST ITEMS (Data Entry)'!$A$3:$A$504,0),2),\"\"))),\"\"))","v":""},null,{"$f":"IF(IFERROR(INDIRECT(CONCATENATE(\"'UNITCOST ITEMS (Data Entry)'!F\",IFERROR(SUM(MATCH(A88,'UNITCOST ITEMS (Data Entry)'!$A$3:$A$504,0),2),\"\"))),\"\")=0,\"\",IFERROR(INDIRECT(CONCATENATE(\"'UNITCOST ITEMS (Data Entry)'!F\",IFERROR(SUM(MATCH(A88,'UNITCOST ITEMS (Data Entry)'!$A$3:$A$504,0),2),\"\"))),\"\"))","v":""},{"$f":"IF(IFERROR(INDIRECT(CONCATENATE(\"'UNITCOST ITEMS (Data Entry)'!G\",IFERROR(SUM(MATCH(A88,'UNITCOST ITEMS (Data Entry)'!$A$3:$A$504,0),2),\"\"))),\"\")=0,\"\",IFERROR(INDIRECT(CONCATENATE(\"'UNITCOST ITEMS (Data Entry)'!G\",IFERROR(SUM(MATCH(A88,'UNITCOST ITEMS (Data Entry)'!$A$3:$A$504,0),2),\"\"))),\"\"))","v":""},{"$f":"IF(IFERROR(INDIRECT(CONCATENATE(\"'UNITCOST ITEMS (Data Entry)'!H\",IFERROR(SUM(MATCH(A88,'UNITCOST ITEMS (Data Entry)'!$A$3:$A$504,0),2),\"\"))),\"\")=0,\"\",IFERROR(INDIRECT(CONCATENATE(\"'UNITCOST ITEMS (Data Entry)'!H\",IFERROR(SUM(MATCH(A88,'UNITCOST ITEMS (Data Entry)'!$A$3:$A$504,0),2),\"\"))),\"\"))","v":""},{"$f":"IF(IFERROR(INDIRECT(CONCATENATE(\"'UNITCOST ITEMS (Data Entry)'!I\",IFERROR(SUM(MATCH(A88,'UNITCOST ITEMS (Data Entry)'!$A$3:$A$504,0),2),\"\"))),\"\")=0,\"\",IFERROR(INDIRECT(CONCATENATE(\"'UNITCOST ITEMS (Data Entry)'!I\",IFERROR(SUM(MATCH(A88,'UNITCOST ITEMS (Data Entry)'!$A$3:$A$504,0),2),\"\"))),\"\"))","v":""},{"$f":"IF(K88=2,\"\",IF(IFERROR(INDIRECT(CONCATENATE(\"'UNITCOST ITEMS (Data Entry)'!J\",IFERROR(SUM(MATCH(A88,'UNITCOST ITEMS (Data Entry)'!$A$3:$A$504,0),2),\"\"))),\"\")=0,\"\",IFERROR(INDIRECT(CONCATENATE(\"'UNITCOST ITEMS (Data Entry)'!J\",IFERROR(SUM(MATCH(A88,'UNITCOST ITEMS (Data Entry)'!$A$3:$A$504,0),2),\"\"))),\"\")))","v":""},null,{"$f":"IF(IFERROR(INDIRECT(CONCATENATE(\"'UNITCOST ITEMS (Data Entry)'!C\",IFERROR(SUM(MATCH(A88,'UNITCOST ITEMS (Data Entry)'!$A$3:$A$504,0),2),\"\"))),\"\")=0,\"\",IFERROR(INDIRECT(CONCATENATE(\"'UNITCOST ITEMS (Data Entry)'!C\",IFERROR(SUM(MATCH(A88,'UNITCOST ITEMS (Data Entry)'!$A$3:$A$504,0),2),\"\"))),\"\"))","v":""},""]
[81,{"$f":"IF(IFERROR(INDIRECT(CONCATENATE(\"'UNITCOST ITEMS (Data Entry)'!D\",IFERROR(SUM(MATCH(A89,'UNITCOST ITEMS (Data Entry)'!$A$3:$A$504,0),2),\"\"))),\"\")=0,\"\",IFERROR(INDIRECT(CONCATENATE(\"'UNITCOST ITEMS (Data Entry)'!D\",IFERROR(SUM(MATCH(A89,'UNITCOST ITEMS (Data Entry)'!$A$3:$A$504,0),2),\"\"))),\"\"))","v":""},{"$f":"IF(IFERROR(INDIRECT(CONCATENATE(\"'UNITCOST ITEMS (Data Entry)'!E\",IFERROR(SUM(MATCH(A89,'UNITCOST ITEMS (Data Entry)'!$A$3:$A$504,0),2),\"\"))),\"\")=0,\"\",IFERROR(INDIRECT(CONCATENATE(\"'UNITCOST ITEMS (Data Entry)'!E\",IFERROR(SUM(MATCH(A89,'UNITCOST ITEMS (Data Entry)'!$A$3:$A$504,0),2),\"\"))),\"\"))","v":""},null,{"$f":"IF(IFERROR(INDIRECT(CONCATENATE(\"'UNITCOST ITEMS (Data Entry)'!F\",IFERROR(SUM(MATCH(A89,'UNITCOST ITEMS (Data Entry)'!$A$3:$A$504,0),2),\"\"))),\"\")=0,\"\",IFERROR(INDIRECT(CONCATENATE(\"'UNITCOST ITEMS (Data Entry)'!F\",IFERROR(SUM(MATCH(A89,'UNITCOST ITEMS (Data Entry)'!$A$3:$A$504,0),2),\"\"))),\"\"))","v":""},{"$f":"IF(IFERROR(INDIRECT(CONCATENATE(\"'UNITCOST ITEMS (Data Entry)'!G\",IFERROR(SUM(MATCH(A89,'UNITCOST ITEMS (Data Entry)'!$A$3:$A$504,0),2),\"\"))),\"\")=0,\"\",IFERROR(INDIRECT(CONCATENATE(\"'UNITCOST ITEMS (Data Entry)'!G\",IFERROR(SUM(MATCH(A89,'UNITCOST ITEMS (Data Entry)'!$A$3:$A$504,0),2),\"\"))),\"\"))","v":""},{"$f":"IF(IFERROR(INDIRECT(CONCATENATE(\"'UNITCOST ITEMS (Data Entry)'!H\",IFERROR(SUM(MATCH(A89,'UNITCOST ITEMS (Data Entry)'!$A$3:$A$504,0),2),\"\"))),\"\")=0,\"\",IFERROR(INDIRECT(CONCATENATE(\"'UNITCOST ITEMS (Data Entry)'!H\",IFERROR(SUM(MATCH(A89,'UNITCOST ITEMS (Data Entry)'!$A$3:$A$504,0),2),\"\"))),\"\"))","v":""},{"$f":"IF(IFERROR(INDIRECT(CONCATENATE(\"'UNITCOST ITEMS (Data Entry)'!I\",IFERROR(SUM(MATCH(A89,'UNITCOST ITEMS (Data Entry)'!$A$3:$A$504,0),2),\"\"))),\"\")=0,\"\",IFERROR(INDIRECT(CONCATENATE(\"'UNITCOST ITEMS (Data Entry)'!I\",IFERROR(SUM(MATCH(A89,'UNITCOST ITEMS (Data Entry)'!$A$3:$A$504,0),2),\"\"))),\"\"))","v":""},{"$f":"IF(K89=2,\"\",IF(IFERROR(INDIRECT(CONCATENATE(\"'UNITCOST ITEMS (Data Entry)'!J\",IFERROR(SUM(MATCH(A89,'UNITCOST ITEMS (Data Entry)'!$A$3:$A$504,0),2),\"\"))),\"\")=0,\"\",IFERROR(INDIRECT(CONCATENATE(\"'UNITCOST ITEMS (Data Entry)'!J\",IFERROR(SUM(MATCH(A89,'UNITCOST ITEMS (Data Entry)'!$A$3:$A$504,0),2),\"\"))),\"\")))","v":""},null,{"$f":"IF(IFERROR(INDIRECT(CONCATENATE(\"'UNITCOST ITEMS (Data Entry)'!C\",IFERROR(SUM(MATCH(A89,'UNITCOST ITEMS (Data Entry)'!$A$3:$A$504,0),2),\"\"))),\"\")=0,\"\",IFERROR(INDIRECT(CONCATENATE(\"'UNITCOST ITEMS (Data Entry)'!C\",IFERROR(SUM(MATCH(A89,'UNITCOST ITEMS (Data Entry)'!$A$3:$A$504,0),2),\"\"))),\"\"))","v":""},""]
[82,{"$f":"IF(IFERROR(INDIRECT(CONCATENATE(\"'UNITCOST ITEMS (Data Entry)'!D\",IFERROR(SUM(MATCH(A90,'UNITCOST ITEMS (Data Entry)'!$A$3:$A$504,0),2),\"\"))),\"\")=0,\"\",IFERROR(INDIRECT(CONCATENATE(\"'UNITCOST ITEMS (Data Entry)'!D\",IFERROR(SUM(MATCH(A90,'UNITCOST ITEMS (Data Entry)'!$A$3:$A$504,0),2),\"\"))),\"\"))","v":""},{"$f":"IF(IFERROR(INDIRECT(CONCATENATE(\"'UNITCOST ITEMS (Data Entry)'!E\",IFERROR(SUM(MATCH(A90,'UNITCOST ITEMS (Data Entry)'!$A$3:$A$504,0),2),\"\"))),\"\")=0,\"\",IFERROR(INDIRECT(CONCATENATE(\"'UNITCOST ITEMS (Data Entry)'!E\",IFERROR(SUM(MATCH(A90,'UNITCOST ITEMS (Data Entry)'!$A$3:$A$504,0),2),\"\"))),\"\"))","v":""},null,{"$f":"IF(IFERROR(INDIRECT(CONCATENATE(\"'UNITCOST ITEMS (Data Entry)'!F\",IFERROR(SUM(MATCH(A90,'UNITCOST ITEMS (Data Entry)'!$A$3:$A$504,0),2),\"\"))),\"\")=0,\"\",IFERROR(INDIRECT(CONCATENATE(\"'UNITCOST ITEMS (Data Entry)'!F\",IFERROR(SUM(MATCH(A90,'UNITCOST ITEMS (Data Entry)'!$A$3:$A$504,0),2),\"\"))),\"\"))","v":""},{"$f":"IF(IFERROR(INDIRECT(CONCATENATE(\"'UNITCOST ITEMS (Data Entry)'!G\",IFERROR(SUM(MATCH(A90,'UNITCOST ITEMS (Data Entry)'!$A$3:$A$504,0),2),\"\"))),\"\")=0,\"\",IFERROR(INDIRECT(CONCATENATE(\"'UNITCOST ITEMS (Data Entry)'!G\",IFERROR(SUM(MATCH(A90,'UNITCOST ITEMS (Data Entry)'!$A$3:$A$504,0),2),\"\"))),\"\"))","v":""},{"$f":"IF(IFERROR(INDIRECT(CONCATENATE(\"'UNITCOST ITEMS (Data Entry)'!H\",IFERROR(SUM(MATCH(A90,'UNITCOST ITEMS (Data Entry)'!$A$3:$A$504,0),2),\"\"))),\"\")=0,\"\",IFERROR(INDIRECT(CONCATENATE(\"'UNITCOST ITEMS (Data Entry)'!H\",IFERROR(SUM(MATCH(A90,'UNITCOST ITEMS (Data Entry)'!$A$3:$A$504,0),2),\"\"))),\"\"))","v":""},{"$f":"IF(IFERROR(INDIRECT(CONCATENATE(\"'UNITCOST ITEMS (Data Entry)'!I\",IFERROR(SUM(MATCH(A90,'UNITCOST ITEMS (Data Entry)'!$A$3:$A$504,0),2),\"\"))),\"\")=0,\"\",IFERROR(INDIRECT(CONCATENATE(\"'UNITCOST ITEMS (Data Entry)'!I\",IFERROR(SUM(MATCH(A90,'UNITCOST ITEMS (Data Entry)'!$A$3:$A$504,0),2),\"\"))),\"\"))","v":""},{"$f":"IF(K90=2,\"\",IF(IFERROR(INDIRECT(CONCATENATE(\"'UNITCOST ITEMS (Data Entry)'!J\",IFERROR(SUM(MATCH(A90,'UNITCOST ITEMS (Data Entry)'!$A$3:$A$504,0),2),\"\"))),\"\")=0,\"\",IFERROR(INDIRECT(CONCATENATE(\"'UNITCOST ITEMS (Data Entry)'!J\",IFERROR(SUM(MATCH(A90,'UNITCOST ITEMS (Data Entry)'!$A$3:$A$504,0),2),\"\"))),\"\")))","v":""},null,{"$f":"IF(IFERROR(INDIRECT(CONCATENATE(\"'UNITCOST ITEMS (Data Entry)'!C\",IFERROR(SUM(MATCH(A90,'UNITCOST ITEMS (Data Entry)'!$A$3:$A$504,0),2),\"\"))),\"\")=0,\"\",IFERROR(INDIRECT(CONCATENATE(\"'UNITCOST ITEMS (Data Entry)'!C\",IFERROR(SUM(MATCH(A90,'UNITCOST ITEMS (Data Entry)'!$A$3:$A$504,0),2),\"\"))),\"\"))","v":""},""]
[83,{"$f":"IF(IFERROR(INDIRECT(CONCATENATE(\"'UNITCOST ITEMS (Data Entry)'!D\",IFERROR(SUM(MATCH(A91,'UNITCOST ITEMS (Data Entry)'!$A$3:$A$504,0),2),\"\"))),\"\")=0,\"\",IFERROR(INDIRECT(CONCATENATE(\"'UNITCOST ITEMS (Data Entry)'!D\",IFERROR(SUM(MATCH(A91,'UNITCOST ITEMS (Data Entry)'!$A$3:$A$504,0),2),\"\"))),\"\"))","v":""},{"$f":"IF(IFERROR(INDIRECT(CONCATENATE(\"'UNITCOST ITEMS (Data Entry)'!E\",IFERROR(SUM(MATCH(A91,'UNITCOST ITEMS (Data Entry)'!$A$3:$A$504,0),2),\"\"))),\"\")=0,\"\",IFERROR(INDIRECT(CONCATENATE(\"'UNITCOST ITEMS (Data Entry)'!E\",IFERROR(SUM(MATCH(A91,'UNITCOST ITEMS (Data Entry)'!$A$3:$A$504,0),2),\"\"))),\"\"))","v":""},null,{"$f":"IF(IFERROR(INDIRECT(CONCATENATE(\"'UNITCOST ITEMS (Data Entry)'!F\",IFERROR(SUM(MATCH(A91,'UNITCOST ITEMS (Data Entry)'!$A$3:$A$504,0),2),\"\"))),\"\")=0,\"\",IFERROR(INDIRECT(CONCATENATE(\"'UNITCOST ITEMS (Data Entry)'!F\",IFERROR(SUM(MATCH(A91,'UNITCOST ITEMS (Data Entry)'!$A$3:$A$504,0),2),\"\"))),\"\"))","v":""},{"$f":"IF(IFERROR(INDIRECT(CONCATENATE(\"'UNITCOST ITEMS (Data Entry)'!G\",IFERROR(SUM(MATCH(A91,'UNITCOST ITEMS (Data Entry)'!$A$3:$A$504,0),2),\"\"))),\"\")=0,\"\",IFERROR(INDIRECT(CONCATENATE(\"'UNITCOST ITEMS (Data Entry)'!G\",IFERROR(SUM(MATCH(A91,'UNITCOST ITEMS (Data Entry)'!$A$3:$A$504,0),2),\"\"))),\"\"))","v":""},{"$f":"IF(IFERROR(INDIRECT(CONCATENATE(\"'UNITCOST ITEMS (Data Entry)'!H\",IFERROR(SUM(MATCH(A91,'UNITCOST ITEMS (Data Entry)'!$A$3:$A$504,0),2),\"\"))),\"\")=0,\"\",IFERROR(INDIRECT(CONCATENATE(\"'UNITCOST ITEMS (Data Entry)'!H\",IFERROR(SUM(MATCH(A91,'UNITCOST ITEMS (Data Entry)'!$A$3:$A$504,0),2),\"\"))),\"\"))","v":""},{"$f":"IF(IFERROR(INDIRECT(CONCATENATE(\"'UNITCOST ITEMS (Data Entry)'!I\",IFERROR(SUM(MATCH(A91,'UNITCOST ITEMS (Data Entry)'!$A$3:$A$504,0),2),\"\"))),\"\")=0,\"\",IFERROR(INDIRECT(CONCATENATE(\"'UNITCOST ITEMS (Data Entry)'!I\",IFERROR(SUM(MATCH(A91,'UNITCOST ITEMS (Data Entry)'!$A$3:$A$504,0),2),\"\"))),\"\"))","v":""},{"$f":"IF(K91=2,\"\",IF(IFERROR(INDIRECT(CONCATENATE(\"'UNITCOST ITEMS (Data Entry)'!J\",IFERROR(SUM(MATCH(A91,'UNITCOST ITEMS (Data Entry)'!$A$3:$A$504,0),2),\"\"))),\"\")=0,\"\",IFERROR(INDIRECT(CONCATENATE(\"'UNITCOST ITEMS (Data Entry)'!J\",IFERROR(SUM(MATCH(A91,'UNITCOST ITEMS (Data Entry)'!$A$3:$A$504,0),2),\"\"))),\"\")))","v":""},null,{"$f":"IF(IFERROR(INDIRECT(CONCATENATE(\"'UNITCOST ITEMS (Data Entry)'!C\",IFERROR(SUM(MATCH(A91,'UNITCOST ITEMS (Data Entry)'!$A$3:$A$504,0),2),\"\"))),\"\")=0,\"\",IFERROR(INDIRECT(CONCATENATE(\"'UNITCOST ITEMS (Data Entry)'!C\",IFERROR(SUM(MATCH(A91,'UNITCOST ITEMS (Data Entry)'!$A$3:$A$504,0),2),\"\"))),\"\"))","v":""},""]
[84,{"$f":"IF(IFERROR(INDIRECT(CONCATENATE(\"'UNITCOST ITEMS (Data Entry)'!D\",IFERROR(SUM(MATCH(A92,'UNITCOST ITEMS (Data Entry)'!$A$3:$A$504,0),2),\"\"))),\"\")=0,\"\",IFERROR(INDIRECT(CONCATENATE(\"'UNITCOST ITEMS (Data Entry)'!D\",IFERROR(SUM(MATCH(A92,'UNITCOST ITEMS (Data Entry)'!$A$3:$A$504,0),2),\"\"))),\"\"))","v":""},{"$f":"IF(IFERROR(INDIRECT(CONCATENATE(\"'UNITCOST ITEMS (Data Entry)'!E\",IFERROR(SUM(MATCH(A92,'UNITCOST ITEMS (Data Entry)'!$A$3:$A$504,0),2),\"\"))),\"\")=0,\"\",IFERROR(INDIRECT(CONCATENATE(\"'UNITCOST ITEMS (Data Entry)'!E\",IFERROR(SUM(MATCH(A92,'UNITCOST ITEMS (Data Entry)'!$A$3:$A$504,0),2),\"\"))),\"\"))","v":""},null,{"$f":"IF(IFERROR(INDIRECT(CONCATENATE(\"'UNITCOST ITEMS (Data Entry)'!F\",IFERROR(SUM(MATCH(A92,'UNITCOST ITEMS (Data Entry)'!$A$3:$A$504,0),2),\"\"))),\"\")=0,\"\",IFERROR(INDIRECT(CONCATENATE(\"'UNITCOST ITEMS (Data Entry)'!F\",IFERROR(SUM(MATCH(A92,'UNITCOST ITEMS (Data Entry)'!$A$3:$A$504,0),2),\"\"))),\"\"))","v":""},{"$f":"IF(IFERROR(INDIRECT(CONCATENATE(\"'UNITCOST ITEMS (Data Entry)'!G\",IFERROR(SUM(MATCH(A92,'UNITCOST ITEMS (Data Entry)'!$A$3:$A$504,0),2),\"\"))),\"\")=0,\"\",IFERROR(INDIRECT(CONCATENATE(\"'UNITCOST ITEMS (Data Entry)'!G\",IFERROR(SUM(MATCH(A92,'UNITCOST ITEMS (Data Entry)'!$A$3:$A$504,0),2),\"\"))),\"\"))","v":""},{"$f":"IF(IFERROR(INDIRECT(CONCATENATE(\"'UNITCOST ITEMS (Data Entry)'!H\",IFERROR(SUM(MATCH(A92,'UNITCOST ITEMS (Data Entry)'!$A$3:$A$504,0),2),\"\"))),\"\")=0,\"\",IFERROR(INDIRECT(CONCATENATE(\"'UNITCOST ITEMS (Data Entry)'!H\",IFERROR(SUM(MATCH(A92,'UNITCOST ITEMS (Data Entry)'!$A$3:$A$504,0),2),\"\"))),\"\"))","v":""},{"$f":"IF(IFERROR(INDIRECT(CONCATENATE(\"'UNITCOST ITEMS (Data Entry)'!I\",IFERROR(SUM(MATCH(A92,'UNITCOST ITEMS (Data Entry)'!$A$3:$A$504,0),2),\"\"))),\"\")=0,\"\",IFERROR(INDIRECT(CONCATENATE(\"'UNITCOST ITEMS (Data Entry)'!I\",IFERROR(SUM(MATCH(A92,'UNITCOST ITEMS (Data Entry)'!$A$3:$A$504,0),2),\"\"))),\"\"))","v":""},{"$f":"IF(K92=2,\"\",IF(IFERROR(INDIRECT(CONCATENATE(\"'UNITCOST ITEMS (Data Entry)'!J\",IFERROR(SUM(MATCH(A92,'UNITCOST ITEMS (Data Entry)'!$A$3:$A$504,0),2),\"\"))),\"\")=0,\"\",IFERROR(INDIRECT(CONCATENATE(\"'UNITCOST ITEMS (Data Entry)'!J\",IFERROR(SUM(MATCH(A92,'UNITCOST ITEMS (Data Entry)'!$A$3:$A$504,0),2),\"\"))),\"\")))","v":""},null,{"$f":"IF(IFERROR(INDIRECT(CONCATENATE(\"'UNITCOST ITEMS (Data Entry)'!C\",IFERROR(SUM(MATCH(A92,'UNITCOST ITEMS (Data Entry)'!$A$3:$A$504,0),2),\"\"))),\"\")=0,\"\",IFERROR(INDIRECT(CONCATENATE(\"'UNITCOST ITEMS (Data Entry)'!C\",IFERROR(SUM(MATCH(A92,'UNITCOST ITEMS (Data Entry)'!$A$3:$A$504,0),2),\"\"))),\"\"))","v":""},""]
[85,{"$f":"IF(IFERROR(INDIRECT(CONCATENATE(\"'UNITCOST ITEMS (Data Entry)'!D\",IFERROR(SUM(MATCH(A93,'UNITCOST ITEMS (Data Entry)'!$A$3:$A$504,0),2),\"\"))),\"\")=0,\"\",IFERROR(INDIRECT(CONCATENATE(\"'UNITCOST ITEMS (Data Entry)'!D\",IFERROR(SUM(MATCH(A93,'UNITCOST ITEMS (Data Entry)'!$A$3:$A$504,0),2),\"\"))),\"\"))","v":""},{"$f":"IF(IFERROR(INDIRECT(CONCATENATE(\"'UNITCOST ITEMS (Data Entry)'!E\",IFERROR(SUM(MATCH(A93,'UNITCOST ITEMS (Data Entry)'!$A$3:$A$504,0),2),\"\"))),\"\")=0,\"\",IFERROR(INDIRECT(CONCATENATE(\"'UNITCOST ITEMS (Data Entry)'!E\",IFERROR(SUM(MATCH(A93,'UNITCOST ITEMS (Data Entry)'!$A$3:$A$504,0),2),\"\"))),\"\"))","v":""},null,{"$f":"IF(IFERROR(INDIRECT(CONCATENATE(\"'UNITCOST ITEMS (Data Entry)'!F\",IFERROR(SUM(MATCH(A93,'UNITCOST ITEMS (Data Entry)'!$A$3:$A$504,0),2),\"\"))),\"\")=0,\"\",IFERROR(INDIRECT(CONCATENATE(\"'UNITCOST ITEMS (Data Entry)'!F\",IFERROR(SUM(MATCH(A93,'UNITCOST ITEMS (Data Entry)'!$A$3:$A$504,0),2),\"\"))),\"\"))","v":""},{"$f":"IF(IFERROR(INDIRECT(CONCATENATE(\"'UNITCOST ITEMS (Data Entry)'!G\",IFERROR(SUM(MATCH(A93,'UNITCOST ITEMS (Data Entry)'!$A$3:$A$504,0),2),\"\"))),\"\")=0,\"\",IFERROR(INDIRECT(CONCATENATE(\"'UNITCOST ITEMS (Data Entry)'!G\",IFERROR(SUM(MATCH(A93,'UNITCOST ITEMS (Data Entry)'!$A$3:$A$504,0),2),\"\"))),\"\"))","v":""},{"$f":"IF(IFERROR(INDIRECT(CONCATENATE(\"'UNITCOST ITEMS (Data Entry)'!H\",IFERROR(SUM(MATCH(A93,'UNITCOST ITEMS (Data Entry)'!$A$3:$A$504,0),2),\"\"))),\"\")=0,\"\",IFERROR(INDIRECT(CONCATENATE(\"'UNITCOST ITEMS (Data Entry)'!H\",IFERROR(SUM(MATCH(A93,'UNITCOST ITEMS (Data Entry)'!$A$3:$A$504,0),2),\"\"))),\"\"))","v":""},{"$f":"IF(IFERROR(INDIRECT(CONCATENATE(\"'UNITCOST ITEMS (Data Entry)'!I\",IFERROR(SUM(MATCH(A93,'UNITCOST ITEMS (Data Entry)'!$A$3:$A$504,0),2),\"\"))),\"\")=0,\"\",IFERROR(INDIRECT(CONCATENATE(\"'UNITCOST ITEMS (Data Entry)'!I\",IFERROR(SUM(MATCH(A93,'UNITCOST ITEMS (Data Entry)'!$A$3:$A$504,0),2),\"\"))),\"\"))","v":""},{"$f":"IF(K93=2,\"\",IF(IFERROR(INDIRECT(CONCATENATE(\"'UNITCOST ITEMS (Data Entry)'!J\",IFERROR(SUM(MATCH(A93,'UNITCOST ITEMS (Data Entry)'!$A$3:$A$504,0),2),\"\"))),\"\")=0,\"\",IFERROR(INDIRECT(CONCATENATE(\"'UNITCOST ITEMS (Data Entry)'!J\",IFERROR(SUM(MATCH(A93,'UNITCOST ITEMS (Data Entry)'!$A$3:$A$504,0),2),\"\"))),\"\")))","v":""},null,{"$f":"IF(IFERROR(INDIRECT(CONCATENATE(\"'UNITCOST ITEMS (Data Entry)'!C\",IFERROR(SUM(MATCH(A93,'UNITCOST ITEMS (Data Entry)'!$A$3:$A$504,0),2),\"\"))),\"\")=0,\"\",IFERROR(INDIRECT(CONCATENATE(\"'UNITCOST ITEMS (Data Entry)'!C\",IFERROR(SUM(MATCH(A93,'UNITCOST ITEMS (Data Entry)'!$A$3:$A$504,0),2),\"\"))),\"\"))","v":""},""]
[86,{"$f":"IF(IFERROR(INDIRECT(CONCATENATE(\"'UNITCOST ITEMS (Data Entry)'!D\",IFERROR(SUM(MATCH(A94,'UNITCOST ITEMS (Data Entry)'!$A$3:$A$504,0),2),\"\"))),\"\")=0,\"\",IFERROR(INDIRECT(CONCATENATE(\"'UNITCOST ITEMS (Data Entry)'!D\",IFERROR(SUM(MATCH(A94,'UNITCOST ITEMS (Data Entry)'!$A$3:$A$504,0),2),\"\"))),\"\"))","v":""},{"$f":"IF(IFERROR(INDIRECT(CONCATENATE(\"'UNITCOST ITEMS (Data Entry)'!E\",IFERROR(SUM(MATCH(A94,'UNITCOST ITEMS (Data Entry)'!$A$3:$A$504,0),2),\"\"))),\"\")=0,\"\",IFERROR(INDIRECT(CONCATENATE(\"'UNITCOST ITEMS (Data Entry)'!E\",IFERROR(SUM(MATCH(A94,'UNITCOST ITEMS (Data Entry)'!$A$3:$A$504,0),2),\"\"))),\"\"))","v":""},null,{"$f":"IF(IFERROR(INDIRECT(CONCATENATE(\"'UNITCOST ITEMS (Data Entry)'!F\",IFERROR(SUM(MATCH(A94,'UNITCOST ITEMS (Data Entry)'!$A$3:$A$504,0),2),\"\"))),\"\")=0,\"\",IFERROR(INDIRECT(CONCATENATE(\"'UNITCOST ITEMS (Data Entry)'!F\",IFERROR(SUM(MATCH(A94,'UNITCOST ITEMS (Data Entry)'!$A$3:$A$504,0),2),\"\"))),\"\"))","v":""},{"$f":"IF(IFERROR(INDIRECT(CONCATENATE(\"'UNITCOST ITEMS (Data Entry)'!G\",IFERROR(SUM(MATCH(A94,'UNITCOST ITEMS (Data Entry)'!$A$3:$A$504,0),2),\"\"))),\"\")=0,\"\",IFERROR(INDIRECT(CONCATENATE(\"'UNITCOST ITEMS (Data Entry)'!G\",IFERROR(SUM(MATCH(A94,'UNITCOST ITEMS (Data Entry)'!$A$3:$A$504,0),2),\"\"))),\"\"))","v":""},{"$f":"IF(IFERROR(INDIRECT(CONCATENATE(\"'UNITCOST ITEMS (Data Entry)'!H\",IFERROR(SUM(MATCH(A94,'UNITCOST ITEMS (Data Entry)'!$A$3:$A$504,0),2),\"\"))),\"\")=0,\"\",IFERROR(INDIRECT(CONCATENATE(\"'UNITCOST ITEMS (Data Entry)'!H\",IFERROR(SUM(MATCH(A94,'UNITCOST ITEMS (Data Entry)'!$A$3:$A$504,0),2),\"\"))),\"\"))","v":""},{"$f":"IF(IFERROR(INDIRECT(CONCATENATE(\"'UNITCOST ITEMS (Data Entry)'!I\",IFERROR(SUM(MATCH(A94,'UNITCOST ITEMS (Data Entry)'!$A$3:$A$504,0),2),\"\"))),\"\")=0,\"\",IFERROR(INDIRECT(CONCATENATE(\"'UNITCOST ITEMS (Data Entry)'!I\",IFERROR(SUM(MATCH(A94,'UNITCOST ITEMS (Data Entry)'!$A$3:$A$504,0),2),\"\"))),\"\"))","v":""},{"$f":"IF(K94=2,\"\",IF(IFERROR(INDIRECT(CONCATENATE(\"'UNITCOST ITEMS (Data Entry)'!J\",IFERROR(SUM(MATCH(A94,'UNITCOST ITEMS (Data Entry)'!$A$3:$A$504,0),2),\"\"))),\"\")=0,\"\",IFERROR(INDIRECT(CONCATENATE(\"'UNITCOST ITEMS (Data Entry)'!J\",IFERROR(SUM(MATCH(A94,'UNITCOST ITEMS (Data Entry)'!$A$3:$A$504,0),2),\"\"))),\"\")))","v":""},null,{"$f":"IF(IFERROR(INDIRECT(CONCATENATE(\"'UNITCOST ITEMS (Data Entry)'!C\",IFERROR(SUM(MATCH(A94,'UNITCOST ITEMS (Data Entry)'!$A$3:$A$504,0),2),\"\"))),\"\")=0,\"\",IFERROR(INDIRECT(CONCATENATE(\"'UNITCOST ITEMS (Data Entry)'!C\",IFERROR(SUM(MATCH(A94,'UNITCOST ITEMS (Data Entry)'!$A$3:$A$504,0),2),\"\"))),\"\"))","v":""},""]
[87,{"$f":"IF(IFERROR(INDIRECT(CONCATENATE(\"'UNITCOST ITEMS (Data Entry)'!D\",IFERROR(SUM(MATCH(A95,'UNITCOST ITEMS (Data Entry)'!$A$3:$A$504,0),2),\"\"))),\"\")=0,\"\",IFERROR(INDIRECT(CONCATENATE(\"'UNITCOST ITEMS (Data Entry)'!D\",IFERROR(SUM(MATCH(A95,'UNITCOST ITEMS (Data Entry)'!$A$3:$A$504,0),2),\"\"))),\"\"))","v":""},{"$f":"IF(IFERROR(INDIRECT(CONCATENATE(\"'UNITCOST ITEMS (Data Entry)'!E\",IFERROR(SUM(MATCH(A95,'UNITCOST ITEMS (Data Entry)'!$A$3:$A$504,0),2),\"\"))),\"\")=0,\"\",IFERROR(INDIRECT(CONCATENATE(\"'UNITCOST ITEMS (Data Entry)'!E\",IFERROR(SUM(MATCH(A95,'UNITCOST ITEMS (Data Entry)'!$A$3:$A$504,0),2),\"\"))),\"\"))","v":""},null,{"$f":"IF(IFERROR(INDIRECT(CONCATENATE(\"'UNITCOST ITEMS (Data Entry)'!F\",IFERROR(SUM(MATCH(A95,'UNITCOST ITEMS (Data Entry)'!$A$3:$A$504,0),2),\"\"))),\"\")=0,\"\",IFERROR(INDIRECT(CONCATENATE(\"'UNITCOST ITEMS (Data Entry)'!F\",IFERROR(SUM(MATCH(A95,'UNITCOST ITEMS (Data Entry)'!$A$3:$A$504,0),2),\"\"))),\"\"))","v":""},{"$f":"IF(IFERROR(INDIRECT(CONCATENATE(\"'UNITCOST ITEMS (Data Entry)'!G\",IFERROR(SUM(MATCH(A95,'UNITCOST ITEMS (Data Entry)'!$A$3:$A$504,0),2),\"\"))),\"\")=0,\"\",IFERROR(INDIRECT(CONCATENATE(\"'UNITCOST ITEMS (Data Entry)'!G\",IFERROR(SUM(MATCH(A95,'UNITCOST ITEMS (Data Entry)'!$A$3:$A$504,0),2),\"\"))),\"\"))","v":""},{"$f":"IF(IFERROR(INDIRECT(CONCATENATE(\"'UNITCOST ITEMS (Data Entry)'!H\",IFERROR(SUM(MATCH(A95,'UNITCOST ITEMS (Data Entry)'!$A$3:$A$504,0),2),\"\"))),\"\")=0,\"\",IFERROR(INDIRECT(CONCATENATE(\"'UNITCOST ITEMS (Data Entry)'!H\",IFERROR(SUM(MATCH(A95,'UNITCOST ITEMS (Data Entry)'!$A$3:$A$504,0),2),\"\"))),\"\"))","v":""},{"$f":"IF(IFERROR(INDIRECT(CONCATENATE(\"'UNITCOST ITEMS (Data Entry)'!I\",IFERROR(SUM(MATCH(A95,'UNITCOST ITEMS (Data Entry)'!$A$3:$A$504,0),2),\"\"))),\"\")=0,\"\",IFERROR(INDIRECT(CONCATENATE(\"'UNITCOST ITEMS (Data Entry)'!I\",IFERROR(SUM(MATCH(A95,'UNITCOST ITEMS (Data Entry)'!$A$3:$A$504,0),2),\"\"))),\"\"))","v":""},{"$f":"IF(K95=2,\"\",IF(IFERROR(INDIRECT(CONCATENATE(\"'UNITCOST ITEMS (Data Entry)'!J\",IFERROR(SUM(MATCH(A95,'UNITCOST ITEMS (Data Entry)'!$A$3:$A$504,0),2),\"\"))),\"\")=0,\"\",IFERROR(INDIRECT(CONCATENATE(\"'UNITCOST ITEMS (Data Entry)'!J\",IFERROR(SUM(MATCH(A95,'UNITCOST ITEMS (Data Entry)'!$A$3:$A$504,0),2),\"\"))),\"\")))","v":""},null,{"$f":"IF(IFERROR(INDIRECT(CONCATENATE(\"'UNITCOST ITEMS (Data Entry)'!C\",IFERROR(SUM(MATCH(A95,'UNITCOST ITEMS (Data Entry)'!$A$3:$A$504,0),2),\"\"))),\"\")=0,\"\",IFERROR(INDIRECT(CONCATENATE(\"'UNITCOST ITEMS (Data Entry)'!C\",IFERROR(SUM(MATCH(A95,'UNITCOST ITEMS (Data Entry)'!$A$3:$A$504,0),2),\"\"))),\"\"))","v":""},""]
[88,{"$f":"IF(IFERROR(INDIRECT(CONCATENATE(\"'UNITCOST ITEMS (Data Entry)'!D\",IFERROR(SUM(MATCH(A96,'UNITCOST ITEMS (Data Entry)'!$A$3:$A$504,0),2),\"\"))),\"\")=0,\"\",IFERROR(INDIRECT(CONCATENATE(\"'UNITCOST ITEMS (Data Entry)'!D\",IFERROR(SUM(MATCH(A96,'UNITCOST ITEMS (Data Entry)'!$A$3:$A$504,0),2),\"\"))),\"\"))","v":""},{"$f":"IF(IFERROR(INDIRECT(CONCATENATE(\"'UNITCOST ITEMS (Data Entry)'!E\",IFERROR(SUM(MATCH(A96,'UNITCOST ITEMS (Data Entry)'!$A$3:$A$504,0),2),\"\"))),\"\")=0,\"\",IFERROR(INDIRECT(CONCATENATE(\"'UNITCOST ITEMS (Data Entry)'!E\",IFERROR(SUM(MATCH(A96,'UNITCOST ITEMS (Data Entry)'!$A$3:$A$504,0),2),\"\"))),\"\"))","v":""},null,{"$f":"IF(IFERROR(INDIRECT(CONCATENATE(\"'UNITCOST ITEMS (Data Entry)'!F\",IFERROR(SUM(MATCH(A96,'UNITCOST ITEMS (Data Entry)'!$A$3:$A$504,0),2),\"\"))),\"\")=0,\"\",IFERROR(INDIRECT(CONCATENATE(\"'UNITCOST ITEMS (Data Entry)'!F\",IFERROR(SUM(MATCH(A96,'UNITCOST ITEMS (Data Entry)'!$A$3:$A$504,0),2),\"\"))),\"\"))","v":""},{"$f":"IF(IFERROR(INDIRECT(CONCATENATE(\"'UNITCOST ITEMS (Data Entry)'!G\",IFERROR(SUM(MATCH(A96,'UNITCOST ITEMS (Data Entry)'!$A$3:$A$504,0),2),\"\"))),\"\")=0,\"\",IFERROR(INDIRECT(CONCATENATE(\"'UNITCOST ITEMS (Data Entry)'!G\",IFERROR(SUM(MATCH(A96,'UNITCOST ITEMS (Data Entry)'!$A$3:$A$504,0),2),\"\"))),\"\"))","v":""},{"$f":"IF(IFERROR(INDIRECT(CONCATENATE(\"'UNITCOST ITEMS (Data Entry)'!H\",IFERROR(SUM(MATCH(A96,'UNITCOST ITEMS (Data Entry)'!$A$3:$A$504,0),2),\"\"))),\"\")=0,\"\",IFERROR(INDIRECT(CONCATENATE(\"'UNITCOST ITEMS (Data Entry)'!H\",IFERROR(SUM(MATCH(A96,'UNITCOST ITEMS (Data Entry)'!$A$3:$A$504,0),2),\"\"))),\"\"))","v":""},{"$f":"IF(IFERROR(INDIRECT(CONCATENATE(\"'UNITCOST ITEMS (Data Entry)'!I\",IFERROR(SUM(MATCH(A96,'UNITCOST ITEMS (Data Entry)'!$A$3:$A$504,0),2),\"\"))),\"\")=0,\"\",IFERROR(INDIRECT(CONCATENATE(\"'UNITCOST ITEMS (Data Entry)'!I\",IFERROR(SUM(MATCH(A96,'UNITCOST ITEMS (Data Entry)'!$A$3:$A$504,0),2),\"\"))),\"\"))","v":""},{"$f":"IF(K96=2,\"\",IF(IFERROR(INDIRECT(CONCATENATE(\"'UNITCOST ITEMS (Data Entry)'!J\",IFERROR(SUM(MATCH(A96,'UNITCOST ITEMS (Data Entry)'!$A$3:$A$504,0),2),\"\"))),\"\")=0,\"\",IFERROR(INDIRECT(CONCATENATE(\"'UNITCOST ITEMS (Data Entry)'!J\",IFERROR(SUM(MATCH(A96,'UNITCOST ITEMS (Data Entry)'!$A$3:$A$504,0),2),\"\"))),\"\")))","v":""},null,{"$f":"IF(IFERROR(INDIRECT(CONCATENATE(\"'UNITCOST ITEMS (Data Entry)'!C\",IFERROR(SUM(MATCH(A96,'UNITCOST ITEMS (Data Entry)'!$A$3:$A$504,0),2),\"\"))),\"\")=0,\"\",IFERROR(INDIRECT(CONCATENATE(\"'UNITCOST ITEMS (Data Entry)'!C\",IFERROR(SUM(MATCH(A96,'UNITCOST ITEMS (Data Entry)'!$A$3:$A$504,0),2),\"\"))),\"\"))","v":""},""]
[89,{"$f":"IF(IFERROR(INDIRECT(CONCATENATE(\"'UNITCOST ITEMS (Data Entry)'!D\",IFERROR(SUM(MATCH(A97,'UNITCOST ITEMS (Data Entry)'!$A$3:$A$504,0),2),\"\"))),\"\")=0,\"\",IFERROR(INDIRECT(CONCATENATE(\"'UNITCOST ITEMS (Data Entry)'!D\",IFERROR(SUM(MATCH(A97,'UNITCOST ITEMS (Data Entry)'!$A$3:$A$504,0),2),\"\"))),\"\"))","v":""},{"$f":"IF(IFERROR(INDIRECT(CONCATENATE(\"'UNITCOST ITEMS (Data Entry)'!E\",IFERROR(SUM(MATCH(A97,'UNITCOST ITEMS (Data Entry)'!$A$3:$A$504,0),2),\"\"))),\"\")=0,\"\",IFERROR(INDIRECT(CONCATENATE(\"'UNITCOST ITEMS (Data Entry)'!E\",IFERROR(SUM(MATCH(A97,'UNITCOST ITEMS (Data Entry)'!$A$3:$A$504,0),2),\"\"))),\"\"))","v":""},null,{"$f":"IF(IFERROR(INDIRECT(CONCATENATE(\"'UNITCOST ITEMS (Data Entry)'!F\",IFERROR(SUM(MATCH(A97,'UNITCOST ITEMS (Data Entry)'!$A$3:$A$504,0),2),\"\"))),\"\")=0,\"\",IFERROR(INDIRECT(CONCATENATE(\"'UNITCOST ITEMS (Data Entry)'!F\",IFERROR(SUM(MATCH(A97,'UNITCOST ITEMS (Data Entry)'!$A$3:$A$504,0),2),\"\"))),\"\"))","v":""},{"$f":"IF(IFERROR(INDIRECT(CONCATENATE(\"'UNITCOST ITEMS (Data Entry)'!G\",IFERROR(SUM(MATCH(A97,'UNITCOST ITEMS (Data Entry)'!$A$3:$A$504,0),2),\"\"))),\"\")=0,\"\",IFERROR(INDIRECT(CONCATENATE(\"'UNITCOST ITEMS (Data Entry)'!G\",IFERROR(SUM(MATCH(A97,'UNITCOST ITEMS (Data Entry)'!$A$3:$A$504,0),2),\"\"))),\"\"))","v":""},{"$f":"IF(IFERROR(INDIRECT(CONCATENATE(\"'UNITCOST ITEMS (Data Entry)'!H\",IFERROR(SUM(MATCH(A97,'UNITCOST ITEMS (Data Entry)'!$A$3:$A$504,0),2),\"\"))),\"\")=0,\"\",IFERROR(INDIRECT(CONCATENATE(\"'UNITCOST ITEMS (Data Entry)'!H\",IFERROR(SUM(MATCH(A97,'UNITCOST ITEMS (Data Entry)'!$A$3:$A$504,0),2),\"\"))),\"\"))","v":""},{"$f":"IF(IFERROR(INDIRECT(CONCATENATE(\"'UNITCOST ITEMS (Data Entry)'!I\",IFERROR(SUM(MATCH(A97,'UNITCOST ITEMS (Data Entry)'!$A$3:$A$504,0),2),\"\"))),\"\")=0,\"\",IFERROR(INDIRECT(CONCATENATE(\"'UNITCOST ITEMS (Data Entry)'!I\",IFERROR(SUM(MATCH(A97,'UNITCOST ITEMS (Data Entry)'!$A$3:$A$504,0),2),\"\"))),\"\"))","v":""},{"$f":"IF(K97=2,\"\",IF(IFERROR(INDIRECT(CONCATENATE(\"'UNITCOST ITEMS (Data Entry)'!J\",IFERROR(SUM(MATCH(A97,'UNITCOST ITEMS (Data Entry)'!$A$3:$A$504,0),2),\"\"))),\"\")=0,\"\",IFERROR(INDIRECT(CONCATENATE(\"'UNITCOST ITEMS (Data Entry)'!J\",IFERROR(SUM(MATCH(A97,'UNITCOST ITEMS (Data Entry)'!$A$3:$A$504,0),2),\"\"))),\"\")))","v":""},null,{"$f":"IF(IFERROR(INDIRECT(CONCATENATE(\"'UNITCOST ITEMS (Data Entry)'!C\",IFERROR(SUM(MATCH(A97,'UNITCOST ITEMS (Data Entry)'!$A$3:$A$504,0),2),\"\"))),\"\")=0,\"\",IFERROR(INDIRECT(CONCATENATE(\"'UNITCOST ITEMS (Data Entry)'!C\",IFERROR(SUM(MATCH(A97,'UNITCOST ITEMS (Data Entry)'!$A$3:$A$504,0),2),\"\"))),\"\"))","v":""},""]
[90,{"$f":"IF(IFERROR(INDIRECT(CONCATENATE(\"'UNITCOST ITEMS (Data Entry)'!D\",IFERROR(SUM(MATCH(A98,'UNITCOST ITEMS (Data Entry)'!$A$3:$A$504,0),2),\"\"))),\"\")=0,\"\",IFERROR(INDIRECT(CONCATENATE(\"'UNITCOST ITEMS (Data Entry)'!D\",IFERROR(SUM(MATCH(A98,'UNITCOST ITEMS (Data Entry)'!$A$3:$A$504,0),2),\"\"))),\"\"))","v":""},{"$f":"IF(IFERROR(INDIRECT(CONCATENATE(\"'UNITCOST ITEMS (Data Entry)'!E\",IFERROR(SUM(MATCH(A98,'UNITCOST ITEMS (Data Entry)'!$A$3:$A$504,0),2),\"\"))),\"\")=0,\"\",IFERROR(INDIRECT(CONCATENATE(\"'UNITCOST ITEMS (Data Entry)'!E\",IFERROR(SUM(MATCH(A98,'UNITCOST ITEMS (Data Entry)'!$A$3:$A$504,0),2),\"\"))),\"\"))","v":""},null,{"$f":"IF(IFERROR(INDIRECT(CONCATENATE(\"'UNITCOST ITEMS (Data Entry)'!F\",IFERROR(SUM(MATCH(A98,'UNITCOST ITEMS (Data Entry)'!$A$3:$A$504,0),2),\"\"))),\"\")=0,\"\",IFERROR(INDIRECT(CONCATENATE(\"'UNITCOST ITEMS (Data Entry)'!F\",IFERROR(SUM(MATCH(A98,'UNITCOST ITEMS (Data Entry)'!$A$3:$A$504,0),2),\"\"))),\"\"))","v":""},{"$f":"IF(IFERROR(INDIRECT(CONCATENATE(\"'UNITCOST ITEMS (Data Entry)'!G\",IFERROR(SUM(MATCH(A98,'UNITCOST ITEMS (Data Entry)'!$A$3:$A$504,0),2),\"\"))),\"\")=0,\"\",IFERROR(INDIRECT(CONCATENATE(\"'UNITCOST ITEMS (Data Entry)'!G\",IFERROR(SUM(MATCH(A98,'UNITCOST ITEMS (Data Entry)'!$A$3:$A$504,0),2),\"\"))),\"\"))","v":""},{"$f":"IF(IFERROR(INDIRECT(CONCATENATE(\"'UNITCOST ITEMS (Data Entry)'!H\",IFERROR(SUM(MATCH(A98,'UNITCOST ITEMS (Data Entry)'!$A$3:$A$504,0),2),\"\"))),\"\")=0,\"\",IFERROR(INDIRECT(CONCATENATE(\"'UNITCOST ITEMS (Data Entry)'!H\",IFERROR(SUM(MATCH(A98,'UNITCOST ITEMS (Data Entry)'!$A$3:$A$504,0),2),\"\"))),\"\"))","v":""},{"$f":"IF(IFERROR(INDIRECT(CONCATENATE(\"'UNITCOST ITEMS (Data Entry)'!I\",IFERROR(SUM(MATCH(A98,'UNITCOST ITEMS (Data Entry)'!$A$3:$A$504,0),2),\"\"))),\"\")=0,\"\",IFERROR(INDIRECT(CONCATENATE(\"'UNITCOST ITEMS (Data Entry)'!I\",IFERROR(SUM(MATCH(A98,'UNITCOST ITEMS (Data Entry)'!$A$3:$A$504,0),2),\"\"))),\"\"))","v":""},{"$f":"IF(K98=2,\"\",IF(IFERROR(INDIRECT(CONCATENATE(\"'UNITCOST ITEMS (Data Entry)'!J\",IFERROR(SUM(MATCH(A98,'UNITCOST ITEMS (Data Entry)'!$A$3:$A$504,0),2),\"\"))),\"\")=0,\"\",IFERROR(INDIRECT(CONCATENATE(\"'UNITCOST ITEMS (Data Entry)'!J\",IFERROR(SUM(MATCH(A98,'UNITCOST ITEMS (Data Entry)'!$A$3:$A$504,0),2),\"\"))),\"\")))","v":""},null,{"$f":"IF(IFERROR(INDIRECT(CONCATENATE(\"'UNITCOST ITEMS (Data Entry)'!C\",IFERROR(SUM(MATCH(A98,'UNITCOST ITEMS (Data Entry)'!$A$3:$A$504,0),2),\"\"))),\"\")=0,\"\",IFERROR(INDIRECT(CONCATENATE(\"'UNITCOST ITEMS (Data Entry)'!C\",IFERROR(SUM(MATCH(A98,'UNITCOST ITEMS (Data Entry)'!$A$3:$A$504,0),2),\"\"))),\"\"))","v":""},""]
[91,{"$f":"IF(IFERROR(INDIRECT(CONCATENATE(\"'UNITCOST ITEMS (Data Entry)'!D\",IFERROR(SUM(MATCH(A99,'UNITCOST ITEMS (Data Entry)'!$A$3:$A$504,0),2),\"\"))),\"\")=0,\"\",IFERROR(INDIRECT(CONCATENATE(\"'UNITCOST ITEMS (Data Entry)'!D\",IFERROR(SUM(MATCH(A99,'UNITCOST ITEMS (Data Entry)'!$A$3:$A$504,0),2),\"\"))),\"\"))","v":""},{"$f":"IF(IFERROR(INDIRECT(CONCATENATE(\"'UNITCOST ITEMS (Data Entry)'!E\",IFERROR(SUM(MATCH(A99,'UNITCOST ITEMS (Data Entry)'!$A$3:$A$504,0),2),\"\"))),\"\")=0,\"\",IFERROR(INDIRECT(CONCATENATE(\"'UNITCOST ITEMS (Data Entry)'!E\",IFERROR(SUM(MATCH(A99,'UNITCOST ITEMS (Data Entry)'!$A$3:$A$504,0),2),\"\"))),\"\"))","v":""},null,{"$f":"IF(IFERROR(INDIRECT(CONCATENATE(\"'UNITCOST ITEMS (Data Entry)'!F\",IFERROR(SUM(MATCH(A99,'UNITCOST ITEMS (Data Entry)'!$A$3:$A$504,0),2),\"\"))),\"\")=0,\"\",IFERROR(INDIRECT(CONCATENATE(\"'UNITCOST ITEMS (Data Entry)'!F\",IFERROR(SUM(MATCH(A99,'UNITCOST ITEMS (Data Entry)'!$A$3:$A$504,0),2),\"\"))),\"\"))","v":""},{"$f":"IF(IFERROR(INDIRECT(CONCATENATE(\"'UNITCOST ITEMS (Data Entry)'!G\",IFERROR(SUM(MATCH(A99,'UNITCOST ITEMS (Data Entry)'!$A$3:$A$504,0),2),\"\"))),\"\")=0,\"\",IFERROR(INDIRECT(CONCATENATE(\"'UNITCOST ITEMS (Data Entry)'!G\",IFERROR(SUM(MATCH(A99,'UNITCOST ITEMS (Data Entry)'!$A$3:$A$504,0),2),\"\"))),\"\"))","v":""},{"$f":"IF(IFERROR(INDIRECT(CONCATENATE(\"'UNITCOST ITEMS (Data Entry)'!H\",IFERROR(SUM(MATCH(A99,'UNITCOST ITEMS (Data Entry)'!$A$3:$A$504,0),2),\"\"))),\"\")=0,\"\",IFERROR(INDIRECT(CONCATENATE(\"'UNITCOST ITEMS (Data Entry)'!H\",IFERROR(SUM(MATCH(A99,'UNITCOST ITEMS (Data Entry)'!$A$3:$A$504,0),2),\"\"))),\"\"))","v":""},{"$f":"IF(IFERROR(INDIRECT(CONCATENATE(\"'UNITCOST ITEMS (Data Entry)'!I\",IFERROR(SUM(MATCH(A99,'UNITCOST ITEMS (Data Entry)'!$A$3:$A$504,0),2),\"\"))),\"\")=0,\"\",IFERROR(INDIRECT(CONCATENATE(\"'UNITCOST ITEMS (Data Entry)'!I\",IFERROR(SUM(MATCH(A99,'UNITCOST ITEMS (Data Entry)'!$A$3:$A$504,0),2),\"\"))),\"\"))","v":""},{"$f":"IF(K99=2,\"\",IF(IFERROR(INDIRECT(CONCATENATE(\"'UNITCOST ITEMS (Data Entry)'!J\",IFERROR(SUM(MATCH(A99,'UNITCOST ITEMS (Data Entry)'!$A$3:$A$504,0),2),\"\"))),\"\")=0,\"\",IFERROR(INDIRECT(CONCATENATE(\"'UNITCOST ITEMS (Data Entry)'!J\",IFERROR(SUM(MATCH(A99,'UNITCOST ITEMS (Data Entry)'!$A$3:$A$504,0),2),\"\"))),\"\")))","v":""},null,{"$f":"IF(IFERROR(INDIRECT(CONCATENATE(\"'UNITCOST ITEMS (Data Entry)'!C\",IFERROR(SUM(MATCH(A99,'UNITCOST ITEMS (Data Entry)'!$A$3:$A$504,0),2),\"\"))),\"\")=0,\"\",IFERROR(INDIRECT(CONCATENATE(\"'UNITCOST ITEMS (Data Entry)'!C\",IFERROR(SUM(MATCH(A99,'UNITCOST ITEMS (Data Entry)'!$A$3:$A$504,0),2),\"\"))),\"\"))","v":""},""]
[92,{"$f":"IF(IFERROR(INDIRECT(CONCATENATE(\"'UNITCOST ITEMS (Data Entry)'!D\",IFERROR(SUM(MATCH(A100,'UNITCOST ITEMS (Data Entry)'!$A$3:$A$504,0),2),\"\"))),\"\")=0,\"\",IFERROR(INDIRECT(CONCATENATE(\"'UNITCOST ITEMS (Data Entry)'!D\",IFERROR(SUM(MATCH(A100,'UNITCOST ITEMS (Data Entry)'!$A$3:$A$504,0),2),\"\"))),\"\"))","v":""},{"$f":"IF(IFERROR(INDIRECT(CONCATENATE(\"'UNITCOST ITEMS (Data Entry)'!E\",IFERROR(SUM(MATCH(A100,'UNITCOST ITEMS (Data Entry)'!$A$3:$A$504,0),2),\"\"))),\"\")=0,\"\",IFERROR(INDIRECT(CONCATENATE(\"'UNITCOST ITEMS (Data Entry)'!E\",IFERROR(SUM(MATCH(A100,'UNITCOST ITEMS (Data Entry)'!$A$3:$A$504,0),2),\"\"))),\"\"))","v":""},null,{"$f":"IF(IFERROR(INDIRECT(CONCATENATE(\"'UNITCOST ITEMS (Data Entry)'!F\",IFERROR(SUM(MATCH(A100,'UNITCOST ITEMS (Data Entry)'!$A$3:$A$504,0),2),\"\"))),\"\")=0,\"\",IFERROR(INDIRECT(CONCATENATE(\"'UNITCOST ITEMS (Data Entry)'!F\",IFERROR(SUM(MATCH(A100,'UNITCOST ITEMS (Data Entry)'!$A$3:$A$504,0),2),\"\"))),\"\"))","v":""},{"$f":"IF(IFERROR(INDIRECT(CONCATENATE(\"'UNITCOST ITEMS (Data Entry)'!G\",IFERROR(SUM(MATCH(A100,'UNITCOST ITEMS (Data Entry)'!$A$3:$A$504,0),2),\"\"))),\"\")=0,\"\",IFERROR(INDIRECT(CONCATENATE(\"'UNITCOST ITEMS (Data Entry)'!G\",IFERROR(SUM(MATCH(A100,'UNITCOST ITEMS (Data Entry)'!$A$3:$A$504,0),2),\"\"))),\"\"))","v":""},{"$f":"IF(IFERROR(INDIRECT(CONCATENATE(\"'UNITCOST ITEMS (Data Entry)'!H\",IFERROR(SUM(MATCH(A100,'UNITCOST ITEMS (Data Entry)'!$A$3:$A$504,0),2),\"\"))),\"\")=0,\"\",IFERROR(INDIRECT(CONCATENATE(\"'UNITCOST ITEMS (Data Entry)'!H\",IFERROR(SUM(MATCH(A100,'UNITCOST ITEMS (Data Entry)'!$A$3:$A$504,0),2),\"\"))),\"\"))","v":""},{"$f":"IF(IFERROR(INDIRECT(CONCATENATE(\"'UNITCOST ITEMS (Data Entry)'!I\",IFERROR(SUM(MATCH(A100,'UNITCOST ITEMS (Data Entry)'!$A$3:$A$504,0),2),\"\"))),\"\")=0,\"\",IFERROR(INDIRECT(CONCATENATE(\"'UNITCOST ITEMS (Data Entry)'!I\",IFERROR(SUM(MATCH(A100,'UNITCOST ITEMS (Data Entry)'!$A$3:$A$504,0),2),\"\"))),\"\"))","v":""},{"$f":"IF(K100=2,\"\",IF(IFERROR(INDIRECT(CONCATENATE(\"'UNITCOST ITEMS (Data Entry)'!J\",IFERROR(SUM(MATCH(A100,'UNITCOST ITEMS (Data Entry)'!$A$3:$A$504,0),2),\"\"))),\"\")=0,\"\",IFERROR(INDIRECT(CONCATENATE(\"'UNITCOST ITEMS (Data Entry)'!J\",IFERROR(SUM(MATCH(A100,'UNITCOST ITEMS (Data Entry)'!$A$3:$A$504,0),2),\"\"))),\"\")))","v":""},null,{"$f":"IF(IFERROR(INDIRECT(CONCATENATE(\"'UNITCOST ITEMS (Data Entry)'!C\",IFERROR(SUM(MATCH(A100,'UNITCOST ITEMS (Data Entry)'!$A$3:$A$504,0),2),\"\"))),\"\")=0,\"\",IFERROR(INDIRECT(CONCATENATE(\"'UNITCOST ITEMS (Data Entry)'!C\",IFERROR(SUM(MATCH(A100,'UNITCOST ITEMS (Data Entry)'!$A$3:$A$504,0),2),\"\"))),\"\"))","v":""},""]
[93,{"$f":"IF(IFERROR(INDIRECT(CONCATENATE(\"'UNITCOST ITEMS (Data Entry)'!D\",IFERROR(SUM(MATCH(A101,'UNITCOST ITEMS (Data Entry)'!$A$3:$A$504,0),2),\"\"))),\"\")=0,\"\",IFERROR(INDIRECT(CONCATENATE(\"'UNITCOST ITEMS (Data Entry)'!D\",IFERROR(SUM(MATCH(A101,'UNITCOST ITEMS (Data Entry)'!$A$3:$A$504,0),2),\"\"))),\"\"))","v":""},{"$f":"IF(IFERROR(INDIRECT(CONCATENATE(\"'UNITCOST ITEMS (Data Entry)'!E\",IFERROR(SUM(MATCH(A101,'UNITCOST ITEMS (Data Entry)'!$A$3:$A$504,0),2),\"\"))),\"\")=0,\"\",IFERROR(INDIRECT(CONCATENATE(\"'UNITCOST ITEMS (Data Entry)'!E\",IFERROR(SUM(MATCH(A101,'UNITCOST ITEMS (Data Entry)'!$A$3:$A$504,0),2),\"\"))),\"\"))","v":""},null,{"$f":"IF(IFERROR(INDIRECT(CONCATENATE(\"'UNITCOST ITEMS (Data Entry)'!F\",IFERROR(SUM(MATCH(A101,'UNITCOST ITEMS (Data Entry)'!$A$3:$A$504,0),2),\"\"))),\"\")=0,\"\",IFERROR(INDIRECT(CONCATENATE(\"'UNITCOST ITEMS (Data Entry)'!F\",IFERROR(SUM(MATCH(A101,'UNITCOST ITEMS (Data Entry)'!$A$3:$A$504,0),2),\"\"))),\"\"))","v":""},{"$f":"IF(IFERROR(INDIRECT(CONCATENATE(\"'UNITCOST ITEMS (Data Entry)'!G\",IFERROR(SUM(MATCH(A101,'UNITCOST ITEMS (Data Entry)'!$A$3:$A$504,0),2),\"\"))),\"\")=0,\"\",IFERROR(INDIRECT(CONCATENATE(\"'UNITCOST ITEMS (Data Entry)'!G\",IFERROR(SUM(MATCH(A101,'UNITCOST ITEMS (Data Entry)'!$A$3:$A$504,0),2),\"\"))),\"\"))","v":""},{"$f":"IF(IFERROR(INDIRECT(CONCATENATE(\"'UNITCOST ITEMS (Data Entry)'!H\",IFERROR(SUM(MATCH(A101,'UNITCOST ITEMS (Data Entry)'!$A$3:$A$504,0),2),\"\"))),\"\")=0,\"\",IFERROR(INDIRECT(CONCATENATE(\"'UNITCOST ITEMS (Data Entry)'!H\",IFERROR(SUM(MATCH(A101,'UNITCOST ITEMS (Data Entry)'!$A$3:$A$504,0),2),\"\"))),\"\"))","v":""},{"$f":"IF(IFERROR(INDIRECT(CONCATENATE(\"'UNITCOST ITEMS (Data Entry)'!I\",IFERROR(SUM(MATCH(A101,'UNITCOST ITEMS (Data Entry)'!$A$3:$A$504,0),2),\"\"))),\"\")=0,\"\",IFERROR(INDIRECT(CONCATENATE(\"'UNITCOST ITEMS (Data Entry)'!I\",IFERROR(SUM(MATCH(A101,'UNITCOST ITEMS (Data Entry)'!$A$3:$A$504,0),2),\"\"))),\"\"))","v":""},{"$f":"IF(K101=2,\"\",IF(IFERROR(INDIRECT(CONCATENATE(\"'UNITCOST ITEMS (Data Entry)'!J\",IFERROR(SUM(MATCH(A101,'UNITCOST ITEMS (Data Entry)'!$A$3:$A$504,0),2),\"\"))),\"\")=0,\"\",IFERROR(INDIRECT(CONCATENATE(\"'UNITCOST ITEMS (Data Entry)'!J\",IFERROR(SUM(MATCH(A101,'UNITCOST ITEMS (Data Entry)'!$A$3:$A$504,0),2),\"\"))),\"\")))","v":""},null,{"$f":"IF(IFERROR(INDIRECT(CONCATENATE(\"'UNITCOST ITEMS (Data Entry)'!C\",IFERROR(SUM(MATCH(A101,'UNITCOST ITEMS (Data Entry)'!$A$3:$A$504,0),2),\"\"))),\"\")=0,\"\",IFERROR(INDIRECT(CONCATENATE(\"'UNITCOST ITEMS (Data Entry)'!C\",IFERROR(SUM(MATCH(A101,'UNITCOST ITEMS (Data Entry)'!$A$3:$A$504,0),2),\"\"))),\"\"))","v":""},""]
[94,{"$f":"IF(IFERROR(INDIRECT(CONCATENATE(\"'UNITCOST ITEMS (Data Entry)'!D\",IFERROR(SUM(MATCH(A102,'UNITCOST ITEMS (Data Entry)'!$A$3:$A$504,0),2),\"\"))),\"\")=0,\"\",IFERROR(INDIRECT(CONCATENATE(\"'UNITCOST ITEMS (Data Entry)'!D\",IFERROR(SUM(MATCH(A102,'UNITCOST ITEMS (Data Entry)'!$A$3:$A$504,0),2),\"\"))),\"\"))","v":""},{"$f":"IF(IFERROR(INDIRECT(CONCATENATE(\"'UNITCOST ITEMS (Data Entry)'!E\",IFERROR(SUM(MATCH(A102,'UNITCOST ITEMS (Data Entry)'!$A$3:$A$504,0),2),\"\"))),\"\")=0,\"\",IFERROR(INDIRECT(CONCATENATE(\"'UNITCOST ITEMS (Data Entry)'!E\",IFERROR(SUM(MATCH(A102,'UNITCOST ITEMS (Data Entry)'!$A$3:$A$504,0),2),\"\"))),\"\"))","v":""},null,{"$f":"IF(IFERROR(INDIRECT(CONCATENATE(\"'UNITCOST ITEMS (Data Entry)'!F\",IFERROR(SUM(MATCH(A102,'UNITCOST ITEMS (Data Entry)'!$A$3:$A$504,0),2),\"\"))),\"\")=0,\"\",IFERROR(INDIRECT(CONCATENATE(\"'UNITCOST ITEMS (Data Entry)'!F\",IFERROR(SUM(MATCH(A102,'UNITCOST ITEMS (Data Entry)'!$A$3:$A$504,0),2),\"\"))),\"\"))","v":""},{"$f":"IF(IFERROR(INDIRECT(CONCATENATE(\"'UNITCOST ITEMS (Data Entry)'!G\",IFERROR(SUM(MATCH(A102,'UNITCOST ITEMS (Data Entry)'!$A$3:$A$504,0),2),\"\"))),\"\")=0,\"\",IFERROR(INDIRECT(CONCATENATE(\"'UNITCOST ITEMS (Data Entry)'!G\",IFERROR(SUM(MATCH(A102,'UNITCOST ITEMS (Data Entry)'!$A$3:$A$504,0),2),\"\"))),\"\"))","v":""},{"$f":"IF(IFERROR(INDIRECT(CONCATENATE(\"'UNITCOST ITEMS (Data Entry)'!H\",IFERROR(SUM(MATCH(A102,'UNITCOST ITEMS (Data Entry)'!$A$3:$A$504,0),2),\"\"))),\"\")=0,\"\",IFERROR(INDIRECT(CONCATENATE(\"'UNITCOST ITEMS (Data Entry)'!H\",IFERROR(SUM(MATCH(A102,'UNITCOST ITEMS (Data Entry)'!$A$3:$A$504,0),2),\"\"))),\"\"))","v":""},{"$f":"IF(IFERROR(INDIRECT(CONCATENATE(\"'UNITCOST ITEMS (Data Entry)'!I\",IFERROR(SUM(MATCH(A102,'UNITCOST ITEMS (Data Entry)'!$A$3:$A$504,0),2),\"\"))),\"\")=0,\"\",IFERROR(INDIRECT(CONCATENATE(\"'UNITCOST ITEMS (Data Entry)'!I\",IFERROR(SUM(MATCH(A102,'UNITCOST ITEMS (Data Entry)'!$A$3:$A$504,0),2),\"\"))),\"\"))","v":""},{"$f":"IF(K102=2,\"\",IF(IFERROR(INDIRECT(CONCATENATE(\"'UNITCOST ITEMS (Data Entry)'!J\",IFERROR(SUM(MATCH(A102,'UNITCOST ITEMS (Data Entry)'!$A$3:$A$504,0),2),\"\"))),\"\")=0,\"\",IFERROR(INDIRECT(CONCATENATE(\"'UNITCOST ITEMS (Data Entry)'!J\",IFERROR(SUM(MATCH(A102,'UNITCOST ITEMS (Data Entry)'!$A$3:$A$504,0),2),\"\"))),\"\")))","v":""},null,{"$f":"IF(IFERROR(INDIRECT(CONCATENATE(\"'UNITCOST ITEMS (Data Entry)'!C\",IFERROR(SUM(MATCH(A102,'UNITCOST ITEMS (Data Entry)'!$A$3:$A$504,0),2),\"\"))),\"\")=0,\"\",IFERROR(INDIRECT(CONCATENATE(\"'UNITCOST ITEMS (Data Entry)'!C\",IFERROR(SUM(MATCH(A102,'UNITCOST ITEMS (Data Entry)'!$A$3:$A$504,0),2),\"\"))),\"\"))","v":""},""]
[95,{"$f":"IF(IFERROR(INDIRECT(CONCATENATE(\"'UNITCOST ITEMS (Data Entry)'!D\",IFERROR(SUM(MATCH(A103,'UNITCOST ITEMS (Data Entry)'!$A$3:$A$504,0),2),\"\"))),\"\")=0,\"\",IFERROR(INDIRECT(CONCATENATE(\"'UNITCOST ITEMS (Data Entry)'!D\",IFERROR(SUM(MATCH(A103,'UNITCOST ITEMS (Data Entry)'!$A$3:$A$504,0),2),\"\"))),\"\"))","v":""},{"$f":"IF(IFERROR(INDIRECT(CONCATENATE(\"'UNITCOST ITEMS (Data Entry)'!E\",IFERROR(SUM(MATCH(A103,'UNITCOST ITEMS (Data Entry)'!$A$3:$A$504,0),2),\"\"))),\"\")=0,\"\",IFERROR(INDIRECT(CONCATENATE(\"'UNITCOST ITEMS (Data Entry)'!E\",IFERROR(SUM(MATCH(A103,'UNITCOST ITEMS (Data Entry)'!$A$3:$A$504,0),2),\"\"))),\"\"))","v":""},null,{"$f":"IF(IFERROR(INDIRECT(CONCATENATE(\"'UNITCOST ITEMS (Data Entry)'!F\",IFERROR(SUM(MATCH(A103,'UNITCOST ITEMS (Data Entry)'!$A$3:$A$504,0),2),\"\"))),\"\")=0,\"\",IFERROR(INDIRECT(CONCATENATE(\"'UNITCOST ITEMS (Data Entry)'!F\",IFERROR(SUM(MATCH(A103,'UNITCOST ITEMS (Data Entry)'!$A$3:$A$504,0),2),\"\"))),\"\"))","v":""},{"$f":"IF(IFERROR(INDIRECT(CONCATENATE(\"'UNITCOST ITEMS (Data Entry)'!G\",IFERROR(SUM(MATCH(A103,'UNITCOST ITEMS (Data Entry)'!$A$3:$A$504,0),2),\"\"))),\"\")=0,\"\",IFERROR(INDIRECT(CONCATENATE(\"'UNITCOST ITEMS (Data Entry)'!G\",IFERROR(SUM(MATCH(A103,'UNITCOST ITEMS (Data Entry)'!$A$3:$A$504,0),2),\"\"))),\"\"))","v":""},{"$f":"IF(IFERROR(INDIRECT(CONCATENATE(\"'UNITCOST ITEMS (Data Entry)'!H\",IFERROR(SUM(MATCH(A103,'UNITCOST ITEMS (Data Entry)'!$A$3:$A$504,0),2),\"\"))),\"\")=0,\"\",IFERROR(INDIRECT(CONCATENATE(\"'UNITCOST ITEMS (Data Entry)'!H\",IFERROR(SUM(MATCH(A103,'UNITCOST ITEMS (Data Entry)'!$A$3:$A$504,0),2),\"\"))),\"\"))","v":""},{"$f":"IF(IFERROR(INDIRECT(CONCATENATE(\"'UNITCOST ITEMS (Data Entry)'!I\",IFERROR(SUM(MATCH(A103,'UNITCOST ITEMS (Data Entry)'!$A$3:$A$504,0),2),\"\"))),\"\")=0,\"\",IFERROR(INDIRECT(CONCATENATE(\"'UNITCOST ITEMS (Data Entry)'!I\",IFERROR(SUM(MATCH(A103,'UNITCOST ITEMS (Data Entry)'!$A$3:$A$504,0),2),\"\"))),\"\"))","v":""},{"$f":"IF(K103=2,\"\",IF(IFERROR(INDIRECT(CONCATENATE(\"'UNITCOST ITEMS (Data Entry)'!J\",IFERROR(SUM(MATCH(A103,'UNITCOST ITEMS (Data Entry)'!$A$3:$A$504,0),2),\"\"))),\"\")=0,\"\",IFERROR(INDIRECT(CONCATENATE(\"'UNITCOST ITEMS (Data Entry)'!J\",IFERROR(SUM(MATCH(A103,'UNITCOST ITEMS (Data Entry)'!$A$3:$A$504,0),2),\"\"))),\"\")))","v":""},null,{"$f":"IF(IFERROR(INDIRECT(CONCATENATE(\"'UNITCOST ITEMS (Data Entry)'!C\",IFERROR(SUM(MATCH(A103,'UNITCOST ITEMS (Data Entry)'!$A$3:$A$504,0),2),\"\"))),\"\")=0,\"\",IFERROR(INDIRECT(CONCATENATE(\"'UNITCOST ITEMS (Data Entry)'!C\",IFERROR(SUM(MATCH(A103,'UNITCOST ITEMS (Data Entry)'!$A$3:$A$504,0),2),\"\"))),\"\"))","v":""},""]
[96,{"$f":"IF(IFERROR(INDIRECT(CONCATENATE(\"'UNITCOST ITEMS (Data Entry)'!D\",IFERROR(SUM(MATCH(A104,'UNITCOST ITEMS (Data Entry)'!$A$3:$A$504,0),2),\"\"))),\"\")=0,\"\",IFERROR(INDIRECT(CONCATENATE(\"'UNITCOST ITEMS (Data Entry)'!D\",IFERROR(SUM(MATCH(A104,'UNITCOST ITEMS (Data Entry)'!$A$3:$A$504,0),2),\"\"))),\"\"))","v":""},{"$f":"IF(IFERROR(INDIRECT(CONCATENATE(\"'UNITCOST ITEMS (Data Entry)'!E\",IFERROR(SUM(MATCH(A104,'UNITCOST ITEMS (Data Entry)'!$A$3:$A$504,0),2),\"\"))),\"\")=0,\"\",IFERROR(INDIRECT(CONCATENATE(\"'UNITCOST ITEMS (Data Entry)'!E\",IFERROR(SUM(MATCH(A104,'UNITCOST ITEMS (Data Entry)'!$A$3:$A$504,0),2),\"\"))),\"\"))","v":""},null,{"$f":"IF(IFERROR(INDIRECT(CONCATENATE(\"'UNITCOST ITEMS (Data Entry)'!F\",IFERROR(SUM(MATCH(A104,'UNITCOST ITEMS (Data Entry)'!$A$3:$A$504,0),2),\"\"))),\"\")=0,\"\",IFERROR(INDIRECT(CONCATENATE(\"'UNITCOST ITEMS (Data Entry)'!F\",IFERROR(SUM(MATCH(A104,'UNITCOST ITEMS (Data Entry)'!$A$3:$A$504,0),2),\"\"))),\"\"))","v":""},{"$f":"IF(IFERROR(INDIRECT(CONCATENATE(\"'UNITCOST ITEMS (Data Entry)'!G\",IFERROR(SUM(MATCH(A104,'UNITCOST ITEMS (Data Entry)'!$A$3:$A$504,0),2),\"\"))),\"\")=0,\"\",IFERROR(INDIRECT(CONCATENATE(\"'UNITCOST ITEMS (Data Entry)'!G\",IFERROR(SUM(MATCH(A104,'UNITCOST ITEMS (Data Entry)'!$A$3:$A$504,0),2),\"\"))),\"\"))","v":""},{"$f":"IF(IFERROR(INDIRECT(CONCATENATE(\"'UNITCOST ITEMS (Data Entry)'!H\",IFERROR(SUM(MATCH(A104,'UNITCOST ITEMS (Data Entry)'!$A$3:$A$504,0),2),\"\"))),\"\")=0,\"\",IFERROR(INDIRECT(CONCATENATE(\"'UNITCOST ITEMS (Data Entry)'!H\",IFERROR(SUM(MATCH(A104,'UNITCOST ITEMS (Data Entry)'!$A$3:$A$504,0),2),\"\"))),\"\"))","v":""},{"$f":"IF(IFERROR(INDIRECT(CONCATENATE(\"'UNITCOST ITEMS (Data Entry)'!I\",IFERROR(SUM(MATCH(A104,'UNITCOST ITEMS (Data Entry)'!$A$3:$A$504,0),2),\"\"))),\"\")=0,\"\",IFERROR(INDIRECT(CONCATENATE(\"'UNITCOST ITEMS (Data Entry)'!I\",IFERROR(SUM(MATCH(A104,'UNITCOST ITEMS (Data Entry)'!$A$3:$A$504,0),2),\"\"))),\"\"))","v":""},{"$f":"IF(K104=2,\"\",IF(IFERROR(INDIRECT(CONCATENATE(\"'UNITCOST ITEMS (Data Entry)'!J\",IFERROR(SUM(MATCH(A104,'UNITCOST ITEMS (Data Entry)'!$A$3:$A$504,0),2),\"\"))),\"\")=0,\"\",IFERROR(INDIRECT(CONCATENATE(\"'UNITCOST ITEMS (Data Entry)'!J\",IFERROR(SUM(MATCH(A104,'UNITCOST ITEMS (Data Entry)'!$A$3:$A$504,0),2),\"\"))),\"\")))","v":""},null,{"$f":"IF(IFERROR(INDIRECT(CONCATENATE(\"'UNITCOST ITEMS (Data Entry)'!C\",IFERROR(SUM(MATCH(A104,'UNITCOST ITEMS (Data Entry)'!$A$3:$A$504,0),2),\"\"))),\"\")=0,\"\",IFERROR(INDIRECT(CONCATENATE(\"'UNITCOST ITEMS (Data Entry)'!C\",IFERROR(SUM(MATCH(A104,'UNITCOST ITEMS (Data Entry)'!$A$3:$A$504,0),2),\"\"))),\"\"))","v":""},""]
[97,{"$f":"IF(IFERROR(INDIRECT(CONCATENATE(\"'UNITCOST ITEMS (Data Entry)'!D\",IFERROR(SUM(MATCH(A105,'UNITCOST ITEMS (Data Entry)'!$A$3:$A$504,0),2),\"\"))),\"\")=0,\"\",IFERROR(INDIRECT(CONCATENATE(\"'UNITCOST ITEMS (Data Entry)'!D\",IFERROR(SUM(MATCH(A105,'UNITCOST ITEMS (Data Entry)'!$A$3:$A$504,0),2),\"\"))),\"\"))","v":""},{"$f":"IF(IFERROR(INDIRECT(CONCATENATE(\"'UNITCOST ITEMS (Data Entry)'!E\",IFERROR(SUM(MATCH(A105,'UNITCOST ITEMS (Data Entry)'!$A$3:$A$504,0),2),\"\"))),\"\")=0,\"\",IFERROR(INDIRECT(CONCATENATE(\"'UNITCOST ITEMS (Data Entry)'!E\",IFERROR(SUM(MATCH(A105,'UNITCOST ITEMS (Data Entry)'!$A$3:$A$504,0),2),\"\"))),\"\"))","v":""},null,{"$f":"IF(IFERROR(INDIRECT(CONCATENATE(\"'UNITCOST ITEMS (Data Entry)'!F\",IFERROR(SUM(MATCH(A105,'UNITCOST ITEMS (Data Entry)'!$A$3:$A$504,0),2),\"\"))),\"\")=0,\"\",IFERROR(INDIRECT(CONCATENATE(\"'UNITCOST ITEMS (Data Entry)'!F\",IFERROR(SUM(MATCH(A105,'UNITCOST ITEMS (Data Entry)'!$A$3:$A$504,0),2),\"\"))),\"\"))","v":""},{"$f":"IF(IFERROR(INDIRECT(CONCATENATE(\"'UNITCOST ITEMS (Data Entry)'!G\",IFERROR(SUM(MATCH(A105,'UNITCOST ITEMS (Data Entry)'!$A$3:$A$504,0),2),\"\"))),\"\")=0,\"\",IFERROR(INDIRECT(CONCATENATE(\"'UNITCOST ITEMS (Data Entry)'!G\",IFERROR(SUM(MATCH(A105,'UNITCOST ITEMS (Data Entry)'!$A$3:$A$504,0),2),\"\"))),\"\"))","v":""},{"$f":"IF(IFERROR(INDIRECT(CONCATENATE(\"'UNITCOST ITEMS (Data Entry)'!H\",IFERROR(SUM(MATCH(A105,'UNITCOST ITEMS (Data Entry)'!$A$3:$A$504,0),2),\"\"))),\"\")=0,\"\",IFERROR(INDIRECT(CONCATENATE(\"'UNITCOST ITEMS (Data Entry)'!H\",IFERROR(SUM(MATCH(A105,'UNITCOST ITEMS (Data Entry)'!$A$3:$A$504,0),2),\"\"))),\"\"))","v":""},{"$f":"IF(IFERROR(INDIRECT(CONCATENATE(\"'UNITCOST ITEMS (Data Entry)'!I\",IFERROR(SUM(MATCH(A105,'UNITCOST ITEMS (Data Entry)'!$A$3:$A$504,0),2),\"\"))),\"\")=0,\"\",IFERROR(INDIRECT(CONCATENATE(\"'UNITCOST ITEMS (Data Entry)'!I\",IFERROR(SUM(MATCH(A105,'UNITCOST ITEMS (Data Entry)'!$A$3:$A$504,0),2),\"\"))),\"\"))","v":""},{"$f":"IF(K105=2,\"\",IF(IFERROR(INDIRECT(CONCATENATE(\"'UNITCOST ITEMS (Data Entry)'!J\",IFERROR(SUM(MATCH(A105,'UNITCOST ITEMS (Data Entry)'!$A$3:$A$504,0),2),\"\"))),\"\")=0,\"\",IFERROR(INDIRECT(CONCATENATE(\"'UNITCOST ITEMS (Data Entry)'!J\",IFERROR(SUM(MATCH(A105,'UNITCOST ITEMS (Data Entry)'!$A$3:$A$504,0),2),\"\"))),\"\")))","v":""},null,{"$f":"IF(IFERROR(INDIRECT(CONCATENATE(\"'UNITCOST ITEMS (Data Entry)'!C\",IFERROR(SUM(MATCH(A105,'UNITCOST ITEMS (Data Entry)'!$A$3:$A$504,0),2),\"\"))),\"\")=0,\"\",IFERROR(INDIRECT(CONCATENATE(\"'UNITCOST ITEMS (Data Entry)'!C\",IFERROR(SUM(MATCH(A105,'UNITCOST ITEMS (Data Entry)'!$A$3:$A$504,0),2),\"\"))),\"\"))","v":""},""]
[98,{"$f":"IF(IFERROR(INDIRECT(CONCATENATE(\"'UNITCOST ITEMS (Data Entry)'!D\",IFERROR(SUM(MATCH(A106,'UNITCOST ITEMS (Data Entry)'!$A$3:$A$504,0),2),\"\"))),\"\")=0,\"\",IFERROR(INDIRECT(CONCATENATE(\"'UNITCOST ITEMS (Data Entry)'!D\",IFERROR(SUM(MATCH(A106,'UNITCOST ITEMS (Data Entry)'!$A$3:$A$504,0),2),\"\"))),\"\"))","v":""},{"$f":"IF(IFERROR(INDIRECT(CONCATENATE(\"'UNITCOST ITEMS (Data Entry)'!E\",IFERROR(SUM(MATCH(A106,'UNITCOST ITEMS (Data Entry)'!$A$3:$A$504,0),2),\"\"))),\"\")=0,\"\",IFERROR(INDIRECT(CONCATENATE(\"'UNITCOST ITEMS (Data Entry)'!E\",IFERROR(SUM(MATCH(A106,'UNITCOST ITEMS (Data Entry)'!$A$3:$A$504,0),2),\"\"))),\"\"))","v":""},null,{"$f":"IF(IFERROR(INDIRECT(CONCATENATE(\"'UNITCOST ITEMS (Data Entry)'!F\",IFERROR(SUM(MATCH(A106,'UNITCOST ITEMS (Data Entry)'!$A$3:$A$504,0),2),\"\"))),\"\")=0,\"\",IFERROR(INDIRECT(CONCATENATE(\"'UNITCOST ITEMS (Data Entry)'!F\",IFERROR(SUM(MATCH(A106,'UNITCOST ITEMS (Data Entry)'!$A$3:$A$504,0),2),\"\"))),\"\"))","v":""},{"$f":"IF(IFERROR(INDIRECT(CONCATENATE(\"'UNITCOST ITEMS (Data Entry)'!G\",IFERROR(SUM(MATCH(A106,'UNITCOST ITEMS (Data Entry)'!$A$3:$A$504,0),2),\"\"))),\"\")=0,\"\",IFERROR(INDIRECT(CONCATENATE(\"'UNITCOST ITEMS (Data Entry)'!G\",IFERROR(SUM(MATCH(A106,'UNITCOST ITEMS (Data Entry)'!$A$3:$A$504,0),2),\"\"))),\"\"))","v":""},{"$f":"IF(IFERROR(INDIRECT(CONCATENATE(\"'UNITCOST ITEMS (Data Entry)'!H\",IFERROR(SUM(MATCH(A106,'UNITCOST ITEMS (Data Entry)'!$A$3:$A$504,0),2),\"\"))),\"\")=0,\"\",IFERROR(INDIRECT(CONCATENATE(\"'UNITCOST ITEMS (Data Entry)'!H\",IFERROR(SUM(MATCH(A106,'UNITCOST ITEMS (Data Entry)'!$A$3:$A$504,0),2),\"\"))),\"\"))","v":""},{"$f":"IF(IFERROR(INDIRECT(CONCATENATE(\"'UNITCOST ITEMS (Data Entry)'!I\",IFERROR(SUM(MATCH(A106,'UNITCOST ITEMS (Data Entry)'!$A$3:$A$504,0),2),\"\"))),\"\")=0,\"\",IFERROR(INDIRECT(CONCATENATE(\"'UNITCOST ITEMS (Data Entry)'!I\",IFERROR(SUM(MATCH(A106,'UNITCOST ITEMS (Data Entry)'!$A$3:$A$504,0),2),\"\"))),\"\"))","v":""},{"$f":"IF(K106=2,\"\",IF(IFERROR(INDIRECT(CONCATENATE(\"'UNITCOST ITEMS (Data Entry)'!J\",IFERROR(SUM(MATCH(A106,'UNITCOST ITEMS (Data Entry)'!$A$3:$A$504,0),2),\"\"))),\"\")=0,\"\",IFERROR(INDIRECT(CONCATENATE(\"'UNITCOST ITEMS (Data Entry)'!J\",IFERROR(SUM(MATCH(A106,'UNITCOST ITEMS (Data Entry)'!$A$3:$A$504,0),2),\"\"))),\"\")))","v":""},null,{"$f":"IF(IFERROR(INDIRECT(CONCATENATE(\"'UNITCOST ITEMS (Data Entry)'!C\",IFERROR(SUM(MATCH(A106,'UNITCOST ITEMS (Data Entry)'!$A$3:$A$504,0),2),\"\"))),\"\")=0,\"\",IFERROR(INDIRECT(CONCATENATE(\"'UNITCOST ITEMS (Data Entry)'!C\",IFERROR(SUM(MATCH(A106,'UNITCOST ITEMS (Data Entry)'!$A$3:$A$504,0),2),\"\"))),\"\"))","v":""},""]
[99,{"$f":"IF(IFERROR(INDIRECT(CONCATENATE(\"'UNITCOST ITEMS (Data Entry)'!D\",IFERROR(SUM(MATCH(A107,'UNITCOST ITEMS (Data Entry)'!$A$3:$A$504,0),2),\"\"))),\"\")=0,\"\",IFERROR(INDIRECT(CONCATENATE(\"'UNITCOST ITEMS (Data Entry)'!D\",IFERROR(SUM(MATCH(A107,'UNITCOST ITEMS (Data Entry)'!$A$3:$A$504,0),2),\"\"))),\"\"))","v":""},{"$f":"IF(IFERROR(INDIRECT(CONCATENATE(\"'UNITCOST ITEMS (Data Entry)'!E\",IFERROR(SUM(MATCH(A107,'UNITCOST ITEMS (Data Entry)'!$A$3:$A$504,0),2),\"\"))),\"\")=0,\"\",IFERROR(INDIRECT(CONCATENATE(\"'UNITCOST ITEMS (Data Entry)'!E\",IFERROR(SUM(MATCH(A107,'UNITCOST ITEMS (Data Entry)'!$A$3:$A$504,0),2),\"\"))),\"\"))","v":""},null,{"$f":"IF(IFERROR(INDIRECT(CONCATENATE(\"'UNITCOST ITEMS (Data Entry)'!F\",IFERROR(SUM(MATCH(A107,'UNITCOST ITEMS (Data Entry)'!$A$3:$A$504,0),2),\"\"))),\"\")=0,\"\",IFERROR(INDIRECT(CONCATENATE(\"'UNITCOST ITEMS (Data Entry)'!F\",IFERROR(SUM(MATCH(A107,'UNITCOST ITEMS (Data Entry)'!$A$3:$A$504,0),2),\"\"))),\"\"))","v":""},{"$f":"IF(IFERROR(INDIRECT(CONCATENATE(\"'UNITCOST ITEMS (Data Entry)'!G\",IFERROR(SUM(MATCH(A107,'UNITCOST ITEMS (Data Entry)'!$A$3:$A$504,0),2),\"\"))),\"\")=0,\"\",IFERROR(INDIRECT(CONCATENATE(\"'UNITCOST ITEMS (Data Entry)'!G\",IFERROR(SUM(MATCH(A107,'UNITCOST ITEMS (Data Entry)'!$A$3:$A$504,0),2),\"\"))),\"\"))","v":""},{"$f":"IF(IFERROR(INDIRECT(CONCATENATE(\"'UNITCOST ITEMS (Data Entry)'!H\",IFERROR(SUM(MATCH(A107,'UNITCOST ITEMS (Data Entry)'!$A$3:$A$504,0),2),\"\"))),\"\")=0,\"\",IFERROR(INDIRECT(CONCATENATE(\"'UNITCOST ITEMS (Data Entry)'!H\",IFERROR(SUM(MATCH(A107,'UNITCOST ITEMS (Data Entry)'!$A$3:$A$504,0),2),\"\"))),\"\"))","v":""},{"$f":"IF(IFERROR(INDIRECT(CONCATENATE(\"'UNITCOST ITEMS (Data Entry)'!I\",IFERROR(SUM(MATCH(A107,'UNITCOST ITEMS (Data Entry)'!$A$3:$A$504,0),2),\"\"))),\"\")=0,\"\",IFERROR(INDIRECT(CONCATENATE(\"'UNITCOST ITEMS (Data Entry)'!I\",IFERROR(SUM(MATCH(A107,'UNITCOST ITEMS (Data Entry)'!$A$3:$A$504,0),2),\"\"))),\"\"))","v":""},{"$f":"IF(K107=2,\"\",IF(IFERROR(INDIRECT(CONCATENATE(\"'UNITCOST ITEMS (Data Entry)'!J\",IFERROR(SUM(MATCH(A107,'UNITCOST ITEMS (Data Entry)'!$A$3:$A$504,0),2),\"\"))),\"\")=0,\"\",IFERROR(INDIRECT(CONCATENATE(\"'UNITCOST ITEMS (Data Entry)'!J\",IFERROR(SUM(MATCH(A107,'UNITCOST ITEMS (Data Entry)'!$A$3:$A$504,0),2),\"\"))),\"\")))","v":""},null,{"$f":"IF(IFERROR(INDIRECT(CONCATENATE(\"'UNITCOST ITEMS (Data Entry)'!C\",IFERROR(SUM(MATCH(A107,'UNITCOST ITEMS (Data Entry)'!$A$3:$A$504,0),2),\"\"))),\"\")=0,\"\",IFERROR(INDIRECT(CONCATENATE(\"'UNITCOST ITEMS (Data Entry)'!C\",IFERROR(SUM(MATCH(A107,'UNITCOST ITEMS (Data Entry)'!$A$3:$A$504,0),2),\"\"))),\"\"))","v":""},""]
[100,{"$f":"IF(IFERROR(INDIRECT(CONCATENATE(\"'UNITCOST ITEMS (Data Entry)'!D\",IFERROR(SUM(MATCH(A108,'UNITCOST ITEMS (Data Entry)'!$A$3:$A$504,0),2),\"\"))),\"\")=0,\"\",IFERROR(INDIRECT(CONCATENATE(\"'UNITCOST ITEMS (Data Entry)'!D\",IFERROR(SUM(MATCH(A108,'UNITCOST ITEMS (Data Entry)'!$A$3:$A$504,0),2),\"\"))),\"\"))","v":""},{"$f":"IF(IFERROR(INDIRECT(CONCATENATE(\"'UNITCOST ITEMS (Data Entry)'!E\",IFERROR(SUM(MATCH(A108,'UNITCOST ITEMS (Data Entry)'!$A$3:$A$504,0),2),\"\"))),\"\")=0,\"\",IFERROR(INDIRECT(CONCATENATE(\"'UNITCOST ITEMS (Data Entry)'!E\",IFERROR(SUM(MATCH(A108,'UNITCOST ITEMS (Data Entry)'!$A$3:$A$504,0),2),\"\"))),\"\"))","v":""},null,{"$f":"IF(IFERROR(INDIRECT(CONCATENATE(\"'UNITCOST ITEMS (Data Entry)'!F\",IFERROR(SUM(MATCH(A108,'UNITCOST ITEMS (Data Entry)'!$A$3:$A$504,0),2),\"\"))),\"\")=0,\"\",IFERROR(INDIRECT(CONCATENATE(\"'UNITCOST ITEMS (Data Entry)'!F\",IFERROR(SUM(MATCH(A108,'UNITCOST ITEMS (Data Entry)'!$A$3:$A$504,0),2),\"\"))),\"\"))","v":""},{"$f":"IF(IFERROR(INDIRECT(CONCATENATE(\"'UNITCOST ITEMS (Data Entry)'!G\",IFERROR(SUM(MATCH(A108,'UNITCOST ITEMS (Data Entry)'!$A$3:$A$504,0),2),\"\"))),\"\")=0,\"\",IFERROR(INDIRECT(CONCATENATE(\"'UNITCOST ITEMS (Data Entry)'!G\",IFERROR(SUM(MATCH(A108,'UNITCOST ITEMS (Data Entry)'!$A$3:$A$504,0),2),\"\"))),\"\"))","v":""},{"$f":"IF(IFERROR(INDIRECT(CONCATENATE(\"'UNITCOST ITEMS (Data Entry)'!H\",IFERROR(SUM(MATCH(A108,'UNITCOST ITEMS (Data Entry)'!$A$3:$A$504,0),2),\"\"))),\"\")=0,\"\",IFERROR(INDIRECT(CONCATENATE(\"'UNITCOST ITEMS (Data Entry)'!H\",IFERROR(SUM(MATCH(A108,'UNITCOST ITEMS (Data Entry)'!$A$3:$A$504,0),2),\"\"))),\"\"))","v":""},{"$f":"IF(IFERROR(INDIRECT(CONCATENATE(\"'UNITCOST ITEMS (Data Entry)'!I\",IFERROR(SUM(MATCH(A108,'UNITCOST ITEMS (Data Entry)'!$A$3:$A$504,0),2),\"\"))),\"\")=0,\"\",IFERROR(INDIRECT(CONCATENATE(\"'UNITCOST ITEMS (Data Entry)'!I\",IFERROR(SUM(MATCH(A108,'UNITCOST ITEMS (Data Entry)'!$A$3:$A$504,0),2),\"\"))),\"\"))","v":""},{"$f":"IF(K108=2,\"\",IF(IFERROR(INDIRECT(CONCATENATE(\"'UNITCOST ITEMS (Data Entry)'!J\",IFERROR(SUM(MATCH(A108,'UNITCOST ITEMS (Data Entry)'!$A$3:$A$504,0),2),\"\"))),\"\")=0,\"\",IFERROR(INDIRECT(CONCATENATE(\"'UNITCOST ITEMS (Data Entry)'!J\",IFERROR(SUM(MATCH(A108,'UNITCOST ITEMS (Data Entry)'!$A$3:$A$504,0),2),\"\"))),\"\")))","v":""},null,{"$f":"IF(IFERROR(INDIRECT(CONCATENATE(\"'UNITCOST ITEMS (Data Entry)'!C\",IFERROR(SUM(MATCH(A108,'UNITCOST ITEMS (Data Entry)'!$A$3:$A$504,0),2),\"\"))),\"\")=0,\"\",IFERROR(INDIRECT(CONCATENATE(\"'UNITCOST ITEMS (Data Entry)'!C\",IFERROR(SUM(MATCH(A108,'UNITCOST ITEMS (Data Entry)'!$A$3:$A$504,0),2),\"\"))),\"\"))","v":""},""]
[101,{"$f":"IF(IFERROR(INDIRECT(CONCATENATE(\"'UNITCOST ITEMS (Data Entry)'!D\",IFERROR(SUM(MATCH(A109,'UNITCOST ITEMS (Data Entry)'!$A$3:$A$504,0),2),\"\"))),\"\")=0,\"\",IFERROR(INDIRECT(CONCATENATE(\"'UNITCOST ITEMS (Data Entry)'!D\",IFERROR(SUM(MATCH(A109,'UNITCOST ITEMS (Data Entry)'!$A$3:$A$504,0),2),\"\"))),\"\"))","v":""},{"$f":"IF(IFERROR(INDIRECT(CONCATENATE(\"'UNITCOST ITEMS (Data Entry)'!E\",IFERROR(SUM(MATCH(A109,'UNITCOST ITEMS (Data Entry)'!$A$3:$A$504,0),2),\"\"))),\"\")=0,\"\",IFERROR(INDIRECT(CONCATENATE(\"'UNITCOST ITEMS (Data Entry)'!E\",IFERROR(SUM(MATCH(A109,'UNITCOST ITEMS (Data Entry)'!$A$3:$A$504,0),2),\"\"))),\"\"))","v":""},null,{"$f":"IF(IFERROR(INDIRECT(CONCATENATE(\"'UNITCOST ITEMS (Data Entry)'!F\",IFERROR(SUM(MATCH(A109,'UNITCOST ITEMS (Data Entry)'!$A$3:$A$504,0),2),\"\"))),\"\")=0,\"\",IFERROR(INDIRECT(CONCATENATE(\"'UNITCOST ITEMS (Data Entry)'!F\",IFERROR(SUM(MATCH(A109,'UNITCOST ITEMS (Data Entry)'!$A$3:$A$504,0),2),\"\"))),\"\"))","v":""},{"$f":"IF(IFERROR(INDIRECT(CONCATENATE(\"'UNITCOST ITEMS (Data Entry)'!G\",IFERROR(SUM(MATCH(A109,'UNITCOST ITEMS (Data Entry)'!$A$3:$A$504,0),2),\"\"))),\"\")=0,\"\",IFERROR(INDIRECT(CONCATENATE(\"'UNITCOST ITEMS (Data Entry)'!G\",IFERROR(SUM(MATCH(A109,'UNITCOST ITEMS (Data Entry)'!$A$3:$A$504,0),2),\"\"))),\"\"))","v":""},{"$f":"IF(IFERROR(INDIRECT(CONCATENATE(\"'UNITCOST ITEMS (Data Entry)'!H\",IFERROR(SUM(MATCH(A109,'UNITCOST ITEMS (Data Entry)'!$A$3:$A$504,0),2),\"\"))),\"\")=0,\"\",IFERROR(INDIRECT(CONCATENATE(\"'UNITCOST ITEMS (Data Entry)'!H\",IFERROR(SUM(MATCH(A109,'UNITCOST ITEMS (Data Entry)'!$A$3:$A$504,0),2),\"\"))),\"\"))","v":""},{"$f":"IF(IFERROR(INDIRECT(CONCATENATE(\"'UNITCOST ITEMS (Data Entry)'!I\",IFERROR(SUM(MATCH(A109,'UNITCOST ITEMS (Data Entry)'!$A$3:$A$504,0),2),\"\"))),\"\")=0,\"\",IFERROR(INDIRECT(CONCATENATE(\"'UNITCOST ITEMS (Data Entry)'!I\",IFERROR(SUM(MATCH(A109,'UNITCOST ITEMS (Data Entry)'!$A$3:$A$504,0),2),\"\"))),\"\"))","v":""},{"$f":"IF(K109=2,\"\",IF(IFERROR(INDIRECT(CONCATENATE(\"'UNITCOST ITEMS (Data Entry)'!J\",IFERROR(SUM(MATCH(A109,'UNITCOST ITEMS (Data Entry)'!$A$3:$A$504,0),2),\"\"))),\"\")=0,\"\",IFERROR(INDIRECT(CONCATENATE(\"'UNITCOST ITEMS (Data Entry)'!J\",IFERROR(SUM(MATCH(A109,'UNITCOST ITEMS (Data Entry)'!$A$3:$A$504,0),2),\"\"))),\"\")))","v":""},null,{"$f":"IF(IFERROR(INDIRECT(CONCATENATE(\"'UNITCOST ITEMS (Data Entry)'!C\",IFERROR(SUM(MATCH(A109,'UNITCOST ITEMS (Data Entry)'!$A$3:$A$504,0),2),\"\"))),\"\")=0,\"\",IFERROR(INDIRECT(CONCATENATE(\"'UNITCOST ITEMS (Data Entry)'!C\",IFERROR(SUM(MATCH(A109,'UNITCOST ITEMS (Data Entry)'!$A$3:$A$504,0),2),\"\"))),\"\"))","v":""},""]
[102,{"$f":"IF(IFERROR(INDIRECT(CONCATENATE(\"'UNITCOST ITEMS (Data Entry)'!D\",IFERROR(SUM(MATCH(A110,'UNITCOST ITEMS (Data Entry)'!$A$3:$A$504,0),2),\"\"))),\"\")=0,\"\",IFERROR(INDIRECT(CONCATENATE(\"'UNITCOST ITEMS (Data Entry)'!D\",IFERROR(SUM(MATCH(A110,'UNITCOST ITEMS (Data Entry)'!$A$3:$A$504,0),2),\"\"))),\"\"))","v":""},{"$f":"IF(IFERROR(INDIRECT(CONCATENATE(\"'UNITCOST ITEMS (Data Entry)'!E\",IFERROR(SUM(MATCH(A110,'UNITCOST ITEMS (Data Entry)'!$A$3:$A$504,0),2),\"\"))),\"\")=0,\"\",IFERROR(INDIRECT(CONCATENATE(\"'UNITCOST ITEMS (Data Entry)'!E\",IFERROR(SUM(MATCH(A110,'UNITCOST ITEMS (Data Entry)'!$A$3:$A$504,0),2),\"\"))),\"\"))","v":""},null,{"$f":"IF(IFERROR(INDIRECT(CONCATENATE(\"'UNITCOST ITEMS (Data Entry)'!F\",IFERROR(SUM(MATCH(A110,'UNITCOST ITEMS (Data Entry)'!$A$3:$A$504,0),2),\"\"))),\"\")=0,\"\",IFERROR(INDIRECT(CONCATENATE(\"'UNITCOST ITEMS (Data Entry)'!F\",IFERROR(SUM(MATCH(A110,'UNITCOST ITEMS (Data Entry)'!$A$3:$A$504,0),2),\"\"))),\"\"))","v":""},{"$f":"IF(IFERROR(INDIRECT(CONCATENATE(\"'UNITCOST ITEMS (Data Entry)'!G\",IFERROR(SUM(MATCH(A110,'UNITCOST ITEMS (Data Entry)'!$A$3:$A$504,0),2),\"\"))),\"\")=0,\"\",IFERROR(INDIRECT(CONCATENATE(\"'UNITCOST ITEMS (Data Entry)'!G\",IFERROR(SUM(MATCH(A110,'UNITCOST ITEMS (Data Entry)'!$A$3:$A$504,0),2),\"\"))),\"\"))","v":""},{"$f":"IF(IFERROR(INDIRECT(CONCATENATE(\"'UNITCOST ITEMS (Data Entry)'!H\",IFERROR(SUM(MATCH(A110,'UNITCOST ITEMS (Data Entry)'!$A$3:$A$504,0),2),\"\"))),\"\")=0,\"\",IFERROR(INDIRECT(CONCATENATE(\"'UNITCOST ITEMS (Data Entry)'!H\",IFERROR(SUM(MATCH(A110,'UNITCOST ITEMS (Data Entry)'!$A$3:$A$504,0),2),\"\"))),\"\"))","v":""},{"$f":"IF(IFERROR(INDIRECT(CONCATENATE(\"'UNITCOST ITEMS (Data Entry)'!I\",IFERROR(SUM(MATCH(A110,'UNITCOST ITEMS (Data Entry)'!$A$3:$A$504,0),2),\"\"))),\"\")=0,\"\",IFERROR(INDIRECT(CONCATENATE(\"'UNITCOST ITEMS (Data Entry)'!I\",IFERROR(SUM(MATCH(A110,'UNITCOST ITEMS (Data Entry)'!$A$3:$A$504,0),2),\"\"))),\"\"))","v":""},{"$f":"IF(K110=2,\"\",IF(IFERROR(INDIRECT(CONCATENATE(\"'UNITCOST ITEMS (Data Entry)'!J\",IFERROR(SUM(MATCH(A110,'UNITCOST ITEMS (Data Entry)'!$A$3:$A$504,0),2),\"\"))),\"\")=0,\"\",IFERROR(INDIRECT(CONCATENATE(\"'UNITCOST ITEMS (Data Entry)'!J\",IFERROR(SUM(MATCH(A110,'UNITCOST ITEMS (Data Entry)'!$A$3:$A$504,0),2),\"\"))),\"\")))","v":""},null,{"$f":"IF(IFERROR(INDIRECT(CONCATENATE(\"'UNITCOST ITEMS (Data Entry)'!C\",IFERROR(SUM(MATCH(A110,'UNITCOST ITEMS (Data Entry)'!$A$3:$A$504,0),2),\"\"))),\"\")=0,\"\",IFERROR(INDIRECT(CONCATENATE(\"'UNITCOST ITEMS (Data Entry)'!C\",IFERROR(SUM(MATCH(A110,'UNITCOST ITEMS (Data Entry)'!$A$3:$A$504,0),2),\"\"))),\"\"))","v":""},""]
[103,{"$f":"IF(IFERROR(INDIRECT(CONCATENATE(\"'UNITCOST ITEMS (Data Entry)'!D\",IFERROR(SUM(MATCH(A111,'UNITCOST ITEMS (Data Entry)'!$A$3:$A$504,0),2),\"\"))),\"\")=0,\"\",IFERROR(INDIRECT(CONCATENATE(\"'UNITCOST ITEMS (Data Entry)'!D\",IFERROR(SUM(MATCH(A111,'UNITCOST ITEMS (Data Entry)'!$A$3:$A$504,0),2),\"\"))),\"\"))","v":""},{"$f":"IF(IFERROR(INDIRECT(CONCATENATE(\"'UNITCOST ITEMS (Data Entry)'!E\",IFERROR(SUM(MATCH(A111,'UNITCOST ITEMS (Data Entry)'!$A$3:$A$504,0),2),\"\"))),\"\")=0,\"\",IFERROR(INDIRECT(CONCATENATE(\"'UNITCOST ITEMS (Data Entry)'!E\",IFERROR(SUM(MATCH(A111,'UNITCOST ITEMS (Data Entry)'!$A$3:$A$504,0),2),\"\"))),\"\"))","v":""},null,{"$f":"IF(IFERROR(INDIRECT(CONCATENATE(\"'UNITCOST ITEMS (Data Entry)'!F\",IFERROR(SUM(MATCH(A111,'UNITCOST ITEMS (Data Entry)'!$A$3:$A$504,0),2),\"\"))),\"\")=0,\"\",IFERROR(INDIRECT(CONCATENATE(\"'UNITCOST ITEMS (Data Entry)'!F\",IFERROR(SUM(MATCH(A111,'UNITCOST ITEMS (Data Entry)'!$A$3:$A$504,0),2),\"\"))),\"\"))","v":""},{"$f":"IF(IFERROR(INDIRECT(CONCATENATE(\"'UNITCOST ITEMS (Data Entry)'!G\",IFERROR(SUM(MATCH(A111,'UNITCOST ITEMS (Data Entry)'!$A$3:$A$504,0),2),\"\"))),\"\")=0,\"\",IFERROR(INDIRECT(CONCATENATE(\"'UNITCOST ITEMS (Data Entry)'!G\",IFERROR(SUM(MATCH(A111,'UNITCOST ITEMS (Data Entry)'!$A$3:$A$504,0),2),\"\"))),\"\"))","v":""},{"$f":"IF(IFERROR(INDIRECT(CONCATENATE(\"'UNITCOST ITEMS (Data Entry)'!H\",IFERROR(SUM(MATCH(A111,'UNITCOST ITEMS (Data Entry)'!$A$3:$A$504,0),2),\"\"))),\"\")=0,\"\",IFERROR(INDIRECT(CONCATENATE(\"'UNITCOST ITEMS (Data Entry)'!H\",IFERROR(SUM(MATCH(A111,'UNITCOST ITEMS (Data Entry)'!$A$3:$A$504,0),2),\"\"))),\"\"))","v":""},{"$f":"IF(IFERROR(INDIRECT(CONCATENATE(\"'UNITCOST ITEMS (Data Entry)'!I\",IFERROR(SUM(MATCH(A111,'UNITCOST ITEMS (Data Entry)'!$A$3:$A$504,0),2),\"\"))),\"\")=0,\"\",IFERROR(INDIRECT(CONCATENATE(\"'UNITCOST ITEMS (Data Entry)'!I\",IFERROR(SUM(MATCH(A111,'UNITCOST ITEMS (Data Entry)'!$A$3:$A$504,0),2),\"\"))),\"\"))","v":""},{"$f":"IF(K111=2,\"\",IF(IFERROR(INDIRECT(CONCATENATE(\"'UNITCOST ITEMS (Data Entry)'!J\",IFERROR(SUM(MATCH(A111,'UNITCOST ITEMS (Data Entry)'!$A$3:$A$504,0),2),\"\"))),\"\")=0,\"\",IFERROR(INDIRECT(CONCATENATE(\"'UNITCOST ITEMS (Data Entry)'!J\",IFERROR(SUM(MATCH(A111,'UNITCOST ITEMS (Data Entry)'!$A$3:$A$504,0),2),\"\"))),\"\")))","v":""},null,{"$f":"IF(IFERROR(INDIRECT(CONCATENATE(\"'UNITCOST ITEMS (Data Entry)'!C\",IFERROR(SUM(MATCH(A111,'UNITCOST ITEMS (Data Entry)'!$A$3:$A$504,0),2),\"\"))),\"\")=0,\"\",IFERROR(INDIRECT(CONCATENATE(\"'UNITCOST ITEMS (Data Entry)'!C\",IFERROR(SUM(MATCH(A111,'UNITCOST ITEMS (Data Entry)'!$A$3:$A$504,0),2),\"\"))),\"\"))","v":""},""]
[104,{"$f":"IF(IFERROR(INDIRECT(CONCATENATE(\"'UNITCOST ITEMS (Data Entry)'!D\",IFERROR(SUM(MATCH(A112,'UNITCOST ITEMS (Data Entry)'!$A$3:$A$504,0),2),\"\"))),\"\")=0,\"\",IFERROR(INDIRECT(CONCATENATE(\"'UNITCOST ITEMS (Data Entry)'!D\",IFERROR(SUM(MATCH(A112,'UNITCOST ITEMS (Data Entry)'!$A$3:$A$504,0),2),\"\"))),\"\"))","v":""},{"$f":"IF(IFERROR(INDIRECT(CONCATENATE(\"'UNITCOST ITEMS (Data Entry)'!E\",IFERROR(SUM(MATCH(A112,'UNITCOST ITEMS (Data Entry)'!$A$3:$A$504,0),2),\"\"))),\"\")=0,\"\",IFERROR(INDIRECT(CONCATENATE(\"'UNITCOST ITEMS (Data Entry)'!E\",IFERROR(SUM(MATCH(A112,'UNITCOST ITEMS (Data Entry)'!$A$3:$A$504,0),2),\"\"))),\"\"))","v":""},null,{"$f":"IF(IFERROR(INDIRECT(CONCATENATE(\"'UNITCOST ITEMS (Data Entry)'!F\",IFERROR(SUM(MATCH(A112,'UNITCOST ITEMS (Data Entry)'!$A$3:$A$504,0),2),\"\"))),\"\")=0,\"\",IFERROR(INDIRECT(CONCATENATE(\"'UNITCOST ITEMS (Data Entry)'!F\",IFERROR(SUM(MATCH(A112,'UNITCOST ITEMS (Data Entry)'!$A$3:$A$504,0),2),\"\"))),\"\"))","v":""},{"$f":"IF(IFERROR(INDIRECT(CONCATENATE(\"'UNITCOST ITEMS (Data Entry)'!G\",IFERROR(SUM(MATCH(A112,'UNITCOST ITEMS (Data Entry)'!$A$3:$A$504,0),2),\"\"))),\"\")=0,\"\",IFERROR(INDIRECT(CONCATENATE(\"'UNITCOST ITEMS (Data Entry)'!G\",IFERROR(SUM(MATCH(A112,'UNITCOST ITEMS (Data Entry)'!$A$3:$A$504,0),2),\"\"))),\"\"))","v":""},{"$f":"IF(IFERROR(INDIRECT(CONCATENATE(\"'UNITCOST ITEMS (Data Entry)'!H\",IFERROR(SUM(MATCH(A112,'UNITCOST ITEMS (Data Entry)'!$A$3:$A$504,0),2),\"\"))),\"\")=0,\"\",IFERROR(INDIRECT(CONCATENATE(\"'UNITCOST ITEMS (Data Entry)'!H\",IFERROR(SUM(MATCH(A112,'UNITCOST ITEMS (Data Entry)'!$A$3:$A$504,0),2),\"\"))),\"\"))","v":""},{"$f":"IF(IFERROR(INDIRECT(CONCATENATE(\"'UNITCOST ITEMS (Data Entry)'!I\",IFERROR(SUM(MATCH(A112,'UNITCOST ITEMS (Data Entry)'!$A$3:$A$504,0),2),\"\"))),\"\")=0,\"\",IFERROR(INDIRECT(CONCATENATE(\"'UNITCOST ITEMS (Data Entry)'!I\",IFERROR(SUM(MATCH(A112,'UNITCOST ITEMS (Data Entry)'!$A$3:$A$504,0),2),\"\"))),\"\"))","v":""},{"$f":"IF(K112=2,\"\",IF(IFERROR(INDIRECT(CONCATENATE(\"'UNITCOST ITEMS (Data Entry)'!J\",IFERROR(SUM(MATCH(A112,'UNITCOST ITEMS (Data Entry)'!$A$3:$A$504,0),2),\"\"))),\"\")=0,\"\",IFERROR(INDIRECT(CONCATENATE(\"'UNITCOST ITEMS (Data Entry)'!J\",IFERROR(SUM(MATCH(A112,'UNITCOST ITEMS (Data Entry)'!$A$3:$A$504,0),2),\"\"))),\"\")))","v":""},null,{"$f":"IF(IFERROR(INDIRECT(CONCATENATE(\"'UNITCOST ITEMS (Data Entry)'!C\",IFERROR(SUM(MATCH(A112,'UNITCOST ITEMS (Data Entry)'!$A$3:$A$504,0),2),\"\"))),\"\")=0,\"\",IFERROR(INDIRECT(CONCATENATE(\"'UNITCOST ITEMS (Data Entry)'!C\",IFERROR(SUM(MATCH(A112,'UNITCOST ITEMS (Data Entry)'!$A$3:$A$504,0),2),\"\"))),\"\"))","v":""},""]
[105,{"$f":"IF(IFERROR(INDIRECT(CONCATENATE(\"'UNITCOST ITEMS (Data Entry)'!D\",IFERROR(SUM(MATCH(A113,'UNITCOST ITEMS (Data Entry)'!$A$3:$A$504,0),2),\"\"))),\"\")=0,\"\",IFERROR(INDIRECT(CONCATENATE(\"'UNITCOST ITEMS (Data Entry)'!D\",IFERROR(SUM(MATCH(A113,'UNITCOST ITEMS (Data Entry)'!$A$3:$A$504,0),2),\"\"))),\"\"))","v":""},{"$f":"IF(IFERROR(INDIRECT(CONCATENATE(\"'UNITCOST ITEMS (Data Entry)'!E\",IFERROR(SUM(MATCH(A113,'UNITCOST ITEMS (Data Entry)'!$A$3:$A$504,0),2),\"\"))),\"\")=0,\"\",IFERROR(INDIRECT(CONCATENATE(\"'UNITCOST ITEMS (Data Entry)'!E\",IFERROR(SUM(MATCH(A113,'UNITCOST ITEMS (Data Entry)'!$A$3:$A$504,0),2),\"\"))),\"\"))","v":""},null,{"$f":"IF(IFERROR(INDIRECT(CONCATENATE(\"'UNITCOST ITEMS (Data Entry)'!F\",IFERROR(SUM(MATCH(A113,'UNITCOST ITEMS (Data Entry)'!$A$3:$A$504,0),2),\"\"))),\"\")=0,\"\",IFERROR(INDIRECT(CONCATENATE(\"'UNITCOST ITEMS (Data Entry)'!F\",IFERROR(SUM(MATCH(A113,'UNITCOST ITEMS (Data Entry)'!$A$3:$A$504,0),2),\"\"))),\"\"))","v":""},{"$f":"IF(IFERROR(INDIRECT(CONCATENATE(\"'UNITCOST ITEMS (Data Entry)'!G\",IFERROR(SUM(MATCH(A113,'UNITCOST ITEMS (Data Entry)'!$A$3:$A$504,0),2),\"\"))),\"\")=0,\"\",IFERROR(INDIRECT(CONCATENATE(\"'UNITCOST ITEMS (Data Entry)'!G\",IFERROR(SUM(MATCH(A113,'UNITCOST ITEMS (Data Entry)'!$A$3:$A$504,0),2),\"\"))),\"\"))","v":""},{"$f":"IF(IFERROR(INDIRECT(CONCATENATE(\"'UNITCOST ITEMS (Data Entry)'!H\",IFERROR(SUM(MATCH(A113,'UNITCOST ITEMS (Data Entry)'!$A$3:$A$504,0),2),\"\"))),\"\")=0,\"\",IFERROR(INDIRECT(CONCATENATE(\"'UNITCOST ITEMS (Data Entry)'!H\",IFERROR(SUM(MATCH(A113,'UNITCOST ITEMS (Data Entry)'!$A$3:$A$504,0),2),\"\"))),\"\"))","v":""},{"$f":"IF(IFERROR(INDIRECT(CONCATENATE(\"'UNITCOST ITEMS (Data Entry)'!I\",IFERROR(SUM(MATCH(A113,'UNITCOST ITEMS (Data Entry)'!$A$3:$A$504,0),2),\"\"))),\"\")=0,\"\",IFERROR(INDIRECT(CONCATENATE(\"'UNITCOST ITEMS (Data Entry)'!I\",IFERROR(SUM(MATCH(A113,'UNITCOST ITEMS (Data Entry)'!$A$3:$A$504,0),2),\"\"))),\"\"))","v":""},{"$f":"IF(K113=2,\"\",IF(IFERROR(INDIRECT(CONCATENATE(\"'UNITCOST ITEMS (Data Entry)'!J\",IFERROR(SUM(MATCH(A113,'UNITCOST ITEMS (Data Entry)'!$A$3:$A$504,0),2),\"\"))),\"\")=0,\"\",IFERROR(INDIRECT(CONCATENATE(\"'UNITCOST ITEMS (Data Entry)'!J\",IFERROR(SUM(MATCH(A113,'UNITCOST ITEMS (Data Entry)'!$A$3:$A$504,0),2),\"\"))),\"\")))","v":""},null,{"$f":"IF(IFERROR(INDIRECT(CONCATENATE(\"'UNITCOST ITEMS (Data Entry)'!C\",IFERROR(SUM(MATCH(A113,'UNITCOST ITEMS (Data Entry)'!$A$3:$A$504,0),2),\"\"))),\"\")=0,\"\",IFERROR(INDIRECT(CONCATENATE(\"'UNITCOST ITEMS (Data Entry)'!C\",IFERROR(SUM(MATCH(A113,'UNITCOST ITEMS (Data Entry)'!$A$3:$A$504,0),2),\"\"))),\"\"))","v":""},""]
[106,{"$f":"IF(IFERROR(INDIRECT(CONCATENATE(\"'UNITCOST ITEMS (Data Entry)'!D\",IFERROR(SUM(MATCH(A114,'UNITCOST ITEMS (Data Entry)'!$A$3:$A$504,0),2),\"\"))),\"\")=0,\"\",IFERROR(INDIRECT(CONCATENATE(\"'UNITCOST ITEMS (Data Entry)'!D\",IFERROR(SUM(MATCH(A114,'UNITCOST ITEMS (Data Entry)'!$A$3:$A$504,0),2),\"\"))),\"\"))","v":""},{"$f":"IF(IFERROR(INDIRECT(CONCATENATE(\"'UNITCOST ITEMS (Data Entry)'!E\",IFERROR(SUM(MATCH(A114,'UNITCOST ITEMS (Data Entry)'!$A$3:$A$504,0),2),\"\"))),\"\")=0,\"\",IFERROR(INDIRECT(CONCATENATE(\"'UNITCOST ITEMS (Data Entry)'!E\",IFERROR(SUM(MATCH(A114,'UNITCOST ITEMS (Data Entry)'!$A$3:$A$504,0),2),\"\"))),\"\"))","v":""},null,{"$f":"IF(IFERROR(INDIRECT(CONCATENATE(\"'UNITCOST ITEMS (Data Entry)'!F\",IFERROR(SUM(MATCH(A114,'UNITCOST ITEMS (Data Entry)'!$A$3:$A$504,0),2),\"\"))),\"\")=0,\"\",IFERROR(INDIRECT(CONCATENATE(\"'UNITCOST ITEMS (Data Entry)'!F\",IFERROR(SUM(MATCH(A114,'UNITCOST ITEMS (Data Entry)'!$A$3:$A$504,0),2),\"\"))),\"\"))","v":""},{"$f":"IF(IFERROR(INDIRECT(CONCATENATE(\"'UNITCOST ITEMS (Data Entry)'!G\",IFERROR(SUM(MATCH(A114,'UNITCOST ITEMS (Data Entry)'!$A$3:$A$504,0),2),\"\"))),\"\")=0,\"\",IFERROR(INDIRECT(CONCATENATE(\"'UNITCOST ITEMS (Data Entry)'!G\",IFERROR(SUM(MATCH(A114,'UNITCOST ITEMS (Data Entry)'!$A$3:$A$504,0),2),\"\"))),\"\"))","v":""},{"$f":"IF(IFERROR(INDIRECT(CONCATENATE(\"'UNITCOST ITEMS (Data Entry)'!H\",IFERROR(SUM(MATCH(A114,'UNITCOST ITEMS (Data Entry)'!$A$3:$A$504,0),2),\"\"))),\"\")=0,\"\",IFERROR(INDIRECT(CONCATENATE(\"'UNITCOST ITEMS (Data Entry)'!H\",IFERROR(SUM(MATCH(A114,'UNITCOST ITEMS (Data Entry)'!$A$3:$A$504,0),2),\"\"))),\"\"))","v":""},{"$f":"IF(IFERROR(INDIRECT(CONCATENATE(\"'UNITCOST ITEMS (Data Entry)'!I\",IFERROR(SUM(MATCH(A114,'UNITCOST ITEMS (Data Entry)'!$A$3:$A$504,0),2),\"\"))),\"\")=0,\"\",IFERROR(INDIRECT(CONCATENATE(\"'UNITCOST ITEMS (Data Entry)'!I\",IFERROR(SUM(MATCH(A114,'UNITCOST ITEMS (Data Entry)'!$A$3:$A$504,0),2),\"\"))),\"\"))","v":""},{"$f":"IF(K114=2,\"\",IF(IFERROR(INDIRECT(CONCATENATE(\"'UNITCOST ITEMS (Data Entry)'!J\",IFERROR(SUM(MATCH(A114,'UNITCOST ITEMS (Data Entry)'!$A$3:$A$504,0),2),\"\"))),\"\")=0,\"\",IFERROR(INDIRECT(CONCATENATE(\"'UNITCOST ITEMS (Data Entry)'!J\",IFERROR(SUM(MATCH(A114,'UNITCOST ITEMS (Data Entry)'!$A$3:$A$504,0),2),\"\"))),\"\")))","v":""},null,{"$f":"IF(IFERROR(INDIRECT(CONCATENATE(\"'UNITCOST ITEMS (Data Entry)'!C\",IFERROR(SUM(MATCH(A114,'UNITCOST ITEMS (Data Entry)'!$A$3:$A$504,0),2),\"\"))),\"\")=0,\"\",IFERROR(INDIRECT(CONCATENATE(\"'UNITCOST ITEMS (Data Entry)'!C\",IFERROR(SUM(MATCH(A114,'UNITCOST ITEMS (Data Entry)'!$A$3:$A$504,0),2),\"\"))),\"\"))","v":""},""]
[107,{"$f":"IF(IFERROR(INDIRECT(CONCATENATE(\"'UNITCOST ITEMS (Data Entry)'!D\",IFERROR(SUM(MATCH(A115,'UNITCOST ITEMS (Data Entry)'!$A$3:$A$504,0),2),\"\"))),\"\")=0,\"\",IFERROR(INDIRECT(CONCATENATE(\"'UNITCOST ITEMS (Data Entry)'!D\",IFERROR(SUM(MATCH(A115,'UNITCOST ITEMS (Data Entry)'!$A$3:$A$504,0),2),\"\"))),\"\"))","v":""},{"$f":"IF(IFERROR(INDIRECT(CONCATENATE(\"'UNITCOST ITEMS (Data Entry)'!E\",IFERROR(SUM(MATCH(A115,'UNITCOST ITEMS (Data Entry)'!$A$3:$A$504,0),2),\"\"))),\"\")=0,\"\",IFERROR(INDIRECT(CONCATENATE(\"'UNITCOST ITEMS (Data Entry)'!E\",IFERROR(SUM(MATCH(A115,'UNITCOST ITEMS (Data Entry)'!$A$3:$A$504,0),2),\"\"))),\"\"))","v":""},null,{"$f":"IF(IFERROR(INDIRECT(CONCATENATE(\"'UNITCOST ITEMS (Data Entry)'!F\",IFERROR(SUM(MATCH(A115,'UNITCOST ITEMS (Data Entry)'!$A$3:$A$504,0),2),\"\"))),\"\")=0,\"\",IFERROR(INDIRECT(CONCATENATE(\"'UNITCOST ITEMS (Data Entry)'!F\",IFERROR(SUM(MATCH(A115,'UNITCOST ITEMS (Data Entry)'!$A$3:$A$504,0),2),\"\"))),\"\"))","v":""},{"$f":"IF(IFERROR(INDIRECT(CONCATENATE(\"'UNITCOST ITEMS (Data Entry)'!G\",IFERROR(SUM(MATCH(A115,'UNITCOST ITEMS (Data Entry)'!$A$3:$A$504,0),2),\"\"))),\"\")=0,\"\",IFERROR(INDIRECT(CONCATENATE(\"'UNITCOST ITEMS (Data Entry)'!G\",IFERROR(SUM(MATCH(A115,'UNITCOST ITEMS (Data Entry)'!$A$3:$A$504,0),2),\"\"))),\"\"))","v":""},{"$f":"IF(IFERROR(INDIRECT(CONCATENATE(\"'UNITCOST ITEMS (Data Entry)'!H\",IFERROR(SUM(MATCH(A115,'UNITCOST ITEMS (Data Entry)'!$A$3:$A$504,0),2),\"\"))),\"\")=0,\"\",IFERROR(INDIRECT(CONCATENATE(\"'UNITCOST ITEMS (Data Entry)'!H\",IFERROR(SUM(MATCH(A115,'UNITCOST ITEMS (Data Entry)'!$A$3:$A$504,0),2),\"\"))),\"\"))","v":""},{"$f":"IF(IFERROR(INDIRECT(CONCATENATE(\"'UNITCOST ITEMS (Data Entry)'!I\",IFERROR(SUM(MATCH(A115,'UNITCOST ITEMS (Data Entry)'!$A$3:$A$504,0),2),\"\"))),\"\")=0,\"\",IFERROR(INDIRECT(CONCATENATE(\"'UNITCOST ITEMS (Data Entry)'!I\",IFERROR(SUM(MATCH(A115,'UNITCOST ITEMS (Data Entry)'!$A$3:$A$504,0),2),\"\"))),\"\"))","v":""},{"$f":"IF(K115=2,\"\",IF(IFERROR(INDIRECT(CONCATENATE(\"'UNITCOST ITEMS (Data Entry)'!J\",IFERROR(SUM(MATCH(A115,'UNITCOST ITEMS (Data Entry)'!$A$3:$A$504,0),2),\"\"))),\"\")=0,\"\",IFERROR(INDIRECT(CONCATENATE(\"'UNITCOST ITEMS (Data Entry)'!J\",IFERROR(SUM(MATCH(A115,'UNITCOST ITEMS (Data Entry)'!$A$3:$A$504,0),2),\"\"))),\"\")))","v":""},null,{"$f":"IF(IFERROR(INDIRECT(CONCATENATE(\"'UNITCOST ITEMS (Data Entry)'!C\",IFERROR(SUM(MATCH(A115,'UNITCOST ITEMS (Data Entry)'!$A$3:$A$504,0),2),\"\"))),\"\")=0,\"\",IFERROR(INDIRECT(CONCATENATE(\"'UNITCOST ITEMS (Data Entry)'!C\",IFERROR(SUM(MATCH(A115,'UNITCOST ITEMS (Data Entry)'!$A$3:$A$504,0),2),\"\"))),\"\"))","v":""},""]
[108,{"$f":"IF(IFERROR(INDIRECT(CONCATENATE(\"'UNITCOST ITEMS (Data Entry)'!D\",IFERROR(SUM(MATCH(A116,'UNITCOST ITEMS (Data Entry)'!$A$3:$A$504,0),2),\"\"))),\"\")=0,\"\",IFERROR(INDIRECT(CONCATENATE(\"'UNITCOST ITEMS (Data Entry)'!D\",IFERROR(SUM(MATCH(A116,'UNITCOST ITEMS (Data Entry)'!$A$3:$A$504,0),2),\"\"))),\"\"))","v":""},{"$f":"IF(IFERROR(INDIRECT(CONCATENATE(\"'UNITCOST ITEMS (Data Entry)'!E\",IFERROR(SUM(MATCH(A116,'UNITCOST ITEMS (Data Entry)'!$A$3:$A$504,0),2),\"\"))),\"\")=0,\"\",IFERROR(INDIRECT(CONCATENATE(\"'UNITCOST ITEMS (Data Entry)'!E\",IFERROR(SUM(MATCH(A116,'UNITCOST ITEMS (Data Entry)'!$A$3:$A$504,0),2),\"\"))),\"\"))","v":""},null,{"$f":"IF(IFERROR(INDIRECT(CONCATENATE(\"'UNITCOST ITEMS (Data Entry)'!F\",IFERROR(SUM(MATCH(A116,'UNITCOST ITEMS (Data Entry)'!$A$3:$A$504,0),2),\"\"))),\"\")=0,\"\",IFERROR(INDIRECT(CONCATENATE(\"'UNITCOST ITEMS (Data Entry)'!F\",IFERROR(SUM(MATCH(A116,'UNITCOST ITEMS (Data Entry)'!$A$3:$A$504,0),2),\"\"))),\"\"))","v":""},{"$f":"IF(IFERROR(INDIRECT(CONCATENATE(\"'UNITCOST ITEMS (Data Entry)'!G\",IFERROR(SUM(MATCH(A116,'UNITCOST ITEMS (Data Entry)'!$A$3:$A$504,0),2),\"\"))),\"\")=0,\"\",IFERROR(INDIRECT(CONCATENATE(\"'UNITCOST ITEMS (Data Entry)'!G\",IFERROR(SUM(MATCH(A116,'UNITCOST ITEMS (Data Entry)'!$A$3:$A$504,0),2),\"\"))),\"\"))","v":""},{"$f":"IF(IFERROR(INDIRECT(CONCATENATE(\"'UNITCOST ITEMS (Data Entry)'!H\",IFERROR(SUM(MATCH(A116,'UNITCOST ITEMS (Data Entry)'!$A$3:$A$504,0),2),\"\"))),\"\")=0,\"\",IFERROR(INDIRECT(CONCATENATE(\"'UNITCOST ITEMS (Data Entry)'!H\",IFERROR(SUM(MATCH(A116,'UNITCOST ITEMS (Data Entry)'!$A$3:$A$504,0),2),\"\"))),\"\"))","v":""},{"$f":"IF(IFERROR(INDIRECT(CONCATENATE(\"'UNITCOST ITEMS (Data Entry)'!I\",IFERROR(SUM(MATCH(A116,'UNITCOST ITEMS (Data Entry)'!$A$3:$A$504,0),2),\"\"))),\"\")=0,\"\",IFERROR(INDIRECT(CONCATENATE(\"'UNITCOST ITEMS (Data Entry)'!I\",IFERROR(SUM(MATCH(A116,'UNITCOST ITEMS (Data Entry)'!$A$3:$A$504,0),2),\"\"))),\"\"))","v":""},{"$f":"IF(K116=2,\"\",IF(IFERROR(INDIRECT(CONCATENATE(\"'UNITCOST ITEMS (Data Entry)'!J\",IFERROR(SUM(MATCH(A116,'UNITCOST ITEMS (Data Entry)'!$A$3:$A$504,0),2),\"\"))),\"\")=0,\"\",IFERROR(INDIRECT(CONCATENATE(\"'UNITCOST ITEMS (Data Entry)'!J\",IFERROR(SUM(MATCH(A116,'UNITCOST ITEMS (Data Entry)'!$A$3:$A$504,0),2),\"\"))),\"\")))","v":""},null,{"$f":"IF(IFERROR(INDIRECT(CONCATENATE(\"'UNITCOST ITEMS (Data Entry)'!C\",IFERROR(SUM(MATCH(A116,'UNITCOST ITEMS (Data Entry)'!$A$3:$A$504,0),2),\"\"))),\"\")=0,\"\",IFERROR(INDIRECT(CONCATENATE(\"'UNITCOST ITEMS (Data Entry)'!C\",IFERROR(SUM(MATCH(A116,'UNITCOST ITEMS (Data Entry)'!$A$3:$A$504,0),2),\"\"))),\"\"))","v":""},""]
[109,{"$f":"IF(IFERROR(INDIRECT(CONCATENATE(\"'UNITCOST ITEMS (Data Entry)'!D\",IFERROR(SUM(MATCH(A117,'UNITCOST ITEMS (Data Entry)'!$A$3:$A$504,0),2),\"\"))),\"\")=0,\"\",IFERROR(INDIRECT(CONCATENATE(\"'UNITCOST ITEMS (Data Entry)'!D\",IFERROR(SUM(MATCH(A117,'UNITCOST ITEMS (Data Entry)'!$A$3:$A$504,0),2),\"\"))),\"\"))","v":""},{"$f":"IF(IFERROR(INDIRECT(CONCATENATE(\"'UNITCOST ITEMS (Data Entry)'!E\",IFERROR(SUM(MATCH(A117,'UNITCOST ITEMS (Data Entry)'!$A$3:$A$504,0),2),\"\"))),\"\")=0,\"\",IFERROR(INDIRECT(CONCATENATE(\"'UNITCOST ITEMS (Data Entry)'!E\",IFERROR(SUM(MATCH(A117,'UNITCOST ITEMS (Data Entry)'!$A$3:$A$504,0),2),\"\"))),\"\"))","v":""},null,{"$f":"IF(IFERROR(INDIRECT(CONCATENATE(\"'UNITCOST ITEMS (Data Entry)'!F\",IFERROR(SUM(MATCH(A117,'UNITCOST ITEMS (Data Entry)'!$A$3:$A$504,0),2),\"\"))),\"\")=0,\"\",IFERROR(INDIRECT(CONCATENATE(\"'UNITCOST ITEMS (Data Entry)'!F\",IFERROR(SUM(MATCH(A117,'UNITCOST ITEMS (Data Entry)'!$A$3:$A$504,0),2),\"\"))),\"\"))","v":""},{"$f":"IF(IFERROR(INDIRECT(CONCATENATE(\"'UNITCOST ITEMS (Data Entry)'!G\",IFERROR(SUM(MATCH(A117,'UNITCOST ITEMS (Data Entry)'!$A$3:$A$504,0),2),\"\"))),\"\")=0,\"\",IFERROR(INDIRECT(CONCATENATE(\"'UNITCOST ITEMS (Data Entry)'!G\",IFERROR(SUM(MATCH(A117,'UNITCOST ITEMS (Data Entry)'!$A$3:$A$504,0),2),\"\"))),\"\"))","v":""},{"$f":"IF(IFERROR(INDIRECT(CONCATENATE(\"'UNITCOST ITEMS (Data Entry)'!H\",IFERROR(SUM(MATCH(A117,'UNITCOST ITEMS (Data Entry)'!$A$3:$A$504,0),2),\"\"))),\"\")=0,\"\",IFERROR(INDIRECT(CONCATENATE(\"'UNITCOST ITEMS (Data Entry)'!H\",IFERROR(SUM(MATCH(A117,'UNITCOST ITEMS (Data Entry)'!$A$3:$A$504,0),2),\"\"))),\"\"))","v":""},{"$f":"IF(IFERROR(INDIRECT(CONCATENATE(\"'UNITCOST ITEMS (Data Entry)'!I\",IFERROR(SUM(MATCH(A117,'UNITCOST ITEMS (Data Entry)'!$A$3:$A$504,0),2),\"\"))),\"\")=0,\"\",IFERROR(INDIRECT(CONCATENATE(\"'UNITCOST ITEMS (Data Entry)'!I\",IFERROR(SUM(MATCH(A117,'UNITCOST ITEMS (Data Entry)'!$A$3:$A$504,0),2),\"\"))),\"\"))","v":""},{"$f":"IF(K117=2,\"\",IF(IFERROR(INDIRECT(CONCATENATE(\"'UNITCOST ITEMS (Data Entry)'!J\",IFERROR(SUM(MATCH(A117,'UNITCOST ITEMS (Data Entry)'!$A$3:$A$504,0),2),\"\"))),\"\")=0,\"\",IFERROR(INDIRECT(CONCATENATE(\"'UNITCOST ITEMS (Data Entry)'!J\",IFERROR(SUM(MATCH(A117,'UNITCOST ITEMS (Data Entry)'!$A$3:$A$504,0),2),\"\"))),\"\")))","v":""},null,{"$f":"IF(IFERROR(INDIRECT(CONCATENATE(\"'UNITCOST ITEMS (Data Entry)'!C\",IFERROR(SUM(MATCH(A117,'UNITCOST ITEMS (Data Entry)'!$A$3:$A$504,0),2),\"\"))),\"\")=0,\"\",IFERROR(INDIRECT(CONCATENATE(\"'UNITCOST ITEMS (Data Entry)'!C\",IFERROR(SUM(MATCH(A117,'UNITCOST ITEMS (Data Entry)'!$A$3:$A$504,0),2),\"\"))),\"\"))","v":""},""]
[110,{"$f":"IF(IFERROR(INDIRECT(CONCATENATE(\"'UNITCOST ITEMS (Data Entry)'!D\",IFERROR(SUM(MATCH(A118,'UNITCOST ITEMS (Data Entry)'!$A$3:$A$504,0),2),\"\"))),\"\")=0,\"\",IFERROR(INDIRECT(CONCATENATE(\"'UNITCOST ITEMS (Data Entry)'!D\",IFERROR(SUM(MATCH(A118,'UNITCOST ITEMS (Data Entry)'!$A$3:$A$504,0),2),\"\"))),\"\"))","v":""},{"$f":"IF(IFERROR(INDIRECT(CONCATENATE(\"'UNITCOST ITEMS (Data Entry)'!E\",IFERROR(SUM(MATCH(A118,'UNITCOST ITEMS (Data Entry)'!$A$3:$A$504,0),2),\"\"))),\"\")=0,\"\",IFERROR(INDIRECT(CONCATENATE(\"'UNITCOST ITEMS (Data Entry)'!E\",IFERROR(SUM(MATCH(A118,'UNITCOST ITEMS (Data Entry)'!$A$3:$A$504,0),2),\"\"))),\"\"))","v":""},null,{"$f":"IF(IFERROR(INDIRECT(CONCATENATE(\"'UNITCOST ITEMS (Data Entry)'!F\",IFERROR(SUM(MATCH(A118,'UNITCOST ITEMS (Data Entry)'!$A$3:$A$504,0),2),\"\"))),\"\")=0,\"\",IFERROR(INDIRECT(CONCATENATE(\"'UNITCOST ITEMS (Data Entry)'!F\",IFERROR(SUM(MATCH(A118,'UNITCOST ITEMS (Data Entry)'!$A$3:$A$504,0),2),\"\"))),\"\"))","v":""},{"$f":"IF(IFERROR(INDIRECT(CONCATENATE(\"'UNITCOST ITEMS (Data Entry)'!G\",IFERROR(SUM(MATCH(A118,'UNITCOST ITEMS (Data Entry)'!$A$3:$A$504,0),2),\"\"))),\"\")=0,\"\",IFERROR(INDIRECT(CONCATENATE(\"'UNITCOST ITEMS (Data Entry)'!G\",IFERROR(SUM(MATCH(A118,'UNITCOST ITEMS (Data Entry)'!$A$3:$A$504,0),2),\"\"))),\"\"))","v":""},{"$f":"IF(IFERROR(INDIRECT(CONCATENATE(\"'UNITCOST ITEMS (Data Entry)'!H\",IFERROR(SUM(MATCH(A118,'UNITCOST ITEMS (Data Entry)'!$A$3:$A$504,0),2),\"\"))),\"\")=0,\"\",IFERROR(INDIRECT(CONCATENATE(\"'UNITCOST ITEMS (Data Entry)'!H\",IFERROR(SUM(MATCH(A118,'UNITCOST ITEMS (Data Entry)'!$A$3:$A$504,0),2),\"\"))),\"\"))","v":""},{"$f":"IF(IFERROR(INDIRECT(CONCATENATE(\"'UNITCOST ITEMS (Data Entry)'!I\",IFERROR(SUM(MATCH(A118,'UNITCOST ITEMS (Data Entry)'!$A$3:$A$504,0),2),\"\"))),\"\")=0,\"\",IFERROR(INDIRECT(CONCATENATE(\"'UNITCOST ITEMS (Data Entry)'!I\",IFERROR(SUM(MATCH(A118,'UNITCOST ITEMS (Data Entry)'!$A$3:$A$504,0),2),\"\"))),\"\"))","v":""},{"$f":"IF(K118=2,\"\",IF(IFERROR(INDIRECT(CONCATENATE(\"'UNITCOST ITEMS (Data Entry)'!J\",IFERROR(SUM(MATCH(A118,'UNITCOST ITEMS (Data Entry)'!$A$3:$A$504,0),2),\"\"))),\"\")=0,\"\",IFERROR(INDIRECT(CONCATENATE(\"'UNITCOST ITEMS (Data Entry)'!J\",IFERROR(SUM(MATCH(A118,'UNITCOST ITEMS (Data Entry)'!$A$3:$A$504,0),2),\"\"))),\"\")))","v":""},null,{"$f":"IF(IFERROR(INDIRECT(CONCATENATE(\"'UNITCOST ITEMS (Data Entry)'!C\",IFERROR(SUM(MATCH(A118,'UNITCOST ITEMS (Data Entry)'!$A$3:$A$504,0),2),\"\"))),\"\")=0,\"\",IFERROR(INDIRECT(CONCATENATE(\"'UNITCOST ITEMS (Data Entry)'!C\",IFERROR(SUM(MATCH(A118,'UNITCOST ITEMS (Data Entry)'!$A$3:$A$504,0),2),\"\"))),\"\"))","v":""},""]
[111,{"$f":"IF(IFERROR(INDIRECT(CONCATENATE(\"'UNITCOST ITEMS (Data Entry)'!D\",IFERROR(SUM(MATCH(A119,'UNITCOST ITEMS (Data Entry)'!$A$3:$A$504,0),2),\"\"))),\"\")=0,\"\",IFERROR(INDIRECT(CONCATENATE(\"'UNITCOST ITEMS (Data Entry)'!D\",IFERROR(SUM(MATCH(A119,'UNITCOST ITEMS (Data Entry)'!$A$3:$A$504,0),2),\"\"))),\"\"))","v":""},{"$f":"IF(IFERROR(INDIRECT(CONCATENATE(\"'UNITCOST ITEMS (Data Entry)'!E\",IFERROR(SUM(MATCH(A119,'UNITCOST ITEMS (Data Entry)'!$A$3:$A$504,0),2),\"\"))),\"\")=0,\"\",IFERROR(INDIRECT(CONCATENATE(\"'UNITCOST ITEMS (Data Entry)'!E\",IFERROR(SUM(MATCH(A119,'UNITCOST ITEMS (Data Entry)'!$A$3:$A$504,0),2),\"\"))),\"\"))","v":""},null,{"$f":"IF(IFERROR(INDIRECT(CONCATENATE(\"'UNITCOST ITEMS (Data Entry)'!F\",IFERROR(SUM(MATCH(A119,'UNITCOST ITEMS (Data Entry)'!$A$3:$A$504,0),2),\"\"))),\"\")=0,\"\",IFERROR(INDIRECT(CONCATENATE(\"'UNITCOST ITEMS (Data Entry)'!F\",IFERROR(SUM(MATCH(A119,'UNITCOST ITEMS (Data Entry)'!$A$3:$A$504,0),2),\"\"))),\"\"))","v":""},{"$f":"IF(IFERROR(INDIRECT(CONCATENATE(\"'UNITCOST ITEMS (Data Entry)'!G\",IFERROR(SUM(MATCH(A119,'UNITCOST ITEMS (Data Entry)'!$A$3:$A$504,0),2),\"\"))),\"\")=0,\"\",IFERROR(INDIRECT(CONCATENATE(\"'UNITCOST ITEMS (Data Entry)'!G\",IFERROR(SUM(MATCH(A119,'UNITCOST ITEMS (Data Entry)'!$A$3:$A$504,0),2),\"\"))),\"\"))","v":""},{"$f":"IF(IFERROR(INDIRECT(CONCATENATE(\"'UNITCOST ITEMS (Data Entry)'!H\",IFERROR(SUM(MATCH(A119,'UNITCOST ITEMS (Data Entry)'!$A$3:$A$504,0),2),\"\"))),\"\")=0,\"\",IFERROR(INDIRECT(CONCATENATE(\"'UNITCOST ITEMS (Data Entry)'!H\",IFERROR(SUM(MATCH(A119,'UNITCOST ITEMS (Data Entry)'!$A$3:$A$504,0),2),\"\"))),\"\"))","v":""},{"$f":"IF(IFERROR(INDIRECT(CONCATENATE(\"'UNITCOST ITEMS (Data Entry)'!I\",IFERROR(SUM(MATCH(A119,'UNITCOST ITEMS (Data Entry)'!$A$3:$A$504,0),2),\"\"))),\"\")=0,\"\",IFERROR(INDIRECT(CONCATENATE(\"'UNITCOST ITEMS (Data Entry)'!I\",IFERROR(SUM(MATCH(A119,'UNITCOST ITEMS (Data Entry)'!$A$3:$A$504,0),2),\"\"))),\"\"))","v":""},{"$f":"IF(K119=2,\"\",IF(IFERROR(INDIRECT(CONCATENATE(\"'UNITCOST ITEMS (Data Entry)'!J\",IFERROR(SUM(MATCH(A119,'UNITCOST ITEMS (Data Entry)'!$A$3:$A$504,0),2),\"\"))),\"\")=0,\"\",IFERROR(INDIRECT(CONCATENATE(\"'UNITCOST ITEMS (Data Entry)'!J\",IFERROR(SUM(MATCH(A119,'UNITCOST ITEMS (Data Entry)'!$A$3:$A$504,0),2),\"\"))),\"\")))","v":""},null,{"$f":"IF(IFERROR(INDIRECT(CONCATENATE(\"'UNITCOST ITEMS (Data Entry)'!C\",IFERROR(SUM(MATCH(A119,'UNITCOST ITEMS (Data Entry)'!$A$3:$A$504,0),2),\"\"))),\"\")=0,\"\",IFERROR(INDIRECT(CONCATENATE(\"'UNITCOST ITEMS (Data Entry)'!C\",IFERROR(SUM(MATCH(A119,'UNITCOST ITEMS (Data Entry)'!$A$3:$A$504,0),2),\"\"))),\"\"))","v":""},""]
[112,{"$f":"IF(IFERROR(INDIRECT(CONCATENATE(\"'UNITCOST ITEMS (Data Entry)'!D\",IFERROR(SUM(MATCH(A120,'UNITCOST ITEMS (Data Entry)'!$A$3:$A$504,0),2),\"\"))),\"\")=0,\"\",IFERROR(INDIRECT(CONCATENATE(\"'UNITCOST ITEMS (Data Entry)'!D\",IFERROR(SUM(MATCH(A120,'UNITCOST ITEMS (Data Entry)'!$A$3:$A$504,0),2),\"\"))),\"\"))","v":""},{"$f":"IF(IFERROR(INDIRECT(CONCATENATE(\"'UNITCOST ITEMS (Data Entry)'!E\",IFERROR(SUM(MATCH(A120,'UNITCOST ITEMS (Data Entry)'!$A$3:$A$504,0),2),\"\"))),\"\")=0,\"\",IFERROR(INDIRECT(CONCATENATE(\"'UNITCOST ITEMS (Data Entry)'!E\",IFERROR(SUM(MATCH(A120,'UNITCOST ITEMS (Data Entry)'!$A$3:$A$504,0),2),\"\"))),\"\"))","v":""},null,{"$f":"IF(IFERROR(INDIRECT(CONCATENATE(\"'UNITCOST ITEMS (Data Entry)'!F\",IFERROR(SUM(MATCH(A120,'UNITCOST ITEMS (Data Entry)'!$A$3:$A$504,0),2),\"\"))),\"\")=0,\"\",IFERROR(INDIRECT(CONCATENATE(\"'UNITCOST ITEMS (Data Entry)'!F\",IFERROR(SUM(MATCH(A120,'UNITCOST ITEMS (Data Entry)'!$A$3:$A$504,0),2),\"\"))),\"\"))","v":""},{"$f":"IF(IFERROR(INDIRECT(CONCATENATE(\"'UNITCOST ITEMS (Data Entry)'!G\",IFERROR(SUM(MATCH(A120,'UNITCOST ITEMS (Data Entry)'!$A$3:$A$504,0),2),\"\"))),\"\")=0,\"\",IFERROR(INDIRECT(CONCATENATE(\"'UNITCOST ITEMS (Data Entry)'!G\",IFERROR(SUM(MATCH(A120,'UNITCOST ITEMS (Data Entry)'!$A$3:$A$504,0),2),\"\"))),\"\"))","v":""},{"$f":"IF(IFERROR(INDIRECT(CONCATENATE(\"'UNITCOST ITEMS (Data Entry)'!H\",IFERROR(SUM(MATCH(A120,'UNITCOST ITEMS (Data Entry)'!$A$3:$A$504,0),2),\"\"))),\"\")=0,\"\",IFERROR(INDIRECT(CONCATENATE(\"'UNITCOST ITEMS (Data Entry)'!H\",IFERROR(SUM(MATCH(A120,'UNITCOST ITEMS (Data Entry)'!$A$3:$A$504,0),2),\"\"))),\"\"))","v":""},{"$f":"IF(IFERROR(INDIRECT(CONCATENATE(\"'UNITCOST ITEMS (Data Entry)'!I\",IFERROR(SUM(MATCH(A120,'UNITCOST ITEMS (Data Entry)'!$A$3:$A$504,0),2),\"\"))),\"\")=0,\"\",IFERROR(INDIRECT(CONCATENATE(\"'UNITCOST ITEMS (Data Entry)'!I\",IFERROR(SUM(MATCH(A120,'UNITCOST ITEMS (Data Entry)'!$A$3:$A$504,0),2),\"\"))),\"\"))","v":""},{"$f":"IF(K120=2,\"\",IF(IFERROR(INDIRECT(CONCATENATE(\"'UNITCOST ITEMS (Data Entry)'!J\",IFERROR(SUM(MATCH(A120,'UNITCOST ITEMS (Data Entry)'!$A$3:$A$504,0),2),\"\"))),\"\")=0,\"\",IFERROR(INDIRECT(CONCATENATE(\"'UNITCOST ITEMS (Data Entry)'!J\",IFERROR(SUM(MATCH(A120,'UNITCOST ITEMS (Data Entry)'!$A$3:$A$504,0),2),\"\"))),\"\")))","v":""},null,{"$f":"IF(IFERROR(INDIRECT(CONCATENATE(\"'UNITCOST ITEMS (Data Entry)'!C\",IFERROR(SUM(MATCH(A120,'UNITCOST ITEMS (Data Entry)'!$A$3:$A$504,0),2),\"\"))),\"\")=0,\"\",IFERROR(INDIRECT(CONCATENATE(\"'UNITCOST ITEMS (Data Entry)'!C\",IFERROR(SUM(MATCH(A120,'UNITCOST ITEMS (Data Entry)'!$A$3:$A$504,0),2),\"\"))),\"\"))","v":""},""]
[113,{"$f":"IF(IFERROR(INDIRECT(CONCATENATE(\"'UNITCOST ITEMS (Data Entry)'!D\",IFERROR(SUM(MATCH(A121,'UNITCOST ITEMS (Data Entry)'!$A$3:$A$504,0),2),\"\"))),\"\")=0,\"\",IFERROR(INDIRECT(CONCATENATE(\"'UNITCOST ITEMS (Data Entry)'!D\",IFERROR(SUM(MATCH(A121,'UNITCOST ITEMS (Data Entry)'!$A$3:$A$504,0),2),\"\"))),\"\"))","v":""},{"$f":"IF(IFERROR(INDIRECT(CONCATENATE(\"'UNITCOST ITEMS (Data Entry)'!E\",IFERROR(SUM(MATCH(A121,'UNITCOST ITEMS (Data Entry)'!$A$3:$A$504,0),2),\"\"))),\"\")=0,\"\",IFERROR(INDIRECT(CONCATENATE(\"'UNITCOST ITEMS (Data Entry)'!E\",IFERROR(SUM(MATCH(A121,'UNITCOST ITEMS (Data Entry)'!$A$3:$A$504,0),2),\"\"))),\"\"))","v":""},null,{"$f":"IF(IFERROR(INDIRECT(CONCATENATE(\"'UNITCOST ITEMS (Data Entry)'!F\",IFERROR(SUM(MATCH(A121,'UNITCOST ITEMS (Data Entry)'!$A$3:$A$504,0),2),\"\"))),\"\")=0,\"\",IFERROR(INDIRECT(CONCATENATE(\"'UNITCOST ITEMS (Data Entry)'!F\",IFERROR(SUM(MATCH(A121,'UNITCOST ITEMS (Data Entry)'!$A$3:$A$504,0),2),\"\"))),\"\"))","v":""},{"$f":"IF(IFERROR(INDIRECT(CONCATENATE(\"'UNITCOST ITEMS (Data Entry)'!G\",IFERROR(SUM(MATCH(A121,'UNITCOST ITEMS (Data Entry)'!$A$3:$A$504,0),2),\"\"))),\"\")=0,\"\",IFERROR(INDIRECT(CONCATENATE(\"'UNITCOST ITEMS (Data Entry)'!G\",IFERROR(SUM(MATCH(A121,'UNITCOST ITEMS (Data Entry)'!$A$3:$A$504,0),2),\"\"))),\"\"))","v":""},{"$f":"IF(IFERROR(INDIRECT(CONCATENATE(\"'UNITCOST ITEMS (Data Entry)'!H\",IFERROR(SUM(MATCH(A121,'UNITCOST ITEMS (Data Entry)'!$A$3:$A$504,0),2),\"\"))),\"\")=0,\"\",IFERROR(INDIRECT(CONCATENATE(\"'UNITCOST ITEMS (Data Entry)'!H\",IFERROR(SUM(MATCH(A121,'UNITCOST ITEMS (Data Entry)'!$A$3:$A$504,0),2),\"\"))),\"\"))","v":""},{"$f":"IF(IFERROR(INDIRECT(CONCATENATE(\"'UNITCOST ITEMS (Data Entry)'!I\",IFERROR(SUM(MATCH(A121,'UNITCOST ITEMS (Data Entry)'!$A$3:$A$504,0),2),\"\"))),\"\")=0,\"\",IFERROR(INDIRECT(CONCATENATE(\"'UNITCOST ITEMS (Data Entry)'!I\",IFERROR(SUM(MATCH(A121,'UNITCOST ITEMS (Data Entry)'!$A$3:$A$504,0),2),\"\"))),\"\"))","v":""},{"$f":"IF(K121=2,\"\",IF(IFERROR(INDIRECT(CONCATENATE(\"'UNITCOST ITEMS (Data Entry)'!J\",IFERROR(SUM(MATCH(A121,'UNITCOST ITEMS (Data Entry)'!$A$3:$A$504,0),2),\"\"))),\"\")=0,\"\",IFERROR(INDIRECT(CONCATENATE(\"'UNITCOST ITEMS (Data Entry)'!J\",IFERROR(SUM(MATCH(A121,'UNITCOST ITEMS (Data Entry)'!$A$3:$A$504,0),2),\"\"))),\"\")))","v":""},null,{"$f":"IF(IFERROR(INDIRECT(CONCATENATE(\"'UNITCOST ITEMS (Data Entry)'!C\",IFERROR(SUM(MATCH(A121,'UNITCOST ITEMS (Data Entry)'!$A$3:$A$504,0),2),\"\"))),\"\")=0,\"\",IFERROR(INDIRECT(CONCATENATE(\"'UNITCOST ITEMS (Data Entry)'!C\",IFERROR(SUM(MATCH(A121,'UNITCOST ITEMS (Data Entry)'!$A$3:$A$504,0),2),\"\"))),\"\"))","v":""},""]
[114,{"$f":"IF(IFERROR(INDIRECT(CONCATENATE(\"'UNITCOST ITEMS (Data Entry)'!D\",IFERROR(SUM(MATCH(A122,'UNITCOST ITEMS (Data Entry)'!$A$3:$A$504,0),2),\"\"))),\"\")=0,\"\",IFERROR(INDIRECT(CONCATENATE(\"'UNITCOST ITEMS (Data Entry)'!D\",IFERROR(SUM(MATCH(A122,'UNITCOST ITEMS (Data Entry)'!$A$3:$A$504,0),2),\"\"))),\"\"))","v":""},{"$f":"IF(IFERROR(INDIRECT(CONCATENATE(\"'UNITCOST ITEMS (Data Entry)'!E\",IFERROR(SUM(MATCH(A122,'UNITCOST ITEMS (Data Entry)'!$A$3:$A$504,0),2),\"\"))),\"\")=0,\"\",IFERROR(INDIRECT(CONCATENATE(\"'UNITCOST ITEMS (Data Entry)'!E\",IFERROR(SUM(MATCH(A122,'UNITCOST ITEMS (Data Entry)'!$A$3:$A$504,0),2),\"\"))),\"\"))","v":""},null,{"$f":"IF(IFERROR(INDIRECT(CONCATENATE(\"'UNITCOST ITEMS (Data Entry)'!F\",IFERROR(SUM(MATCH(A122,'UNITCOST ITEMS (Data Entry)'!$A$3:$A$504,0),2),\"\"))),\"\")=0,\"\",IFERROR(INDIRECT(CONCATENATE(\"'UNITCOST ITEMS (Data Entry)'!F\",IFERROR(SUM(MATCH(A122,'UNITCOST ITEMS (Data Entry)'!$A$3:$A$504,0),2),\"\"))),\"\"))","v":""},{"$f":"IF(IFERROR(INDIRECT(CONCATENATE(\"'UNITCOST ITEMS (Data Entry)'!G\",IFERROR(SUM(MATCH(A122,'UNITCOST ITEMS (Data Entry)'!$A$3:$A$504,0),2),\"\"))),\"\")=0,\"\",IFERROR(INDIRECT(CONCATENATE(\"'UNITCOST ITEMS (Data Entry)'!G\",IFERROR(SUM(MATCH(A122,'UNITCOST ITEMS (Data Entry)'!$A$3:$A$504,0),2),\"\"))),\"\"))","v":""},{"$f":"IF(IFERROR(INDIRECT(CONCATENATE(\"'UNITCOST ITEMS (Data Entry)'!H\",IFERROR(SUM(MATCH(A122,'UNITCOST ITEMS (Data Entry)'!$A$3:$A$504,0),2),\"\"))),\"\")=0,\"\",IFERROR(INDIRECT(CONCATENATE(\"'UNITCOST ITEMS (Data Entry)'!H\",IFERROR(SUM(MATCH(A122,'UNITCOST ITEMS (Data Entry)'!$A$3:$A$504,0),2),\"\"))),\"\"))","v":""},{"$f":"IF(IFERROR(INDIRECT(CONCATENATE(\"'UNITCOST ITEMS (Data Entry)'!I\",IFERROR(SUM(MATCH(A122,'UNITCOST ITEMS (Data Entry)'!$A$3:$A$504,0),2),\"\"))),\"\")=0,\"\",IFERROR(INDIRECT(CONCATENATE(\"'UNITCOST ITEMS (Data Entry)'!I\",IFERROR(SUM(MATCH(A122,'UNITCOST ITEMS (Data Entry)'!$A$3:$A$504,0),2),\"\"))),\"\"))","v":""},{"$f":"IF(K122=2,\"\",IF(IFERROR(INDIRECT(CONCATENATE(\"'UNITCOST ITEMS (Data Entry)'!J\",IFERROR(SUM(MATCH(A122,'UNITCOST ITEMS (Data Entry)'!$A$3:$A$504,0),2),\"\"))),\"\")=0,\"\",IFERROR(INDIRECT(CONCATENATE(\"'UNITCOST ITEMS (Data Entry)'!J\",IFERROR(SUM(MATCH(A122,'UNITCOST ITEMS (Data Entry)'!$A$3:$A$504,0),2),\"\"))),\"\")))","v":""},null,{"$f":"IF(IFERROR(INDIRECT(CONCATENATE(\"'UNITCOST ITEMS (Data Entry)'!C\",IFERROR(SUM(MATCH(A122,'UNITCOST ITEMS (Data Entry)'!$A$3:$A$504,0),2),\"\"))),\"\")=0,\"\",IFERROR(INDIRECT(CONCATENATE(\"'UNITCOST ITEMS (Data Entry)'!C\",IFERROR(SUM(MATCH(A122,'UNITCOST ITEMS (Data Entry)'!$A$3:$A$504,0),2),\"\"))),\"\"))","v":""},""]
[115,{"$f":"IF(IFERROR(INDIRECT(CONCATENATE(\"'UNITCOST ITEMS (Data Entry)'!D\",IFERROR(SUM(MATCH(A123,'UNITCOST ITEMS (Data Entry)'!$A$3:$A$504,0),2),\"\"))),\"\")=0,\"\",IFERROR(INDIRECT(CONCATENATE(\"'UNITCOST ITEMS (Data Entry)'!D\",IFERROR(SUM(MATCH(A123,'UNITCOST ITEMS (Data Entry)'!$A$3:$A$504,0),2),\"\"))),\"\"))","v":""},{"$f":"IF(IFERROR(INDIRECT(CONCATENATE(\"'UNITCOST ITEMS (Data Entry)'!E\",IFERROR(SUM(MATCH(A123,'UNITCOST ITEMS (Data Entry)'!$A$3:$A$504,0),2),\"\"))),\"\")=0,\"\",IFERROR(INDIRECT(CONCATENATE(\"'UNITCOST ITEMS (Data Entry)'!E\",IFERROR(SUM(MATCH(A123,'UNITCOST ITEMS (Data Entry)'!$A$3:$A$504,0),2),\"\"))),\"\"))","v":""},null,{"$f":"IF(IFERROR(INDIRECT(CONCATENATE(\"'UNITCOST ITEMS (Data Entry)'!F\",IFERROR(SUM(MATCH(A123,'UNITCOST ITEMS (Data Entry)'!$A$3:$A$504,0),2),\"\"))),\"\")=0,\"\",IFERROR(INDIRECT(CONCATENATE(\"'UNITCOST ITEMS (Data Entry)'!F\",IFERROR(SUM(MATCH(A123,'UNITCOST ITEMS (Data Entry)'!$A$3:$A$504,0),2),\"\"))),\"\"))","v":""},{"$f":"IF(IFERROR(INDIRECT(CONCATENATE(\"'UNITCOST ITEMS (Data Entry)'!G\",IFERROR(SUM(MATCH(A123,'UNITCOST ITEMS (Data Entry)'!$A$3:$A$504,0),2),\"\"))),\"\")=0,\"\",IFERROR(INDIRECT(CONCATENATE(\"'UNITCOST ITEMS (Data Entry)'!G\",IFERROR(SUM(MATCH(A123,'UNITCOST ITEMS (Data Entry)'!$A$3:$A$504,0),2),\"\"))),\"\"))","v":""},{"$f":"IF(IFERROR(INDIRECT(CONCATENATE(\"'UNITCOST ITEMS (Data Entry)'!H\",IFERROR(SUM(MATCH(A123,'UNITCOST ITEMS (Data Entry)'!$A$3:$A$504,0),2),\"\"))),\"\")=0,\"\",IFERROR(INDIRECT(CONCATENATE(\"'UNITCOST ITEMS (Data Entry)'!H\",IFERROR(SUM(MATCH(A123,'UNITCOST ITEMS (Data Entry)'!$A$3:$A$504,0),2),\"\"))),\"\"))","v":""},{"$f":"IF(IFERROR(INDIRECT(CONCATENATE(\"'UNITCOST ITEMS (Data Entry)'!I\",IFERROR(SUM(MATCH(A123,'UNITCOST ITEMS (Data Entry)'!$A$3:$A$504,0),2),\"\"))),\"\")=0,\"\",IFERROR(INDIRECT(CONCATENATE(\"'UNITCOST ITEMS (Data Entry)'!I\",IFERROR(SUM(MATCH(A123,'UNITCOST ITEMS (Data Entry)'!$A$3:$A$504,0),2),\"\"))),\"\"))","v":""},{"$f":"IF(K123=2,\"\",IF(IFERROR(INDIRECT(CONCATENATE(\"'UNITCOST ITEMS (Data Entry)'!J\",IFERROR(SUM(MATCH(A123,'UNITCOST ITEMS (Data Entry)'!$A$3:$A$504,0),2),\"\"))),\"\")=0,\"\",IFERROR(INDIRECT(CONCATENATE(\"'UNITCOST ITEMS (Data Entry)'!J\",IFERROR(SUM(MATCH(A123,'UNITCOST ITEMS (Data Entry)'!$A$3:$A$504,0),2),\"\"))),\"\")))","v":""},null,{"$f":"IF(IFERROR(INDIRECT(CONCATENATE(\"'UNITCOST ITEMS (Data Entry)'!C\",IFERROR(SUM(MATCH(A123,'UNITCOST ITEMS (Data Entry)'!$A$3:$A$504,0),2),\"\"))),\"\")=0,\"\",IFERROR(INDIRECT(CONCATENATE(\"'UNITCOST ITEMS (Data Entry)'!C\",IFERROR(SUM(MATCH(A123,'UNITCOST ITEMS (Data Entry)'!$A$3:$A$504,0),2),\"\"))),\"\"))","v":""},""]
[116,{"$f":"IF(IFERROR(INDIRECT(CONCATENATE(\"'UNITCOST ITEMS (Data Entry)'!D\",IFERROR(SUM(MATCH(A124,'UNITCOST ITEMS (Data Entry)'!$A$3:$A$504,0),2),\"\"))),\"\")=0,\"\",IFERROR(INDIRECT(CONCATENATE(\"'UNITCOST ITEMS (Data Entry)'!D\",IFERROR(SUM(MATCH(A124,'UNITCOST ITEMS (Data Entry)'!$A$3:$A$504,0),2),\"\"))),\"\"))","v":""},{"$f":"IF(IFERROR(INDIRECT(CONCATENATE(\"'UNITCOST ITEMS (Data Entry)'!E\",IFERROR(SUM(MATCH(A124,'UNITCOST ITEMS (Data Entry)'!$A$3:$A$504,0),2),\"\"))),\"\")=0,\"\",IFERROR(INDIRECT(CONCATENATE(\"'UNITCOST ITEMS (Data Entry)'!E\",IFERROR(SUM(MATCH(A124,'UNITCOST ITEMS (Data Entry)'!$A$3:$A$504,0),2),\"\"))),\"\"))","v":""},null,{"$f":"IF(IFERROR(INDIRECT(CONCATENATE(\"'UNITCOST ITEMS (Data Entry)'!F\",IFERROR(SUM(MATCH(A124,'UNITCOST ITEMS (Data Entry)'!$A$3:$A$504,0),2),\"\"))),\"\")=0,\"\",IFERROR(INDIRECT(CONCATENATE(\"'UNITCOST ITEMS (Data Entry)'!F\",IFERROR(SUM(MATCH(A124,'UNITCOST ITEMS (Data Entry)'!$A$3:$A$504,0),2),\"\"))),\"\"))","v":""},{"$f":"IF(IFERROR(INDIRECT(CONCATENATE(\"'UNITCOST ITEMS (Data Entry)'!G\",IFERROR(SUM(MATCH(A124,'UNITCOST ITEMS (Data Entry)'!$A$3:$A$504,0),2),\"\"))),\"\")=0,\"\",IFERROR(INDIRECT(CONCATENATE(\"'UNITCOST ITEMS (Data Entry)'!G\",IFERROR(SUM(MATCH(A124,'UNITCOST ITEMS (Data Entry)'!$A$3:$A$504,0),2),\"\"))),\"\"))","v":""},{"$f":"IF(IFERROR(INDIRECT(CONCATENATE(\"'UNITCOST ITEMS (Data Entry)'!H\",IFERROR(SUM(MATCH(A124,'UNITCOST ITEMS (Data Entry)'!$A$3:$A$504,0),2),\"\"))),\"\")=0,\"\",IFERROR(INDIRECT(CONCATENATE(\"'UNITCOST ITEMS (Data Entry)'!H\",IFERROR(SUM(MATCH(A124,'UNITCOST ITEMS (Data Entry)'!$A$3:$A$504,0),2),\"\"))),\"\"))","v":""},{"$f":"IF(IFERROR(INDIRECT(CONCATENATE(\"'UNITCOST ITEMS (Data Entry)'!I\",IFERROR(SUM(MATCH(A124,'UNITCOST ITEMS (Data Entry)'!$A$3:$A$504,0),2),\"\"))),\"\")=0,\"\",IFERROR(INDIRECT(CONCATENATE(\"'UNITCOST ITEMS (Data Entry)'!I\",IFERROR(SUM(MATCH(A124,'UNITCOST ITEMS (Data Entry)'!$A$3:$A$504,0),2),\"\"))),\"\"))","v":""},{"$f":"IF(K124=2,\"\",IF(IFERROR(INDIRECT(CONCATENATE(\"'UNITCOST ITEMS (Data Entry)'!J\",IFERROR(SUM(MATCH(A124,'UNITCOST ITEMS (Data Entry)'!$A$3:$A$504,0),2),\"\"))),\"\")=0,\"\",IFERROR(INDIRECT(CONCATENATE(\"'UNITCOST ITEMS (Data Entry)'!J\",IFERROR(SUM(MATCH(A124,'UNITCOST ITEMS (Data Entry)'!$A$3:$A$504,0),2),\"\"))),\"\")))","v":""},null,{"$f":"IF(IFERROR(INDIRECT(CONCATENATE(\"'UNITCOST ITEMS (Data Entry)'!C\",IFERROR(SUM(MATCH(A124,'UNITCOST ITEMS (Data Entry)'!$A$3:$A$504,0),2),\"\"))),\"\")=0,\"\",IFERROR(INDIRECT(CONCATENATE(\"'UNITCOST ITEMS (Data Entry)'!C\",IFERROR(SUM(MATCH(A124,'UNITCOST ITEMS (Data Entry)'!$A$3:$A$504,0),2),\"\"))),\"\"))","v":""},""]
[117,{"$f":"IF(IFERROR(INDIRECT(CONCATENATE(\"'UNITCOST ITEMS (Data Entry)'!D\",IFERROR(SUM(MATCH(A125,'UNITCOST ITEMS (Data Entry)'!$A$3:$A$504,0),2),\"\"))),\"\")=0,\"\",IFERROR(INDIRECT(CONCATENATE(\"'UNITCOST ITEMS (Data Entry)'!D\",IFERROR(SUM(MATCH(A125,'UNITCOST ITEMS (Data Entry)'!$A$3:$A$504,0),2),\"\"))),\"\"))","v":""},{"$f":"IF(IFERROR(INDIRECT(CONCATENATE(\"'UNITCOST ITEMS (Data Entry)'!E\",IFERROR(SUM(MATCH(A125,'UNITCOST ITEMS (Data Entry)'!$A$3:$A$504,0),2),\"\"))),\"\")=0,\"\",IFERROR(INDIRECT(CONCATENATE(\"'UNITCOST ITEMS (Data Entry)'!E\",IFERROR(SUM(MATCH(A125,'UNITCOST ITEMS (Data Entry)'!$A$3:$A$504,0),2),\"\"))),\"\"))","v":""},null,{"$f":"IF(IFERROR(INDIRECT(CONCATENATE(\"'UNITCOST ITEMS (Data Entry)'!F\",IFERROR(SUM(MATCH(A125,'UNITCOST ITEMS (Data Entry)'!$A$3:$A$504,0),2),\"\"))),\"\")=0,\"\",IFERROR(INDIRECT(CONCATENATE(\"'UNITCOST ITEMS (Data Entry)'!F\",IFERROR(SUM(MATCH(A125,'UNITCOST ITEMS (Data Entry)'!$A$3:$A$504,0),2),\"\"))),\"\"))","v":""},{"$f":"IF(IFERROR(INDIRECT(CONCATENATE(\"'UNITCOST ITEMS (Data Entry)'!G\",IFERROR(SUM(MATCH(A125,'UNITCOST ITEMS (Data Entry)'!$A$3:$A$504,0),2),\"\"))),\"\")=0,\"\",IFERROR(INDIRECT(CONCATENATE(\"'UNITCOST ITEMS (Data Entry)'!G\",IFERROR(SUM(MATCH(A125,'UNITCOST ITEMS (Data Entry)'!$A$3:$A$504,0),2),\"\"))),\"\"))","v":""},{"$f":"IF(IFERROR(INDIRECT(CONCATENATE(\"'UNITCOST ITEMS (Data Entry)'!H\",IFERROR(SUM(MATCH(A125,'UNITCOST ITEMS (Data Entry)'!$A$3:$A$504,0),2),\"\"))),\"\")=0,\"\",IFERROR(INDIRECT(CONCATENATE(\"'UNITCOST ITEMS (Data Entry)'!H\",IFERROR(SUM(MATCH(A125,'UNITCOST ITEMS (Data Entry)'!$A$3:$A$504,0),2),\"\"))),\"\"))","v":""},{"$f":"IF(IFERROR(INDIRECT(CONCATENATE(\"'UNITCOST ITEMS (Data Entry)'!I\",IFERROR(SUM(MATCH(A125,'UNITCOST ITEMS (Data Entry)'!$A$3:$A$504,0),2),\"\"))),\"\")=0,\"\",IFERROR(INDIRECT(CONCATENATE(\"'UNITCOST ITEMS (Data Entry)'!I\",IFERROR(SUM(MATCH(A125,'UNITCOST ITEMS (Data Entry)'!$A$3:$A$504,0),2),\"\"))),\"\"))","v":""},{"$f":"IF(K125=2,\"\",IF(IFERROR(INDIRECT(CONCATENATE(\"'UNITCOST ITEMS (Data Entry)'!J\",IFERROR(SUM(MATCH(A125,'UNITCOST ITEMS (Data Entry)'!$A$3:$A$504,0),2),\"\"))),\"\")=0,\"\",IFERROR(INDIRECT(CONCATENATE(\"'UNITCOST ITEMS (Data Entry)'!J\",IFERROR(SUM(MATCH(A125,'UNITCOST ITEMS (Data Entry)'!$A$3:$A$504,0),2),\"\"))),\"\")))","v":""},null,{"$f":"IF(IFERROR(INDIRECT(CONCATENATE(\"'UNITCOST ITEMS (Data Entry)'!C\",IFERROR(SUM(MATCH(A125,'UNITCOST ITEMS (Data Entry)'!$A$3:$A$504,0),2),\"\"))),\"\")=0,\"\",IFERROR(INDIRECT(CONCATENATE(\"'UNITCOST ITEMS (Data Entry)'!C\",IFERROR(SUM(MATCH(A125,'UNITCOST ITEMS (Data Entry)'!$A$3:$A$504,0),2),\"\"))),\"\"))","v":""},""]
[118,{"$f":"IF(IFERROR(INDIRECT(CONCATENATE(\"'UNITCOST ITEMS (Data Entry)'!D\",IFERROR(SUM(MATCH(A126,'UNITCOST ITEMS (Data Entry)'!$A$3:$A$504,0),2),\"\"))),\"\")=0,\"\",IFERROR(INDIRECT(CONCATENATE(\"'UNITCOST ITEMS (Data Entry)'!D\",IFERROR(SUM(MATCH(A126,'UNITCOST ITEMS (Data Entry)'!$A$3:$A$504,0),2),\"\"))),\"\"))","v":""},{"$f":"IF(IFERROR(INDIRECT(CONCATENATE(\"'UNITCOST ITEMS (Data Entry)'!E\",IFERROR(SUM(MATCH(A126,'UNITCOST ITEMS (Data Entry)'!$A$3:$A$504,0),2),\"\"))),\"\")=0,\"\",IFERROR(INDIRECT(CONCATENATE(\"'UNITCOST ITEMS (Data Entry)'!E\",IFERROR(SUM(MATCH(A126,'UNITCOST ITEMS (Data Entry)'!$A$3:$A$504,0),2),\"\"))),\"\"))","v":""},null,{"$f":"IF(IFERROR(INDIRECT(CONCATENATE(\"'UNITCOST ITEMS (Data Entry)'!F\",IFERROR(SUM(MATCH(A126,'UNITCOST ITEMS (Data Entry)'!$A$3:$A$504,0),2),\"\"))),\"\")=0,\"\",IFERROR(INDIRECT(CONCATENATE(\"'UNITCOST ITEMS (Data Entry)'!F\",IFERROR(SUM(MATCH(A126,'UNITCOST ITEMS (Data Entry)'!$A$3:$A$504,0),2),\"\"))),\"\"))","v":""},{"$f":"IF(IFERROR(INDIRECT(CONCATENATE(\"'UNITCOST ITEMS (Data Entry)'!G\",IFERROR(SUM(MATCH(A126,'UNITCOST ITEMS (Data Entry)'!$A$3:$A$504,0),2),\"\"))),\"\")=0,\"\",IFERROR(INDIRECT(CONCATENATE(\"'UNITCOST ITEMS (Data Entry)'!G\",IFERROR(SUM(MATCH(A126,'UNITCOST ITEMS (Data Entry)'!$A$3:$A$504,0),2),\"\"))),\"\"))","v":""},{"$f":"IF(IFERROR(INDIRECT(CONCATENATE(\"'UNITCOST ITEMS (Data Entry)'!H\",IFERROR(SUM(MATCH(A126,'UNITCOST ITEMS (Data Entry)'!$A$3:$A$504,0),2),\"\"))),\"\")=0,\"\",IFERROR(INDIRECT(CONCATENATE(\"'UNITCOST ITEMS (Data Entry)'!H\",IFERROR(SUM(MATCH(A126,'UNITCOST ITEMS (Data Entry)'!$A$3:$A$504,0),2),\"\"))),\"\"))","v":""},{"$f":"IF(IFERROR(INDIRECT(CONCATENATE(\"'UNITCOST ITEMS (Data Entry)'!I\",IFERROR(SUM(MATCH(A126,'UNITCOST ITEMS (Data Entry)'!$A$3:$A$504,0),2),\"\"))),\"\")=0,\"\",IFERROR(INDIRECT(CONCATENATE(\"'UNITCOST ITEMS (Data Entry)'!I\",IFERROR(SUM(MATCH(A126,'UNITCOST ITEMS (Data Entry)'!$A$3:$A$504,0),2),\"\"))),\"\"))","v":""},{"$f":"IF(K126=2,\"\",IF(IFERROR(INDIRECT(CONCATENATE(\"'UNITCOST ITEMS (Data Entry)'!J\",IFERROR(SUM(MATCH(A126,'UNITCOST ITEMS (Data Entry)'!$A$3:$A$504,0),2),\"\"))),\"\")=0,\"\",IFERROR(INDIRECT(CONCATENATE(\"'UNITCOST ITEMS (Data Entry)'!J\",IFERROR(SUM(MATCH(A126,'UNITCOST ITEMS (Data Entry)'!$A$3:$A$504,0),2),\"\"))),\"\")))","v":""},null,{"$f":"IF(IFERROR(INDIRECT(CONCATENATE(\"'UNITCOST ITEMS (Data Entry)'!C\",IFERROR(SUM(MATCH(A126,'UNITCOST ITEMS (Data Entry)'!$A$3:$A$504,0),2),\"\"))),\"\")=0,\"\",IFERROR(INDIRECT(CONCATENATE(\"'UNITCOST ITEMS (Data Entry)'!C\",IFERROR(SUM(MATCH(A126,'UNITCOST ITEMS (Data Entry)'!$A$3:$A$504,0),2),\"\"))),\"\"))","v":""},""]
[119,{"$f":"IF(IFERROR(INDIRECT(CONCATENATE(\"'UNITCOST ITEMS (Data Entry)'!D\",IFERROR(SUM(MATCH(A127,'UNITCOST ITEMS (Data Entry)'!$A$3:$A$504,0),2),\"\"))),\"\")=0,\"\",IFERROR(INDIRECT(CONCATENATE(\"'UNITCOST ITEMS (Data Entry)'!D\",IFERROR(SUM(MATCH(A127,'UNITCOST ITEMS (Data Entry)'!$A$3:$A$504,0),2),\"\"))),\"\"))","v":""},{"$f":"IF(IFERROR(INDIRECT(CONCATENATE(\"'UNITCOST ITEMS (Data Entry)'!E\",IFERROR(SUM(MATCH(A127,'UNITCOST ITEMS (Data Entry)'!$A$3:$A$504,0),2),\"\"))),\"\")=0,\"\",IFERROR(INDIRECT(CONCATENATE(\"'UNITCOST ITEMS (Data Entry)'!E\",IFERROR(SUM(MATCH(A127,'UNITCOST ITEMS (Data Entry)'!$A$3:$A$504,0),2),\"\"))),\"\"))","v":""},null,{"$f":"IF(IFERROR(INDIRECT(CONCATENATE(\"'UNITCOST ITEMS (Data Entry)'!F\",IFERROR(SUM(MATCH(A127,'UNITCOST ITEMS (Data Entry)'!$A$3:$A$504,0),2),\"\"))),\"\")=0,\"\",IFERROR(INDIRECT(CONCATENATE(\"'UNITCOST ITEMS (Data Entry)'!F\",IFERROR(SUM(MATCH(A127,'UNITCOST ITEMS (Data Entry)'!$A$3:$A$504,0),2),\"\"))),\"\"))","v":""},{"$f":"IF(IFERROR(INDIRECT(CONCATENATE(\"'UNITCOST ITEMS (Data Entry)'!G\",IFERROR(SUM(MATCH(A127,'UNITCOST ITEMS (Data Entry)'!$A$3:$A$504,0),2),\"\"))),\"\")=0,\"\",IFERROR(INDIRECT(CONCATENATE(\"'UNITCOST ITEMS (Data Entry)'!G\",IFERROR(SUM(MATCH(A127,'UNITCOST ITEMS (Data Entry)'!$A$3:$A$504,0),2),\"\"))),\"\"))","v":""},{"$f":"IF(IFERROR(INDIRECT(CONCATENATE(\"'UNITCOST ITEMS (Data Entry)'!H\",IFERROR(SUM(MATCH(A127,'UNITCOST ITEMS (Data Entry)'!$A$3:$A$504,0),2),\"\"))),\"\")=0,\"\",IFERROR(INDIRECT(CONCATENATE(\"'UNITCOST ITEMS (Data Entry)'!H\",IFERROR(SUM(MATCH(A127,'UNITCOST ITEMS (Data Entry)'!$A$3:$A$504,0),2),\"\"))),\"\"))","v":""},{"$f":"IF(IFERROR(INDIRECT(CONCATENATE(\"'UNITCOST ITEMS (Data Entry)'!I\",IFERROR(SUM(MATCH(A127,'UNITCOST ITEMS (Data Entry)'!$A$3:$A$504,0),2),\"\"))),\"\")=0,\"\",IFERROR(INDIRECT(CONCATENATE(\"'UNITCOST ITEMS (Data Entry)'!I\",IFERROR(SUM(MATCH(A127,'UNITCOST ITEMS (Data Entry)'!$A$3:$A$504,0),2),\"\"))),\"\"))","v":""},{"$f":"IF(K127=2,\"\",IF(IFERROR(INDIRECT(CONCATENATE(\"'UNITCOST ITEMS (Data Entry)'!J\",IFERROR(SUM(MATCH(A127,'UNITCOST ITEMS (Data Entry)'!$A$3:$A$504,0),2),\"\"))),\"\")=0,\"\",IFERROR(INDIRECT(CONCATENATE(\"'UNITCOST ITEMS (Data Entry)'!J\",IFERROR(SUM(MATCH(A127,'UNITCOST ITEMS (Data Entry)'!$A$3:$A$504,0),2),\"\"))),\"\")))","v":""},null,{"$f":"IF(IFERROR(INDIRECT(CONCATENATE(\"'UNITCOST ITEMS (Data Entry)'!C\",IFERROR(SUM(MATCH(A127,'UNITCOST ITEMS (Data Entry)'!$A$3:$A$504,0),2),\"\"))),\"\")=0,\"\",IFERROR(INDIRECT(CONCATENATE(\"'UNITCOST ITEMS (Data Entry)'!C\",IFERROR(SUM(MATCH(A127,'UNITCOST ITEMS (Data Entry)'!$A$3:$A$504,0),2),\"\"))),\"\"))","v":""},""]
[120,{"$f":"IF(IFERROR(INDIRECT(CONCATENATE(\"'UNITCOST ITEMS (Data Entry)'!D\",IFERROR(SUM(MATCH(A128,'UNITCOST ITEMS (Data Entry)'!$A$3:$A$504,0),2),\"\"))),\"\")=0,\"\",IFERROR(INDIRECT(CONCATENATE(\"'UNITCOST ITEMS (Data Entry)'!D\",IFERROR(SUM(MATCH(A128,'UNITCOST ITEMS (Data Entry)'!$A$3:$A$504,0),2),\"\"))),\"\"))","v":""},{"$f":"IF(IFERROR(INDIRECT(CONCATENATE(\"'UNITCOST ITEMS (Data Entry)'!E\",IFERROR(SUM(MATCH(A128,'UNITCOST ITEMS (Data Entry)'!$A$3:$A$504,0),2),\"\"))),\"\")=0,\"\",IFERROR(INDIRECT(CONCATENATE(\"'UNITCOST ITEMS (Data Entry)'!E\",IFERROR(SUM(MATCH(A128,'UNITCOST ITEMS (Data Entry)'!$A$3:$A$504,0),2),\"\"))),\"\"))","v":""},null,{"$f":"IF(IFERROR(INDIRECT(CONCATENATE(\"'UNITCOST ITEMS (Data Entry)'!F\",IFERROR(SUM(MATCH(A128,'UNITCOST ITEMS (Data Entry)'!$A$3:$A$504,0),2),\"\"))),\"\")=0,\"\",IFERROR(INDIRECT(CONCATENATE(\"'UNITCOST ITEMS (Data Entry)'!F\",IFERROR(SUM(MATCH(A128,'UNITCOST ITEMS (Data Entry)'!$A$3:$A$504,0),2),\"\"))),\"\"))","v":""},{"$f":"IF(IFERROR(INDIRECT(CONCATENATE(\"'UNITCOST ITEMS (Data Entry)'!G\",IFERROR(SUM(MATCH(A128,'UNITCOST ITEMS (Data Entry)'!$A$3:$A$504,0),2),\"\"))),\"\")=0,\"\",IFERROR(INDIRECT(CONCATENATE(\"'UNITCOST ITEMS (Data Entry)'!G\",IFERROR(SUM(MATCH(A128,'UNITCOST ITEMS (Data Entry)'!$A$3:$A$504,0),2),\"\"))),\"\"))","v":""},{"$f":"IF(IFERROR(INDIRECT(CONCATENATE(\"'UNITCOST ITEMS (Data Entry)'!H\",IFERROR(SUM(MATCH(A128,'UNITCOST ITEMS (Data Entry)'!$A$3:$A$504,0),2),\"\"))),\"\")=0,\"\",IFERROR(INDIRECT(CONCATENATE(\"'UNITCOST ITEMS (Data Entry)'!H\",IFERROR(SUM(MATCH(A128,'UNITCOST ITEMS (Data Entry)'!$A$3:$A$504,0),2),\"\"))),\"\"))","v":""},{"$f":"IF(IFERROR(INDIRECT(CONCATENATE(\"'UNITCOST ITEMS (Data Entry)'!I\",IFERROR(SUM(MATCH(A128,'UNITCOST ITEMS (Data Entry)'!$A$3:$A$504,0),2),\"\"))),\"\")=0,\"\",IFERROR(INDIRECT(CONCATENATE(\"'UNITCOST ITEMS (Data Entry)'!I\",IFERROR(SUM(MATCH(A128,'UNITCOST ITEMS (Data Entry)'!$A$3:$A$504,0),2),\"\"))),\"\"))","v":""},{"$f":"IF(K128=2,\"\",IF(IFERROR(INDIRECT(CONCATENATE(\"'UNITCOST ITEMS (Data Entry)'!J\",IFERROR(SUM(MATCH(A128,'UNITCOST ITEMS (Data Entry)'!$A$3:$A$504,0),2),\"\"))),\"\")=0,\"\",IFERROR(INDIRECT(CONCATENATE(\"'UNITCOST ITEMS (Data Entry)'!J\",IFERROR(SUM(MATCH(A128,'UNITCOST ITEMS (Data Entry)'!$A$3:$A$504,0),2),\"\"))),\"\")))","v":""},null,{"$f":"IF(IFERROR(INDIRECT(CONCATENATE(\"'UNITCOST ITEMS (Data Entry)'!C\",IFERROR(SUM(MATCH(A128,'UNITCOST ITEMS (Data Entry)'!$A$3:$A$504,0),2),\"\"))),\"\")=0,\"\",IFERROR(INDIRECT(CONCATENATE(\"'UNITCOST ITEMS (Data Entry)'!C\",IFERROR(SUM(MATCH(A128,'UNITCOST ITEMS (Data Entry)'!$A$3:$A$504,0),2),\"\"))),\"\"))","v":""},""]
[121,{"$f":"IF(IFERROR(INDIRECT(CONCATENATE(\"'UNITCOST ITEMS (Data Entry)'!D\",IFERROR(SUM(MATCH(A129,'UNITCOST ITEMS (Data Entry)'!$A$3:$A$504,0),2),\"\"))),\"\")=0,\"\",IFERROR(INDIRECT(CONCATENATE(\"'UNITCOST ITEMS (Data Entry)'!D\",IFERROR(SUM(MATCH(A129,'UNITCOST ITEMS (Data Entry)'!$A$3:$A$504,0),2),\"\"))),\"\"))","v":""},{"$f":"IF(IFERROR(INDIRECT(CONCATENATE(\"'UNITCOST ITEMS (Data Entry)'!E\",IFERROR(SUM(MATCH(A129,'UNITCOST ITEMS (Data Entry)'!$A$3:$A$504,0),2),\"\"))),\"\")=0,\"\",IFERROR(INDIRECT(CONCATENATE(\"'UNITCOST ITEMS (Data Entry)'!E\",IFERROR(SUM(MATCH(A129,'UNITCOST ITEMS (Data Entry)'!$A$3:$A$504,0),2),\"\"))),\"\"))","v":""},null,{"$f":"IF(IFERROR(INDIRECT(CONCATENATE(\"'UNITCOST ITEMS (Data Entry)'!F\",IFERROR(SUM(MATCH(A129,'UNITCOST ITEMS (Data Entry)'!$A$3:$A$504,0),2),\"\"))),\"\")=0,\"\",IFERROR(INDIRECT(CONCATENATE(\"'UNITCOST ITEMS (Data Entry)'!F\",IFERROR(SUM(MATCH(A129,'UNITCOST ITEMS (Data Entry)'!$A$3:$A$504,0),2),\"\"))),\"\"))","v":""},{"$f":"IF(IFERROR(INDIRECT(CONCATENATE(\"'UNITCOST ITEMS (Data Entry)'!G\",IFERROR(SUM(MATCH(A129,'UNITCOST ITEMS (Data Entry)'!$A$3:$A$504,0),2),\"\"))),\"\")=0,\"\",IFERROR(INDIRECT(CONCATENATE(\"'UNITCOST ITEMS (Data Entry)'!G\",IFERROR(SUM(MATCH(A129,'UNITCOST ITEMS (Data Entry)'!$A$3:$A$504,0),2),\"\"))),\"\"))","v":""},{"$f":"IF(IFERROR(INDIRECT(CONCATENATE(\"'UNITCOST ITEMS (Data Entry)'!H\",IFERROR(SUM(MATCH(A129,'UNITCOST ITEMS (Data Entry)'!$A$3:$A$504,0),2),\"\"))),\"\")=0,\"\",IFERROR(INDIRECT(CONCATENATE(\"'UNITCOST ITEMS (Data Entry)'!H\",IFERROR(SUM(MATCH(A129,'UNITCOST ITEMS (Data Entry)'!$A$3:$A$504,0),2),\"\"))),\"\"))","v":""},{"$f":"IF(IFERROR(INDIRECT(CONCATENATE(\"'UNITCOST ITEMS (Data Entry)'!I\",IFERROR(SUM(MATCH(A129,'UNITCOST ITEMS (Data Entry)'!$A$3:$A$504,0),2),\"\"))),\"\")=0,\"\",IFERROR(INDIRECT(CONCATENATE(\"'UNITCOST ITEMS (Data Entry)'!I\",IFERROR(SUM(MATCH(A129,'UNITCOST ITEMS (Data Entry)'!$A$3:$A$504,0),2),\"\"))),\"\"))","v":""},{"$f":"IF(K129=2,\"\",IF(IFERROR(INDIRECT(CONCATENATE(\"'UNITCOST ITEMS (Data Entry)'!J\",IFERROR(SUM(MATCH(A129,'UNITCOST ITEMS (Data Entry)'!$A$3:$A$504,0),2),\"\"))),\"\")=0,\"\",IFERROR(INDIRECT(CONCATENATE(\"'UNITCOST ITEMS (Data Entry)'!J\",IFERROR(SUM(MATCH(A129,'UNITCOST ITEMS (Data Entry)'!$A$3:$A$504,0),2),\"\"))),\"\")))","v":""},null,{"$f":"IF(IFERROR(INDIRECT(CONCATENATE(\"'UNITCOST ITEMS (Data Entry)'!C\",IFERROR(SUM(MATCH(A129,'UNITCOST ITEMS (Data Entry)'!$A$3:$A$504,0),2),\"\"))),\"\")=0,\"\",IFERROR(INDIRECT(CONCATENATE(\"'UNITCOST ITEMS (Data Entry)'!C\",IFERROR(SUM(MATCH(A129,'UNITCOST ITEMS (Data Entry)'!$A$3:$A$504,0),2),\"\"))),\"\"))","v":""},""]
[122,{"$f":"IF(IFERROR(INDIRECT(CONCATENATE(\"'UNITCOST ITEMS (Data Entry)'!D\",IFERROR(SUM(MATCH(A130,'UNITCOST ITEMS (Data Entry)'!$A$3:$A$504,0),2),\"\"))),\"\")=0,\"\",IFERROR(INDIRECT(CONCATENATE(\"'UNITCOST ITEMS (Data Entry)'!D\",IFERROR(SUM(MATCH(A130,'UNITCOST ITEMS (Data Entry)'!$A$3:$A$504,0),2),\"\"))),\"\"))","v":""},{"$f":"IF(IFERROR(INDIRECT(CONCATENATE(\"'UNITCOST ITEMS (Data Entry)'!E\",IFERROR(SUM(MATCH(A130,'UNITCOST ITEMS (Data Entry)'!$A$3:$A$504,0),2),\"\"))),\"\")=0,\"\",IFERROR(INDIRECT(CONCATENATE(\"'UNITCOST ITEMS (Data Entry)'!E\",IFERROR(SUM(MATCH(A130,'UNITCOST ITEMS (Data Entry)'!$A$3:$A$504,0),2),\"\"))),\"\"))","v":""},null,{"$f":"IF(IFERROR(INDIRECT(CONCATENATE(\"'UNITCOST ITEMS (Data Entry)'!F\",IFERROR(SUM(MATCH(A130,'UNITCOST ITEMS (Data Entry)'!$A$3:$A$504,0),2),\"\"))),\"\")=0,\"\",IFERROR(INDIRECT(CONCATENATE(\"'UNITCOST ITEMS (Data Entry)'!F\",IFERROR(SUM(MATCH(A130,'UNITCOST ITEMS (Data Entry)'!$A$3:$A$504,0),2),\"\"))),\"\"))","v":""},{"$f":"IF(IFERROR(INDIRECT(CONCATENATE(\"'UNITCOST ITEMS (Data Entry)'!G\",IFERROR(SUM(MATCH(A130,'UNITCOST ITEMS (Data Entry)'!$A$3:$A$504,0),2),\"\"))),\"\")=0,\"\",IFERROR(INDIRECT(CONCATENATE(\"'UNITCOST ITEMS (Data Entry)'!G\",IFERROR(SUM(MATCH(A130,'UNITCOST ITEMS (Data Entry)'!$A$3:$A$504,0),2),\"\"))),\"\"))","v":""},{"$f":"IF(IFERROR(INDIRECT(CONCATENATE(\"'UNITCOST ITEMS (Data Entry)'!H\",IFERROR(SUM(MATCH(A130,'UNITCOST ITEMS (Data Entry)'!$A$3:$A$504,0),2),\"\"))),\"\")=0,\"\",IFERROR(INDIRECT(CONCATENATE(\"'UNITCOST ITEMS (Data Entry)'!H\",IFERROR(SUM(MATCH(A130,'UNITCOST ITEMS (Data Entry)'!$A$3:$A$504,0),2),\"\"))),\"\"))","v":""},{"$f":"IF(IFERROR(INDIRECT(CONCATENATE(\"'UNITCOST ITEMS (Data Entry)'!I\",IFERROR(SUM(MATCH(A130,'UNITCOST ITEMS (Data Entry)'!$A$3:$A$504,0),2),\"\"))),\"\")=0,\"\",IFERROR(INDIRECT(CONCATENATE(\"'UNITCOST ITEMS (Data Entry)'!I\",IFERROR(SUM(MATCH(A130,'UNITCOST ITEMS (Data Entry)'!$A$3:$A$504,0),2),\"\"))),\"\"))","v":""},{"$f":"IF(K130=2,\"\",IF(IFERROR(INDIRECT(CONCATENATE(\"'UNITCOST ITEMS (Data Entry)'!J\",IFERROR(SUM(MATCH(A130,'UNITCOST ITEMS (Data Entry)'!$A$3:$A$504,0),2),\"\"))),\"\")=0,\"\",IFERROR(INDIRECT(CONCATENATE(\"'UNITCOST ITEMS (Data Entry)'!J\",IFERROR(SUM(MATCH(A130,'UNITCOST ITEMS (Data Entry)'!$A$3:$A$504,0),2),\"\"))),\"\")))","v":""},null,{"$f":"IF(IFERROR(INDIRECT(CONCATENATE(\"'UNITCOST ITEMS (Data Entry)'!C\",IFERROR(SUM(MATCH(A130,'UNITCOST ITEMS (Data Entry)'!$A$3:$A$504,0),2),\"\"))),\"\")=0,\"\",IFERROR(INDIRECT(CONCATENATE(\"'UNITCOST ITEMS (Data Entry)'!C\",IFERROR(SUM(MATCH(A130,'UNITCOST ITEMS (Data Entry)'!$A$3:$A$504,0),2),\"\"))),\"\"))","v":""},""]
[123,{"$f":"IF(IFERROR(INDIRECT(CONCATENATE(\"'UNITCOST ITEMS (Data Entry)'!D\",IFERROR(SUM(MATCH(A131,'UNITCOST ITEMS (Data Entry)'!$A$3:$A$504,0),2),\"\"))),\"\")=0,\"\",IFERROR(INDIRECT(CONCATENATE(\"'UNITCOST ITEMS (Data Entry)'!D\",IFERROR(SUM(MATCH(A131,'UNITCOST ITEMS (Data Entry)'!$A$3:$A$504,0),2),\"\"))),\"\"))","v":""},{"$f":"IF(IFERROR(INDIRECT(CONCATENATE(\"'UNITCOST ITEMS (Data Entry)'!E\",IFERROR(SUM(MATCH(A131,'UNITCOST ITEMS (Data Entry)'!$A$3:$A$504,0),2),\"\"))),\"\")=0,\"\",IFERROR(INDIRECT(CONCATENATE(\"'UNITCOST ITEMS (Data Entry)'!E\",IFERROR(SUM(MATCH(A131,'UNITCOST ITEMS (Data Entry)'!$A$3:$A$504,0),2),\"\"))),\"\"))","v":""},null,{"$f":"IF(IFERROR(INDIRECT(CONCATENATE(\"'UNITCOST ITEMS (Data Entry)'!F\",IFERROR(SUM(MATCH(A131,'UNITCOST ITEMS (Data Entry)'!$A$3:$A$504,0),2),\"\"))),\"\")=0,\"\",IFERROR(INDIRECT(CONCATENATE(\"'UNITCOST ITEMS (Data Entry)'!F\",IFERROR(SUM(MATCH(A131,'UNITCOST ITEMS (Data Entry)'!$A$3:$A$504,0),2),\"\"))),\"\"))","v":""},{"$f":"IF(IFERROR(INDIRECT(CONCATENATE(\"'UNITCOST ITEMS (Data Entry)'!G\",IFERROR(SUM(MATCH(A131,'UNITCOST ITEMS (Data Entry)'!$A$3:$A$504,0),2),\"\"))),\"\")=0,\"\",IFERROR(INDIRECT(CONCATENATE(\"'UNITCOST ITEMS (Data Entry)'!G\",IFERROR(SUM(MATCH(A131,'UNITCOST ITEMS (Data Entry)'!$A$3:$A$504,0),2),\"\"))),\"\"))","v":""},{"$f":"IF(IFERROR(INDIRECT(CONCATENATE(\"'UNITCOST ITEMS (Data Entry)'!H\",IFERROR(SUM(MATCH(A131,'UNITCOST ITEMS (Data Entry)'!$A$3:$A$504,0),2),\"\"))),\"\")=0,\"\",IFERROR(INDIRECT(CONCATENATE(\"'UNITCOST ITEMS (Data Entry)'!H\",IFERROR(SUM(MATCH(A131,'UNITCOST ITEMS (Data Entry)'!$A$3:$A$504,0),2),\"\"))),\"\"))","v":""},{"$f":"IF(IFERROR(INDIRECT(CONCATENATE(\"'UNITCOST ITEMS (Data Entry)'!I\",IFERROR(SUM(MATCH(A131,'UNITCOST ITEMS (Data Entry)'!$A$3:$A$504,0),2),\"\"))),\"\")=0,\"\",IFERROR(INDIRECT(CONCATENATE(\"'UNITCOST ITEMS (Data Entry)'!I\",IFERROR(SUM(MATCH(A131,'UNITCOST ITEMS (Data Entry)'!$A$3:$A$504,0),2),\"\"))),\"\"))","v":""},{"$f":"IF(K131=2,\"\",IF(IFERROR(INDIRECT(CONCATENATE(\"'UNITCOST ITEMS (Data Entry)'!J\",IFERROR(SUM(MATCH(A131,'UNITCOST ITEMS (Data Entry)'!$A$3:$A$504,0),2),\"\"))),\"\")=0,\"\",IFERROR(INDIRECT(CONCATENATE(\"'UNITCOST ITEMS (Data Entry)'!J\",IFERROR(SUM(MATCH(A131,'UNITCOST ITEMS (Data Entry)'!$A$3:$A$504,0),2),\"\"))),\"\")))","v":""},null,{"$f":"IF(IFERROR(INDIRECT(CONCATENATE(\"'UNITCOST ITEMS (Data Entry)'!C\",IFERROR(SUM(MATCH(A131,'UNITCOST ITEMS (Data Entry)'!$A$3:$A$504,0),2),\"\"))),\"\")=0,\"\",IFERROR(INDIRECT(CONCATENATE(\"'UNITCOST ITEMS (Data Entry)'!C\",IFERROR(SUM(MATCH(A131,'UNITCOST ITEMS (Data Entry)'!$A$3:$A$504,0),2),\"\"))),\"\"))","v":""},""]
[124,{"$f":"IF(IFERROR(INDIRECT(CONCATENATE(\"'UNITCOST ITEMS (Data Entry)'!D\",IFERROR(SUM(MATCH(A132,'UNITCOST ITEMS (Data Entry)'!$A$3:$A$504,0),2),\"\"))),\"\")=0,\"\",IFERROR(INDIRECT(CONCATENATE(\"'UNITCOST ITEMS (Data Entry)'!D\",IFERROR(SUM(MATCH(A132,'UNITCOST ITEMS (Data Entry)'!$A$3:$A$504,0),2),\"\"))),\"\"))","v":""},{"$f":"IF(IFERROR(INDIRECT(CONCATENATE(\"'UNITCOST ITEMS (Data Entry)'!E\",IFERROR(SUM(MATCH(A132,'UNITCOST ITEMS (Data Entry)'!$A$3:$A$504,0),2),\"\"))),\"\")=0,\"\",IFERROR(INDIRECT(CONCATENATE(\"'UNITCOST ITEMS (Data Entry)'!E\",IFERROR(SUM(MATCH(A132,'UNITCOST ITEMS (Data Entry)'!$A$3:$A$504,0),2),\"\"))),\"\"))","v":""},null,{"$f":"IF(IFERROR(INDIRECT(CONCATENATE(\"'UNITCOST ITEMS (Data Entry)'!F\",IFERROR(SUM(MATCH(A132,'UNITCOST ITEMS (Data Entry)'!$A$3:$A$504,0),2),\"\"))),\"\")=0,\"\",IFERROR(INDIRECT(CONCATENATE(\"'UNITCOST ITEMS (Data Entry)'!F\",IFERROR(SUM(MATCH(A132,'UNITCOST ITEMS (Data Entry)'!$A$3:$A$504,0),2),\"\"))),\"\"))","v":""},{"$f":"IF(IFERROR(INDIRECT(CONCATENATE(\"'UNITCOST ITEMS (Data Entry)'!G\",IFERROR(SUM(MATCH(A132,'UNITCOST ITEMS (Data Entry)'!$A$3:$A$504,0),2),\"\"))),\"\")=0,\"\",IFERROR(INDIRECT(CONCATENATE(\"'UNITCOST ITEMS (Data Entry)'!G\",IFERROR(SUM(MATCH(A132,'UNITCOST ITEMS (Data Entry)'!$A$3:$A$504,0),2),\"\"))),\"\"))","v":""},{"$f":"IF(IFERROR(INDIRECT(CONCATENATE(\"'UNITCOST ITEMS (Data Entry)'!H\",IFERROR(SUM(MATCH(A132,'UNITCOST ITEMS (Data Entry)'!$A$3:$A$504,0),2),\"\"))),\"\")=0,\"\",IFERROR(INDIRECT(CONCATENATE(\"'UNITCOST ITEMS (Data Entry)'!H\",IFERROR(SUM(MATCH(A132,'UNITCOST ITEMS (Data Entry)'!$A$3:$A$504,0),2),\"\"))),\"\"))","v":""},{"$f":"IF(IFERROR(INDIRECT(CONCATENATE(\"'UNITCOST ITEMS (Data Entry)'!I\",IFERROR(SUM(MATCH(A132,'UNITCOST ITEMS (Data Entry)'!$A$3:$A$504,0),2),\"\"))),\"\")=0,\"\",IFERROR(INDIRECT(CONCATENATE(\"'UNITCOST ITEMS (Data Entry)'!I\",IFERROR(SUM(MATCH(A132,'UNITCOST ITEMS (Data Entry)'!$A$3:$A$504,0),2),\"\"))),\"\"))","v":""},{"$f":"IF(K132=2,\"\",IF(IFERROR(INDIRECT(CONCATENATE(\"'UNITCOST ITEMS (Data Entry)'!J\",IFERROR(SUM(MATCH(A132,'UNITCOST ITEMS (Data Entry)'!$A$3:$A$504,0),2),\"\"))),\"\")=0,\"\",IFERROR(INDIRECT(CONCATENATE(\"'UNITCOST ITEMS (Data Entry)'!J\",IFERROR(SUM(MATCH(A132,'UNITCOST ITEMS (Data Entry)'!$A$3:$A$504,0),2),\"\"))),\"\")))","v":""},null,{"$f":"IF(IFERROR(INDIRECT(CONCATENATE(\"'UNITCOST ITEMS (Data Entry)'!C\",IFERROR(SUM(MATCH(A132,'UNITCOST ITEMS (Data Entry)'!$A$3:$A$504,0),2),\"\"))),\"\")=0,\"\",IFERROR(INDIRECT(CONCATENATE(\"'UNITCOST ITEMS (Data Entry)'!C\",IFERROR(SUM(MATCH(A132,'UNITCOST ITEMS (Data Entry)'!$A$3:$A$504,0),2),\"\"))),\"\"))","v":""},""]
[125,{"$f":"IF(IFERROR(INDIRECT(CONCATENATE(\"'UNITCOST ITEMS (Data Entry)'!D\",IFERROR(SUM(MATCH(A133,'UNITCOST ITEMS (Data Entry)'!$A$3:$A$504,0),2),\"\"))),\"\")=0,\"\",IFERROR(INDIRECT(CONCATENATE(\"'UNITCOST ITEMS (Data Entry)'!D\",IFERROR(SUM(MATCH(A133,'UNITCOST ITEMS (Data Entry)'!$A$3:$A$504,0),2),\"\"))),\"\"))","v":""},{"$f":"IF(IFERROR(INDIRECT(CONCATENATE(\"'UNITCOST ITEMS (Data Entry)'!E\",IFERROR(SUM(MATCH(A133,'UNITCOST ITEMS (Data Entry)'!$A$3:$A$504,0),2),\"\"))),\"\")=0,\"\",IFERROR(INDIRECT(CONCATENATE(\"'UNITCOST ITEMS (Data Entry)'!E\",IFERROR(SUM(MATCH(A133,'UNITCOST ITEMS (Data Entry)'!$A$3:$A$504,0),2),\"\"))),\"\"))","v":""},null,{"$f":"IF(IFERROR(INDIRECT(CONCATENATE(\"'UNITCOST ITEMS (Data Entry)'!F\",IFERROR(SUM(MATCH(A133,'UNITCOST ITEMS (Data Entry)'!$A$3:$A$504,0),2),\"\"))),\"\")=0,\"\",IFERROR(INDIRECT(CONCATENATE(\"'UNITCOST ITEMS (Data Entry)'!F\",IFERROR(SUM(MATCH(A133,'UNITCOST ITEMS (Data Entry)'!$A$3:$A$504,0),2),\"\"))),\"\"))","v":""},{"$f":"IF(IFERROR(INDIRECT(CONCATENATE(\"'UNITCOST ITEMS (Data Entry)'!G\",IFERROR(SUM(MATCH(A133,'UNITCOST ITEMS (Data Entry)'!$A$3:$A$504,0),2),\"\"))),\"\")=0,\"\",IFERROR(INDIRECT(CONCATENATE(\"'UNITCOST ITEMS (Data Entry)'!G\",IFERROR(SUM(MATCH(A133,'UNITCOST ITEMS (Data Entry)'!$A$3:$A$504,0),2),\"\"))),\"\"))","v":""},{"$f":"IF(IFERROR(INDIRECT(CONCATENATE(\"'UNITCOST ITEMS (Data Entry)'!H\",IFERROR(SUM(MATCH(A133,'UNITCOST ITEMS (Data Entry)'!$A$3:$A$504,0),2),\"\"))),\"\")=0,\"\",IFERROR(INDIRECT(CONCATENATE(\"'UNITCOST ITEMS (Data Entry)'!H\",IFERROR(SUM(MATCH(A133,'UNITCOST ITEMS (Data Entry)'!$A$3:$A$504,0),2),\"\"))),\"\"))","v":""},{"$f":"IF(IFERROR(INDIRECT(CONCATENATE(\"'UNITCOST ITEMS (Data Entry)'!I\",IFERROR(SUM(MATCH(A133,'UNITCOST ITEMS (Data Entry)'!$A$3:$A$504,0),2),\"\"))),\"\")=0,\"\",IFERROR(INDIRECT(CONCATENATE(\"'UNITCOST ITEMS (Data Entry)'!I\",IFERROR(SUM(MATCH(A133,'UNITCOST ITEMS (Data Entry)'!$A$3:$A$504,0),2),\"\"))),\"\"))","v":""},{"$f":"IF(K133=2,\"\",IF(IFERROR(INDIRECT(CONCATENATE(\"'UNITCOST ITEMS (Data Entry)'!J\",IFERROR(SUM(MATCH(A133,'UNITCOST ITEMS (Data Entry)'!$A$3:$A$504,0),2),\"\"))),\"\")=0,\"\",IFERROR(INDIRECT(CONCATENATE(\"'UNITCOST ITEMS (Data Entry)'!J\",IFERROR(SUM(MATCH(A133,'UNITCOST ITEMS (Data Entry)'!$A$3:$A$504,0),2),\"\"))),\"\")))","v":""},null,{"$f":"IF(IFERROR(INDIRECT(CONCATENATE(\"'UNITCOST ITEMS (Data Entry)'!C\",IFERROR(SUM(MATCH(A133,'UNITCOST ITEMS (Data Entry)'!$A$3:$A$504,0),2),\"\"))),\"\")=0,\"\",IFERROR(INDIRECT(CONCATENATE(\"'UNITCOST ITEMS (Data Entry)'!C\",IFERROR(SUM(MATCH(A133,'UNITCOST ITEMS (Data Entry)'!$A$3:$A$504,0),2),\"\"))),\"\"))","v":""},""]
[126,{"$f":"IF(IFERROR(INDIRECT(CONCATENATE(\"'UNITCOST ITEMS (Data Entry)'!D\",IFERROR(SUM(MATCH(A134,'UNITCOST ITEMS (Data Entry)'!$A$3:$A$504,0),2),\"\"))),\"\")=0,\"\",IFERROR(INDIRECT(CONCATENATE(\"'UNITCOST ITEMS (Data Entry)'!D\",IFERROR(SUM(MATCH(A134,'UNITCOST ITEMS (Data Entry)'!$A$3:$A$504,0),2),\"\"))),\"\"))","v":""},{"$f":"IF(IFERROR(INDIRECT(CONCATENATE(\"'UNITCOST ITEMS (Data Entry)'!E\",IFERROR(SUM(MATCH(A134,'UNITCOST ITEMS (Data Entry)'!$A$3:$A$504,0),2),\"\"))),\"\")=0,\"\",IFERROR(INDIRECT(CONCATENATE(\"'UNITCOST ITEMS (Data Entry)'!E\",IFERROR(SUM(MATCH(A134,'UNITCOST ITEMS (Data Entry)'!$A$3:$A$504,0),2),\"\"))),\"\"))","v":""},null,{"$f":"IF(IFERROR(INDIRECT(CONCATENATE(\"'UNITCOST ITEMS (Data Entry)'!F\",IFERROR(SUM(MATCH(A134,'UNITCOST ITEMS (Data Entry)'!$A$3:$A$504,0),2),\"\"))),\"\")=0,\"\",IFERROR(INDIRECT(CONCATENATE(\"'UNITCOST ITEMS (Data Entry)'!F\",IFERROR(SUM(MATCH(A134,'UNITCOST ITEMS (Data Entry)'!$A$3:$A$504,0),2),\"\"))),\"\"))","v":""},{"$f":"IF(IFERROR(INDIRECT(CONCATENATE(\"'UNITCOST ITEMS (Data Entry)'!G\",IFERROR(SUM(MATCH(A134,'UNITCOST ITEMS (Data Entry)'!$A$3:$A$504,0),2),\"\"))),\"\")=0,\"\",IFERROR(INDIRECT(CONCATENATE(\"'UNITCOST ITEMS (Data Entry)'!G\",IFERROR(SUM(MATCH(A134,'UNITCOST ITEMS (Data Entry)'!$A$3:$A$504,0),2),\"\"))),\"\"))","v":""},{"$f":"IF(IFERROR(INDIRECT(CONCATENATE(\"'UNITCOST ITEMS (Data Entry)'!H\",IFERROR(SUM(MATCH(A134,'UNITCOST ITEMS (Data Entry)'!$A$3:$A$504,0),2),\"\"))),\"\")=0,\"\",IFERROR(INDIRECT(CONCATENATE(\"'UNITCOST ITEMS (Data Entry)'!H\",IFERROR(SUM(MATCH(A134,'UNITCOST ITEMS (Data Entry)'!$A$3:$A$504,0),2),\"\"))),\"\"))","v":""},{"$f":"IF(IFERROR(INDIRECT(CONCATENATE(\"'UNITCOST ITEMS (Data Entry)'!I\",IFERROR(SUM(MATCH(A134,'UNITCOST ITEMS (Data Entry)'!$A$3:$A$504,0),2),\"\"))),\"\")=0,\"\",IFERROR(INDIRECT(CONCATENATE(\"'UNITCOST ITEMS (Data Entry)'!I\",IFERROR(SUM(MATCH(A134,'UNITCOST ITEMS (Data Entry)'!$A$3:$A$504,0),2),\"\"))),\"\"))","v":""},{"$f":"IF(K134=2,\"\",IF(IFERROR(INDIRECT(CONCATENATE(\"'UNITCOST ITEMS (Data Entry)'!J\",IFERROR(SUM(MATCH(A134,'UNITCOST ITEMS (Data Entry)'!$A$3:$A$504,0),2),\"\"))),\"\")=0,\"\",IFERROR(INDIRECT(CONCATENATE(\"'UNITCOST ITEMS (Data Entry)'!J\",IFERROR(SUM(MATCH(A134,'UNITCOST ITEMS (Data Entry)'!$A$3:$A$504,0),2),\"\"))),\"\")))","v":""},null,{"$f":"IF(IFERROR(INDIRECT(CONCATENATE(\"'UNITCOST ITEMS (Data Entry)'!C\",IFERROR(SUM(MATCH(A134,'UNITCOST ITEMS (Data Entry)'!$A$3:$A$504,0),2),\"\"))),\"\")=0,\"\",IFERROR(INDIRECT(CONCATENATE(\"'UNITCOST ITEMS (Data Entry)'!C\",IFERROR(SUM(MATCH(A134,'UNITCOST ITEMS (Data Entry)'!$A$3:$A$504,0),2),\"\"))),\"\"))","v":""},""]
[127,{"$f":"IF(IFERROR(INDIRECT(CONCATENATE(\"'UNITCOST ITEMS (Data Entry)'!D\",IFERROR(SUM(MATCH(A135,'UNITCOST ITEMS (Data Entry)'!$A$3:$A$504,0),2),\"\"))),\"\")=0,\"\",IFERROR(INDIRECT(CONCATENATE(\"'UNITCOST ITEMS (Data Entry)'!D\",IFERROR(SUM(MATCH(A135,'UNITCOST ITEMS (Data Entry)'!$A$3:$A$504,0),2),\"\"))),\"\"))","v":""},{"$f":"IF(IFERROR(INDIRECT(CONCATENATE(\"'UNITCOST ITEMS (Data Entry)'!E\",IFERROR(SUM(MATCH(A135,'UNITCOST ITEMS (Data Entry)'!$A$3:$A$504,0),2),\"\"))),\"\")=0,\"\",IFERROR(INDIRECT(CONCATENATE(\"'UNITCOST ITEMS (Data Entry)'!E\",IFERROR(SUM(MATCH(A135,'UNITCOST ITEMS (Data Entry)'!$A$3:$A$504,0),2),\"\"))),\"\"))","v":""},null,{"$f":"IF(IFERROR(INDIRECT(CONCATENATE(\"'UNITCOST ITEMS (Data Entry)'!F\",IFERROR(SUM(MATCH(A135,'UNITCOST ITEMS (Data Entry)'!$A$3:$A$504,0),2),\"\"))),\"\")=0,\"\",IFERROR(INDIRECT(CONCATENATE(\"'UNITCOST ITEMS (Data Entry)'!F\",IFERROR(SUM(MATCH(A135,'UNITCOST ITEMS (Data Entry)'!$A$3:$A$504,0),2),\"\"))),\"\"))","v":""},{"$f":"IF(IFERROR(INDIRECT(CONCATENATE(\"'UNITCOST ITEMS (Data Entry)'!G\",IFERROR(SUM(MATCH(A135,'UNITCOST ITEMS (Data Entry)'!$A$3:$A$504,0),2),\"\"))),\"\")=0,\"\",IFERROR(INDIRECT(CONCATENATE(\"'UNITCOST ITEMS (Data Entry)'!G\",IFERROR(SUM(MATCH(A135,'UNITCOST ITEMS (Data Entry)'!$A$3:$A$504,0),2),\"\"))),\"\"))","v":""},{"$f":"IF(IFERROR(INDIRECT(CONCATENATE(\"'UNITCOST ITEMS (Data Entry)'!H\",IFERROR(SUM(MATCH(A135,'UNITCOST ITEMS (Data Entry)'!$A$3:$A$504,0),2),\"\"))),\"\")=0,\"\",IFERROR(INDIRECT(CONCATENATE(\"'UNITCOST ITEMS (Data Entry)'!H\",IFERROR(SUM(MATCH(A135,'UNITCOST ITEMS (Data Entry)'!$A$3:$A$504,0),2),\"\"))),\"\"))","v":""},{"$f":"IF(IFERROR(INDIRECT(CONCATENATE(\"'UNITCOST ITEMS (Data Entry)'!I\",IFERROR(SUM(MATCH(A135,'UNITCOST ITEMS (Data Entry)'!$A$3:$A$504,0),2),\"\"))),\"\")=0,\"\",IFERROR(INDIRECT(CONCATENATE(\"'UNITCOST ITEMS (Data Entry)'!I\",IFERROR(SUM(MATCH(A135,'UNITCOST ITEMS (Data Entry)'!$A$3:$A$504,0),2),\"\"))),\"\"))","v":""},{"$f":"IF(K135=2,\"\",IF(IFERROR(INDIRECT(CONCATENATE(\"'UNITCOST ITEMS (Data Entry)'!J\",IFERROR(SUM(MATCH(A135,'UNITCOST ITEMS (Data Entry)'!$A$3:$A$504,0),2),\"\"))),\"\")=0,\"\",IFERROR(INDIRECT(CONCATENATE(\"'UNITCOST ITEMS (Data Entry)'!J\",IFERROR(SUM(MATCH(A135,'UNITCOST ITEMS (Data Entry)'!$A$3:$A$504,0),2),\"\"))),\"\")))","v":""},null,{"$f":"IF(IFERROR(INDIRECT(CONCATENATE(\"'UNITCOST ITEMS (Data Entry)'!C\",IFERROR(SUM(MATCH(A135,'UNITCOST ITEMS (Data Entry)'!$A$3:$A$504,0),2),\"\"))),\"\")=0,\"\",IFERROR(INDIRECT(CONCATENATE(\"'UNITCOST ITEMS (Data Entry)'!C\",IFERROR(SUM(MATCH(A135,'UNITCOST ITEMS (Data Entry)'!$A$3:$A$504,0),2),\"\"))),\"\"))","v":""},""]
[128,{"$f":"IF(IFERROR(INDIRECT(CONCATENATE(\"'UNITCOST ITEMS (Data Entry)'!D\",IFERROR(SUM(MATCH(A136,'UNITCOST ITEMS (Data Entry)'!$A$3:$A$504,0),2),\"\"))),\"\")=0,\"\",IFERROR(INDIRECT(CONCATENATE(\"'UNITCOST ITEMS (Data Entry)'!D\",IFERROR(SUM(MATCH(A136,'UNITCOST ITEMS (Data Entry)'!$A$3:$A$504,0),2),\"\"))),\"\"))","v":""},{"$f":"IF(IFERROR(INDIRECT(CONCATENATE(\"'UNITCOST ITEMS (Data Entry)'!E\",IFERROR(SUM(MATCH(A136,'UNITCOST ITEMS (Data Entry)'!$A$3:$A$504,0),2),\"\"))),\"\")=0,\"\",IFERROR(INDIRECT(CONCATENATE(\"'UNITCOST ITEMS (Data Entry)'!E\",IFERROR(SUM(MATCH(A136,'UNITCOST ITEMS (Data Entry)'!$A$3:$A$504,0),2),\"\"))),\"\"))","v":""},null,{"$f":"IF(IFERROR(INDIRECT(CONCATENATE(\"'UNITCOST ITEMS (Data Entry)'!F\",IFERROR(SUM(MATCH(A136,'UNITCOST ITEMS (Data Entry)'!$A$3:$A$504,0),2),\"\"))),\"\")=0,\"\",IFERROR(INDIRECT(CONCATENATE(\"'UNITCOST ITEMS (Data Entry)'!F\",IFERROR(SUM(MATCH(A136,'UNITCOST ITEMS (Data Entry)'!$A$3:$A$504,0),2),\"\"))),\"\"))","v":""},{"$f":"IF(IFERROR(INDIRECT(CONCATENATE(\"'UNITCOST ITEMS (Data Entry)'!G\",IFERROR(SUM(MATCH(A136,'UNITCOST ITEMS (Data Entry)'!$A$3:$A$504,0),2),\"\"))),\"\")=0,\"\",IFERROR(INDIRECT(CONCATENATE(\"'UNITCOST ITEMS (Data Entry)'!G\",IFERROR(SUM(MATCH(A136,'UNITCOST ITEMS (Data Entry)'!$A$3:$A$504,0),2),\"\"))),\"\"))","v":""},{"$f":"IF(IFERROR(INDIRECT(CONCATENATE(\"'UNITCOST ITEMS (Data Entry)'!H\",IFERROR(SUM(MATCH(A136,'UNITCOST ITEMS (Data Entry)'!$A$3:$A$504,0),2),\"\"))),\"\")=0,\"\",IFERROR(INDIRECT(CONCATENATE(\"'UNITCOST ITEMS (Data Entry)'!H\",IFERROR(SUM(MATCH(A136,'UNITCOST ITEMS (Data Entry)'!$A$3:$A$504,0),2),\"\"))),\"\"))","v":""},{"$f":"IF(IFERROR(INDIRECT(CONCATENATE(\"'UNITCOST ITEMS (Data Entry)'!I\",IFERROR(SUM(MATCH(A136,'UNITCOST ITEMS (Data Entry)'!$A$3:$A$504,0),2),\"\"))),\"\")=0,\"\",IFERROR(INDIRECT(CONCATENATE(\"'UNITCOST ITEMS (Data Entry)'!I\",IFERROR(SUM(MATCH(A136,'UNITCOST ITEMS (Data Entry)'!$A$3:$A$504,0),2),\"\"))),\"\"))","v":""},{"$f":"IF(K136=2,\"\",IF(IFERROR(INDIRECT(CONCATENATE(\"'UNITCOST ITEMS (Data Entry)'!J\",IFERROR(SUM(MATCH(A136,'UNITCOST ITEMS (Data Entry)'!$A$3:$A$504,0),2),\"\"))),\"\")=0,\"\",IFERROR(INDIRECT(CONCATENATE(\"'UNITCOST ITEMS (Data Entry)'!J\",IFERROR(SUM(MATCH(A136,'UNITCOST ITEMS (Data Entry)'!$A$3:$A$504,0),2),\"\"))),\"\")))","v":""},null,{"$f":"IF(IFERROR(INDIRECT(CONCATENATE(\"'UNITCOST ITEMS (Data Entry)'!C\",IFERROR(SUM(MATCH(A136,'UNITCOST ITEMS (Data Entry)'!$A$3:$A$504,0),2),\"\"))),\"\")=0,\"\",IFERROR(INDIRECT(CONCATENATE(\"'UNITCOST ITEMS (Data Entry)'!C\",IFERROR(SUM(MATCH(A136,'UNITCOST ITEMS (Data Entry)'!$A$3:$A$504,0),2),\"\"))),\"\"))","v":""},""]
[129,{"$f":"IF(IFERROR(INDIRECT(CONCATENATE(\"'UNITCOST ITEMS (Data Entry)'!D\",IFERROR(SUM(MATCH(A137,'UNITCOST ITEMS (Data Entry)'!$A$3:$A$504,0),2),\"\"))),\"\")=0,\"\",IFERROR(INDIRECT(CONCATENATE(\"'UNITCOST ITEMS (Data Entry)'!D\",IFERROR(SUM(MATCH(A137,'UNITCOST ITEMS (Data Entry)'!$A$3:$A$504,0),2),\"\"))),\"\"))","v":""},{"$f":"IF(IFERROR(INDIRECT(CONCATENATE(\"'UNITCOST ITEMS (Data Entry)'!E\",IFERROR(SUM(MATCH(A137,'UNITCOST ITEMS (Data Entry)'!$A$3:$A$504,0),2),\"\"))),\"\")=0,\"\",IFERROR(INDIRECT(CONCATENATE(\"'UNITCOST ITEMS (Data Entry)'!E\",IFERROR(SUM(MATCH(A137,'UNITCOST ITEMS (Data Entry)'!$A$3:$A$504,0),2),\"\"))),\"\"))","v":""},null,{"$f":"IF(IFERROR(INDIRECT(CONCATENATE(\"'UNITCOST ITEMS (Data Entry)'!F\",IFERROR(SUM(MATCH(A137,'UNITCOST ITEMS (Data Entry)'!$A$3:$A$504,0),2),\"\"))),\"\")=0,\"\",IFERROR(INDIRECT(CONCATENATE(\"'UNITCOST ITEMS (Data Entry)'!F\",IFERROR(SUM(MATCH(A137,'UNITCOST ITEMS (Data Entry)'!$A$3:$A$504,0),2),\"\"))),\"\"))","v":""},{"$f":"IF(IFERROR(INDIRECT(CONCATENATE(\"'UNITCOST ITEMS (Data Entry)'!G\",IFERROR(SUM(MATCH(A137,'UNITCOST ITEMS (Data Entry)'!$A$3:$A$504,0),2),\"\"))),\"\")=0,\"\",IFERROR(INDIRECT(CONCATENATE(\"'UNITCOST ITEMS (Data Entry)'!G\",IFERROR(SUM(MATCH(A137,'UNITCOST ITEMS (Data Entry)'!$A$3:$A$504,0),2),\"\"))),\"\"))","v":""},{"$f":"IF(IFERROR(INDIRECT(CONCATENATE(\"'UNITCOST ITEMS (Data Entry)'!H\",IFERROR(SUM(MATCH(A137,'UNITCOST ITEMS (Data Entry)'!$A$3:$A$504,0),2),\"\"))),\"\")=0,\"\",IFERROR(INDIRECT(CONCATENATE(\"'UNITCOST ITEMS (Data Entry)'!H\",IFERROR(SUM(MATCH(A137,'UNITCOST ITEMS (Data Entry)'!$A$3:$A$504,0),2),\"\"))),\"\"))","v":""},{"$f":"IF(IFERROR(INDIRECT(CONCATENATE(\"'UNITCOST ITEMS (Data Entry)'!I\",IFERROR(SUM(MATCH(A137,'UNITCOST ITEMS (Data Entry)'!$A$3:$A$504,0),2),\"\"))),\"\")=0,\"\",IFERROR(INDIRECT(CONCATENATE(\"'UNITCOST ITEMS (Data Entry)'!I\",IFERROR(SUM(MATCH(A137,'UNITCOST ITEMS (Data Entry)'!$A$3:$A$504,0),2),\"\"))),\"\"))","v":""},{"$f":"IF(K137=2,\"\",IF(IFERROR(INDIRECT(CONCATENATE(\"'UNITCOST ITEMS (Data Entry)'!J\",IFERROR(SUM(MATCH(A137,'UNITCOST ITEMS (Data Entry)'!$A$3:$A$504,0),2),\"\"))),\"\")=0,\"\",IFERROR(INDIRECT(CONCATENATE(\"'UNITCOST ITEMS (Data Entry)'!J\",IFERROR(SUM(MATCH(A137,'UNITCOST ITEMS (Data Entry)'!$A$3:$A$504,0),2),\"\"))),\"\")))","v":""},null,{"$f":"IF(IFERROR(INDIRECT(CONCATENATE(\"'UNITCOST ITEMS (Data Entry)'!C\",IFERROR(SUM(MATCH(A137,'UNITCOST ITEMS (Data Entry)'!$A$3:$A$504,0),2),\"\"))),\"\")=0,\"\",IFERROR(INDIRECT(CONCATENATE(\"'UNITCOST ITEMS (Data Entry)'!C\",IFERROR(SUM(MATCH(A137,'UNITCOST ITEMS (Data Entry)'!$A$3:$A$504,0),2),\"\"))),\"\"))","v":""},""]
[130,{"$f":"IF(IFERROR(INDIRECT(CONCATENATE(\"'UNITCOST ITEMS (Data Entry)'!D\",IFERROR(SUM(MATCH(A138,'UNITCOST ITEMS (Data Entry)'!$A$3:$A$504,0),2),\"\"))),\"\")=0,\"\",IFERROR(INDIRECT(CONCATENATE(\"'UNITCOST ITEMS (Data Entry)'!D\",IFERROR(SUM(MATCH(A138,'UNITCOST ITEMS (Data Entry)'!$A$3:$A$504,0),2),\"\"))),\"\"))","v":""},{"$f":"IF(IFERROR(INDIRECT(CONCATENATE(\"'UNITCOST ITEMS (Data Entry)'!E\",IFERROR(SUM(MATCH(A138,'UNITCOST ITEMS (Data Entry)'!$A$3:$A$504,0),2),\"\"))),\"\")=0,\"\",IFERROR(INDIRECT(CONCATENATE(\"'UNITCOST ITEMS (Data Entry)'!E\",IFERROR(SUM(MATCH(A138,'UNITCOST ITEMS (Data Entry)'!$A$3:$A$504,0),2),\"\"))),\"\"))","v":""},null,{"$f":"IF(IFERROR(INDIRECT(CONCATENATE(\"'UNITCOST ITEMS (Data Entry)'!F\",IFERROR(SUM(MATCH(A138,'UNITCOST ITEMS (Data Entry)'!$A$3:$A$504,0),2),\"\"))),\"\")=0,\"\",IFERROR(INDIRECT(CONCATENATE(\"'UNITCOST ITEMS (Data Entry)'!F\",IFERROR(SUM(MATCH(A138,'UNITCOST ITEMS (Data Entry)'!$A$3:$A$504,0),2),\"\"))),\"\"))","v":""},{"$f":"IF(IFERROR(INDIRECT(CONCATENATE(\"'UNITCOST ITEMS (Data Entry)'!G\",IFERROR(SUM(MATCH(A138,'UNITCOST ITEMS (Data Entry)'!$A$3:$A$504,0),2),\"\"))),\"\")=0,\"\",IFERROR(INDIRECT(CONCATENATE(\"'UNITCOST ITEMS (Data Entry)'!G\",IFERROR(SUM(MATCH(A138,'UNITCOST ITEMS (Data Entry)'!$A$3:$A$504,0),2),\"\"))),\"\"))","v":""},{"$f":"IF(IFERROR(INDIRECT(CONCATENATE(\"'UNITCOST ITEMS (Data Entry)'!H\",IFERROR(SUM(MATCH(A138,'UNITCOST ITEMS (Data Entry)'!$A$3:$A$504,0),2),\"\"))),\"\")=0,\"\",IFERROR(INDIRECT(CONCATENATE(\"'UNITCOST ITEMS (Data Entry)'!H\",IFERROR(SUM(MATCH(A138,'UNITCOST ITEMS (Data Entry)'!$A$3:$A$504,0),2),\"\"))),\"\"))","v":""},{"$f":"IF(IFERROR(INDIRECT(CONCATENATE(\"'UNITCOST ITEMS (Data Entry)'!I\",IFERROR(SUM(MATCH(A138,'UNITCOST ITEMS (Data Entry)'!$A$3:$A$504,0),2),\"\"))),\"\")=0,\"\",IFERROR(INDIRECT(CONCATENATE(\"'UNITCOST ITEMS (Data Entry)'!I\",IFERROR(SUM(MATCH(A138,'UNITCOST ITEMS (Data Entry)'!$A$3:$A$504,0),2),\"\"))),\"\"))","v":""},{"$f":"IF(K138=2,\"\",IF(IFERROR(INDIRECT(CONCATENATE(\"'UNITCOST ITEMS (Data Entry)'!J\",IFERROR(SUM(MATCH(A138,'UNITCOST ITEMS (Data Entry)'!$A$3:$A$504,0),2),\"\"))),\"\")=0,\"\",IFERROR(INDIRECT(CONCATENATE(\"'UNITCOST ITEMS (Data Entry)'!J\",IFERROR(SUM(MATCH(A138,'UNITCOST ITEMS (Data Entry)'!$A$3:$A$504,0),2),\"\"))),\"\")))","v":""},null,{"$f":"IF(IFERROR(INDIRECT(CONCATENATE(\"'UNITCOST ITEMS (Data Entry)'!C\",IFERROR(SUM(MATCH(A138,'UNITCOST ITEMS (Data Entry)'!$A$3:$A$504,0),2),\"\"))),\"\")=0,\"\",IFERROR(INDIRECT(CONCATENATE(\"'UNITCOST ITEMS (Data Entry)'!C\",IFERROR(SUM(MATCH(A138,'UNITCOST ITEMS (Data Entry)'!$A$3:$A$504,0),2),\"\"))),\"\"))","v":""},{"$f":"IF(K138<>\"\",ROW(),\"\")","v":""}]
[{"$f":"A138+1","v":131},{"$f":"IF(IFERROR(INDIRECT(CONCATENATE(\"'UNITCOST ITEMS (Data Entry)'!D\",IFERROR(SUM(MATCH(A139,'UNITCOST ITEMS (Data Entry)'!$A$3:$A$504,0),2),\"\"))),\"\")=0,\"\",IFERROR(INDIRECT(CONCATENATE(\"'UNITCOST ITEMS (Data Entry)'!D\",IFERROR(SUM(MATCH(A139,'UNITCOST ITEMS (Data Entry)'!$A$3:$A$504,0),2),\"\"))),\"\"))","v":""},{"$f":"IF(IFERROR(INDIRECT(CONCATENATE(\"'UNITCOST ITEMS (Data Entry)'!E\",IFERROR(SUM(MATCH(A139,'UNITCOST ITEMS (Data Entry)'!$A$3:$A$504,0),2),\"\"))),\"\")=0,\"\",IFERROR(INDIRECT(CONCATENATE(\"'UNITCOST ITEMS (Data Entry)'!E\",IFERROR(SUM(MATCH(A139,'UNITCOST ITEMS (Data Entry)'!$A$3:$A$504,0),2),\"\"))),\"\"))","v":""},null,{"$f":"IF(IFERROR(INDIRECT(CONCATENATE(\"'UNITCOST ITEMS (Data Entry)'!F\",IFERROR(SUM(MATCH(A139,'UNITCOST ITEMS (Data Entry)'!$A$3:$A$504,0),2),\"\"))),\"\")=0,\"\",IFERROR(INDIRECT(CONCATENATE(\"'UNITCOST ITEMS (Data Entry)'!F\",IFERROR(SUM(MATCH(A139,'UNITCOST ITEMS (Data Entry)'!$A$3:$A$504,0),2),\"\"))),\"\"))","v":""},{"$f":"IF(IFERROR(INDIRECT(CONCATENATE(\"'UNITCOST ITEMS (Data Entry)'!G\",IFERROR(SUM(MATCH(A139,'UNITCOST ITEMS (Data Entry)'!$A$3:$A$504,0),2),\"\"))),\"\")=0,\"\",IFERROR(INDIRECT(CONCATENATE(\"'UNITCOST ITEMS (Data Entry)'!G\",IFERROR(SUM(MATCH(A139,'UNITCOST ITEMS (Data Entry)'!$A$3:$A$504,0),2),\"\"))),\"\"))","v":""},{"$f":"IF(IFERROR(INDIRECT(CONCATENATE(\"'UNITCOST ITEMS (Data Entry)'!H\",IFERROR(SUM(MATCH(A139,'UNITCOST ITEMS (Data Entry)'!$A$3:$A$504,0),2),\"\"))),\"\")=0,\"\",IFERROR(INDIRECT(CONCATENATE(\"'UNITCOST ITEMS (Data Entry)'!H\",IFERROR(SUM(MATCH(A139,'UNITCOST ITEMS (Data Entry)'!$A$3:$A$504,0),2),\"\"))),\"\"))","v":""},{"$f":"IF(IFERROR(INDIRECT(CONCATENATE(\"'UNITCOST ITEMS (Data Entry)'!I\",IFERROR(SUM(MATCH(A139,'UNITCOST ITEMS (Data Entry)'!$A$3:$A$504,0),2),\"\"))),\"\")=0,\"\",IFERROR(INDIRECT(CONCATENATE(\"'UNITCOST ITEMS (Data Entry)'!I\",IFERROR(SUM(MATCH(A139,'UNITCOST ITEMS (Data Entry)'!$A$3:$A$504,0),2),\"\"))),\"\"))","v":""},{"$f":"IF(K139=2,\"\",IF(IFERROR(INDIRECT(CONCATENATE(\"'UNITCOST ITEMS (Data Entry)'!J\",IFERROR(SUM(MATCH(A139,'UNITCOST ITEMS (Data Entry)'!$A$3:$A$504,0),2),\"\"))),\"\")=0,\"\",IFERROR(INDIRECT(CONCATENATE(\"'UNITCOST ITEMS (Data Entry)'!J\",IFERROR(SUM(MATCH(A139,'UNITCOST ITEMS (Data Entry)'!$A$3:$A$504,0),2),\"\"))),\"\")))","v":""},null,{"$f":"IF(IFERROR(INDIRECT(CONCATENATE(\"'UNITCOST ITEMS (Data Entry)'!C\",IFERROR(SUM(MATCH(A139,'UNITCOST ITEMS (Data Entry)'!$A$3:$A$504,0),2),\"\"))),\"\")=0,\"\",IFERROR(INDIRECT(CONCATENATE(\"'UNITCOST ITEMS (Data Entry)'!C\",IFERROR(SUM(MATCH(A139,'UNITCOST ITEMS (Data Entry)'!$A$3:$A$504,0),2),\"\"))),\"\"))","v":""},""]
[132,{"$f":"IF(IFERROR(INDIRECT(CONCATENATE(\"'UNITCOST ITEMS (Data Entry)'!D\",IFERROR(SUM(MATCH(A140,'UNITCOST ITEMS (Data Entry)'!$A$3:$A$504,0),2),\"\"))),\"\")=0,\"\",IFERROR(INDIRECT(CONCATENATE(\"'UNITCOST ITEMS (Data Entry)'!D\",IFERROR(SUM(MATCH(A140,'UNITCOST ITEMS (Data Entry)'!$A$3:$A$504,0),2),\"\"))),\"\"))","v":""},{"$f":"IF(IFERROR(INDIRECT(CONCATENATE(\"'UNITCOST ITEMS (Data Entry)'!E\",IFERROR(SUM(MATCH(A140,'UNITCOST ITEMS (Data Entry)'!$A$3:$A$504,0),2),\"\"))),\"\")=0,\"\",IFERROR(INDIRECT(CONCATENATE(\"'UNITCOST ITEMS (Data Entry)'!E\",IFERROR(SUM(MATCH(A140,'UNITCOST ITEMS (Data Entry)'!$A$3:$A$504,0),2),\"\"))),\"\"))","v":""},null,{"$f":"IF(IFERROR(INDIRECT(CONCATENATE(\"'UNITCOST ITEMS (Data Entry)'!F\",IFERROR(SUM(MATCH(A140,'UNITCOST ITEMS (Data Entry)'!$A$3:$A$504,0),2),\"\"))),\"\")=0,\"\",IFERROR(INDIRECT(CONCATENATE(\"'UNITCOST ITEMS (Data Entry)'!F\",IFERROR(SUM(MATCH(A140,'UNITCOST ITEMS (Data Entry)'!$A$3:$A$504,0),2),\"\"))),\"\"))","v":""},{"$f":"IF(IFERROR(INDIRECT(CONCATENATE(\"'UNITCOST ITEMS (Data Entry)'!G\",IFERROR(SUM(MATCH(A140,'UNITCOST ITEMS (Data Entry)'!$A$3:$A$504,0),2),\"\"))),\"\")=0,\"\",IFERROR(INDIRECT(CONCATENATE(\"'UNITCOST ITEMS (Data Entry)'!G\",IFERROR(SUM(MATCH(A140,'UNITCOST ITEMS (Data Entry)'!$A$3:$A$504,0),2),\"\"))),\"\"))","v":""},{"$f":"IF(IFERROR(INDIRECT(CONCATENATE(\"'UNITCOST ITEMS (Data Entry)'!H\",IFERROR(SUM(MATCH(A140,'UNITCOST ITEMS (Data Entry)'!$A$3:$A$504,0),2),\"\"))),\"\")=0,\"\",IFERROR(INDIRECT(CONCATENATE(\"'UNITCOST ITEMS (Data Entry)'!H\",IFERROR(SUM(MATCH(A140,'UNITCOST ITEMS (Data Entry)'!$A$3:$A$504,0),2),\"\"))),\"\"))","v":""},{"$f":"IF(IFERROR(INDIRECT(CONCATENATE(\"'UNITCOST ITEMS (Data Entry)'!I\",IFERROR(SUM(MATCH(A140,'UNITCOST ITEMS (Data Entry)'!$A$3:$A$504,0),2),\"\"))),\"\")=0,\"\",IFERROR(INDIRECT(CONCATENATE(\"'UNITCOST ITEMS (Data Entry)'!I\",IFERROR(SUM(MATCH(A140,'UNITCOST ITEMS (Data Entry)'!$A$3:$A$504,0),2),\"\"))),\"\"))","v":""},{"$f":"IF(K140=2,\"\",IF(IFERROR(INDIRECT(CONCATENATE(\"'UNITCOST ITEMS (Data Entry)'!J\",IFERROR(SUM(MATCH(A140,'UNITCOST ITEMS (Data Entry)'!$A$3:$A$504,0),2),\"\"))),\"\")=0,\"\",IFERROR(INDIRECT(CONCATENATE(\"'UNITCOST ITEMS (Data Entry)'!J\",IFERROR(SUM(MATCH(A140,'UNITCOST ITEMS (Data Entry)'!$A$3:$A$504,0),2),\"\"))),\"\")))","v":""},null,{"$f":"IF(IFERROR(INDIRECT(CONCATENATE(\"'UNITCOST ITEMS (Data Entry)'!C\",IFERROR(SUM(MATCH(A140,'UNITCOST ITEMS (Data Entry)'!$A$3:$A$504,0),2),\"\"))),\"\")=0,\"\",IFERROR(INDIRECT(CONCATENATE(\"'UNITCOST ITEMS (Data Entry)'!C\",IFERROR(SUM(MATCH(A140,'UNITCOST ITEMS (Data Entry)'!$A$3:$A$504,0),2),\"\"))),\"\"))","v":""},""]
[133,{"$f":"IF(IFERROR(INDIRECT(CONCATENATE(\"'UNITCOST ITEMS (Data Entry)'!D\",IFERROR(SUM(MATCH(A141,'UNITCOST ITEMS (Data Entry)'!$A$3:$A$504,0),2),\"\"))),\"\")=0,\"\",IFERROR(INDIRECT(CONCATENATE(\"'UNITCOST ITEMS (Data Entry)'!D\",IFERROR(SUM(MATCH(A141,'UNITCOST ITEMS (Data Entry)'!$A$3:$A$504,0),2),\"\"))),\"\"))","v":""},{"$f":"IF(IFERROR(INDIRECT(CONCATENATE(\"'UNITCOST ITEMS (Data Entry)'!E\",IFERROR(SUM(MATCH(A141,'UNITCOST ITEMS (Data Entry)'!$A$3:$A$504,0),2),\"\"))),\"\")=0,\"\",IFERROR(INDIRECT(CONCATENATE(\"'UNITCOST ITEMS (Data Entry)'!E\",IFERROR(SUM(MATCH(A141,'UNITCOST ITEMS (Data Entry)'!$A$3:$A$504,0),2),\"\"))),\"\"))","v":""},null,{"$f":"IF(IFERROR(INDIRECT(CONCATENATE(\"'UNITCOST ITEMS (Data Entry)'!F\",IFERROR(SUM(MATCH(A141,'UNITCOST ITEMS (Data Entry)'!$A$3:$A$504,0),2),\"\"))),\"\")=0,\"\",IFERROR(INDIRECT(CONCATENATE(\"'UNITCOST ITEMS (Data Entry)'!F\",IFERROR(SUM(MATCH(A141,'UNITCOST ITEMS (Data Entry)'!$A$3:$A$504,0),2),\"\"))),\"\"))","v":""},{"$f":"IF(IFERROR(INDIRECT(CONCATENATE(\"'UNITCOST ITEMS (Data Entry)'!G\",IFERROR(SUM(MATCH(A141,'UNITCOST ITEMS (Data Entry)'!$A$3:$A$504,0),2),\"\"))),\"\")=0,\"\",IFERROR(INDIRECT(CONCATENATE(\"'UNITCOST ITEMS (Data Entry)'!G\",IFERROR(SUM(MATCH(A141,'UNITCOST ITEMS (Data Entry)'!$A$3:$A$504,0),2),\"\"))),\"\"))","v":""},{"$f":"IF(IFERROR(INDIRECT(CONCATENATE(\"'UNITCOST ITEMS (Data Entry)'!H\",IFERROR(SUM(MATCH(A141,'UNITCOST ITEMS (Data Entry)'!$A$3:$A$504,0),2),\"\"))),\"\")=0,\"\",IFERROR(INDIRECT(CONCATENATE(\"'UNITCOST ITEMS (Data Entry)'!H\",IFERROR(SUM(MATCH(A141,'UNITCOST ITEMS (Data Entry)'!$A$3:$A$504,0),2),\"\"))),\"\"))","v":""},{"$f":"IF(IFERROR(INDIRECT(CONCATENATE(\"'UNITCOST ITEMS (Data Entry)'!I\",IFERROR(SUM(MATCH(A141,'UNITCOST ITEMS (Data Entry)'!$A$3:$A$504,0),2),\"\"))),\"\")=0,\"\",IFERROR(INDIRECT(CONCATENATE(\"'UNITCOST ITEMS (Data Entry)'!I\",IFERROR(SUM(MATCH(A141,'UNITCOST ITEMS (Data Entry)'!$A$3:$A$504,0),2),\"\"))),\"\"))","v":""},{"$f":"IF(K141=2,\"\",IF(IFERROR(INDIRECT(CONCATENATE(\"'UNITCOST ITEMS (Data Entry)'!J\",IFERROR(SUM(MATCH(A141,'UNITCOST ITEMS (Data Entry)'!$A$3:$A$504,0),2),\"\"))),\"\")=0,\"\",IFERROR(INDIRECT(CONCATENATE(\"'UNITCOST ITEMS (Data Entry)'!J\",IFERROR(SUM(MATCH(A141,'UNITCOST ITEMS (Data Entry)'!$A$3:$A$504,0),2),\"\"))),\"\")))","v":""},null,{"$f":"IF(IFERROR(INDIRECT(CONCATENATE(\"'UNITCOST ITEMS (Data Entry)'!C\",IFERROR(SUM(MATCH(A141,'UNITCOST ITEMS (Data Entry)'!$A$3:$A$504,0),2),\"\"))),\"\")=0,\"\",IFERROR(INDIRECT(CONCATENATE(\"'UNITCOST ITEMS (Data Entry)'!C\",IFERROR(SUM(MATCH(A141,'UNITCOST ITEMS (Data Entry)'!$A$3:$A$504,0),2),\"\"))),\"\"))","v":""},""]
[134,{"$f":"IF(IFERROR(INDIRECT(CONCATENATE(\"'UNITCOST ITEMS (Data Entry)'!D\",IFERROR(SUM(MATCH(A142,'UNITCOST ITEMS (Data Entry)'!$A$3:$A$504,0),2),\"\"))),\"\")=0,\"\",IFERROR(INDIRECT(CONCATENATE(\"'UNITCOST ITEMS (Data Entry)'!D\",IFERROR(SUM(MATCH(A142,'UNITCOST ITEMS (Data Entry)'!$A$3:$A$504,0),2),\"\"))),\"\"))","v":""},{"$f":"IF(IFERROR(INDIRECT(CONCATENATE(\"'UNITCOST ITEMS (Data Entry)'!E\",IFERROR(SUM(MATCH(A142,'UNITCOST ITEMS (Data Entry)'!$A$3:$A$504,0),2),\"\"))),\"\")=0,\"\",IFERROR(INDIRECT(CONCATENATE(\"'UNITCOST ITEMS (Data Entry)'!E\",IFERROR(SUM(MATCH(A142,'UNITCOST ITEMS (Data Entry)'!$A$3:$A$504,0),2),\"\"))),\"\"))","v":""},null,{"$f":"IF(IFERROR(INDIRECT(CONCATENATE(\"'UNITCOST ITEMS (Data Entry)'!F\",IFERROR(SUM(MATCH(A142,'UNITCOST ITEMS (Data Entry)'!$A$3:$A$504,0),2),\"\"))),\"\")=0,\"\",IFERROR(INDIRECT(CONCATENATE(\"'UNITCOST ITEMS (Data Entry)'!F\",IFERROR(SUM(MATCH(A142,'UNITCOST ITEMS (Data Entry)'!$A$3:$A$504,0),2),\"\"))),\"\"))","v":""},{"$f":"IF(IFERROR(INDIRECT(CONCATENATE(\"'UNITCOST ITEMS (Data Entry)'!G\",IFERROR(SUM(MATCH(A142,'UNITCOST ITEMS (Data Entry)'!$A$3:$A$504,0),2),\"\"))),\"\")=0,\"\",IFERROR(INDIRECT(CONCATENATE(\"'UNITCOST ITEMS (Data Entry)'!G\",IFERROR(SUM(MATCH(A142,'UNITCOST ITEMS (Data Entry)'!$A$3:$A$504,0),2),\"\"))),\"\"))","v":""},{"$f":"IF(IFERROR(INDIRECT(CONCATENATE(\"'UNITCOST ITEMS (Data Entry)'!H\",IFERROR(SUM(MATCH(A142,'UNITCOST ITEMS (Data Entry)'!$A$3:$A$504,0),2),\"\"))),\"\")=0,\"\",IFERROR(INDIRECT(CONCATENATE(\"'UNITCOST ITEMS (Data Entry)'!H\",IFERROR(SUM(MATCH(A142,'UNITCOST ITEMS (Data Entry)'!$A$3:$A$504,0),2),\"\"))),\"\"))","v":""},{"$f":"IF(IFERROR(INDIRECT(CONCATENATE(\"'UNITCOST ITEMS (Data Entry)'!I\",IFERROR(SUM(MATCH(A142,'UNITCOST ITEMS (Data Entry)'!$A$3:$A$504,0),2),\"\"))),\"\")=0,\"\",IFERROR(INDIRECT(CONCATENATE(\"'UNITCOST ITEMS (Data Entry)'!I\",IFERROR(SUM(MATCH(A142,'UNITCOST ITEMS (Data Entry)'!$A$3:$A$504,0),2),\"\"))),\"\"))","v":""},{"$f":"IF(K142=2,\"\",IF(IFERROR(INDIRECT(CONCATENATE(\"'UNITCOST ITEMS (Data Entry)'!J\",IFERROR(SUM(MATCH(A142,'UNITCOST ITEMS (Data Entry)'!$A$3:$A$504,0),2),\"\"))),\"\")=0,\"\",IFERROR(INDIRECT(CONCATENATE(\"'UNITCOST ITEMS (Data Entry)'!J\",IFERROR(SUM(MATCH(A142,'UNITCOST ITEMS (Data Entry)'!$A$3:$A$504,0),2),\"\"))),\"\")))","v":""},null,{"$f":"IF(IFERROR(INDIRECT(CONCATENATE(\"'UNITCOST ITEMS (Data Entry)'!C\",IFERROR(SUM(MATCH(A142,'UNITCOST ITEMS (Data Entry)'!$A$3:$A$504,0),2),\"\"))),\"\")=0,\"\",IFERROR(INDIRECT(CONCATENATE(\"'UNITCOST ITEMS (Data Entry)'!C\",IFERROR(SUM(MATCH(A142,'UNITCOST ITEMS (Data Entry)'!$A$3:$A$504,0),2),\"\"))),\"\"))","v":""},""]
[135,{"$f":"IF(IFERROR(INDIRECT(CONCATENATE(\"'UNITCOST ITEMS (Data Entry)'!D\",IFERROR(SUM(MATCH(A143,'UNITCOST ITEMS (Data Entry)'!$A$3:$A$504,0),2),\"\"))),\"\")=0,\"\",IFERROR(INDIRECT(CONCATENATE(\"'UNITCOST ITEMS (Data Entry)'!D\",IFERROR(SUM(MATCH(A143,'UNITCOST ITEMS (Data Entry)'!$A$3:$A$504,0),2),\"\"))),\"\"))","v":""},{"$f":"IF(IFERROR(INDIRECT(CONCATENATE(\"'UNITCOST ITEMS (Data Entry)'!E\",IFERROR(SUM(MATCH(A143,'UNITCOST ITEMS (Data Entry)'!$A$3:$A$504,0),2),\"\"))),\"\")=0,\"\",IFERROR(INDIRECT(CONCATENATE(\"'UNITCOST ITEMS (Data Entry)'!E\",IFERROR(SUM(MATCH(A143,'UNITCOST ITEMS (Data Entry)'!$A$3:$A$504,0),2),\"\"))),\"\"))","v":""},null,{"$f":"IF(IFERROR(INDIRECT(CONCATENATE(\"'UNITCOST ITEMS (Data Entry)'!F\",IFERROR(SUM(MATCH(A143,'UNITCOST ITEMS (Data Entry)'!$A$3:$A$504,0),2),\"\"))),\"\")=0,\"\",IFERROR(INDIRECT(CONCATENATE(\"'UNITCOST ITEMS (Data Entry)'!F\",IFERROR(SUM(MATCH(A143,'UNITCOST ITEMS (Data Entry)'!$A$3:$A$504,0),2),\"\"))),\"\"))","v":""},{"$f":"IF(IFERROR(INDIRECT(CONCATENATE(\"'UNITCOST ITEMS (Data Entry)'!G\",IFERROR(SUM(MATCH(A143,'UNITCOST ITEMS (Data Entry)'!$A$3:$A$504,0),2),\"\"))),\"\")=0,\"\",IFERROR(INDIRECT(CONCATENATE(\"'UNITCOST ITEMS (Data Entry)'!G\",IFERROR(SUM(MATCH(A143,'UNITCOST ITEMS (Data Entry)'!$A$3:$A$504,0),2),\"\"))),\"\"))","v":""},{"$f":"IF(IFERROR(INDIRECT(CONCATENATE(\"'UNITCOST ITEMS (Data Entry)'!H\",IFERROR(SUM(MATCH(A143,'UNITCOST ITEMS (Data Entry)'!$A$3:$A$504,0),2),\"\"))),\"\")=0,\"\",IFERROR(INDIRECT(CONCATENATE(\"'UNITCOST ITEMS (Data Entry)'!H\",IFERROR(SUM(MATCH(A143,'UNITCOST ITEMS (Data Entry)'!$A$3:$A$504,0),2),\"\"))),\"\"))","v":""},{"$f":"IF(IFERROR(INDIRECT(CONCATENATE(\"'UNITCOST ITEMS (Data Entry)'!I\",IFERROR(SUM(MATCH(A143,'UNITCOST ITEMS (Data Entry)'!$A$3:$A$504,0),2),\"\"))),\"\")=0,\"\",IFERROR(INDIRECT(CONCATENATE(\"'UNITCOST ITEMS (Data Entry)'!I\",IFERROR(SUM(MATCH(A143,'UNITCOST ITEMS (Data Entry)'!$A$3:$A$504,0),2),\"\"))),\"\"))","v":""},{"$f":"IF(K143=2,\"\",IF(IFERROR(INDIRECT(CONCATENATE(\"'UNITCOST ITEMS (Data Entry)'!J\",IFERROR(SUM(MATCH(A143,'UNITCOST ITEMS (Data Entry)'!$A$3:$A$504,0),2),\"\"))),\"\")=0,\"\",IFERROR(INDIRECT(CONCATENATE(\"'UNITCOST ITEMS (Data Entry)'!J\",IFERROR(SUM(MATCH(A143,'UNITCOST ITEMS (Data Entry)'!$A$3:$A$504,0),2),\"\"))),\"\")))","v":""},null,{"$f":"IF(IFERROR(INDIRECT(CONCATENATE(\"'UNITCOST ITEMS (Data Entry)'!C\",IFERROR(SUM(MATCH(A143,'UNITCOST ITEMS (Data Entry)'!$A$3:$A$504,0),2),\"\"))),\"\")=0,\"\",IFERROR(INDIRECT(CONCATENATE(\"'UNITCOST ITEMS (Data Entry)'!C\",IFERROR(SUM(MATCH(A143,'UNITCOST ITEMS (Data Entry)'!$A$3:$A$504,0),2),\"\"))),\"\"))","v":""},""]
[136,{"$f":"IF(IFERROR(INDIRECT(CONCATENATE(\"'UNITCOST ITEMS (Data Entry)'!D\",IFERROR(SUM(MATCH(A144,'UNITCOST ITEMS (Data Entry)'!$A$3:$A$504,0),2),\"\"))),\"\")=0,\"\",IFERROR(INDIRECT(CONCATENATE(\"'UNITCOST ITEMS (Data Entry)'!D\",IFERROR(SUM(MATCH(A144,'UNITCOST ITEMS (Data Entry)'!$A$3:$A$504,0),2),\"\"))),\"\"))","v":""},{"$f":"IF(IFERROR(INDIRECT(CONCATENATE(\"'UNITCOST ITEMS (Data Entry)'!E\",IFERROR(SUM(MATCH(A144,'UNITCOST ITEMS (Data Entry)'!$A$3:$A$504,0),2),\"\"))),\"\")=0,\"\",IFERROR(INDIRECT(CONCATENATE(\"'UNITCOST ITEMS (Data Entry)'!E\",IFERROR(SUM(MATCH(A144,'UNITCOST ITEMS (Data Entry)'!$A$3:$A$504,0),2),\"\"))),\"\"))","v":""},null,{"$f":"IF(IFERROR(INDIRECT(CONCATENATE(\"'UNITCOST ITEMS (Data Entry)'!F\",IFERROR(SUM(MATCH(A144,'UNITCOST ITEMS (Data Entry)'!$A$3:$A$504,0),2),\"\"))),\"\")=0,\"\",IFERROR(INDIRECT(CONCATENATE(\"'UNITCOST ITEMS (Data Entry)'!F\",IFERROR(SUM(MATCH(A144,'UNITCOST ITEMS (Data Entry)'!$A$3:$A$504,0),2),\"\"))),\"\"))","v":""},{"$f":"IF(IFERROR(INDIRECT(CONCATENATE(\"'UNITCOST ITEMS (Data Entry)'!G\",IFERROR(SUM(MATCH(A144,'UNITCOST ITEMS (Data Entry)'!$A$3:$A$504,0),2),\"\"))),\"\")=0,\"\",IFERROR(INDIRECT(CONCATENATE(\"'UNITCOST ITEMS (Data Entry)'!G\",IFERROR(SUM(MATCH(A144,'UNITCOST ITEMS (Data Entry)'!$A$3:$A$504,0),2),\"\"))),\"\"))","v":""},{"$f":"IF(IFERROR(INDIRECT(CONCATENATE(\"'UNITCOST ITEMS (Data Entry)'!H\",IFERROR(SUM(MATCH(A144,'UNITCOST ITEMS (Data Entry)'!$A$3:$A$504,0),2),\"\"))),\"\")=0,\"\",IFERROR(INDIRECT(CONCATENATE(\"'UNITCOST ITEMS (Data Entry)'!H\",IFERROR(SUM(MATCH(A144,'UNITCOST ITEMS (Data Entry)'!$A$3:$A$504,0),2),\"\"))),\"\"))","v":""},{"$f":"IF(IFERROR(INDIRECT(CONCATENATE(\"'UNITCOST ITEMS (Data Entry)'!I\",IFERROR(SUM(MATCH(A144,'UNITCOST ITEMS (Data Entry)'!$A$3:$A$504,0),2),\"\"))),\"\")=0,\"\",IFERROR(INDIRECT(CONCATENATE(\"'UNITCOST ITEMS (Data Entry)'!I\",IFERROR(SUM(MATCH(A144,'UNITCOST ITEMS (Data Entry)'!$A$3:$A$504,0),2),\"\"))),\"\"))","v":""},{"$f":"IF(K144=2,\"\",IF(IFERROR(INDIRECT(CONCATENATE(\"'UNITCOST ITEMS (Data Entry)'!J\",IFERROR(SUM(MATCH(A144,'UNITCOST ITEMS (Data Entry)'!$A$3:$A$504,0),2),\"\"))),\"\")=0,\"\",IFERROR(INDIRECT(CONCATENATE(\"'UNITCOST ITEMS (Data Entry)'!J\",IFERROR(SUM(MATCH(A144,'UNITCOST ITEMS (Data Entry)'!$A$3:$A$504,0),2),\"\"))),\"\")))","v":""},null,{"$f":"IF(IFERROR(INDIRECT(CONCATENATE(\"'UNITCOST ITEMS (Data Entry)'!C\",IFERROR(SUM(MATCH(A144,'UNITCOST ITEMS (Data Entry)'!$A$3:$A$504,0),2),\"\"))),\"\")=0,\"\",IFERROR(INDIRECT(CONCATENATE(\"'UNITCOST ITEMS (Data Entry)'!C\",IFERROR(SUM(MATCH(A144,'UNITCOST ITEMS (Data Entry)'!$A$3:$A$504,0),2),\"\"))),\"\"))","v":""},""]
[137,{"$f":"IF(IFERROR(INDIRECT(CONCATENATE(\"'UNITCOST ITEMS (Data Entry)'!D\",IFERROR(SUM(MATCH(A145,'UNITCOST ITEMS (Data Entry)'!$A$3:$A$504,0),2),\"\"))),\"\")=0,\"\",IFERROR(INDIRECT(CONCATENATE(\"'UNITCOST ITEMS (Data Entry)'!D\",IFERROR(SUM(MATCH(A145,'UNITCOST ITEMS (Data Entry)'!$A$3:$A$504,0),2),\"\"))),\"\"))","v":""},{"$f":"IF(IFERROR(INDIRECT(CONCATENATE(\"'UNITCOST ITEMS (Data Entry)'!E\",IFERROR(SUM(MATCH(A145,'UNITCOST ITEMS (Data Entry)'!$A$3:$A$504,0),2),\"\"))),\"\")=0,\"\",IFERROR(INDIRECT(CONCATENATE(\"'UNITCOST ITEMS (Data Entry)'!E\",IFERROR(SUM(MATCH(A145,'UNITCOST ITEMS (Data Entry)'!$A$3:$A$504,0),2),\"\"))),\"\"))","v":""},null,{"$f":"IF(IFERROR(INDIRECT(CONCATENATE(\"'UNITCOST ITEMS (Data Entry)'!F\",IFERROR(SUM(MATCH(A145,'UNITCOST ITEMS (Data Entry)'!$A$3:$A$504,0),2),\"\"))),\"\")=0,\"\",IFERROR(INDIRECT(CONCATENATE(\"'UNITCOST ITEMS (Data Entry)'!F\",IFERROR(SUM(MATCH(A145,'UNITCOST ITEMS (Data Entry)'!$A$3:$A$504,0),2),\"\"))),\"\"))","v":""},{"$f":"IF(IFERROR(INDIRECT(CONCATENATE(\"'UNITCOST ITEMS (Data Entry)'!G\",IFERROR(SUM(MATCH(A145,'UNITCOST ITEMS (Data Entry)'!$A$3:$A$504,0),2),\"\"))),\"\")=0,\"\",IFERROR(INDIRECT(CONCATENATE(\"'UNITCOST ITEMS (Data Entry)'!G\",IFERROR(SUM(MATCH(A145,'UNITCOST ITEMS (Data Entry)'!$A$3:$A$504,0),2),\"\"))),\"\"))","v":""},{"$f":"IF(IFERROR(INDIRECT(CONCATENATE(\"'UNITCOST ITEMS (Data Entry)'!H\",IFERROR(SUM(MATCH(A145,'UNITCOST ITEMS (Data Entry)'!$A$3:$A$504,0),2),\"\"))),\"\")=0,\"\",IFERROR(INDIRECT(CONCATENATE(\"'UNITCOST ITEMS (Data Entry)'!H\",IFERROR(SUM(MATCH(A145,'UNITCOST ITEMS (Data Entry)'!$A$3:$A$504,0),2),\"\"))),\"\"))","v":""},{"$f":"IF(IFERROR(INDIRECT(CONCATENATE(\"'UNITCOST ITEMS (Data Entry)'!I\",IFERROR(SUM(MATCH(A145,'UNITCOST ITEMS (Data Entry)'!$A$3:$A$504,0),2),\"\"))),\"\")=0,\"\",IFERROR(INDIRECT(CONCATENATE(\"'UNITCOST ITEMS (Data Entry)'!I\",IFERROR(SUM(MATCH(A145,'UNITCOST ITEMS (Data Entry)'!$A$3:$A$504,0),2),\"\"))),\"\"))","v":""},{"$f":"IF(K145=2,\"\",IF(IFERROR(INDIRECT(CONCATENATE(\"'UNITCOST ITEMS (Data Entry)'!J\",IFERROR(SUM(MATCH(A145,'UNITCOST ITEMS (Data Entry)'!$A$3:$A$504,0),2),\"\"))),\"\")=0,\"\",IFERROR(INDIRECT(CONCATENATE(\"'UNITCOST ITEMS (Data Entry)'!J\",IFERROR(SUM(MATCH(A145,'UNITCOST ITEMS (Data Entry)'!$A$3:$A$504,0),2),\"\"))),\"\")))","v":""},null,{"$f":"IF(IFERROR(INDIRECT(CONCATENATE(\"'UNITCOST ITEMS (Data Entry)'!C\",IFERROR(SUM(MATCH(A145,'UNITCOST ITEMS (Data Entry)'!$A$3:$A$504,0),2),\"\"))),\"\")=0,\"\",IFERROR(INDIRECT(CONCATENATE(\"'UNITCOST ITEMS (Data Entry)'!C\",IFERROR(SUM(MATCH(A145,'UNITCOST ITEMS (Data Entry)'!$A$3:$A$504,0),2),\"\"))),\"\"))","v":""},""]
[138,{"$f":"IF(IFERROR(INDIRECT(CONCATENATE(\"'UNITCOST ITEMS (Data Entry)'!D\",IFERROR(SUM(MATCH(A146,'UNITCOST ITEMS (Data Entry)'!$A$3:$A$504,0),2),\"\"))),\"\")=0,\"\",IFERROR(INDIRECT(CONCATENATE(\"'UNITCOST ITEMS (Data Entry)'!D\",IFERROR(SUM(MATCH(A146,'UNITCOST ITEMS (Data Entry)'!$A$3:$A$504,0),2),\"\"))),\"\"))","v":""},{"$f":"IF(IFERROR(INDIRECT(CONCATENATE(\"'UNITCOST ITEMS (Data Entry)'!E\",IFERROR(SUM(MATCH(A146,'UNITCOST ITEMS (Data Entry)'!$A$3:$A$504,0),2),\"\"))),\"\")=0,\"\",IFERROR(INDIRECT(CONCATENATE(\"'UNITCOST ITEMS (Data Entry)'!E\",IFERROR(SUM(MATCH(A146,'UNITCOST ITEMS (Data Entry)'!$A$3:$A$504,0),2),\"\"))),\"\"))","v":""},null,{"$f":"IF(IFERROR(INDIRECT(CONCATENATE(\"'UNITCOST ITEMS (Data Entry)'!F\",IFERROR(SUM(MATCH(A146,'UNITCOST ITEMS (Data Entry)'!$A$3:$A$504,0),2),\"\"))),\"\")=0,\"\",IFERROR(INDIRECT(CONCATENATE(\"'UNITCOST ITEMS (Data Entry)'!F\",IFERROR(SUM(MATCH(A146,'UNITCOST ITEMS (Data Entry)'!$A$3:$A$504,0),2),\"\"))),\"\"))","v":""},{"$f":"IF(IFERROR(INDIRECT(CONCATENATE(\"'UNITCOST ITEMS (Data Entry)'!G\",IFERROR(SUM(MATCH(A146,'UNITCOST ITEMS (Data Entry)'!$A$3:$A$504,0),2),\"\"))),\"\")=0,\"\",IFERROR(INDIRECT(CONCATENATE(\"'UNITCOST ITEMS (Data Entry)'!G\",IFERROR(SUM(MATCH(A146,'UNITCOST ITEMS (Data Entry)'!$A$3:$A$504,0),2),\"\"))),\"\"))","v":""},{"$f":"IF(IFERROR(INDIRECT(CONCATENATE(\"'UNITCOST ITEMS (Data Entry)'!H\",IFERROR(SUM(MATCH(A146,'UNITCOST ITEMS (Data Entry)'!$A$3:$A$504,0),2),\"\"))),\"\")=0,\"\",IFERROR(INDIRECT(CONCATENATE(\"'UNITCOST ITEMS (Data Entry)'!H\",IFERROR(SUM(MATCH(A146,'UNITCOST ITEMS (Data Entry)'!$A$3:$A$504,0),2),\"\"))),\"\"))","v":""},{"$f":"IF(IFERROR(INDIRECT(CONCATENATE(\"'UNITCOST ITEMS (Data Entry)'!I\",IFERROR(SUM(MATCH(A146,'UNITCOST ITEMS (Data Entry)'!$A$3:$A$504,0),2),\"\"))),\"\")=0,\"\",IFERROR(INDIRECT(CONCATENATE(\"'UNITCOST ITEMS (Data Entry)'!I\",IFERROR(SUM(MATCH(A146,'UNITCOST ITEMS (Data Entry)'!$A$3:$A$504,0),2),\"\"))),\"\"))","v":""},{"$f":"IF(K146=2,\"\",IF(IFERROR(INDIRECT(CONCATENATE(\"'UNITCOST ITEMS (Data Entry)'!J\",IFERROR(SUM(MATCH(A146,'UNITCOST ITEMS (Data Entry)'!$A$3:$A$504,0),2),\"\"))),\"\")=0,\"\",IFERROR(INDIRECT(CONCATENATE(\"'UNITCOST ITEMS (Data Entry)'!J\",IFERROR(SUM(MATCH(A146,'UNITCOST ITEMS (Data Entry)'!$A$3:$A$504,0),2),\"\"))),\"\")))","v":""},null,{"$f":"IF(IFERROR(INDIRECT(CONCATENATE(\"'UNITCOST ITEMS (Data Entry)'!C\",IFERROR(SUM(MATCH(A146,'UNITCOST ITEMS (Data Entry)'!$A$3:$A$504,0),2),\"\"))),\"\")=0,\"\",IFERROR(INDIRECT(CONCATENATE(\"'UNITCOST ITEMS (Data Entry)'!C\",IFERROR(SUM(MATCH(A146,'UNITCOST ITEMS (Data Entry)'!$A$3:$A$504,0),2),\"\"))),\"\"))","v":""},""]
[139,{"$f":"IF(IFERROR(INDIRECT(CONCATENATE(\"'UNITCOST ITEMS (Data Entry)'!D\",IFERROR(SUM(MATCH(A147,'UNITCOST ITEMS (Data Entry)'!$A$3:$A$504,0),2),\"\"))),\"\")=0,\"\",IFERROR(INDIRECT(CONCATENATE(\"'UNITCOST ITEMS (Data Entry)'!D\",IFERROR(SUM(MATCH(A147,'UNITCOST ITEMS (Data Entry)'!$A$3:$A$504,0),2),\"\"))),\"\"))","v":""},{"$f":"IF(IFERROR(INDIRECT(CONCATENATE(\"'UNITCOST ITEMS (Data Entry)'!E\",IFERROR(SUM(MATCH(A147,'UNITCOST ITEMS (Data Entry)'!$A$3:$A$504,0),2),\"\"))),\"\")=0,\"\",IFERROR(INDIRECT(CONCATENATE(\"'UNITCOST ITEMS (Data Entry)'!E\",IFERROR(SUM(MATCH(A147,'UNITCOST ITEMS (Data Entry)'!$A$3:$A$504,0),2),\"\"))),\"\"))","v":""},null,{"$f":"IF(IFERROR(INDIRECT(CONCATENATE(\"'UNITCOST ITEMS (Data Entry)'!F\",IFERROR(SUM(MATCH(A147,'UNITCOST ITEMS (Data Entry)'!$A$3:$A$504,0),2),\"\"))),\"\")=0,\"\",IFERROR(INDIRECT(CONCATENATE(\"'UNITCOST ITEMS (Data Entry)'!F\",IFERROR(SUM(MATCH(A147,'UNITCOST ITEMS (Data Entry)'!$A$3:$A$504,0),2),\"\"))),\"\"))","v":""},{"$f":"IF(IFERROR(INDIRECT(CONCATENATE(\"'UNITCOST ITEMS (Data Entry)'!G\",IFERROR(SUM(MATCH(A147,'UNITCOST ITEMS (Data Entry)'!$A$3:$A$504,0),2),\"\"))),\"\")=0,\"\",IFERROR(INDIRECT(CONCATENATE(\"'UNITCOST ITEMS (Data Entry)'!G\",IFERROR(SUM(MATCH(A147,'UNITCOST ITEMS (Data Entry)'!$A$3:$A$504,0),2),\"\"))),\"\"))","v":""},{"$f":"IF(IFERROR(INDIRECT(CONCATENATE(\"'UNITCOST ITEMS (Data Entry)'!H\",IFERROR(SUM(MATCH(A147,'UNITCOST ITEMS (Data Entry)'!$A$3:$A$504,0),2),\"\"))),\"\")=0,\"\",IFERROR(INDIRECT(CONCATENATE(\"'UNITCOST ITEMS (Data Entry)'!H\",IFERROR(SUM(MATCH(A147,'UNITCOST ITEMS (Data Entry)'!$A$3:$A$504,0),2),\"\"))),\"\"))","v":""},{"$f":"IF(IFERROR(INDIRECT(CONCATENATE(\"'UNITCOST ITEMS (Data Entry)'!I\",IFERROR(SUM(MATCH(A147,'UNITCOST ITEMS (Data Entry)'!$A$3:$A$504,0),2),\"\"))),\"\")=0,\"\",IFERROR(INDIRECT(CONCATENATE(\"'UNITCOST ITEMS (Data Entry)'!I\",IFERROR(SUM(MATCH(A147,'UNITCOST ITEMS (Data Entry)'!$A$3:$A$504,0),2),\"\"))),\"\"))","v":""},{"$f":"IF(K147=2,\"\",IF(IFERROR(INDIRECT(CONCATENATE(\"'UNITCOST ITEMS (Data Entry)'!J\",IFERROR(SUM(MATCH(A147,'UNITCOST ITEMS (Data Entry)'!$A$3:$A$504,0),2),\"\"))),\"\")=0,\"\",IFERROR(INDIRECT(CONCATENATE(\"'UNITCOST ITEMS (Data Entry)'!J\",IFERROR(SUM(MATCH(A147,'UNITCOST ITEMS (Data Entry)'!$A$3:$A$504,0),2),\"\"))),\"\")))","v":""},null,{"$f":"IF(IFERROR(INDIRECT(CONCATENATE(\"'UNITCOST ITEMS (Data Entry)'!C\",IFERROR(SUM(MATCH(A147,'UNITCOST ITEMS (Data Entry)'!$A$3:$A$504,0),2),\"\"))),\"\")=0,\"\",IFERROR(INDIRECT(CONCATENATE(\"'UNITCOST ITEMS (Data Entry)'!C\",IFERROR(SUM(MATCH(A147,'UNITCOST ITEMS (Data Entry)'!$A$3:$A$504,0),2),\"\"))),\"\"))","v":""},""]
[140,{"$f":"IF(IFERROR(INDIRECT(CONCATENATE(\"'UNITCOST ITEMS (Data Entry)'!D\",IFERROR(SUM(MATCH(A148,'UNITCOST ITEMS (Data Entry)'!$A$3:$A$504,0),2),\"\"))),\"\")=0,\"\",IFERROR(INDIRECT(CONCATENATE(\"'UNITCOST ITEMS (Data Entry)'!D\",IFERROR(SUM(MATCH(A148,'UNITCOST ITEMS (Data Entry)'!$A$3:$A$504,0),2),\"\"))),\"\"))","v":""},{"$f":"IF(IFERROR(INDIRECT(CONCATENATE(\"'UNITCOST ITEMS (Data Entry)'!E\",IFERROR(SUM(MATCH(A148,'UNITCOST ITEMS (Data Entry)'!$A$3:$A$504,0),2),\"\"))),\"\")=0,\"\",IFERROR(INDIRECT(CONCATENATE(\"'UNITCOST ITEMS (Data Entry)'!E\",IFERROR(SUM(MATCH(A148,'UNITCOST ITEMS (Data Entry)'!$A$3:$A$504,0),2),\"\"))),\"\"))","v":""},null,{"$f":"IF(IFERROR(INDIRECT(CONCATENATE(\"'UNITCOST ITEMS (Data Entry)'!F\",IFERROR(SUM(MATCH(A148,'UNITCOST ITEMS (Data Entry)'!$A$3:$A$504,0),2),\"\"))),\"\")=0,\"\",IFERROR(INDIRECT(CONCATENATE(\"'UNITCOST ITEMS (Data Entry)'!F\",IFERROR(SUM(MATCH(A148,'UNITCOST ITEMS (Data Entry)'!$A$3:$A$504,0),2),\"\"))),\"\"))","v":""},{"$f":"IF(IFERROR(INDIRECT(CONCATENATE(\"'UNITCOST ITEMS (Data Entry)'!G\",IFERROR(SUM(MATCH(A148,'UNITCOST ITEMS (Data Entry)'!$A$3:$A$504,0),2),\"\"))),\"\")=0,\"\",IFERROR(INDIRECT(CONCATENATE(\"'UNITCOST ITEMS (Data Entry)'!G\",IFERROR(SUM(MATCH(A148,'UNITCOST ITEMS (Data Entry)'!$A$3:$A$504,0),2),\"\"))),\"\"))","v":""},{"$f":"IF(IFERROR(INDIRECT(CONCATENATE(\"'UNITCOST ITEMS (Data Entry)'!H\",IFERROR(SUM(MATCH(A148,'UNITCOST ITEMS (Data Entry)'!$A$3:$A$504,0),2),\"\"))),\"\")=0,\"\",IFERROR(INDIRECT(CONCATENATE(\"'UNITCOST ITEMS (Data Entry)'!H\",IFERROR(SUM(MATCH(A148,'UNITCOST ITEMS (Data Entry)'!$A$3:$A$504,0),2),\"\"))),\"\"))","v":""},{"$f":"IF(IFERROR(INDIRECT(CONCATENATE(\"'UNITCOST ITEMS (Data Entry)'!I\",IFERROR(SUM(MATCH(A148,'UNITCOST ITEMS (Data Entry)'!$A$3:$A$504,0),2),\"\"))),\"\")=0,\"\",IFERROR(INDIRECT(CONCATENATE(\"'UNITCOST ITEMS (Data Entry)'!I\",IFERROR(SUM(MATCH(A148,'UNITCOST ITEMS (Data Entry)'!$A$3:$A$504,0),2),\"\"))),\"\"))","v":""},{"$f":"IF(K148=2,\"\",IF(IFERROR(INDIRECT(CONCATENATE(\"'UNITCOST ITEMS (Data Entry)'!J\",IFERROR(SUM(MATCH(A148,'UNITCOST ITEMS (Data Entry)'!$A$3:$A$504,0),2),\"\"))),\"\")=0,\"\",IFERROR(INDIRECT(CONCATENATE(\"'UNITCOST ITEMS (Data Entry)'!J\",IFERROR(SUM(MATCH(A148,'UNITCOST ITEMS (Data Entry)'!$A$3:$A$504,0),2),\"\"))),\"\")))","v":""},null,{"$f":"IF(IFERROR(INDIRECT(CONCATENATE(\"'UNITCOST ITEMS (Data Entry)'!C\",IFERROR(SUM(MATCH(A148,'UNITCOST ITEMS (Data Entry)'!$A$3:$A$504,0),2),\"\"))),\"\")=0,\"\",IFERROR(INDIRECT(CONCATENATE(\"'UNITCOST ITEMS (Data Entry)'!C\",IFERROR(SUM(MATCH(A148,'UNITCOST ITEMS (Data Entry)'!$A$3:$A$504,0),2),\"\"))),\"\"))","v":""},""]
[141,{"$f":"IF(IFERROR(INDIRECT(CONCATENATE(\"'UNITCOST ITEMS (Data Entry)'!D\",IFERROR(SUM(MATCH(A149,'UNITCOST ITEMS (Data Entry)'!$A$3:$A$504,0),2),\"\"))),\"\")=0,\"\",IFERROR(INDIRECT(CONCATENATE(\"'UNITCOST ITEMS (Data Entry)'!D\",IFERROR(SUM(MATCH(A149,'UNITCOST ITEMS (Data Entry)'!$A$3:$A$504,0),2),\"\"))),\"\"))","v":""},{"$f":"IF(IFERROR(INDIRECT(CONCATENATE(\"'UNITCOST ITEMS (Data Entry)'!E\",IFERROR(SUM(MATCH(A149,'UNITCOST ITEMS (Data Entry)'!$A$3:$A$504,0),2),\"\"))),\"\")=0,\"\",IFERROR(INDIRECT(CONCATENATE(\"'UNITCOST ITEMS (Data Entry)'!E\",IFERROR(SUM(MATCH(A149,'UNITCOST ITEMS (Data Entry)'!$A$3:$A$504,0),2),\"\"))),\"\"))","v":""},null,{"$f":"IF(IFERROR(INDIRECT(CONCATENATE(\"'UNITCOST ITEMS (Data Entry)'!F\",IFERROR(SUM(MATCH(A149,'UNITCOST ITEMS (Data Entry)'!$A$3:$A$504,0),2),\"\"))),\"\")=0,\"\",IFERROR(INDIRECT(CONCATENATE(\"'UNITCOST ITEMS (Data Entry)'!F\",IFERROR(SUM(MATCH(A149,'UNITCOST ITEMS (Data Entry)'!$A$3:$A$504,0),2),\"\"))),\"\"))","v":""},{"$f":"IF(IFERROR(INDIRECT(CONCATENATE(\"'UNITCOST ITEMS (Data Entry)'!G\",IFERROR(SUM(MATCH(A149,'UNITCOST ITEMS (Data Entry)'!$A$3:$A$504,0),2),\"\"))),\"\")=0,\"\",IFERROR(INDIRECT(CONCATENATE(\"'UNITCOST ITEMS (Data Entry)'!G\",IFERROR(SUM(MATCH(A149,'UNITCOST ITEMS (Data Entry)'!$A$3:$A$504,0),2),\"\"))),\"\"))","v":""},{"$f":"IF(IFERROR(INDIRECT(CONCATENATE(\"'UNITCOST ITEMS (Data Entry)'!H\",IFERROR(SUM(MATCH(A149,'UNITCOST ITEMS (Data Entry)'!$A$3:$A$504,0),2),\"\"))),\"\")=0,\"\",IFERROR(INDIRECT(CONCATENATE(\"'UNITCOST ITEMS (Data Entry)'!H\",IFERROR(SUM(MATCH(A149,'UNITCOST ITEMS (Data Entry)'!$A$3:$A$504,0),2),\"\"))),\"\"))","v":""},{"$f":"IF(IFERROR(INDIRECT(CONCATENATE(\"'UNITCOST ITEMS (Data Entry)'!I\",IFERROR(SUM(MATCH(A149,'UNITCOST ITEMS (Data Entry)'!$A$3:$A$504,0),2),\"\"))),\"\")=0,\"\",IFERROR(INDIRECT(CONCATENATE(\"'UNITCOST ITEMS (Data Entry)'!I\",IFERROR(SUM(MATCH(A149,'UNITCOST ITEMS (Data Entry)'!$A$3:$A$504,0),2),\"\"))),\"\"))","v":""},{"$f":"IF(K149=2,\"\",IF(IFERROR(INDIRECT(CONCATENATE(\"'UNITCOST ITEMS (Data Entry)'!J\",IFERROR(SUM(MATCH(A149,'UNITCOST ITEMS (Data Entry)'!$A$3:$A$504,0),2),\"\"))),\"\")=0,\"\",IFERROR(INDIRECT(CONCATENATE(\"'UNITCOST ITEMS (Data Entry)'!J\",IFERROR(SUM(MATCH(A149,'UNITCOST ITEMS (Data Entry)'!$A$3:$A$504,0),2),\"\"))),\"\")))","v":""},null,{"$f":"IF(IFERROR(INDIRECT(CONCATENATE(\"'UNITCOST ITEMS (Data Entry)'!C\",IFERROR(SUM(MATCH(A149,'UNITCOST ITEMS (Data Entry)'!$A$3:$A$504,0),2),\"\"))),\"\")=0,\"\",IFERROR(INDIRECT(CONCATENATE(\"'UNITCOST ITEMS (Data Entry)'!C\",IFERROR(SUM(MATCH(A149,'UNITCOST ITEMS (Data Entry)'!$A$3:$A$504,0),2),\"\"))),\"\"))","v":""},""]
[142,{"$f":"IF(IFERROR(INDIRECT(CONCATENATE(\"'UNITCOST ITEMS (Data Entry)'!D\",IFERROR(SUM(MATCH(A150,'UNITCOST ITEMS (Data Entry)'!$A$3:$A$504,0),2),\"\"))),\"\")=0,\"\",IFERROR(INDIRECT(CONCATENATE(\"'UNITCOST ITEMS (Data Entry)'!D\",IFERROR(SUM(MATCH(A150,'UNITCOST ITEMS (Data Entry)'!$A$3:$A$504,0),2),\"\"))),\"\"))","v":""},{"$f":"IF(IFERROR(INDIRECT(CONCATENATE(\"'UNITCOST ITEMS (Data Entry)'!E\",IFERROR(SUM(MATCH(A150,'UNITCOST ITEMS (Data Entry)'!$A$3:$A$504,0),2),\"\"))),\"\")=0,\"\",IFERROR(INDIRECT(CONCATENATE(\"'UNITCOST ITEMS (Data Entry)'!E\",IFERROR(SUM(MATCH(A150,'UNITCOST ITEMS (Data Entry)'!$A$3:$A$504,0),2),\"\"))),\"\"))","v":""},null,{"$f":"IF(IFERROR(INDIRECT(CONCATENATE(\"'UNITCOST ITEMS (Data Entry)'!F\",IFERROR(SUM(MATCH(A150,'UNITCOST ITEMS (Data Entry)'!$A$3:$A$504,0),2),\"\"))),\"\")=0,\"\",IFERROR(INDIRECT(CONCATENATE(\"'UNITCOST ITEMS (Data Entry)'!F\",IFERROR(SUM(MATCH(A150,'UNITCOST ITEMS (Data Entry)'!$A$3:$A$504,0),2),\"\"))),\"\"))","v":""},{"$f":"IF(IFERROR(INDIRECT(CONCATENATE(\"'UNITCOST ITEMS (Data Entry)'!G\",IFERROR(SUM(MATCH(A150,'UNITCOST ITEMS (Data Entry)'!$A$3:$A$504,0),2),\"\"))),\"\")=0,\"\",IFERROR(INDIRECT(CONCATENATE(\"'UNITCOST ITEMS (Data Entry)'!G\",IFERROR(SUM(MATCH(A150,'UNITCOST ITEMS (Data Entry)'!$A$3:$A$504,0),2),\"\"))),\"\"))","v":""},{"$f":"IF(IFERROR(INDIRECT(CONCATENATE(\"'UNITCOST ITEMS (Data Entry)'!H\",IFERROR(SUM(MATCH(A150,'UNITCOST ITEMS (Data Entry)'!$A$3:$A$504,0),2),\"\"))),\"\")=0,\"\",IFERROR(INDIRECT(CONCATENATE(\"'UNITCOST ITEMS (Data Entry)'!H\",IFERROR(SUM(MATCH(A150,'UNITCOST ITEMS (Data Entry)'!$A$3:$A$504,0),2),\"\"))),\"\"))","v":""},{"$f":"IF(IFERROR(INDIRECT(CONCATENATE(\"'UNITCOST ITEMS (Data Entry)'!I\",IFERROR(SUM(MATCH(A150,'UNITCOST ITEMS (Data Entry)'!$A$3:$A$504,0),2),\"\"))),\"\")=0,\"\",IFERROR(INDIRECT(CONCATENATE(\"'UNITCOST ITEMS (Data Entry)'!I\",IFERROR(SUM(MATCH(A150,'UNITCOST ITEMS (Data Entry)'!$A$3:$A$504,0),2),\"\"))),\"\"))","v":""},{"$f":"IF(K150=2,\"\",IF(IFERROR(INDIRECT(CONCATENATE(\"'UNITCOST ITEMS (Data Entry)'!J\",IFERROR(SUM(MATCH(A150,'UNITCOST ITEMS (Data Entry)'!$A$3:$A$504,0),2),\"\"))),\"\")=0,\"\",IFERROR(INDIRECT(CONCATENATE(\"'UNITCOST ITEMS (Data Entry)'!J\",IFERROR(SUM(MATCH(A150,'UNITCOST ITEMS (Data Entry)'!$A$3:$A$504,0),2),\"\"))),\"\")))","v":""},null,{"$f":"IF(IFERROR(INDIRECT(CONCATENATE(\"'UNITCOST ITEMS (Data Entry)'!C\",IFERROR(SUM(MATCH(A150,'UNITCOST ITEMS (Data Entry)'!$A$3:$A$504,0),2),\"\"))),\"\")=0,\"\",IFERROR(INDIRECT(CONCATENATE(\"'UNITCOST ITEMS (Data Entry)'!C\",IFERROR(SUM(MATCH(A150,'UNITCOST ITEMS (Data Entry)'!$A$3:$A$504,0),2),\"\"))),\"\"))","v":""},""]
[143,{"$f":"IF(IFERROR(INDIRECT(CONCATENATE(\"'UNITCOST ITEMS (Data Entry)'!D\",IFERROR(SUM(MATCH(A151,'UNITCOST ITEMS (Data Entry)'!$A$3:$A$504,0),2),\"\"))),\"\")=0,\"\",IFERROR(INDIRECT(CONCATENATE(\"'UNITCOST ITEMS (Data Entry)'!D\",IFERROR(SUM(MATCH(A151,'UNITCOST ITEMS (Data Entry)'!$A$3:$A$504,0),2),\"\"))),\"\"))","v":""},{"$f":"IF(IFERROR(INDIRECT(CONCATENATE(\"'UNITCOST ITEMS (Data Entry)'!E\",IFERROR(SUM(MATCH(A151,'UNITCOST ITEMS (Data Entry)'!$A$3:$A$504,0),2),\"\"))),\"\")=0,\"\",IFERROR(INDIRECT(CONCATENATE(\"'UNITCOST ITEMS (Data Entry)'!E\",IFERROR(SUM(MATCH(A151,'UNITCOST ITEMS (Data Entry)'!$A$3:$A$504,0),2),\"\"))),\"\"))","v":""},null,{"$f":"IF(IFERROR(INDIRECT(CONCATENATE(\"'UNITCOST ITEMS (Data Entry)'!F\",IFERROR(SUM(MATCH(A151,'UNITCOST ITEMS (Data Entry)'!$A$3:$A$504,0),2),\"\"))),\"\")=0,\"\",IFERROR(INDIRECT(CONCATENATE(\"'UNITCOST ITEMS (Data Entry)'!F\",IFERROR(SUM(MATCH(A151,'UNITCOST ITEMS (Data Entry)'!$A$3:$A$504,0),2),\"\"))),\"\"))","v":""},{"$f":"IF(IFERROR(INDIRECT(CONCATENATE(\"'UNITCOST ITEMS (Data Entry)'!G\",IFERROR(SUM(MATCH(A151,'UNITCOST ITEMS (Data Entry)'!$A$3:$A$504,0),2),\"\"))),\"\")=0,\"\",IFERROR(INDIRECT(CONCATENATE(\"'UNITCOST ITEMS (Data Entry)'!G\",IFERROR(SUM(MATCH(A151,'UNITCOST ITEMS (Data Entry)'!$A$3:$A$504,0),2),\"\"))),\"\"))","v":""},{"$f":"IF(IFERROR(INDIRECT(CONCATENATE(\"'UNITCOST ITEMS (Data Entry)'!H\",IFERROR(SUM(MATCH(A151,'UNITCOST ITEMS (Data Entry)'!$A$3:$A$504,0),2),\"\"))),\"\")=0,\"\",IFERROR(INDIRECT(CONCATENATE(\"'UNITCOST ITEMS (Data Entry)'!H\",IFERROR(SUM(MATCH(A151,'UNITCOST ITEMS (Data Entry)'!$A$3:$A$504,0),2),\"\"))),\"\"))","v":""},{"$f":"IF(IFERROR(INDIRECT(CONCATENATE(\"'UNITCOST ITEMS (Data Entry)'!I\",IFERROR(SUM(MATCH(A151,'UNITCOST ITEMS (Data Entry)'!$A$3:$A$504,0),2),\"\"))),\"\")=0,\"\",IFERROR(INDIRECT(CONCATENATE(\"'UNITCOST ITEMS (Data Entry)'!I\",IFERROR(SUM(MATCH(A151,'UNITCOST ITEMS (Data Entry)'!$A$3:$A$504,0),2),\"\"))),\"\"))","v":""},{"$f":"IF(K151=2,\"\",IF(IFERROR(INDIRECT(CONCATENATE(\"'UNITCOST ITEMS (Data Entry)'!J\",IFERROR(SUM(MATCH(A151,'UNITCOST ITEMS (Data Entry)'!$A$3:$A$504,0),2),\"\"))),\"\")=0,\"\",IFERROR(INDIRECT(CONCATENATE(\"'UNITCOST ITEMS (Data Entry)'!J\",IFERROR(SUM(MATCH(A151,'UNITCOST ITEMS (Data Entry)'!$A$3:$A$504,0),2),\"\"))),\"\")))","v":""},null,{"$f":"IF(IFERROR(INDIRECT(CONCATENATE(\"'UNITCOST ITEMS (Data Entry)'!C\",IFERROR(SUM(MATCH(A151,'UNITCOST ITEMS (Data Entry)'!$A$3:$A$504,0),2),\"\"))),\"\")=0,\"\",IFERROR(INDIRECT(CONCATENATE(\"'UNITCOST ITEMS (Data Entry)'!C\",IFERROR(SUM(MATCH(A151,'UNITCOST ITEMS (Data Entry)'!$A$3:$A$504,0),2),\"\"))),\"\"))","v":""},""]
[144,{"$f":"IF(IFERROR(INDIRECT(CONCATENATE(\"'UNITCOST ITEMS (Data Entry)'!D\",IFERROR(SUM(MATCH(A152,'UNITCOST ITEMS (Data Entry)'!$A$3:$A$504,0),2),\"\"))),\"\")=0,\"\",IFERROR(INDIRECT(CONCATENATE(\"'UNITCOST ITEMS (Data Entry)'!D\",IFERROR(SUM(MATCH(A152,'UNITCOST ITEMS (Data Entry)'!$A$3:$A$504,0),2),\"\"))),\"\"))","v":""},{"$f":"IF(IFERROR(INDIRECT(CONCATENATE(\"'UNITCOST ITEMS (Data Entry)'!E\",IFERROR(SUM(MATCH(A152,'UNITCOST ITEMS (Data Entry)'!$A$3:$A$504,0),2),\"\"))),\"\")=0,\"\",IFERROR(INDIRECT(CONCATENATE(\"'UNITCOST ITEMS (Data Entry)'!E\",IFERROR(SUM(MATCH(A152,'UNITCOST ITEMS (Data Entry)'!$A$3:$A$504,0),2),\"\"))),\"\"))","v":""},null,{"$f":"IF(IFERROR(INDIRECT(CONCATENATE(\"'UNITCOST ITEMS (Data Entry)'!F\",IFERROR(SUM(MATCH(A152,'UNITCOST ITEMS (Data Entry)'!$A$3:$A$504,0),2),\"\"))),\"\")=0,\"\",IFERROR(INDIRECT(CONCATENATE(\"'UNITCOST ITEMS (Data Entry)'!F\",IFERROR(SUM(MATCH(A152,'UNITCOST ITEMS (Data Entry)'!$A$3:$A$504,0),2),\"\"))),\"\"))","v":""},{"$f":"IF(IFERROR(INDIRECT(CONCATENATE(\"'UNITCOST ITEMS (Data Entry)'!G\",IFERROR(SUM(MATCH(A152,'UNITCOST ITEMS (Data Entry)'!$A$3:$A$504,0),2),\"\"))),\"\")=0,\"\",IFERROR(INDIRECT(CONCATENATE(\"'UNITCOST ITEMS (Data Entry)'!G\",IFERROR(SUM(MATCH(A152,'UNITCOST ITEMS (Data Entry)'!$A$3:$A$504,0),2),\"\"))),\"\"))","v":""},{"$f":"IF(IFERROR(INDIRECT(CONCATENATE(\"'UNITCOST ITEMS (Data Entry)'!H\",IFERROR(SUM(MATCH(A152,'UNITCOST ITEMS (Data Entry)'!$A$3:$A$504,0),2),\"\"))),\"\")=0,\"\",IFERROR(INDIRECT(CONCATENATE(\"'UNITCOST ITEMS (Data Entry)'!H\",IFERROR(SUM(MATCH(A152,'UNITCOST ITEMS (Data Entry)'!$A$3:$A$504,0),2),\"\"))),\"\"))","v":""},{"$f":"IF(IFERROR(INDIRECT(CONCATENATE(\"'UNITCOST ITEMS (Data Entry)'!I\",IFERROR(SUM(MATCH(A152,'UNITCOST ITEMS (Data Entry)'!$A$3:$A$504,0),2),\"\"))),\"\")=0,\"\",IFERROR(INDIRECT(CONCATENATE(\"'UNITCOST ITEMS (Data Entry)'!I\",IFERROR(SUM(MATCH(A152,'UNITCOST ITEMS (Data Entry)'!$A$3:$A$504,0),2),\"\"))),\"\"))","v":""},{"$f":"IF(K152=2,\"\",IF(IFERROR(INDIRECT(CONCATENATE(\"'UNITCOST ITEMS (Data Entry)'!J\",IFERROR(SUM(MATCH(A152,'UNITCOST ITEMS (Data Entry)'!$A$3:$A$504,0),2),\"\"))),\"\")=0,\"\",IFERROR(INDIRECT(CONCATENATE(\"'UNITCOST ITEMS (Data Entry)'!J\",IFERROR(SUM(MATCH(A152,'UNITCOST ITEMS (Data Entry)'!$A$3:$A$504,0),2),\"\"))),\"\")))","v":""},null,{"$f":"IF(IFERROR(INDIRECT(CONCATENATE(\"'UNITCOST ITEMS (Data Entry)'!C\",IFERROR(SUM(MATCH(A152,'UNITCOST ITEMS (Data Entry)'!$A$3:$A$504,0),2),\"\"))),\"\")=0,\"\",IFERROR(INDIRECT(CONCATENATE(\"'UNITCOST ITEMS (Data Entry)'!C\",IFERROR(SUM(MATCH(A152,'UNITCOST ITEMS (Data Entry)'!$A$3:$A$504,0),2),\"\"))),\"\"))","v":""},""]
[145,{"$f":"IF(IFERROR(INDIRECT(CONCATENATE(\"'UNITCOST ITEMS (Data Entry)'!D\",IFERROR(SUM(MATCH(A153,'UNITCOST ITEMS (Data Entry)'!$A$3:$A$504,0),2),\"\"))),\"\")=0,\"\",IFERROR(INDIRECT(CONCATENATE(\"'UNITCOST ITEMS (Data Entry)'!D\",IFERROR(SUM(MATCH(A153,'UNITCOST ITEMS (Data Entry)'!$A$3:$A$504,0),2),\"\"))),\"\"))","v":""},{"$f":"IF(IFERROR(INDIRECT(CONCATENATE(\"'UNITCOST ITEMS (Data Entry)'!E\",IFERROR(SUM(MATCH(A153,'UNITCOST ITEMS (Data Entry)'!$A$3:$A$504,0),2),\"\"))),\"\")=0,\"\",IFERROR(INDIRECT(CONCATENATE(\"'UNITCOST ITEMS (Data Entry)'!E\",IFERROR(SUM(MATCH(A153,'UNITCOST ITEMS (Data Entry)'!$A$3:$A$504,0),2),\"\"))),\"\"))","v":""},null,{"$f":"IF(IFERROR(INDIRECT(CONCATENATE(\"'UNITCOST ITEMS (Data Entry)'!F\",IFERROR(SUM(MATCH(A153,'UNITCOST ITEMS (Data Entry)'!$A$3:$A$504,0),2),\"\"))),\"\")=0,\"\",IFERROR(INDIRECT(CONCATENATE(\"'UNITCOST ITEMS (Data Entry)'!F\",IFERROR(SUM(MATCH(A153,'UNITCOST ITEMS (Data Entry)'!$A$3:$A$504,0),2),\"\"))),\"\"))","v":""},{"$f":"IF(IFERROR(INDIRECT(CONCATENATE(\"'UNITCOST ITEMS (Data Entry)'!G\",IFERROR(SUM(MATCH(A153,'UNITCOST ITEMS (Data Entry)'!$A$3:$A$504,0),2),\"\"))),\"\")=0,\"\",IFERROR(INDIRECT(CONCATENATE(\"'UNITCOST ITEMS (Data Entry)'!G\",IFERROR(SUM(MATCH(A153,'UNITCOST ITEMS (Data Entry)'!$A$3:$A$504,0),2),\"\"))),\"\"))","v":""},{"$f":"IF(IFERROR(INDIRECT(CONCATENATE(\"'UNITCOST ITEMS (Data Entry)'!H\",IFERROR(SUM(MATCH(A153,'UNITCOST ITEMS (Data Entry)'!$A$3:$A$504,0),2),\"\"))),\"\")=0,\"\",IFERROR(INDIRECT(CONCATENATE(\"'UNITCOST ITEMS (Data Entry)'!H\",IFERROR(SUM(MATCH(A153,'UNITCOST ITEMS (Data Entry)'!$A$3:$A$504,0),2),\"\"))),\"\"))","v":""},{"$f":"IF(IFERROR(INDIRECT(CONCATENATE(\"'UNITCOST ITEMS (Data Entry)'!I\",IFERROR(SUM(MATCH(A153,'UNITCOST ITEMS (Data Entry)'!$A$3:$A$504,0),2),\"\"))),\"\")=0,\"\",IFERROR(INDIRECT(CONCATENATE(\"'UNITCOST ITEMS (Data Entry)'!I\",IFERROR(SUM(MATCH(A153,'UNITCOST ITEMS (Data Entry)'!$A$3:$A$504,0),2),\"\"))),\"\"))","v":""},{"$f":"IF(K153=2,\"\",IF(IFERROR(INDIRECT(CONCATENATE(\"'UNITCOST ITEMS (Data Entry)'!J\",IFERROR(SUM(MATCH(A153,'UNITCOST ITEMS (Data Entry)'!$A$3:$A$504,0),2),\"\"))),\"\")=0,\"\",IFERROR(INDIRECT(CONCATENATE(\"'UNITCOST ITEMS (Data Entry)'!J\",IFERROR(SUM(MATCH(A153,'UNITCOST ITEMS (Data Entry)'!$A$3:$A$504,0),2),\"\"))),\"\")))","v":""},null,{"$f":"IF(IFERROR(INDIRECT(CONCATENATE(\"'UNITCOST ITEMS (Data Entry)'!C\",IFERROR(SUM(MATCH(A153,'UNITCOST ITEMS (Data Entry)'!$A$3:$A$504,0),2),\"\"))),\"\")=0,\"\",IFERROR(INDIRECT(CONCATENATE(\"'UNITCOST ITEMS (Data Entry)'!C\",IFERROR(SUM(MATCH(A153,'UNITCOST ITEMS (Data Entry)'!$A$3:$A$504,0),2),\"\"))),\"\"))","v":""},""]
[146,{"$f":"IF(IFERROR(INDIRECT(CONCATENATE(\"'UNITCOST ITEMS (Data Entry)'!D\",IFERROR(SUM(MATCH(A154,'UNITCOST ITEMS (Data Entry)'!$A$3:$A$504,0),2),\"\"))),\"\")=0,\"\",IFERROR(INDIRECT(CONCATENATE(\"'UNITCOST ITEMS (Data Entry)'!D\",IFERROR(SUM(MATCH(A154,'UNITCOST ITEMS (Data Entry)'!$A$3:$A$504,0),2),\"\"))),\"\"))","v":""},{"$f":"IF(IFERROR(INDIRECT(CONCATENATE(\"'UNITCOST ITEMS (Data Entry)'!E\",IFERROR(SUM(MATCH(A154,'UNITCOST ITEMS (Data Entry)'!$A$3:$A$504,0),2),\"\"))),\"\")=0,\"\",IFERROR(INDIRECT(CONCATENATE(\"'UNITCOST ITEMS (Data Entry)'!E\",IFERROR(SUM(MATCH(A154,'UNITCOST ITEMS (Data Entry)'!$A$3:$A$504,0),2),\"\"))),\"\"))","v":""},null,{"$f":"IF(IFERROR(INDIRECT(CONCATENATE(\"'UNITCOST ITEMS (Data Entry)'!F\",IFERROR(SUM(MATCH(A154,'UNITCOST ITEMS (Data Entry)'!$A$3:$A$504,0),2),\"\"))),\"\")=0,\"\",IFERROR(INDIRECT(CONCATENATE(\"'UNITCOST ITEMS (Data Entry)'!F\",IFERROR(SUM(MATCH(A154,'UNITCOST ITEMS (Data Entry)'!$A$3:$A$504,0),2),\"\"))),\"\"))","v":""},{"$f":"IF(IFERROR(INDIRECT(CONCATENATE(\"'UNITCOST ITEMS (Data Entry)'!G\",IFERROR(SUM(MATCH(A154,'UNITCOST ITEMS (Data Entry)'!$A$3:$A$504,0),2),\"\"))),\"\")=0,\"\",IFERROR(INDIRECT(CONCATENATE(\"'UNITCOST ITEMS (Data Entry)'!G\",IFERROR(SUM(MATCH(A154,'UNITCOST ITEMS (Data Entry)'!$A$3:$A$504,0),2),\"\"))),\"\"))","v":""},{"$f":"IF(IFERROR(INDIRECT(CONCATENATE(\"'UNITCOST ITEMS (Data Entry)'!H\",IFERROR(SUM(MATCH(A154,'UNITCOST ITEMS (Data Entry)'!$A$3:$A$504,0),2),\"\"))),\"\")=0,\"\",IFERROR(INDIRECT(CONCATENATE(\"'UNITCOST ITEMS (Data Entry)'!H\",IFERROR(SUM(MATCH(A154,'UNITCOST ITEMS (Data Entry)'!$A$3:$A$504,0),2),\"\"))),\"\"))","v":""},{"$f":"IF(IFERROR(INDIRECT(CONCATENATE(\"'UNITCOST ITEMS (Data Entry)'!I\",IFERROR(SUM(MATCH(A154,'UNITCOST ITEMS (Data Entry)'!$A$3:$A$504,0),2),\"\"))),\"\")=0,\"\",IFERROR(INDIRECT(CONCATENATE(\"'UNITCOST ITEMS (Data Entry)'!I\",IFERROR(SUM(MATCH(A154,'UNITCOST ITEMS (Data Entry)'!$A$3:$A$504,0),2),\"\"))),\"\"))","v":""},{"$f":"IF(K154=2,\"\",IF(IFERROR(INDIRECT(CONCATENATE(\"'UNITCOST ITEMS (Data Entry)'!J\",IFERROR(SUM(MATCH(A154,'UNITCOST ITEMS (Data Entry)'!$A$3:$A$504,0),2),\"\"))),\"\")=0,\"\",IFERROR(INDIRECT(CONCATENATE(\"'UNITCOST ITEMS (Data Entry)'!J\",IFERROR(SUM(MATCH(A154,'UNITCOST ITEMS (Data Entry)'!$A$3:$A$504,0),2),\"\"))),\"\")))","v":""},null,{"$f":"IF(IFERROR(INDIRECT(CONCATENATE(\"'UNITCOST ITEMS (Data Entry)'!C\",IFERROR(SUM(MATCH(A154,'UNITCOST ITEMS (Data Entry)'!$A$3:$A$504,0),2),\"\"))),\"\")=0,\"\",IFERROR(INDIRECT(CONCATENATE(\"'UNITCOST ITEMS (Data Entry)'!C\",IFERROR(SUM(MATCH(A154,'UNITCOST ITEMS (Data Entry)'!$A$3:$A$504,0),2),\"\"))),\"\"))","v":""},""]
[147,{"$f":"IF(IFERROR(INDIRECT(CONCATENATE(\"'UNITCOST ITEMS (Data Entry)'!D\",IFERROR(SUM(MATCH(A155,'UNITCOST ITEMS (Data Entry)'!$A$3:$A$504,0),2),\"\"))),\"\")=0,\"\",IFERROR(INDIRECT(CONCATENATE(\"'UNITCOST ITEMS (Data Entry)'!D\",IFERROR(SUM(MATCH(A155,'UNITCOST ITEMS (Data Entry)'!$A$3:$A$504,0),2),\"\"))),\"\"))","v":""},{"$f":"IF(IFERROR(INDIRECT(CONCATENATE(\"'UNITCOST ITEMS (Data Entry)'!E\",IFERROR(SUM(MATCH(A155,'UNITCOST ITEMS (Data Entry)'!$A$3:$A$504,0),2),\"\"))),\"\")=0,\"\",IFERROR(INDIRECT(CONCATENATE(\"'UNITCOST ITEMS (Data Entry)'!E\",IFERROR(SUM(MATCH(A155,'UNITCOST ITEMS (Data Entry)'!$A$3:$A$504,0),2),\"\"))),\"\"))","v":""},null,{"$f":"IF(IFERROR(INDIRECT(CONCATENATE(\"'UNITCOST ITEMS (Data Entry)'!F\",IFERROR(SUM(MATCH(A155,'UNITCOST ITEMS (Data Entry)'!$A$3:$A$504,0),2),\"\"))),\"\")=0,\"\",IFERROR(INDIRECT(CONCATENATE(\"'UNITCOST ITEMS (Data Entry)'!F\",IFERROR(SUM(MATCH(A155,'UNITCOST ITEMS (Data Entry)'!$A$3:$A$504,0),2),\"\"))),\"\"))","v":""},{"$f":"IF(IFERROR(INDIRECT(CONCATENATE(\"'UNITCOST ITEMS (Data Entry)'!G\",IFERROR(SUM(MATCH(A155,'UNITCOST ITEMS (Data Entry)'!$A$3:$A$504,0),2),\"\"))),\"\")=0,\"\",IFERROR(INDIRECT(CONCATENATE(\"'UNITCOST ITEMS (Data Entry)'!G\",IFERROR(SUM(MATCH(A155,'UNITCOST ITEMS (Data Entry)'!$A$3:$A$504,0),2),\"\"))),\"\"))","v":""},{"$f":"IF(IFERROR(INDIRECT(CONCATENATE(\"'UNITCOST ITEMS (Data Entry)'!H\",IFERROR(SUM(MATCH(A155,'UNITCOST ITEMS (Data Entry)'!$A$3:$A$504,0),2),\"\"))),\"\")=0,\"\",IFERROR(INDIRECT(CONCATENATE(\"'UNITCOST ITEMS (Data Entry)'!H\",IFERROR(SUM(MATCH(A155,'UNITCOST ITEMS (Data Entry)'!$A$3:$A$504,0),2),\"\"))),\"\"))","v":""},{"$f":"IF(IFERROR(INDIRECT(CONCATENATE(\"'UNITCOST ITEMS (Data Entry)'!I\",IFERROR(SUM(MATCH(A155,'UNITCOST ITEMS (Data Entry)'!$A$3:$A$504,0),2),\"\"))),\"\")=0,\"\",IFERROR(INDIRECT(CONCATENATE(\"'UNITCOST ITEMS (Data Entry)'!I\",IFERROR(SUM(MATCH(A155,'UNITCOST ITEMS (Data Entry)'!$A$3:$A$504,0),2),\"\"))),\"\"))","v":""},{"$f":"IF(K155=2,\"\",IF(IFERROR(INDIRECT(CONCATENATE(\"'UNITCOST ITEMS (Data Entry)'!J\",IFERROR(SUM(MATCH(A155,'UNITCOST ITEMS (Data Entry)'!$A$3:$A$504,0),2),\"\"))),\"\")=0,\"\",IFERROR(INDIRECT(CONCATENATE(\"'UNITCOST ITEMS (Data Entry)'!J\",IFERROR(SUM(MATCH(A155,'UNITCOST ITEMS (Data Entry)'!$A$3:$A$504,0),2),\"\"))),\"\")))","v":""},null,{"$f":"IF(IFERROR(INDIRECT(CONCATENATE(\"'UNITCOST ITEMS (Data Entry)'!C\",IFERROR(SUM(MATCH(A155,'UNITCOST ITEMS (Data Entry)'!$A$3:$A$504,0),2),\"\"))),\"\")=0,\"\",IFERROR(INDIRECT(CONCATENATE(\"'UNITCOST ITEMS (Data Entry)'!C\",IFERROR(SUM(MATCH(A155,'UNITCOST ITEMS (Data Entry)'!$A$3:$A$504,0),2),\"\"))),\"\"))","v":""},""]
[148,{"$f":"IF(IFERROR(INDIRECT(CONCATENATE(\"'UNITCOST ITEMS (Data Entry)'!D\",IFERROR(SUM(MATCH(A156,'UNITCOST ITEMS (Data Entry)'!$A$3:$A$504,0),2),\"\"))),\"\")=0,\"\",IFERROR(INDIRECT(CONCATENATE(\"'UNITCOST ITEMS (Data Entry)'!D\",IFERROR(SUM(MATCH(A156,'UNITCOST ITEMS (Data Entry)'!$A$3:$A$504,0),2),\"\"))),\"\"))","v":""},{"$f":"IF(IFERROR(INDIRECT(CONCATENATE(\"'UNITCOST ITEMS (Data Entry)'!E\",IFERROR(SUM(MATCH(A156,'UNITCOST ITEMS (Data Entry)'!$A$3:$A$504,0),2),\"\"))),\"\")=0,\"\",IFERROR(INDIRECT(CONCATENATE(\"'UNITCOST ITEMS (Data Entry)'!E\",IFERROR(SUM(MATCH(A156,'UNITCOST ITEMS (Data Entry)'!$A$3:$A$504,0),2),\"\"))),\"\"))","v":""},null,{"$f":"IF(IFERROR(INDIRECT(CONCATENATE(\"'UNITCOST ITEMS (Data Entry)'!F\",IFERROR(SUM(MATCH(A156,'UNITCOST ITEMS (Data Entry)'!$A$3:$A$504,0),2),\"\"))),\"\")=0,\"\",IFERROR(INDIRECT(CONCATENATE(\"'UNITCOST ITEMS (Data Entry)'!F\",IFERROR(SUM(MATCH(A156,'UNITCOST ITEMS (Data Entry)'!$A$3:$A$504,0),2),\"\"))),\"\"))","v":""},{"$f":"IF(IFERROR(INDIRECT(CONCATENATE(\"'UNITCOST ITEMS (Data Entry)'!G\",IFERROR(SUM(MATCH(A156,'UNITCOST ITEMS (Data Entry)'!$A$3:$A$504,0),2),\"\"))),\"\")=0,\"\",IFERROR(INDIRECT(CONCATENATE(\"'UNITCOST ITEMS (Data Entry)'!G\",IFERROR(SUM(MATCH(A156,'UNITCOST ITEMS (Data Entry)'!$A$3:$A$504,0),2),\"\"))),\"\"))","v":""},{"$f":"IF(IFERROR(INDIRECT(CONCATENATE(\"'UNITCOST ITEMS (Data Entry)'!H\",IFERROR(SUM(MATCH(A156,'UNITCOST ITEMS (Data Entry)'!$A$3:$A$504,0),2),\"\"))),\"\")=0,\"\",IFERROR(INDIRECT(CONCATENATE(\"'UNITCOST ITEMS (Data Entry)'!H\",IFERROR(SUM(MATCH(A156,'UNITCOST ITEMS (Data Entry)'!$A$3:$A$504,0),2),\"\"))),\"\"))","v":""},{"$f":"IF(IFERROR(INDIRECT(CONCATENATE(\"'UNITCOST ITEMS (Data Entry)'!I\",IFERROR(SUM(MATCH(A156,'UNITCOST ITEMS (Data Entry)'!$A$3:$A$504,0),2),\"\"))),\"\")=0,\"\",IFERROR(INDIRECT(CONCATENATE(\"'UNITCOST ITEMS (Data Entry)'!I\",IFERROR(SUM(MATCH(A156,'UNITCOST ITEMS (Data Entry)'!$A$3:$A$504,0),2),\"\"))),\"\"))","v":""},{"$f":"IF(K156=2,\"\",IF(IFERROR(INDIRECT(CONCATENATE(\"'UNITCOST ITEMS (Data Entry)'!J\",IFERROR(SUM(MATCH(A156,'UNITCOST ITEMS (Data Entry)'!$A$3:$A$504,0),2),\"\"))),\"\")=0,\"\",IFERROR(INDIRECT(CONCATENATE(\"'UNITCOST ITEMS (Data Entry)'!J\",IFERROR(SUM(MATCH(A156,'UNITCOST ITEMS (Data Entry)'!$A$3:$A$504,0),2),\"\"))),\"\")))","v":""},null,{"$f":"IF(IFERROR(INDIRECT(CONCATENATE(\"'UNITCOST ITEMS (Data Entry)'!C\",IFERROR(SUM(MATCH(A156,'UNITCOST ITEMS (Data Entry)'!$A$3:$A$504,0),2),\"\"))),\"\")=0,\"\",IFERROR(INDIRECT(CONCATENATE(\"'UNITCOST ITEMS (Data Entry)'!C\",IFERROR(SUM(MATCH(A156,'UNITCOST ITEMS (Data Entry)'!$A$3:$A$504,0),2),\"\"))),\"\"))","v":""},""]
[149,{"$f":"IF(IFERROR(INDIRECT(CONCATENATE(\"'UNITCOST ITEMS (Data Entry)'!D\",IFERROR(SUM(MATCH(A157,'UNITCOST ITEMS (Data Entry)'!$A$3:$A$504,0),2),\"\"))),\"\")=0,\"\",IFERROR(INDIRECT(CONCATENATE(\"'UNITCOST ITEMS (Data Entry)'!D\",IFERROR(SUM(MATCH(A157,'UNITCOST ITEMS (Data Entry)'!$A$3:$A$504,0),2),\"\"))),\"\"))","v":""},{"$f":"IF(IFERROR(INDIRECT(CONCATENATE(\"'UNITCOST ITEMS (Data Entry)'!E\",IFERROR(SUM(MATCH(A157,'UNITCOST ITEMS (Data Entry)'!$A$3:$A$504,0),2),\"\"))),\"\")=0,\"\",IFERROR(INDIRECT(CONCATENATE(\"'UNITCOST ITEMS (Data Entry)'!E\",IFERROR(SUM(MATCH(A157,'UNITCOST ITEMS (Data Entry)'!$A$3:$A$504,0),2),\"\"))),\"\"))","v":""},null,{"$f":"IF(IFERROR(INDIRECT(CONCATENATE(\"'UNITCOST ITEMS (Data Entry)'!F\",IFERROR(SUM(MATCH(A157,'UNITCOST ITEMS (Data Entry)'!$A$3:$A$504,0),2),\"\"))),\"\")=0,\"\",IFERROR(INDIRECT(CONCATENATE(\"'UNITCOST ITEMS (Data Entry)'!F\",IFERROR(SUM(MATCH(A157,'UNITCOST ITEMS (Data Entry)'!$A$3:$A$504,0),2),\"\"))),\"\"))","v":""},{"$f":"IF(IFERROR(INDIRECT(CONCATENATE(\"'UNITCOST ITEMS (Data Entry)'!G\",IFERROR(SUM(MATCH(A157,'UNITCOST ITEMS (Data Entry)'!$A$3:$A$504,0),2),\"\"))),\"\")=0,\"\",IFERROR(INDIRECT(CONCATENATE(\"'UNITCOST ITEMS (Data Entry)'!G\",IFERROR(SUM(MATCH(A157,'UNITCOST ITEMS (Data Entry)'!$A$3:$A$504,0),2),\"\"))),\"\"))","v":""},{"$f":"IF(IFERROR(INDIRECT(CONCATENATE(\"'UNITCOST ITEMS (Data Entry)'!H\",IFERROR(SUM(MATCH(A157,'UNITCOST ITEMS (Data Entry)'!$A$3:$A$504,0),2),\"\"))),\"\")=0,\"\",IFERROR(INDIRECT(CONCATENATE(\"'UNITCOST ITEMS (Data Entry)'!H\",IFERROR(SUM(MATCH(A157,'UNITCOST ITEMS (Data Entry)'!$A$3:$A$504,0),2),\"\"))),\"\"))","v":""},{"$f":"IF(IFERROR(INDIRECT(CONCATENATE(\"'UNITCOST ITEMS (Data Entry)'!I\",IFERROR(SUM(MATCH(A157,'UNITCOST ITEMS (Data Entry)'!$A$3:$A$504,0),2),\"\"))),\"\")=0,\"\",IFERROR(INDIRECT(CONCATENATE(\"'UNITCOST ITEMS (Data Entry)'!I\",IFERROR(SUM(MATCH(A157,'UNITCOST ITEMS (Data Entry)'!$A$3:$A$504,0),2),\"\"))),\"\"))","v":""},{"$f":"IF(K157=2,\"\",IF(IFERROR(INDIRECT(CONCATENATE(\"'UNITCOST ITEMS (Data Entry)'!J\",IFERROR(SUM(MATCH(A157,'UNITCOST ITEMS (Data Entry)'!$A$3:$A$504,0),2),\"\"))),\"\")=0,\"\",IFERROR(INDIRECT(CONCATENATE(\"'UNITCOST ITEMS (Data Entry)'!J\",IFERROR(SUM(MATCH(A157,'UNITCOST ITEMS (Data Entry)'!$A$3:$A$504,0),2),\"\"))),\"\")))","v":""},null,{"$f":"IF(IFERROR(INDIRECT(CONCATENATE(\"'UNITCOST ITEMS (Data Entry)'!C\",IFERROR(SUM(MATCH(A157,'UNITCOST ITEMS (Data Entry)'!$A$3:$A$504,0),2),\"\"))),\"\")=0,\"\",IFERROR(INDIRECT(CONCATENATE(\"'UNITCOST ITEMS (Data Entry)'!C\",IFERROR(SUM(MATCH(A157,'UNITCOST ITEMS (Data Entry)'!$A$3:$A$504,0),2),\"\"))),\"\"))","v":""},""]
[150,{"$f":"IF(IFERROR(INDIRECT(CONCATENATE(\"'UNITCOST ITEMS (Data Entry)'!D\",IFERROR(SUM(MATCH(A158,'UNITCOST ITEMS (Data Entry)'!$A$3:$A$504,0),2),\"\"))),\"\")=0,\"\",IFERROR(INDIRECT(CONCATENATE(\"'UNITCOST ITEMS (Data Entry)'!D\",IFERROR(SUM(MATCH(A158,'UNITCOST ITEMS (Data Entry)'!$A$3:$A$504,0),2),\"\"))),\"\"))","v":""},{"$f":"IF(IFERROR(INDIRECT(CONCATENATE(\"'UNITCOST ITEMS (Data Entry)'!E\",IFERROR(SUM(MATCH(A158,'UNITCOST ITEMS (Data Entry)'!$A$3:$A$504,0),2),\"\"))),\"\")=0,\"\",IFERROR(INDIRECT(CONCATENATE(\"'UNITCOST ITEMS (Data Entry)'!E\",IFERROR(SUM(MATCH(A158,'UNITCOST ITEMS (Data Entry)'!$A$3:$A$504,0),2),\"\"))),\"\"))","v":""},null,{"$f":"IF(IFERROR(INDIRECT(CONCATENATE(\"'UNITCOST ITEMS (Data Entry)'!F\",IFERROR(SUM(MATCH(A158,'UNITCOST ITEMS (Data Entry)'!$A$3:$A$504,0),2),\"\"))),\"\")=0,\"\",IFERROR(INDIRECT(CONCATENATE(\"'UNITCOST ITEMS (Data Entry)'!F\",IFERROR(SUM(MATCH(A158,'UNITCOST ITEMS (Data Entry)'!$A$3:$A$504,0),2),\"\"))),\"\"))","v":""},{"$f":"IF(IFERROR(INDIRECT(CONCATENATE(\"'UNITCOST ITEMS (Data Entry)'!G\",IFERROR(SUM(MATCH(A158,'UNITCOST ITEMS (Data Entry)'!$A$3:$A$504,0),2),\"\"))),\"\")=0,\"\",IFERROR(INDIRECT(CONCATENATE(\"'UNITCOST ITEMS (Data Entry)'!G\",IFERROR(SUM(MATCH(A158,'UNITCOST ITEMS (Data Entry)'!$A$3:$A$504,0),2),\"\"))),\"\"))","v":""},{"$f":"IF(IFERROR(INDIRECT(CONCATENATE(\"'UNITCOST ITEMS (Data Entry)'!H\",IFERROR(SUM(MATCH(A158,'UNITCOST ITEMS (Data Entry)'!$A$3:$A$504,0),2),\"\"))),\"\")=0,\"\",IFERROR(INDIRECT(CONCATENATE(\"'UNITCOST ITEMS (Data Entry)'!H\",IFERROR(SUM(MATCH(A158,'UNITCOST ITEMS (Data Entry)'!$A$3:$A$504,0),2),\"\"))),\"\"))","v":""},{"$f":"IF(IFERROR(INDIRECT(CONCATENATE(\"'UNITCOST ITEMS (Data Entry)'!I\",IFERROR(SUM(MATCH(A158,'UNITCOST ITEMS (Data Entry)'!$A$3:$A$504,0),2),\"\"))),\"\")=0,\"\",IFERROR(INDIRECT(CONCATENATE(\"'UNITCOST ITEMS (Data Entry)'!I\",IFERROR(SUM(MATCH(A158,'UNITCOST ITEMS (Data Entry)'!$A$3:$A$504,0),2),\"\"))),\"\"))","v":""},{"$f":"IF(K158=2,\"\",IF(IFERROR(INDIRECT(CONCATENATE(\"'UNITCOST ITEMS (Data Entry)'!J\",IFERROR(SUM(MATCH(A158,'UNITCOST ITEMS (Data Entry)'!$A$3:$A$504,0),2),\"\"))),\"\")=0,\"\",IFERROR(INDIRECT(CONCATENATE(\"'UNITCOST ITEMS (Data Entry)'!J\",IFERROR(SUM(MATCH(A158,'UNITCOST ITEMS (Data Entry)'!$A$3:$A$504,0),2),\"\"))),\"\")))","v":""},null,{"$f":"IF(IFERROR(INDIRECT(CONCATENATE(\"'UNITCOST ITEMS (Data Entry)'!C\",IFERROR(SUM(MATCH(A158,'UNITCOST ITEMS (Data Entry)'!$A$3:$A$504,0),2),\"\"))),\"\")=0,\"\",IFERROR(INDIRECT(CONCATENATE(\"'UNITCOST ITEMS (Data Entry)'!C\",IFERROR(SUM(MATCH(A158,'UNITCOST ITEMS (Data Entry)'!$A$3:$A$504,0),2),\"\"))),\"\"))","v":""},""]
[151,{"$f":"IF(IFERROR(INDIRECT(CONCATENATE(\"'UNITCOST ITEMS (Data Entry)'!D\",IFERROR(SUM(MATCH(A159,'UNITCOST ITEMS (Data Entry)'!$A$3:$A$504,0),2),\"\"))),\"\")=0,\"\",IFERROR(INDIRECT(CONCATENATE(\"'UNITCOST ITEMS (Data Entry)'!D\",IFERROR(SUM(MATCH(A159,'UNITCOST ITEMS (Data Entry)'!$A$3:$A$504,0),2),\"\"))),\"\"))","v":""},{"$f":"IF(IFERROR(INDIRECT(CONCATENATE(\"'UNITCOST ITEMS (Data Entry)'!E\",IFERROR(SUM(MATCH(A159,'UNITCOST ITEMS (Data Entry)'!$A$3:$A$504,0),2),\"\"))),\"\")=0,\"\",IFERROR(INDIRECT(CONCATENATE(\"'UNITCOST ITEMS (Data Entry)'!E\",IFERROR(SUM(MATCH(A159,'UNITCOST ITEMS (Data Entry)'!$A$3:$A$504,0),2),\"\"))),\"\"))","v":""},null,{"$f":"IF(IFERROR(INDIRECT(CONCATENATE(\"'UNITCOST ITEMS (Data Entry)'!F\",IFERROR(SUM(MATCH(A159,'UNITCOST ITEMS (Data Entry)'!$A$3:$A$504,0),2),\"\"))),\"\")=0,\"\",IFERROR(INDIRECT(CONCATENATE(\"'UNITCOST ITEMS (Data Entry)'!F\",IFERROR(SUM(MATCH(A159,'UNITCOST ITEMS (Data Entry)'!$A$3:$A$504,0),2),\"\"))),\"\"))","v":""},{"$f":"IF(IFERROR(INDIRECT(CONCATENATE(\"'UNITCOST ITEMS (Data Entry)'!G\",IFERROR(SUM(MATCH(A159,'UNITCOST ITEMS (Data Entry)'!$A$3:$A$504,0),2),\"\"))),\"\")=0,\"\",IFERROR(INDIRECT(CONCATENATE(\"'UNITCOST ITEMS (Data Entry)'!G\",IFERROR(SUM(MATCH(A159,'UNITCOST ITEMS (Data Entry)'!$A$3:$A$504,0),2),\"\"))),\"\"))","v":""},{"$f":"IF(IFERROR(INDIRECT(CONCATENATE(\"'UNITCOST ITEMS (Data Entry)'!H\",IFERROR(SUM(MATCH(A159,'UNITCOST ITEMS (Data Entry)'!$A$3:$A$504,0),2),\"\"))),\"\")=0,\"\",IFERROR(INDIRECT(CONCATENATE(\"'UNITCOST ITEMS (Data Entry)'!H\",IFERROR(SUM(MATCH(A159,'UNITCOST ITEMS (Data Entry)'!$A$3:$A$504,0),2),\"\"))),\"\"))","v":""},{"$f":"IF(IFERROR(INDIRECT(CONCATENATE(\"'UNITCOST ITEMS (Data Entry)'!I\",IFERROR(SUM(MATCH(A159,'UNITCOST ITEMS (Data Entry)'!$A$3:$A$504,0),2),\"\"))),\"\")=0,\"\",IFERROR(INDIRECT(CONCATENATE(\"'UNITCOST ITEMS (Data Entry)'!I\",IFERROR(SUM(MATCH(A159,'UNITCOST ITEMS (Data Entry)'!$A$3:$A$504,0),2),\"\"))),\"\"))","v":""},{"$f":"IF(K159=2,\"\",IF(IFERROR(INDIRECT(CONCATENATE(\"'UNITCOST ITEMS (Data Entry)'!J\",IFERROR(SUM(MATCH(A159,'UNITCOST ITEMS (Data Entry)'!$A$3:$A$504,0),2),\"\"))),\"\")=0,\"\",IFERROR(INDIRECT(CONCATENATE(\"'UNITCOST ITEMS (Data Entry)'!J\",IFERROR(SUM(MATCH(A159,'UNITCOST ITEMS (Data Entry)'!$A$3:$A$504,0),2),\"\"))),\"\")))","v":""},null,{"$f":"IF(IFERROR(INDIRECT(CONCATENATE(\"'UNITCOST ITEMS (Data Entry)'!C\",IFERROR(SUM(MATCH(A159,'UNITCOST ITEMS (Data Entry)'!$A$3:$A$504,0),2),\"\"))),\"\")=0,\"\",IFERROR(INDIRECT(CONCATENATE(\"'UNITCOST ITEMS (Data Entry)'!C\",IFERROR(SUM(MATCH(A159,'UNITCOST ITEMS (Data Entry)'!$A$3:$A$504,0),2),\"\"))),\"\"))","v":""},""]
[152,{"$f":"IF(IFERROR(INDIRECT(CONCATENATE(\"'UNITCOST ITEMS (Data Entry)'!D\",IFERROR(SUM(MATCH(A160,'UNITCOST ITEMS (Data Entry)'!$A$3:$A$504,0),2),\"\"))),\"\")=0,\"\",IFERROR(INDIRECT(CONCATENATE(\"'UNITCOST ITEMS (Data Entry)'!D\",IFERROR(SUM(MATCH(A160,'UNITCOST ITEMS (Data Entry)'!$A$3:$A$504,0),2),\"\"))),\"\"))","v":""},{"$f":"IF(IFERROR(INDIRECT(CONCATENATE(\"'UNITCOST ITEMS (Data Entry)'!E\",IFERROR(SUM(MATCH(A160,'UNITCOST ITEMS (Data Entry)'!$A$3:$A$504,0),2),\"\"))),\"\")=0,\"\",IFERROR(INDIRECT(CONCATENATE(\"'UNITCOST ITEMS (Data Entry)'!E\",IFERROR(SUM(MATCH(A160,'UNITCOST ITEMS (Data Entry)'!$A$3:$A$504,0),2),\"\"))),\"\"))","v":""},null,{"$f":"IF(IFERROR(INDIRECT(CONCATENATE(\"'UNITCOST ITEMS (Data Entry)'!F\",IFERROR(SUM(MATCH(A160,'UNITCOST ITEMS (Data Entry)'!$A$3:$A$504,0),2),\"\"))),\"\")=0,\"\",IFERROR(INDIRECT(CONCATENATE(\"'UNITCOST ITEMS (Data Entry)'!F\",IFERROR(SUM(MATCH(A160,'UNITCOST ITEMS (Data Entry)'!$A$3:$A$504,0),2),\"\"))),\"\"))","v":""},{"$f":"IF(IFERROR(INDIRECT(CONCATENATE(\"'UNITCOST ITEMS (Data Entry)'!G\",IFERROR(SUM(MATCH(A160,'UNITCOST ITEMS (Data Entry)'!$A$3:$A$504,0),2),\"\"))),\"\")=0,\"\",IFERROR(INDIRECT(CONCATENATE(\"'UNITCOST ITEMS (Data Entry)'!G\",IFERROR(SUM(MATCH(A160,'UNITCOST ITEMS (Data Entry)'!$A$3:$A$504,0),2),\"\"))),\"\"))","v":""},{"$f":"IF(IFERROR(INDIRECT(CONCATENATE(\"'UNITCOST ITEMS (Data Entry)'!H\",IFERROR(SUM(MATCH(A160,'UNITCOST ITEMS (Data Entry)'!$A$3:$A$504,0),2),\"\"))),\"\")=0,\"\",IFERROR(INDIRECT(CONCATENATE(\"'UNITCOST ITEMS (Data Entry)'!H\",IFERROR(SUM(MATCH(A160,'UNITCOST ITEMS (Data Entry)'!$A$3:$A$504,0),2),\"\"))),\"\"))","v":""},{"$f":"IF(IFERROR(INDIRECT(CONCATENATE(\"'UNITCOST ITEMS (Data Entry)'!I\",IFERROR(SUM(MATCH(A160,'UNITCOST ITEMS (Data Entry)'!$A$3:$A$504,0),2),\"\"))),\"\")=0,\"\",IFERROR(INDIRECT(CONCATENATE(\"'UNITCOST ITEMS (Data Entry)'!I\",IFERROR(SUM(MATCH(A160,'UNITCOST ITEMS (Data Entry)'!$A$3:$A$504,0),2),\"\"))),\"\"))","v":""},{"$f":"IF(K160=2,\"\",IF(IFERROR(INDIRECT(CONCATENATE(\"'UNITCOST ITEMS (Data Entry)'!J\",IFERROR(SUM(MATCH(A160,'UNITCOST ITEMS (Data Entry)'!$A$3:$A$504,0),2),\"\"))),\"\")=0,\"\",IFERROR(INDIRECT(CONCATENATE(\"'UNITCOST ITEMS (Data Entry)'!J\",IFERROR(SUM(MATCH(A160,'UNITCOST ITEMS (Data Entry)'!$A$3:$A$504,0),2),\"\"))),\"\")))","v":""},null,{"$f":"IF(IFERROR(INDIRECT(CONCATENATE(\"'UNITCOST ITEMS (Data Entry)'!C\",IFERROR(SUM(MATCH(A160,'UNITCOST ITEMS (Data Entry)'!$A$3:$A$504,0),2),\"\"))),\"\")=0,\"\",IFERROR(INDIRECT(CONCATENATE(\"'UNITCOST ITEMS (Data Entry)'!C\",IFERROR(SUM(MATCH(A160,'UNITCOST ITEMS (Data Entry)'!$A$3:$A$504,0),2),\"\"))),\"\"))","v":""},""]
[153,{"$f":"IF(IFERROR(INDIRECT(CONCATENATE(\"'UNITCOST ITEMS (Data Entry)'!D\",IFERROR(SUM(MATCH(A161,'UNITCOST ITEMS (Data Entry)'!$A$3:$A$504,0),2),\"\"))),\"\")=0,\"\",IFERROR(INDIRECT(CONCATENATE(\"'UNITCOST ITEMS (Data Entry)'!D\",IFERROR(SUM(MATCH(A161,'UNITCOST ITEMS (Data Entry)'!$A$3:$A$504,0),2),\"\"))),\"\"))","v":""},{"$f":"IF(IFERROR(INDIRECT(CONCATENATE(\"'UNITCOST ITEMS (Data Entry)'!E\",IFERROR(SUM(MATCH(A161,'UNITCOST ITEMS (Data Entry)'!$A$3:$A$504,0),2),\"\"))),\"\")=0,\"\",IFERROR(INDIRECT(CONCATENATE(\"'UNITCOST ITEMS (Data Entry)'!E\",IFERROR(SUM(MATCH(A161,'UNITCOST ITEMS (Data Entry)'!$A$3:$A$504,0),2),\"\"))),\"\"))","v":""},null,{"$f":"IF(IFERROR(INDIRECT(CONCATENATE(\"'UNITCOST ITEMS (Data Entry)'!F\",IFERROR(SUM(MATCH(A161,'UNITCOST ITEMS (Data Entry)'!$A$3:$A$504,0),2),\"\"))),\"\")=0,\"\",IFERROR(INDIRECT(CONCATENATE(\"'UNITCOST ITEMS (Data Entry)'!F\",IFERROR(SUM(MATCH(A161,'UNITCOST ITEMS (Data Entry)'!$A$3:$A$504,0),2),\"\"))),\"\"))","v":""},{"$f":"IF(IFERROR(INDIRECT(CONCATENATE(\"'UNITCOST ITEMS (Data Entry)'!G\",IFERROR(SUM(MATCH(A161,'UNITCOST ITEMS (Data Entry)'!$A$3:$A$504,0),2),\"\"))),\"\")=0,\"\",IFERROR(INDIRECT(CONCATENATE(\"'UNITCOST ITEMS (Data Entry)'!G\",IFERROR(SUM(MATCH(A161,'UNITCOST ITEMS (Data Entry)'!$A$3:$A$504,0),2),\"\"))),\"\"))","v":""},{"$f":"IF(IFERROR(INDIRECT(CONCATENATE(\"'UNITCOST ITEMS (Data Entry)'!H\",IFERROR(SUM(MATCH(A161,'UNITCOST ITEMS (Data Entry)'!$A$3:$A$504,0),2),\"\"))),\"\")=0,\"\",IFERROR(INDIRECT(CONCATENATE(\"'UNITCOST ITEMS (Data Entry)'!H\",IFERROR(SUM(MATCH(A161,'UNITCOST ITEMS (Data Entry)'!$A$3:$A$504,0),2),\"\"))),\"\"))","v":""},{"$f":"IF(IFERROR(INDIRECT(CONCATENATE(\"'UNITCOST ITEMS (Data Entry)'!I\",IFERROR(SUM(MATCH(A161,'UNITCOST ITEMS (Data Entry)'!$A$3:$A$504,0),2),\"\"))),\"\")=0,\"\",IFERROR(INDIRECT(CONCATENATE(\"'UNITCOST ITEMS (Data Entry)'!I\",IFERROR(SUM(MATCH(A161,'UNITCOST ITEMS (Data Entry)'!$A$3:$A$504,0),2),\"\"))),\"\"))","v":""},{"$f":"IF(K161=2,\"\",IF(IFERROR(INDIRECT(CONCATENATE(\"'UNITCOST ITEMS (Data Entry)'!J\",IFERROR(SUM(MATCH(A161,'UNITCOST ITEMS (Data Entry)'!$A$3:$A$504,0),2),\"\"))),\"\")=0,\"\",IFERROR(INDIRECT(CONCATENATE(\"'UNITCOST ITEMS (Data Entry)'!J\",IFERROR(SUM(MATCH(A161,'UNITCOST ITEMS (Data Entry)'!$A$3:$A$504,0),2),\"\"))),\"\")))","v":""},null,{"$f":"IF(IFERROR(INDIRECT(CONCATENATE(\"'UNITCOST ITEMS (Data Entry)'!C\",IFERROR(SUM(MATCH(A161,'UNITCOST ITEMS (Data Entry)'!$A$3:$A$504,0),2),\"\"))),\"\")=0,\"\",IFERROR(INDIRECT(CONCATENATE(\"'UNITCOST ITEMS (Data Entry)'!C\",IFERROR(SUM(MATCH(A161,'UNITCOST ITEMS (Data Entry)'!$A$3:$A$504,0),2),\"\"))),\"\"))","v":""},""]
[154,{"$f":"IF(IFERROR(INDIRECT(CONCATENATE(\"'UNITCOST ITEMS (Data Entry)'!D\",IFERROR(SUM(MATCH(A162,'UNITCOST ITEMS (Data Entry)'!$A$3:$A$504,0),2),\"\"))),\"\")=0,\"\",IFERROR(INDIRECT(CONCATENATE(\"'UNITCOST ITEMS (Data Entry)'!D\",IFERROR(SUM(MATCH(A162,'UNITCOST ITEMS (Data Entry)'!$A$3:$A$504,0),2),\"\"))),\"\"))","v":""},{"$f":"IF(IFERROR(INDIRECT(CONCATENATE(\"'UNITCOST ITEMS (Data Entry)'!E\",IFERROR(SUM(MATCH(A162,'UNITCOST ITEMS (Data Entry)'!$A$3:$A$504,0),2),\"\"))),\"\")=0,\"\",IFERROR(INDIRECT(CONCATENATE(\"'UNITCOST ITEMS (Data Entry)'!E\",IFERROR(SUM(MATCH(A162,'UNITCOST ITEMS (Data Entry)'!$A$3:$A$504,0),2),\"\"))),\"\"))","v":""},null,{"$f":"IF(IFERROR(INDIRECT(CONCATENATE(\"'UNITCOST ITEMS (Data Entry)'!F\",IFERROR(SUM(MATCH(A162,'UNITCOST ITEMS (Data Entry)'!$A$3:$A$504,0),2),\"\"))),\"\")=0,\"\",IFERROR(INDIRECT(CONCATENATE(\"'UNITCOST ITEMS (Data Entry)'!F\",IFERROR(SUM(MATCH(A162,'UNITCOST ITEMS (Data Entry)'!$A$3:$A$504,0),2),\"\"))),\"\"))","v":""},{"$f":"IF(IFERROR(INDIRECT(CONCATENATE(\"'UNITCOST ITEMS (Data Entry)'!G\",IFERROR(SUM(MATCH(A162,'UNITCOST ITEMS (Data Entry)'!$A$3:$A$504,0),2),\"\"))),\"\")=0,\"\",IFERROR(INDIRECT(CONCATENATE(\"'UNITCOST ITEMS (Data Entry)'!G\",IFERROR(SUM(MATCH(A162,'UNITCOST ITEMS (Data Entry)'!$A$3:$A$504,0),2),\"\"))),\"\"))","v":""},{"$f":"IF(IFERROR(INDIRECT(CONCATENATE(\"'UNITCOST ITEMS (Data Entry)'!H\",IFERROR(SUM(MATCH(A162,'UNITCOST ITEMS (Data Entry)'!$A$3:$A$504,0),2),\"\"))),\"\")=0,\"\",IFERROR(INDIRECT(CONCATENATE(\"'UNITCOST ITEMS (Data Entry)'!H\",IFERROR(SUM(MATCH(A162,'UNITCOST ITEMS (Data Entry)'!$A$3:$A$504,0),2),\"\"))),\"\"))","v":""},{"$f":"IF(IFERROR(INDIRECT(CONCATENATE(\"'UNITCOST ITEMS (Data Entry)'!I\",IFERROR(SUM(MATCH(A162,'UNITCOST ITEMS (Data Entry)'!$A$3:$A$504,0),2),\"\"))),\"\")=0,\"\",IFERROR(INDIRECT(CONCATENATE(\"'UNITCOST ITEMS (Data Entry)'!I\",IFERROR(SUM(MATCH(A162,'UNITCOST ITEMS (Data Entry)'!$A$3:$A$504,0),2),\"\"))),\"\"))","v":""},{"$f":"IF(K162=2,\"\",IF(IFERROR(INDIRECT(CONCATENATE(\"'UNITCOST ITEMS (Data Entry)'!J\",IFERROR(SUM(MATCH(A162,'UNITCOST ITEMS (Data Entry)'!$A$3:$A$504,0),2),\"\"))),\"\")=0,\"\",IFERROR(INDIRECT(CONCATENATE(\"'UNITCOST ITEMS (Data Entry)'!J\",IFERROR(SUM(MATCH(A162,'UNITCOST ITEMS (Data Entry)'!$A$3:$A$504,0),2),\"\"))),\"\")))","v":""},null,{"$f":"IF(IFERROR(INDIRECT(CONCATENATE(\"'UNITCOST ITEMS (Data Entry)'!C\",IFERROR(SUM(MATCH(A162,'UNITCOST ITEMS (Data Entry)'!$A$3:$A$504,0),2),\"\"))),\"\")=0,\"\",IFERROR(INDIRECT(CONCATENATE(\"'UNITCOST ITEMS (Data Entry)'!C\",IFERROR(SUM(MATCH(A162,'UNITCOST ITEMS (Data Entry)'!$A$3:$A$504,0),2),\"\"))),\"\"))","v":""},""]
[155,{"$f":"IF(IFERROR(INDIRECT(CONCATENATE(\"'UNITCOST ITEMS (Data Entry)'!D\",IFERROR(SUM(MATCH(A163,'UNITCOST ITEMS (Data Entry)'!$A$3:$A$504,0),2),\"\"))),\"\")=0,\"\",IFERROR(INDIRECT(CONCATENATE(\"'UNITCOST ITEMS (Data Entry)'!D\",IFERROR(SUM(MATCH(A163,'UNITCOST ITEMS (Data Entry)'!$A$3:$A$504,0),2),\"\"))),\"\"))","v":""},{"$f":"IF(IFERROR(INDIRECT(CONCATENATE(\"'UNITCOST ITEMS (Data Entry)'!E\",IFERROR(SUM(MATCH(A163,'UNITCOST ITEMS (Data Entry)'!$A$3:$A$504,0),2),\"\"))),\"\")=0,\"\",IFERROR(INDIRECT(CONCATENATE(\"'UNITCOST ITEMS (Data Entry)'!E\",IFERROR(SUM(MATCH(A163,'UNITCOST ITEMS (Data Entry)'!$A$3:$A$504,0),2),\"\"))),\"\"))","v":""},null,{"$f":"IF(IFERROR(INDIRECT(CONCATENATE(\"'UNITCOST ITEMS (Data Entry)'!F\",IFERROR(SUM(MATCH(A163,'UNITCOST ITEMS (Data Entry)'!$A$3:$A$504,0),2),\"\"))),\"\")=0,\"\",IFERROR(INDIRECT(CONCATENATE(\"'UNITCOST ITEMS (Data Entry)'!F\",IFERROR(SUM(MATCH(A163,'UNITCOST ITEMS (Data Entry)'!$A$3:$A$504,0),2),\"\"))),\"\"))","v":""},{"$f":"IF(IFERROR(INDIRECT(CONCATENATE(\"'UNITCOST ITEMS (Data Entry)'!G\",IFERROR(SUM(MATCH(A163,'UNITCOST ITEMS (Data Entry)'!$A$3:$A$504,0),2),\"\"))),\"\")=0,\"\",IFERROR(INDIRECT(CONCATENATE(\"'UNITCOST ITEMS (Data Entry)'!G\",IFERROR(SUM(MATCH(A163,'UNITCOST ITEMS (Data Entry)'!$A$3:$A$504,0),2),\"\"))),\"\"))","v":""},{"$f":"IF(IFERROR(INDIRECT(CONCATENATE(\"'UNITCOST ITEMS (Data Entry)'!H\",IFERROR(SUM(MATCH(A163,'UNITCOST ITEMS (Data Entry)'!$A$3:$A$504,0),2),\"\"))),\"\")=0,\"\",IFERROR(INDIRECT(CONCATENATE(\"'UNITCOST ITEMS (Data Entry)'!H\",IFERROR(SUM(MATCH(A163,'UNITCOST ITEMS (Data Entry)'!$A$3:$A$504,0),2),\"\"))),\"\"))","v":""},{"$f":"IF(IFERROR(INDIRECT(CONCATENATE(\"'UNITCOST ITEMS (Data Entry)'!I\",IFERROR(SUM(MATCH(A163,'UNITCOST ITEMS (Data Entry)'!$A$3:$A$504,0),2),\"\"))),\"\")=0,\"\",IFERROR(INDIRECT(CONCATENATE(\"'UNITCOST ITEMS (Data Entry)'!I\",IFERROR(SUM(MATCH(A163,'UNITCOST ITEMS (Data Entry)'!$A$3:$A$504,0),2),\"\"))),\"\"))","v":""},{"$f":"IF(K163=2,\"\",IF(IFERROR(INDIRECT(CONCATENATE(\"'UNITCOST ITEMS (Data Entry)'!J\",IFERROR(SUM(MATCH(A163,'UNITCOST ITEMS (Data Entry)'!$A$3:$A$504,0),2),\"\"))),\"\")=0,\"\",IFERROR(INDIRECT(CONCATENATE(\"'UNITCOST ITEMS (Data Entry)'!J\",IFERROR(SUM(MATCH(A163,'UNITCOST ITEMS (Data Entry)'!$A$3:$A$504,0),2),\"\"))),\"\")))","v":""},null,{"$f":"IF(IFERROR(INDIRECT(CONCATENATE(\"'UNITCOST ITEMS (Data Entry)'!C\",IFERROR(SUM(MATCH(A163,'UNITCOST ITEMS (Data Entry)'!$A$3:$A$504,0),2),\"\"))),\"\")=0,\"\",IFERROR(INDIRECT(CONCATENATE(\"'UNITCOST ITEMS (Data Entry)'!C\",IFERROR(SUM(MATCH(A163,'UNITCOST ITEMS (Data Entry)'!$A$3:$A$504,0),2),\"\"))),\"\"))","v":""},""]
[156,{"$f":"IF(IFERROR(INDIRECT(CONCATENATE(\"'UNITCOST ITEMS (Data Entry)'!D\",IFERROR(SUM(MATCH(A164,'UNITCOST ITEMS (Data Entry)'!$A$3:$A$504,0),2),\"\"))),\"\")=0,\"\",IFERROR(INDIRECT(CONCATENATE(\"'UNITCOST ITEMS (Data Entry)'!D\",IFERROR(SUM(MATCH(A164,'UNITCOST ITEMS (Data Entry)'!$A$3:$A$504,0),2),\"\"))),\"\"))","v":""},{"$f":"IF(IFERROR(INDIRECT(CONCATENATE(\"'UNITCOST ITEMS (Data Entry)'!E\",IFERROR(SUM(MATCH(A164,'UNITCOST ITEMS (Data Entry)'!$A$3:$A$504,0),2),\"\"))),\"\")=0,\"\",IFERROR(INDIRECT(CONCATENATE(\"'UNITCOST ITEMS (Data Entry)'!E\",IFERROR(SUM(MATCH(A164,'UNITCOST ITEMS (Data Entry)'!$A$3:$A$504,0),2),\"\"))),\"\"))","v":""},null,{"$f":"IF(IFERROR(INDIRECT(CONCATENATE(\"'UNITCOST ITEMS (Data Entry)'!F\",IFERROR(SUM(MATCH(A164,'UNITCOST ITEMS (Data Entry)'!$A$3:$A$504,0),2),\"\"))),\"\")=0,\"\",IFERROR(INDIRECT(CONCATENATE(\"'UNITCOST ITEMS (Data Entry)'!F\",IFERROR(SUM(MATCH(A164,'UNITCOST ITEMS (Data Entry)'!$A$3:$A$504,0),2),\"\"))),\"\"))","v":""},{"$f":"IF(IFERROR(INDIRECT(CONCATENATE(\"'UNITCOST ITEMS (Data Entry)'!G\",IFERROR(SUM(MATCH(A164,'UNITCOST ITEMS (Data Entry)'!$A$3:$A$504,0),2),\"\"))),\"\")=0,\"\",IFERROR(INDIRECT(CONCATENATE(\"'UNITCOST ITEMS (Data Entry)'!G\",IFERROR(SUM(MATCH(A164,'UNITCOST ITEMS (Data Entry)'!$A$3:$A$504,0),2),\"\"))),\"\"))","v":""},{"$f":"IF(IFERROR(INDIRECT(CONCATENATE(\"'UNITCOST ITEMS (Data Entry)'!H\",IFERROR(SUM(MATCH(A164,'UNITCOST ITEMS (Data Entry)'!$A$3:$A$504,0),2),\"\"))),\"\")=0,\"\",IFERROR(INDIRECT(CONCATENATE(\"'UNITCOST ITEMS (Data Entry)'!H\",IFERROR(SUM(MATCH(A164,'UNITCOST ITEMS (Data Entry)'!$A$3:$A$504,0),2),\"\"))),\"\"))","v":""},{"$f":"IF(IFERROR(INDIRECT(CONCATENATE(\"'UNITCOST ITEMS (Data Entry)'!I\",IFERROR(SUM(MATCH(A164,'UNITCOST ITEMS (Data Entry)'!$A$3:$A$504,0),2),\"\"))),\"\")=0,\"\",IFERROR(INDIRECT(CONCATENATE(\"'UNITCOST ITEMS (Data Entry)'!I\",IFERROR(SUM(MATCH(A164,'UNITCOST ITEMS (Data Entry)'!$A$3:$A$504,0),2),\"\"))),\"\"))","v":""},{"$f":"IF(K164=2,\"\",IF(IFERROR(INDIRECT(CONCATENATE(\"'UNITCOST ITEMS (Data Entry)'!J\",IFERROR(SUM(MATCH(A164,'UNITCOST ITEMS (Data Entry)'!$A$3:$A$504,0),2),\"\"))),\"\")=0,\"\",IFERROR(INDIRECT(CONCATENATE(\"'UNITCOST ITEMS (Data Entry)'!J\",IFERROR(SUM(MATCH(A164,'UNITCOST ITEMS (Data Entry)'!$A$3:$A$504,0),2),\"\"))),\"\")))","v":""},null,{"$f":"IF(IFERROR(INDIRECT(CONCATENATE(\"'UNITCOST ITEMS (Data Entry)'!C\",IFERROR(SUM(MATCH(A164,'UNITCOST ITEMS (Data Entry)'!$A$3:$A$504,0),2),\"\"))),\"\")=0,\"\",IFERROR(INDIRECT(CONCATENATE(\"'UNITCOST ITEMS (Data Entry)'!C\",IFERROR(SUM(MATCH(A164,'UNITCOST ITEMS (Data Entry)'!$A$3:$A$504,0),2),\"\"))),\"\"))","v":""},""]
[157,{"$f":"IF(IFERROR(INDIRECT(CONCATENATE(\"'UNITCOST ITEMS (Data Entry)'!D\",IFERROR(SUM(MATCH(A165,'UNITCOST ITEMS (Data Entry)'!$A$3:$A$504,0),2),\"\"))),\"\")=0,\"\",IFERROR(INDIRECT(CONCATENATE(\"'UNITCOST ITEMS (Data Entry)'!D\",IFERROR(SUM(MATCH(A165,'UNITCOST ITEMS (Data Entry)'!$A$3:$A$504,0),2),\"\"))),\"\"))","v":""},{"$f":"IF(IFERROR(INDIRECT(CONCATENATE(\"'UNITCOST ITEMS (Data Entry)'!E\",IFERROR(SUM(MATCH(A165,'UNITCOST ITEMS (Data Entry)'!$A$3:$A$504,0),2),\"\"))),\"\")=0,\"\",IFERROR(INDIRECT(CONCATENATE(\"'UNITCOST ITEMS (Data Entry)'!E\",IFERROR(SUM(MATCH(A165,'UNITCOST ITEMS (Data Entry)'!$A$3:$A$504,0),2),\"\"))),\"\"))","v":""},null,{"$f":"IF(IFERROR(INDIRECT(CONCATENATE(\"'UNITCOST ITEMS (Data Entry)'!F\",IFERROR(SUM(MATCH(A165,'UNITCOST ITEMS (Data Entry)'!$A$3:$A$504,0),2),\"\"))),\"\")=0,\"\",IFERROR(INDIRECT(CONCATENATE(\"'UNITCOST ITEMS (Data Entry)'!F\",IFERROR(SUM(MATCH(A165,'UNITCOST ITEMS (Data Entry)'!$A$3:$A$504,0),2),\"\"))),\"\"))","v":""},{"$f":"IF(IFERROR(INDIRECT(CONCATENATE(\"'UNITCOST ITEMS (Data Entry)'!G\",IFERROR(SUM(MATCH(A165,'UNITCOST ITEMS (Data Entry)'!$A$3:$A$504,0),2),\"\"))),\"\")=0,\"\",IFERROR(INDIRECT(CONCATENATE(\"'UNITCOST ITEMS (Data Entry)'!G\",IFERROR(SUM(MATCH(A165,'UNITCOST ITEMS (Data Entry)'!$A$3:$A$504,0),2),\"\"))),\"\"))","v":""},{"$f":"IF(IFERROR(INDIRECT(CONCATENATE(\"'UNITCOST ITEMS (Data Entry)'!H\",IFERROR(SUM(MATCH(A165,'UNITCOST ITEMS (Data Entry)'!$A$3:$A$504,0),2),\"\"))),\"\")=0,\"\",IFERROR(INDIRECT(CONCATENATE(\"'UNITCOST ITEMS (Data Entry)'!H\",IFERROR(SUM(MATCH(A165,'UNITCOST ITEMS (Data Entry)'!$A$3:$A$504,0),2),\"\"))),\"\"))","v":""},{"$f":"IF(IFERROR(INDIRECT(CONCATENATE(\"'UNITCOST ITEMS (Data Entry)'!I\",IFERROR(SUM(MATCH(A165,'UNITCOST ITEMS (Data Entry)'!$A$3:$A$504,0),2),\"\"))),\"\")=0,\"\",IFERROR(INDIRECT(CONCATENATE(\"'UNITCOST ITEMS (Data Entry)'!I\",IFERROR(SUM(MATCH(A165,'UNITCOST ITEMS (Data Entry)'!$A$3:$A$504,0),2),\"\"))),\"\"))","v":""},{"$f":"IF(K165=2,\"\",IF(IFERROR(INDIRECT(CONCATENATE(\"'UNITCOST ITEMS (Data Entry)'!J\",IFERROR(SUM(MATCH(A165,'UNITCOST ITEMS (Data Entry)'!$A$3:$A$504,0),2),\"\"))),\"\")=0,\"\",IFERROR(INDIRECT(CONCATENATE(\"'UNITCOST ITEMS (Data Entry)'!J\",IFERROR(SUM(MATCH(A165,'UNITCOST ITEMS (Data Entry)'!$A$3:$A$504,0),2),\"\"))),\"\")))","v":""},null,{"$f":"IF(IFERROR(INDIRECT(CONCATENATE(\"'UNITCOST ITEMS (Data Entry)'!C\",IFERROR(SUM(MATCH(A165,'UNITCOST ITEMS (Data Entry)'!$A$3:$A$504,0),2),\"\"))),\"\")=0,\"\",IFERROR(INDIRECT(CONCATENATE(\"'UNITCOST ITEMS (Data Entry)'!C\",IFERROR(SUM(MATCH(A165,'UNITCOST ITEMS (Data Entry)'!$A$3:$A$504,0),2),\"\"))),\"\"))","v":""},""]
[158,{"$f":"IF(IFERROR(INDIRECT(CONCATENATE(\"'UNITCOST ITEMS (Data Entry)'!D\",IFERROR(SUM(MATCH(A166,'UNITCOST ITEMS (Data Entry)'!$A$3:$A$504,0),2),\"\"))),\"\")=0,\"\",IFERROR(INDIRECT(CONCATENATE(\"'UNITCOST ITEMS (Data Entry)'!D\",IFERROR(SUM(MATCH(A166,'UNITCOST ITEMS (Data Entry)'!$A$3:$A$504,0),2),\"\"))),\"\"))","v":""},{"$f":"IF(IFERROR(INDIRECT(CONCATENATE(\"'UNITCOST ITEMS (Data Entry)'!E\",IFERROR(SUM(MATCH(A166,'UNITCOST ITEMS (Data Entry)'!$A$3:$A$504,0),2),\"\"))),\"\")=0,\"\",IFERROR(INDIRECT(CONCATENATE(\"'UNITCOST ITEMS (Data Entry)'!E\",IFERROR(SUM(MATCH(A166,'UNITCOST ITEMS (Data Entry)'!$A$3:$A$504,0),2),\"\"))),\"\"))","v":""},null,{"$f":"IF(IFERROR(INDIRECT(CONCATENATE(\"'UNITCOST ITEMS (Data Entry)'!F\",IFERROR(SUM(MATCH(A166,'UNITCOST ITEMS (Data Entry)'!$A$3:$A$504,0),2),\"\"))),\"\")=0,\"\",IFERROR(INDIRECT(CONCATENATE(\"'UNITCOST ITEMS (Data Entry)'!F\",IFERROR(SUM(MATCH(A166,'UNITCOST ITEMS (Data Entry)'!$A$3:$A$504,0),2),\"\"))),\"\"))","v":""},{"$f":"IF(IFERROR(INDIRECT(CONCATENATE(\"'UNITCOST ITEMS (Data Entry)'!G\",IFERROR(SUM(MATCH(A166,'UNITCOST ITEMS (Data Entry)'!$A$3:$A$504,0),2),\"\"))),\"\")=0,\"\",IFERROR(INDIRECT(CONCATENATE(\"'UNITCOST ITEMS (Data Entry)'!G\",IFERROR(SUM(MATCH(A166,'UNITCOST ITEMS (Data Entry)'!$A$3:$A$504,0),2),\"\"))),\"\"))","v":""},{"$f":"IF(IFERROR(INDIRECT(CONCATENATE(\"'UNITCOST ITEMS (Data Entry)'!H\",IFERROR(SUM(MATCH(A166,'UNITCOST ITEMS (Data Entry)'!$A$3:$A$504,0),2),\"\"))),\"\")=0,\"\",IFERROR(INDIRECT(CONCATENATE(\"'UNITCOST ITEMS (Data Entry)'!H\",IFERROR(SUM(MATCH(A166,'UNITCOST ITEMS (Data Entry)'!$A$3:$A$504,0),2),\"\"))),\"\"))","v":""},{"$f":"IF(IFERROR(INDIRECT(CONCATENATE(\"'UNITCOST ITEMS (Data Entry)'!I\",IFERROR(SUM(MATCH(A166,'UNITCOST ITEMS (Data Entry)'!$A$3:$A$504,0),2),\"\"))),\"\")=0,\"\",IFERROR(INDIRECT(CONCATENATE(\"'UNITCOST ITEMS (Data Entry)'!I\",IFERROR(SUM(MATCH(A166,'UNITCOST ITEMS (Data Entry)'!$A$3:$A$504,0),2),\"\"))),\"\"))","v":""},{"$f":"IF(K166=2,\"\",IF(IFERROR(INDIRECT(CONCATENATE(\"'UNITCOST ITEMS (Data Entry)'!J\",IFERROR(SUM(MATCH(A166,'UNITCOST ITEMS (Data Entry)'!$A$3:$A$504,0),2),\"\"))),\"\")=0,\"\",IFERROR(INDIRECT(CONCATENATE(\"'UNITCOST ITEMS (Data Entry)'!J\",IFERROR(SUM(MATCH(A166,'UNITCOST ITEMS (Data Entry)'!$A$3:$A$504,0),2),\"\"))),\"\")))","v":""},null,{"$f":"IF(IFERROR(INDIRECT(CONCATENATE(\"'UNITCOST ITEMS (Data Entry)'!C\",IFERROR(SUM(MATCH(A166,'UNITCOST ITEMS (Data Entry)'!$A$3:$A$504,0),2),\"\"))),\"\")=0,\"\",IFERROR(INDIRECT(CONCATENATE(\"'UNITCOST ITEMS (Data Entry)'!C\",IFERROR(SUM(MATCH(A166,'UNITCOST ITEMS (Data Entry)'!$A$3:$A$504,0),2),\"\"))),\"\"))","v":""},""]
[159,{"$f":"IF(IFERROR(INDIRECT(CONCATENATE(\"'UNITCOST ITEMS (Data Entry)'!D\",IFERROR(SUM(MATCH(A167,'UNITCOST ITEMS (Data Entry)'!$A$3:$A$504,0),2),\"\"))),\"\")=0,\"\",IFERROR(INDIRECT(CONCATENATE(\"'UNITCOST ITEMS (Data Entry)'!D\",IFERROR(SUM(MATCH(A167,'UNITCOST ITEMS (Data Entry)'!$A$3:$A$504,0),2),\"\"))),\"\"))","v":""},{"$f":"IF(IFERROR(INDIRECT(CONCATENATE(\"'UNITCOST ITEMS (Data Entry)'!E\",IFERROR(SUM(MATCH(A167,'UNITCOST ITEMS (Data Entry)'!$A$3:$A$504,0),2),\"\"))),\"\")=0,\"\",IFERROR(INDIRECT(CONCATENATE(\"'UNITCOST ITEMS (Data Entry)'!E\",IFERROR(SUM(MATCH(A167,'UNITCOST ITEMS (Data Entry)'!$A$3:$A$504,0),2),\"\"))),\"\"))","v":""},null,{"$f":"IF(IFERROR(INDIRECT(CONCATENATE(\"'UNITCOST ITEMS (Data Entry)'!F\",IFERROR(SUM(MATCH(A167,'UNITCOST ITEMS (Data Entry)'!$A$3:$A$504,0),2),\"\"))),\"\")=0,\"\",IFERROR(INDIRECT(CONCATENATE(\"'UNITCOST ITEMS (Data Entry)'!F\",IFERROR(SUM(MATCH(A167,'UNITCOST ITEMS (Data Entry)'!$A$3:$A$504,0),2),\"\"))),\"\"))","v":""},{"$f":"IF(IFERROR(INDIRECT(CONCATENATE(\"'UNITCOST ITEMS (Data Entry)'!G\",IFERROR(SUM(MATCH(A167,'UNITCOST ITEMS (Data Entry)'!$A$3:$A$504,0),2),\"\"))),\"\")=0,\"\",IFERROR(INDIRECT(CONCATENATE(\"'UNITCOST ITEMS (Data Entry)'!G\",IFERROR(SUM(MATCH(A167,'UNITCOST ITEMS (Data Entry)'!$A$3:$A$504,0),2),\"\"))),\"\"))","v":""},{"$f":"IF(IFERROR(INDIRECT(CONCATENATE(\"'UNITCOST ITEMS (Data Entry)'!H\",IFERROR(SUM(MATCH(A167,'UNITCOST ITEMS (Data Entry)'!$A$3:$A$504,0),2),\"\"))),\"\")=0,\"\",IFERROR(INDIRECT(CONCATENATE(\"'UNITCOST ITEMS (Data Entry)'!H\",IFERROR(SUM(MATCH(A167,'UNITCOST ITEMS (Data Entry)'!$A$3:$A$504,0),2),\"\"))),\"\"))","v":""},{"$f":"IF(IFERROR(INDIRECT(CONCATENATE(\"'UNITCOST ITEMS (Data Entry)'!I\",IFERROR(SUM(MATCH(A167,'UNITCOST ITEMS (Data Entry)'!$A$3:$A$504,0),2),\"\"))),\"\")=0,\"\",IFERROR(INDIRECT(CONCATENATE(\"'UNITCOST ITEMS (Data Entry)'!I\",IFERROR(SUM(MATCH(A167,'UNITCOST ITEMS (Data Entry)'!$A$3:$A$504,0),2),\"\"))),\"\"))","v":""},{"$f":"IF(K167=2,\"\",IF(IFERROR(INDIRECT(CONCATENATE(\"'UNITCOST ITEMS (Data Entry)'!J\",IFERROR(SUM(MATCH(A167,'UNITCOST ITEMS (Data Entry)'!$A$3:$A$504,0),2),\"\"))),\"\")=0,\"\",IFERROR(INDIRECT(CONCATENATE(\"'UNITCOST ITEMS (Data Entry)'!J\",IFERROR(SUM(MATCH(A167,'UNITCOST ITEMS (Data Entry)'!$A$3:$A$504,0),2),\"\"))),\"\")))","v":""},null,{"$f":"IF(IFERROR(INDIRECT(CONCATENATE(\"'UNITCOST ITEMS (Data Entry)'!C\",IFERROR(SUM(MATCH(A167,'UNITCOST ITEMS (Data Entry)'!$A$3:$A$504,0),2),\"\"))),\"\")=0,\"\",IFERROR(INDIRECT(CONCATENATE(\"'UNITCOST ITEMS (Data Entry)'!C\",IFERROR(SUM(MATCH(A167,'UNITCOST ITEMS (Data Entry)'!$A$3:$A$504,0),2),\"\"))),\"\"))","v":""},""]
[160,{"$f":"IF(IFERROR(INDIRECT(CONCATENATE(\"'UNITCOST ITEMS (Data Entry)'!D\",IFERROR(SUM(MATCH(A168,'UNITCOST ITEMS (Data Entry)'!$A$3:$A$504,0),2),\"\"))),\"\")=0,\"\",IFERROR(INDIRECT(CONCATENATE(\"'UNITCOST ITEMS (Data Entry)'!D\",IFERROR(SUM(MATCH(A168,'UNITCOST ITEMS (Data Entry)'!$A$3:$A$504,0),2),\"\"))),\"\"))","v":""},{"$f":"IF(IFERROR(INDIRECT(CONCATENATE(\"'UNITCOST ITEMS (Data Entry)'!E\",IFERROR(SUM(MATCH(A168,'UNITCOST ITEMS (Data Entry)'!$A$3:$A$504,0),2),\"\"))),\"\")=0,\"\",IFERROR(INDIRECT(CONCATENATE(\"'UNITCOST ITEMS (Data Entry)'!E\",IFERROR(SUM(MATCH(A168,'UNITCOST ITEMS (Data Entry)'!$A$3:$A$504,0),2),\"\"))),\"\"))","v":""},null,{"$f":"IF(IFERROR(INDIRECT(CONCATENATE(\"'UNITCOST ITEMS (Data Entry)'!F\",IFERROR(SUM(MATCH(A168,'UNITCOST ITEMS (Data Entry)'!$A$3:$A$504,0),2),\"\"))),\"\")=0,\"\",IFERROR(INDIRECT(CONCATENATE(\"'UNITCOST ITEMS (Data Entry)'!F\",IFERROR(SUM(MATCH(A168,'UNITCOST ITEMS (Data Entry)'!$A$3:$A$504,0),2),\"\"))),\"\"))","v":""},{"$f":"IF(IFERROR(INDIRECT(CONCATENATE(\"'UNITCOST ITEMS (Data Entry)'!G\",IFERROR(SUM(MATCH(A168,'UNITCOST ITEMS (Data Entry)'!$A$3:$A$504,0),2),\"\"))),\"\")=0,\"\",IFERROR(INDIRECT(CONCATENATE(\"'UNITCOST ITEMS (Data Entry)'!G\",IFERROR(SUM(MATCH(A168,'UNITCOST ITEMS (Data Entry)'!$A$3:$A$504,0),2),\"\"))),\"\"))","v":""},{"$f":"IF(IFERROR(INDIRECT(CONCATENATE(\"'UNITCOST ITEMS (Data Entry)'!H\",IFERROR(SUM(MATCH(A168,'UNITCOST ITEMS (Data Entry)'!$A$3:$A$504,0),2),\"\"))),\"\")=0,\"\",IFERROR(INDIRECT(CONCATENATE(\"'UNITCOST ITEMS (Data Entry)'!H\",IFERROR(SUM(MATCH(A168,'UNITCOST ITEMS (Data Entry)'!$A$3:$A$504,0),2),\"\"))),\"\"))","v":""},{"$f":"IF(IFERROR(INDIRECT(CONCATENATE(\"'UNITCOST ITEMS (Data Entry)'!I\",IFERROR(SUM(MATCH(A168,'UNITCOST ITEMS (Data Entry)'!$A$3:$A$504,0),2),\"\"))),\"\")=0,\"\",IFERROR(INDIRECT(CONCATENATE(\"'UNITCOST ITEMS (Data Entry)'!I\",IFERROR(SUM(MATCH(A168,'UNITCOST ITEMS (Data Entry)'!$A$3:$A$504,0),2),\"\"))),\"\"))","v":""},{"$f":"IF(K168=2,\"\",IF(IFERROR(INDIRECT(CONCATENATE(\"'UNITCOST ITEMS (Data Entry)'!J\",IFERROR(SUM(MATCH(A168,'UNITCOST ITEMS (Data Entry)'!$A$3:$A$504,0),2),\"\"))),\"\")=0,\"\",IFERROR(INDIRECT(CONCATENATE(\"'UNITCOST ITEMS (Data Entry)'!J\",IFERROR(SUM(MATCH(A168,'UNITCOST ITEMS (Data Entry)'!$A$3:$A$504,0),2),\"\"))),\"\")))","v":""},null,{"$f":"IF(IFERROR(INDIRECT(CONCATENATE(\"'UNITCOST ITEMS (Data Entry)'!C\",IFERROR(SUM(MATCH(A168,'UNITCOST ITEMS (Data Entry)'!$A$3:$A$504,0),2),\"\"))),\"\")=0,\"\",IFERROR(INDIRECT(CONCATENATE(\"'UNITCOST ITEMS (Data Entry)'!C\",IFERROR(SUM(MATCH(A168,'UNITCOST ITEMS (Data Entry)'!$A$3:$A$504,0),2),\"\"))),\"\"))","v":""},""]
[161,{"$f":"IF(IFERROR(INDIRECT(CONCATENATE(\"'UNITCOST ITEMS (Data Entry)'!D\",IFERROR(SUM(MATCH(A169,'UNITCOST ITEMS (Data Entry)'!$A$3:$A$504,0),2),\"\"))),\"\")=0,\"\",IFERROR(INDIRECT(CONCATENATE(\"'UNITCOST ITEMS (Data Entry)'!D\",IFERROR(SUM(MATCH(A169,'UNITCOST ITEMS (Data Entry)'!$A$3:$A$504,0),2),\"\"))),\"\"))","v":""},{"$f":"IF(IFERROR(INDIRECT(CONCATENATE(\"'UNITCOST ITEMS (Data Entry)'!E\",IFERROR(SUM(MATCH(A169,'UNITCOST ITEMS (Data Entry)'!$A$3:$A$504,0),2),\"\"))),\"\")=0,\"\",IFERROR(INDIRECT(CONCATENATE(\"'UNITCOST ITEMS (Data Entry)'!E\",IFERROR(SUM(MATCH(A169,'UNITCOST ITEMS (Data Entry)'!$A$3:$A$504,0),2),\"\"))),\"\"))","v":""},null,{"$f":"IF(IFERROR(INDIRECT(CONCATENATE(\"'UNITCOST ITEMS (Data Entry)'!F\",IFERROR(SUM(MATCH(A169,'UNITCOST ITEMS (Data Entry)'!$A$3:$A$504,0),2),\"\"))),\"\")=0,\"\",IFERROR(INDIRECT(CONCATENATE(\"'UNITCOST ITEMS (Data Entry)'!F\",IFERROR(SUM(MATCH(A169,'UNITCOST ITEMS (Data Entry)'!$A$3:$A$504,0),2),\"\"))),\"\"))","v":""},{"$f":"IF(IFERROR(INDIRECT(CONCATENATE(\"'UNITCOST ITEMS (Data Entry)'!G\",IFERROR(SUM(MATCH(A169,'UNITCOST ITEMS (Data Entry)'!$A$3:$A$504,0),2),\"\"))),\"\")=0,\"\",IFERROR(INDIRECT(CONCATENATE(\"'UNITCOST ITEMS (Data Entry)'!G\",IFERROR(SUM(MATCH(A169,'UNITCOST ITEMS (Data Entry)'!$A$3:$A$504,0),2),\"\"))),\"\"))","v":""},{"$f":"IF(IFERROR(INDIRECT(CONCATENATE(\"'UNITCOST ITEMS (Data Entry)'!H\",IFERROR(SUM(MATCH(A169,'UNITCOST ITEMS (Data Entry)'!$A$3:$A$504,0),2),\"\"))),\"\")=0,\"\",IFERROR(INDIRECT(CONCATENATE(\"'UNITCOST ITEMS (Data Entry)'!H\",IFERROR(SUM(MATCH(A169,'UNITCOST ITEMS (Data Entry)'!$A$3:$A$504,0),2),\"\"))),\"\"))","v":""},{"$f":"IF(IFERROR(INDIRECT(CONCATENATE(\"'UNITCOST ITEMS (Data Entry)'!I\",IFERROR(SUM(MATCH(A169,'UNITCOST ITEMS (Data Entry)'!$A$3:$A$504,0),2),\"\"))),\"\")=0,\"\",IFERROR(INDIRECT(CONCATENATE(\"'UNITCOST ITEMS (Data Entry)'!I\",IFERROR(SUM(MATCH(A169,'UNITCOST ITEMS (Data Entry)'!$A$3:$A$504,0),2),\"\"))),\"\"))","v":""},{"$f":"IF(K169=2,\"\",IF(IFERROR(INDIRECT(CONCATENATE(\"'UNITCOST ITEMS (Data Entry)'!J\",IFERROR(SUM(MATCH(A169,'UNITCOST ITEMS (Data Entry)'!$A$3:$A$504,0),2),\"\"))),\"\")=0,\"\",IFERROR(INDIRECT(CONCATENATE(\"'UNITCOST ITEMS (Data Entry)'!J\",IFERROR(SUM(MATCH(A169,'UNITCOST ITEMS (Data Entry)'!$A$3:$A$504,0),2),\"\"))),\"\")))","v":""},null,{"$f":"IF(IFERROR(INDIRECT(CONCATENATE(\"'UNITCOST ITEMS (Data Entry)'!C\",IFERROR(SUM(MATCH(A169,'UNITCOST ITEMS (Data Entry)'!$A$3:$A$504,0),2),\"\"))),\"\")=0,\"\",IFERROR(INDIRECT(CONCATENATE(\"'UNITCOST ITEMS (Data Entry)'!C\",IFERROR(SUM(MATCH(A169,'UNITCOST ITEMS (Data Entry)'!$A$3:$A$504,0),2),\"\"))),\"\"))","v":""},""]
[162,{"$f":"IF(IFERROR(INDIRECT(CONCATENATE(\"'UNITCOST ITEMS (Data Entry)'!D\",IFERROR(SUM(MATCH(A170,'UNITCOST ITEMS (Data Entry)'!$A$3:$A$504,0),2),\"\"))),\"\")=0,\"\",IFERROR(INDIRECT(CONCATENATE(\"'UNITCOST ITEMS (Data Entry)'!D\",IFERROR(SUM(MATCH(A170,'UNITCOST ITEMS (Data Entry)'!$A$3:$A$504,0),2),\"\"))),\"\"))","v":""},{"$f":"IF(IFERROR(INDIRECT(CONCATENATE(\"'UNITCOST ITEMS (Data Entry)'!E\",IFERROR(SUM(MATCH(A170,'UNITCOST ITEMS (Data Entry)'!$A$3:$A$504,0),2),\"\"))),\"\")=0,\"\",IFERROR(INDIRECT(CONCATENATE(\"'UNITCOST ITEMS (Data Entry)'!E\",IFERROR(SUM(MATCH(A170,'UNITCOST ITEMS (Data Entry)'!$A$3:$A$504,0),2),\"\"))),\"\"))","v":""},null,{"$f":"IF(IFERROR(INDIRECT(CONCATENATE(\"'UNITCOST ITEMS (Data Entry)'!F\",IFERROR(SUM(MATCH(A170,'UNITCOST ITEMS (Data Entry)'!$A$3:$A$504,0),2),\"\"))),\"\")=0,\"\",IFERROR(INDIRECT(CONCATENATE(\"'UNITCOST ITEMS (Data Entry)'!F\",IFERROR(SUM(MATCH(A170,'UNITCOST ITEMS (Data Entry)'!$A$3:$A$504,0),2),\"\"))),\"\"))","v":""},{"$f":"IF(IFERROR(INDIRECT(CONCATENATE(\"'UNITCOST ITEMS (Data Entry)'!G\",IFERROR(SUM(MATCH(A170,'UNITCOST ITEMS (Data Entry)'!$A$3:$A$504,0),2),\"\"))),\"\")=0,\"\",IFERROR(INDIRECT(CONCATENATE(\"'UNITCOST ITEMS (Data Entry)'!G\",IFERROR(SUM(MATCH(A170,'UNITCOST ITEMS (Data Entry)'!$A$3:$A$504,0),2),\"\"))),\"\"))","v":""},{"$f":"IF(IFERROR(INDIRECT(CONCATENATE(\"'UNITCOST ITEMS (Data Entry)'!H\",IFERROR(SUM(MATCH(A170,'UNITCOST ITEMS (Data Entry)'!$A$3:$A$504,0),2),\"\"))),\"\")=0,\"\",IFERROR(INDIRECT(CONCATENATE(\"'UNITCOST ITEMS (Data Entry)'!H\",IFERROR(SUM(MATCH(A170,'UNITCOST ITEMS (Data Entry)'!$A$3:$A$504,0),2),\"\"))),\"\"))","v":""},{"$f":"IF(IFERROR(INDIRECT(CONCATENATE(\"'UNITCOST ITEMS (Data Entry)'!I\",IFERROR(SUM(MATCH(A170,'UNITCOST ITEMS (Data Entry)'!$A$3:$A$504,0),2),\"\"))),\"\")=0,\"\",IFERROR(INDIRECT(CONCATENATE(\"'UNITCOST ITEMS (Data Entry)'!I\",IFERROR(SUM(MATCH(A170,'UNITCOST ITEMS (Data Entry)'!$A$3:$A$504,0),2),\"\"))),\"\"))","v":""},{"$f":"IF(K170=2,\"\",IF(IFERROR(INDIRECT(CONCATENATE(\"'UNITCOST ITEMS (Data Entry)'!J\",IFERROR(SUM(MATCH(A170,'UNITCOST ITEMS (Data Entry)'!$A$3:$A$504,0),2),\"\"))),\"\")=0,\"\",IFERROR(INDIRECT(CONCATENATE(\"'UNITCOST ITEMS (Data Entry)'!J\",IFERROR(SUM(MATCH(A170,'UNITCOST ITEMS (Data Entry)'!$A$3:$A$504,0),2),\"\"))),\"\")))","v":""},null,{"$f":"IF(IFERROR(INDIRECT(CONCATENATE(\"'UNITCOST ITEMS (Data Entry)'!C\",IFERROR(SUM(MATCH(A170,'UNITCOST ITEMS (Data Entry)'!$A$3:$A$504,0),2),\"\"))),\"\")=0,\"\",IFERROR(INDIRECT(CONCATENATE(\"'UNITCOST ITEMS (Data Entry)'!C\",IFERROR(SUM(MATCH(A170,'UNITCOST ITEMS (Data Entry)'!$A$3:$A$504,0),2),\"\"))),\"\"))","v":""},""]
[163,{"$f":"IF(IFERROR(INDIRECT(CONCATENATE(\"'UNITCOST ITEMS (Data Entry)'!D\",IFERROR(SUM(MATCH(A171,'UNITCOST ITEMS (Data Entry)'!$A$3:$A$504,0),2),\"\"))),\"\")=0,\"\",IFERROR(INDIRECT(CONCATENATE(\"'UNITCOST ITEMS (Data Entry)'!D\",IFERROR(SUM(MATCH(A171,'UNITCOST ITEMS (Data Entry)'!$A$3:$A$504,0),2),\"\"))),\"\"))","v":""},{"$f":"IF(IFERROR(INDIRECT(CONCATENATE(\"'UNITCOST ITEMS (Data Entry)'!E\",IFERROR(SUM(MATCH(A171,'UNITCOST ITEMS (Data Entry)'!$A$3:$A$504,0),2),\"\"))),\"\")=0,\"\",IFERROR(INDIRECT(CONCATENATE(\"'UNITCOST ITEMS (Data Entry)'!E\",IFERROR(SUM(MATCH(A171,'UNITCOST ITEMS (Data Entry)'!$A$3:$A$504,0),2),\"\"))),\"\"))","v":""},null,{"$f":"IF(IFERROR(INDIRECT(CONCATENATE(\"'UNITCOST ITEMS (Data Entry)'!F\",IFERROR(SUM(MATCH(A171,'UNITCOST ITEMS (Data Entry)'!$A$3:$A$504,0),2),\"\"))),\"\")=0,\"\",IFERROR(INDIRECT(CONCATENATE(\"'UNITCOST ITEMS (Data Entry)'!F\",IFERROR(SUM(MATCH(A171,'UNITCOST ITEMS (Data Entry)'!$A$3:$A$504,0),2),\"\"))),\"\"))","v":""},{"$f":"IF(IFERROR(INDIRECT(CONCATENATE(\"'UNITCOST ITEMS (Data Entry)'!G\",IFERROR(SUM(MATCH(A171,'UNITCOST ITEMS (Data Entry)'!$A$3:$A$504,0),2),\"\"))),\"\")=0,\"\",IFERROR(INDIRECT(CONCATENATE(\"'UNITCOST ITEMS (Data Entry)'!G\",IFERROR(SUM(MATCH(A171,'UNITCOST ITEMS (Data Entry)'!$A$3:$A$504,0),2),\"\"))),\"\"))","v":""},{"$f":"IF(IFERROR(INDIRECT(CONCATENATE(\"'UNITCOST ITEMS (Data Entry)'!H\",IFERROR(SUM(MATCH(A171,'UNITCOST ITEMS (Data Entry)'!$A$3:$A$504,0),2),\"\"))),\"\")=0,\"\",IFERROR(INDIRECT(CONCATENATE(\"'UNITCOST ITEMS (Data Entry)'!H\",IFERROR(SUM(MATCH(A171,'UNITCOST ITEMS (Data Entry)'!$A$3:$A$504,0),2),\"\"))),\"\"))","v":""},{"$f":"IF(IFERROR(INDIRECT(CONCATENATE(\"'UNITCOST ITEMS (Data Entry)'!I\",IFERROR(SUM(MATCH(A171,'UNITCOST ITEMS (Data Entry)'!$A$3:$A$504,0),2),\"\"))),\"\")=0,\"\",IFERROR(INDIRECT(CONCATENATE(\"'UNITCOST ITEMS (Data Entry)'!I\",IFERROR(SUM(MATCH(A171,'UNITCOST ITEMS (Data Entry)'!$A$3:$A$504,0),2),\"\"))),\"\"))","v":""},{"$f":"IF(K171=2,\"\",IF(IFERROR(INDIRECT(CONCATENATE(\"'UNITCOST ITEMS (Data Entry)'!J\",IFERROR(SUM(MATCH(A171,'UNITCOST ITEMS (Data Entry)'!$A$3:$A$504,0),2),\"\"))),\"\")=0,\"\",IFERROR(INDIRECT(CONCATENATE(\"'UNITCOST ITEMS (Data Entry)'!J\",IFERROR(SUM(MATCH(A171,'UNITCOST ITEMS (Data Entry)'!$A$3:$A$504,0),2),\"\"))),\"\")))","v":""},null,{"$f":"IF(IFERROR(INDIRECT(CONCATENATE(\"'UNITCOST ITEMS (Data Entry)'!C\",IFERROR(SUM(MATCH(A171,'UNITCOST ITEMS (Data Entry)'!$A$3:$A$504,0),2),\"\"))),\"\")=0,\"\",IFERROR(INDIRECT(CONCATENATE(\"'UNITCOST ITEMS (Data Entry)'!C\",IFERROR(SUM(MATCH(A171,'UNITCOST ITEMS (Data Entry)'!$A$3:$A$504,0),2),\"\"))),\"\"))","v":""},""]
[164,{"$f":"IF(IFERROR(INDIRECT(CONCATENATE(\"'UNITCOST ITEMS (Data Entry)'!D\",IFERROR(SUM(MATCH(A172,'UNITCOST ITEMS (Data Entry)'!$A$3:$A$504,0),2),\"\"))),\"\")=0,\"\",IFERROR(INDIRECT(CONCATENATE(\"'UNITCOST ITEMS (Data Entry)'!D\",IFERROR(SUM(MATCH(A172,'UNITCOST ITEMS (Data Entry)'!$A$3:$A$504,0),2),\"\"))),\"\"))","v":""},{"$f":"IF(IFERROR(INDIRECT(CONCATENATE(\"'UNITCOST ITEMS (Data Entry)'!E\",IFERROR(SUM(MATCH(A172,'UNITCOST ITEMS (Data Entry)'!$A$3:$A$504,0),2),\"\"))),\"\")=0,\"\",IFERROR(INDIRECT(CONCATENATE(\"'UNITCOST ITEMS (Data Entry)'!E\",IFERROR(SUM(MATCH(A172,'UNITCOST ITEMS (Data Entry)'!$A$3:$A$504,0),2),\"\"))),\"\"))","v":""},null,{"$f":"IF(IFERROR(INDIRECT(CONCATENATE(\"'UNITCOST ITEMS (Data Entry)'!F\",IFERROR(SUM(MATCH(A172,'UNITCOST ITEMS (Data Entry)'!$A$3:$A$504,0),2),\"\"))),\"\")=0,\"\",IFERROR(INDIRECT(CONCATENATE(\"'UNITCOST ITEMS (Data Entry)'!F\",IFERROR(SUM(MATCH(A172,'UNITCOST ITEMS (Data Entry)'!$A$3:$A$504,0),2),\"\"))),\"\"))","v":""},{"$f":"IF(IFERROR(INDIRECT(CONCATENATE(\"'UNITCOST ITEMS (Data Entry)'!G\",IFERROR(SUM(MATCH(A172,'UNITCOST ITEMS (Data Entry)'!$A$3:$A$504,0),2),\"\"))),\"\")=0,\"\",IFERROR(INDIRECT(CONCATENATE(\"'UNITCOST ITEMS (Data Entry)'!G\",IFERROR(SUM(MATCH(A172,'UNITCOST ITEMS (Data Entry)'!$A$3:$A$504,0),2),\"\"))),\"\"))","v":""},{"$f":"IF(IFERROR(INDIRECT(CONCATENATE(\"'UNITCOST ITEMS (Data Entry)'!H\",IFERROR(SUM(MATCH(A172,'UNITCOST ITEMS (Data Entry)'!$A$3:$A$504,0),2),\"\"))),\"\")=0,\"\",IFERROR(INDIRECT(CONCATENATE(\"'UNITCOST ITEMS (Data Entry)'!H\",IFERROR(SUM(MATCH(A172,'UNITCOST ITEMS (Data Entry)'!$A$3:$A$504,0),2),\"\"))),\"\"))","v":""},{"$f":"IF(IFERROR(INDIRECT(CONCATENATE(\"'UNITCOST ITEMS (Data Entry)'!I\",IFERROR(SUM(MATCH(A172,'UNITCOST ITEMS (Data Entry)'!$A$3:$A$504,0),2),\"\"))),\"\")=0,\"\",IFERROR(INDIRECT(CONCATENATE(\"'UNITCOST ITEMS (Data Entry)'!I\",IFERROR(SUM(MATCH(A172,'UNITCOST ITEMS (Data Entry)'!$A$3:$A$504,0),2),\"\"))),\"\"))","v":""},{"$f":"IF(K172=2,\"\",IF(IFERROR(INDIRECT(CONCATENATE(\"'UNITCOST ITEMS (Data Entry)'!J\",IFERROR(SUM(MATCH(A172,'UNITCOST ITEMS (Data Entry)'!$A$3:$A$504,0),2),\"\"))),\"\")=0,\"\",IFERROR(INDIRECT(CONCATENATE(\"'UNITCOST ITEMS (Data Entry)'!J\",IFERROR(SUM(MATCH(A172,'UNITCOST ITEMS (Data Entry)'!$A$3:$A$504,0),2),\"\"))),\"\")))","v":""},null,{"$f":"IF(IFERROR(INDIRECT(CONCATENATE(\"'UNITCOST ITEMS (Data Entry)'!C\",IFERROR(SUM(MATCH(A172,'UNITCOST ITEMS (Data Entry)'!$A$3:$A$504,0),2),\"\"))),\"\")=0,\"\",IFERROR(INDIRECT(CONCATENATE(\"'UNITCOST ITEMS (Data Entry)'!C\",IFERROR(SUM(MATCH(A172,'UNITCOST ITEMS (Data Entry)'!$A$3:$A$504,0),2),\"\"))),\"\"))","v":""},""]
[165,{"$f":"IF(IFERROR(INDIRECT(CONCATENATE(\"'UNITCOST ITEMS (Data Entry)'!D\",IFERROR(SUM(MATCH(A173,'UNITCOST ITEMS (Data Entry)'!$A$3:$A$504,0),2),\"\"))),\"\")=0,\"\",IFERROR(INDIRECT(CONCATENATE(\"'UNITCOST ITEMS (Data Entry)'!D\",IFERROR(SUM(MATCH(A173,'UNITCOST ITEMS (Data Entry)'!$A$3:$A$504,0),2),\"\"))),\"\"))","v":""},{"$f":"IF(IFERROR(INDIRECT(CONCATENATE(\"'UNITCOST ITEMS (Data Entry)'!E\",IFERROR(SUM(MATCH(A173,'UNITCOST ITEMS (Data Entry)'!$A$3:$A$504,0),2),\"\"))),\"\")=0,\"\",IFERROR(INDIRECT(CONCATENATE(\"'UNITCOST ITEMS (Data Entry)'!E\",IFERROR(SUM(MATCH(A173,'UNITCOST ITEMS (Data Entry)'!$A$3:$A$504,0),2),\"\"))),\"\"))","v":""},null,{"$f":"IF(IFERROR(INDIRECT(CONCATENATE(\"'UNITCOST ITEMS (Data Entry)'!F\",IFERROR(SUM(MATCH(A173,'UNITCOST ITEMS (Data Entry)'!$A$3:$A$504,0),2),\"\"))),\"\")=0,\"\",IFERROR(INDIRECT(CONCATENATE(\"'UNITCOST ITEMS (Data Entry)'!F\",IFERROR(SUM(MATCH(A173,'UNITCOST ITEMS (Data Entry)'!$A$3:$A$504,0),2),\"\"))),\"\"))","v":""},{"$f":"IF(IFERROR(INDIRECT(CONCATENATE(\"'UNITCOST ITEMS (Data Entry)'!G\",IFERROR(SUM(MATCH(A173,'UNITCOST ITEMS (Data Entry)'!$A$3:$A$504,0),2),\"\"))),\"\")=0,\"\",IFERROR(INDIRECT(CONCATENATE(\"'UNITCOST ITEMS (Data Entry)'!G\",IFERROR(SUM(MATCH(A173,'UNITCOST ITEMS (Data Entry)'!$A$3:$A$504,0),2),\"\"))),\"\"))","v":""},{"$f":"IF(IFERROR(INDIRECT(CONCATENATE(\"'UNITCOST ITEMS (Data Entry)'!H\",IFERROR(SUM(MATCH(A173,'UNITCOST ITEMS (Data Entry)'!$A$3:$A$504,0),2),\"\"))),\"\")=0,\"\",IFERROR(INDIRECT(CONCATENATE(\"'UNITCOST ITEMS (Data Entry)'!H\",IFERROR(SUM(MATCH(A173,'UNITCOST ITEMS (Data Entry)'!$A$3:$A$504,0),2),\"\"))),\"\"))","v":""},{"$f":"IF(IFERROR(INDIRECT(CONCATENATE(\"'UNITCOST ITEMS (Data Entry)'!I\",IFERROR(SUM(MATCH(A173,'UNITCOST ITEMS (Data Entry)'!$A$3:$A$504,0),2),\"\"))),\"\")=0,\"\",IFERROR(INDIRECT(CONCATENATE(\"'UNITCOST ITEMS (Data Entry)'!I\",IFERROR(SUM(MATCH(A173,'UNITCOST ITEMS (Data Entry)'!$A$3:$A$504,0),2),\"\"))),\"\"))","v":""},{"$f":"IF(K173=2,\"\",IF(IFERROR(INDIRECT(CONCATENATE(\"'UNITCOST ITEMS (Data Entry)'!J\",IFERROR(SUM(MATCH(A173,'UNITCOST ITEMS (Data Entry)'!$A$3:$A$504,0),2),\"\"))),\"\")=0,\"\",IFERROR(INDIRECT(CONCATENATE(\"'UNITCOST ITEMS (Data Entry)'!J\",IFERROR(SUM(MATCH(A173,'UNITCOST ITEMS (Data Entry)'!$A$3:$A$504,0),2),\"\"))),\"\")))","v":""},null,{"$f":"IF(IFERROR(INDIRECT(CONCATENATE(\"'UNITCOST ITEMS (Data Entry)'!C\",IFERROR(SUM(MATCH(A173,'UNITCOST ITEMS (Data Entry)'!$A$3:$A$504,0),2),\"\"))),\"\")=0,\"\",IFERROR(INDIRECT(CONCATENATE(\"'UNITCOST ITEMS (Data Entry)'!C\",IFERROR(SUM(MATCH(A173,'UNITCOST ITEMS (Data Entry)'!$A$3:$A$504,0),2),\"\"))),\"\"))","v":""},""]
[166,{"$f":"IF(IFERROR(INDIRECT(CONCATENATE(\"'UNITCOST ITEMS (Data Entry)'!D\",IFERROR(SUM(MATCH(A174,'UNITCOST ITEMS (Data Entry)'!$A$3:$A$504,0),2),\"\"))),\"\")=0,\"\",IFERROR(INDIRECT(CONCATENATE(\"'UNITCOST ITEMS (Data Entry)'!D\",IFERROR(SUM(MATCH(A174,'UNITCOST ITEMS (Data Entry)'!$A$3:$A$504,0),2),\"\"))),\"\"))","v":""},{"$f":"IF(IFERROR(INDIRECT(CONCATENATE(\"'UNITCOST ITEMS (Data Entry)'!E\",IFERROR(SUM(MATCH(A174,'UNITCOST ITEMS (Data Entry)'!$A$3:$A$504,0),2),\"\"))),\"\")=0,\"\",IFERROR(INDIRECT(CONCATENATE(\"'UNITCOST ITEMS (Data Entry)'!E\",IFERROR(SUM(MATCH(A174,'UNITCOST ITEMS (Data Entry)'!$A$3:$A$504,0),2),\"\"))),\"\"))","v":""},null,{"$f":"IF(IFERROR(INDIRECT(CONCATENATE(\"'UNITCOST ITEMS (Data Entry)'!F\",IFERROR(SUM(MATCH(A174,'UNITCOST ITEMS (Data Entry)'!$A$3:$A$504,0),2),\"\"))),\"\")=0,\"\",IFERROR(INDIRECT(CONCATENATE(\"'UNITCOST ITEMS (Data Entry)'!F\",IFERROR(SUM(MATCH(A174,'UNITCOST ITEMS (Data Entry)'!$A$3:$A$504,0),2),\"\"))),\"\"))","v":""},{"$f":"IF(IFERROR(INDIRECT(CONCATENATE(\"'UNITCOST ITEMS (Data Entry)'!G\",IFERROR(SUM(MATCH(A174,'UNITCOST ITEMS (Data Entry)'!$A$3:$A$504,0),2),\"\"))),\"\")=0,\"\",IFERROR(INDIRECT(CONCATENATE(\"'UNITCOST ITEMS (Data Entry)'!G\",IFERROR(SUM(MATCH(A174,'UNITCOST ITEMS (Data Entry)'!$A$3:$A$504,0),2),\"\"))),\"\"))","v":""},{"$f":"IF(IFERROR(INDIRECT(CONCATENATE(\"'UNITCOST ITEMS (Data Entry)'!H\",IFERROR(SUM(MATCH(A174,'UNITCOST ITEMS (Data Entry)'!$A$3:$A$504,0),2),\"\"))),\"\")=0,\"\",IFERROR(INDIRECT(CONCATENATE(\"'UNITCOST ITEMS (Data Entry)'!H\",IFERROR(SUM(MATCH(A174,'UNITCOST ITEMS (Data Entry)'!$A$3:$A$504,0),2),\"\"))),\"\"))","v":""},{"$f":"IF(IFERROR(INDIRECT(CONCATENATE(\"'UNITCOST ITEMS (Data Entry)'!I\",IFERROR(SUM(MATCH(A174,'UNITCOST ITEMS (Data Entry)'!$A$3:$A$504,0),2),\"\"))),\"\")=0,\"\",IFERROR(INDIRECT(CONCATENATE(\"'UNITCOST ITEMS (Data Entry)'!I\",IFERROR(SUM(MATCH(A174,'UNITCOST ITEMS (Data Entry)'!$A$3:$A$504,0),2),\"\"))),\"\"))","v":""},{"$f":"IF(K174=2,\"\",IF(IFERROR(INDIRECT(CONCATENATE(\"'UNITCOST ITEMS (Data Entry)'!J\",IFERROR(SUM(MATCH(A174,'UNITCOST ITEMS (Data Entry)'!$A$3:$A$504,0),2),\"\"))),\"\")=0,\"\",IFERROR(INDIRECT(CONCATENATE(\"'UNITCOST ITEMS (Data Entry)'!J\",IFERROR(SUM(MATCH(A174,'UNITCOST ITEMS (Data Entry)'!$A$3:$A$504,0),2),\"\"))),\"\")))","v":""},null,{"$f":"IF(IFERROR(INDIRECT(CONCATENATE(\"'UNITCOST ITEMS (Data Entry)'!C\",IFERROR(SUM(MATCH(A174,'UNITCOST ITEMS (Data Entry)'!$A$3:$A$504,0),2),\"\"))),\"\")=0,\"\",IFERROR(INDIRECT(CONCATENATE(\"'UNITCOST ITEMS (Data Entry)'!C\",IFERROR(SUM(MATCH(A174,'UNITCOST ITEMS (Data Entry)'!$A$3:$A$504,0),2),\"\"))),\"\"))","v":""},""]
[167,{"$f":"IF(IFERROR(INDIRECT(CONCATENATE(\"'UNITCOST ITEMS (Data Entry)'!D\",IFERROR(SUM(MATCH(A175,'UNITCOST ITEMS (Data Entry)'!$A$3:$A$504,0),2),\"\"))),\"\")=0,\"\",IFERROR(INDIRECT(CONCATENATE(\"'UNITCOST ITEMS (Data Entry)'!D\",IFERROR(SUM(MATCH(A175,'UNITCOST ITEMS (Data Entry)'!$A$3:$A$504,0),2),\"\"))),\"\"))","v":""},{"$f":"IF(IFERROR(INDIRECT(CONCATENATE(\"'UNITCOST ITEMS (Data Entry)'!E\",IFERROR(SUM(MATCH(A175,'UNITCOST ITEMS (Data Entry)'!$A$3:$A$504,0),2),\"\"))),\"\")=0,\"\",IFERROR(INDIRECT(CONCATENATE(\"'UNITCOST ITEMS (Data Entry)'!E\",IFERROR(SUM(MATCH(A175,'UNITCOST ITEMS (Data Entry)'!$A$3:$A$504,0),2),\"\"))),\"\"))","v":""},null,{"$f":"IF(IFERROR(INDIRECT(CONCATENATE(\"'UNITCOST ITEMS (Data Entry)'!F\",IFERROR(SUM(MATCH(A175,'UNITCOST ITEMS (Data Entry)'!$A$3:$A$504,0),2),\"\"))),\"\")=0,\"\",IFERROR(INDIRECT(CONCATENATE(\"'UNITCOST ITEMS (Data Entry)'!F\",IFERROR(SUM(MATCH(A175,'UNITCOST ITEMS (Data Entry)'!$A$3:$A$504,0),2),\"\"))),\"\"))","v":""},{"$f":"IF(IFERROR(INDIRECT(CONCATENATE(\"'UNITCOST ITEMS (Data Entry)'!G\",IFERROR(SUM(MATCH(A175,'UNITCOST ITEMS (Data Entry)'!$A$3:$A$504,0),2),\"\"))),\"\")=0,\"\",IFERROR(INDIRECT(CONCATENATE(\"'UNITCOST ITEMS (Data Entry)'!G\",IFERROR(SUM(MATCH(A175,'UNITCOST ITEMS (Data Entry)'!$A$3:$A$504,0),2),\"\"))),\"\"))","v":""},{"$f":"IF(IFERROR(INDIRECT(CONCATENATE(\"'UNITCOST ITEMS (Data Entry)'!H\",IFERROR(SUM(MATCH(A175,'UNITCOST ITEMS (Data Entry)'!$A$3:$A$504,0),2),\"\"))),\"\")=0,\"\",IFERROR(INDIRECT(CONCATENATE(\"'UNITCOST ITEMS (Data Entry)'!H\",IFERROR(SUM(MATCH(A175,'UNITCOST ITEMS (Data Entry)'!$A$3:$A$504,0),2),\"\"))),\"\"))","v":""},{"$f":"IF(IFERROR(INDIRECT(CONCATENATE(\"'UNITCOST ITEMS (Data Entry)'!I\",IFERROR(SUM(MATCH(A175,'UNITCOST ITEMS (Data Entry)'!$A$3:$A$504,0),2),\"\"))),\"\")=0,\"\",IFERROR(INDIRECT(CONCATENATE(\"'UNITCOST ITEMS (Data Entry)'!I\",IFERROR(SUM(MATCH(A175,'UNITCOST ITEMS (Data Entry)'!$A$3:$A$504,0),2),\"\"))),\"\"))","v":""},{"$f":"IF(K175=2,\"\",IF(IFERROR(INDIRECT(CONCATENATE(\"'UNITCOST ITEMS (Data Entry)'!J\",IFERROR(SUM(MATCH(A175,'UNITCOST ITEMS (Data Entry)'!$A$3:$A$504,0),2),\"\"))),\"\")=0,\"\",IFERROR(INDIRECT(CONCATENATE(\"'UNITCOST ITEMS (Data Entry)'!J\",IFERROR(SUM(MATCH(A175,'UNITCOST ITEMS (Data Entry)'!$A$3:$A$504,0),2),\"\"))),\"\")))","v":""},null,{"$f":"IF(IFERROR(INDIRECT(CONCATENATE(\"'UNITCOST ITEMS (Data Entry)'!C\",IFERROR(SUM(MATCH(A175,'UNITCOST ITEMS (Data Entry)'!$A$3:$A$504,0),2),\"\"))),\"\")=0,\"\",IFERROR(INDIRECT(CONCATENATE(\"'UNITCOST ITEMS (Data Entry)'!C\",IFERROR(SUM(MATCH(A175,'UNITCOST ITEMS (Data Entry)'!$A$3:$A$504,0),2),\"\"))),\"\"))","v":""},""]
[168,{"$f":"IF(IFERROR(INDIRECT(CONCATENATE(\"'UNITCOST ITEMS (Data Entry)'!D\",IFERROR(SUM(MATCH(A176,'UNITCOST ITEMS (Data Entry)'!$A$3:$A$504,0),2),\"\"))),\"\")=0,\"\",IFERROR(INDIRECT(CONCATENATE(\"'UNITCOST ITEMS (Data Entry)'!D\",IFERROR(SUM(MATCH(A176,'UNITCOST ITEMS (Data Entry)'!$A$3:$A$504,0),2),\"\"))),\"\"))","v":""},{"$f":"IF(IFERROR(INDIRECT(CONCATENATE(\"'UNITCOST ITEMS (Data Entry)'!E\",IFERROR(SUM(MATCH(A176,'UNITCOST ITEMS (Data Entry)'!$A$3:$A$504,0),2),\"\"))),\"\")=0,\"\",IFERROR(INDIRECT(CONCATENATE(\"'UNITCOST ITEMS (Data Entry)'!E\",IFERROR(SUM(MATCH(A176,'UNITCOST ITEMS (Data Entry)'!$A$3:$A$504,0),2),\"\"))),\"\"))","v":""},null,{"$f":"IF(IFERROR(INDIRECT(CONCATENATE(\"'UNITCOST ITEMS (Data Entry)'!F\",IFERROR(SUM(MATCH(A176,'UNITCOST ITEMS (Data Entry)'!$A$3:$A$504,0),2),\"\"))),\"\")=0,\"\",IFERROR(INDIRECT(CONCATENATE(\"'UNITCOST ITEMS (Data Entry)'!F\",IFERROR(SUM(MATCH(A176,'UNITCOST ITEMS (Data Entry)'!$A$3:$A$504,0),2),\"\"))),\"\"))","v":""},{"$f":"IF(IFERROR(INDIRECT(CONCATENATE(\"'UNITCOST ITEMS (Data Entry)'!G\",IFERROR(SUM(MATCH(A176,'UNITCOST ITEMS (Data Entry)'!$A$3:$A$504,0),2),\"\"))),\"\")=0,\"\",IFERROR(INDIRECT(CONCATENATE(\"'UNITCOST ITEMS (Data Entry)'!G\",IFERROR(SUM(MATCH(A176,'UNITCOST ITEMS (Data Entry)'!$A$3:$A$504,0),2),\"\"))),\"\"))","v":""},{"$f":"IF(IFERROR(INDIRECT(CONCATENATE(\"'UNITCOST ITEMS (Data Entry)'!H\",IFERROR(SUM(MATCH(A176,'UNITCOST ITEMS (Data Entry)'!$A$3:$A$504,0),2),\"\"))),\"\")=0,\"\",IFERROR(INDIRECT(CONCATENATE(\"'UNITCOST ITEMS (Data Entry)'!H\",IFERROR(SUM(MATCH(A176,'UNITCOST ITEMS (Data Entry)'!$A$3:$A$504,0),2),\"\"))),\"\"))","v":""},{"$f":"IF(IFERROR(INDIRECT(CONCATENATE(\"'UNITCOST ITEMS (Data Entry)'!I\",IFERROR(SUM(MATCH(A176,'UNITCOST ITEMS (Data Entry)'!$A$3:$A$504,0),2),\"\"))),\"\")=0,\"\",IFERROR(INDIRECT(CONCATENATE(\"'UNITCOST ITEMS (Data Entry)'!I\",IFERROR(SUM(MATCH(A176,'UNITCOST ITEMS (Data Entry)'!$A$3:$A$504,0),2),\"\"))),\"\"))","v":""},{"$f":"IF(K176=2,\"\",IF(IFERROR(INDIRECT(CONCATENATE(\"'UNITCOST ITEMS (Data Entry)'!J\",IFERROR(SUM(MATCH(A176,'UNITCOST ITEMS (Data Entry)'!$A$3:$A$504,0),2),\"\"))),\"\")=0,\"\",IFERROR(INDIRECT(CONCATENATE(\"'UNITCOST ITEMS (Data Entry)'!J\",IFERROR(SUM(MATCH(A176,'UNITCOST ITEMS (Data Entry)'!$A$3:$A$504,0),2),\"\"))),\"\")))","v":""},null,{"$f":"IF(IFERROR(INDIRECT(CONCATENATE(\"'UNITCOST ITEMS (Data Entry)'!C\",IFERROR(SUM(MATCH(A176,'UNITCOST ITEMS (Data Entry)'!$A$3:$A$504,0),2),\"\"))),\"\")=0,\"\",IFERROR(INDIRECT(CONCATENATE(\"'UNITCOST ITEMS (Data Entry)'!C\",IFERROR(SUM(MATCH(A176,'UNITCOST ITEMS (Data Entry)'!$A$3:$A$504,0),2),\"\"))),\"\"))","v":""},""]
[169,{"$f":"IF(IFERROR(INDIRECT(CONCATENATE(\"'UNITCOST ITEMS (Data Entry)'!D\",IFERROR(SUM(MATCH(A177,'UNITCOST ITEMS (Data Entry)'!$A$3:$A$504,0),2),\"\"))),\"\")=0,\"\",IFERROR(INDIRECT(CONCATENATE(\"'UNITCOST ITEMS (Data Entry)'!D\",IFERROR(SUM(MATCH(A177,'UNITCOST ITEMS (Data Entry)'!$A$3:$A$504,0),2),\"\"))),\"\"))","v":""},{"$f":"IF(IFERROR(INDIRECT(CONCATENATE(\"'UNITCOST ITEMS (Data Entry)'!E\",IFERROR(SUM(MATCH(A177,'UNITCOST ITEMS (Data Entry)'!$A$3:$A$504,0),2),\"\"))),\"\")=0,\"\",IFERROR(INDIRECT(CONCATENATE(\"'UNITCOST ITEMS (Data Entry)'!E\",IFERROR(SUM(MATCH(A177,'UNITCOST ITEMS (Data Entry)'!$A$3:$A$504,0),2),\"\"))),\"\"))","v":""},null,{"$f":"IF(IFERROR(INDIRECT(CONCATENATE(\"'UNITCOST ITEMS (Data Entry)'!F\",IFERROR(SUM(MATCH(A177,'UNITCOST ITEMS (Data Entry)'!$A$3:$A$504,0),2),\"\"))),\"\")=0,\"\",IFERROR(INDIRECT(CONCATENATE(\"'UNITCOST ITEMS (Data Entry)'!F\",IFERROR(SUM(MATCH(A177,'UNITCOST ITEMS (Data Entry)'!$A$3:$A$504,0),2),\"\"))),\"\"))","v":""},{"$f":"IF(IFERROR(INDIRECT(CONCATENATE(\"'UNITCOST ITEMS (Data Entry)'!G\",IFERROR(SUM(MATCH(A177,'UNITCOST ITEMS (Data Entry)'!$A$3:$A$504,0),2),\"\"))),\"\")=0,\"\",IFERROR(INDIRECT(CONCATENATE(\"'UNITCOST ITEMS (Data Entry)'!G\",IFERROR(SUM(MATCH(A177,'UNITCOST ITEMS (Data Entry)'!$A$3:$A$504,0),2),\"\"))),\"\"))","v":""},{"$f":"IF(IFERROR(INDIRECT(CONCATENATE(\"'UNITCOST ITEMS (Data Entry)'!H\",IFERROR(SUM(MATCH(A177,'UNITCOST ITEMS (Data Entry)'!$A$3:$A$504,0),2),\"\"))),\"\")=0,\"\",IFERROR(INDIRECT(CONCATENATE(\"'UNITCOST ITEMS (Data Entry)'!H\",IFERROR(SUM(MATCH(A177,'UNITCOST ITEMS (Data Entry)'!$A$3:$A$504,0),2),\"\"))),\"\"))","v":""},{"$f":"IF(IFERROR(INDIRECT(CONCATENATE(\"'UNITCOST ITEMS (Data Entry)'!I\",IFERROR(SUM(MATCH(A177,'UNITCOST ITEMS (Data Entry)'!$A$3:$A$504,0),2),\"\"))),\"\")=0,\"\",IFERROR(INDIRECT(CONCATENATE(\"'UNITCOST ITEMS (Data Entry)'!I\",IFERROR(SUM(MATCH(A177,'UNITCOST ITEMS (Data Entry)'!$A$3:$A$504,0),2),\"\"))),\"\"))","v":""},{"$f":"IF(K177=2,\"\",IF(IFERROR(INDIRECT(CONCATENATE(\"'UNITCOST ITEMS (Data Entry)'!J\",IFERROR(SUM(MATCH(A177,'UNITCOST ITEMS (Data Entry)'!$A$3:$A$504,0),2),\"\"))),\"\")=0,\"\",IFERROR(INDIRECT(CONCATENATE(\"'UNITCOST ITEMS (Data Entry)'!J\",IFERROR(SUM(MATCH(A177,'UNITCOST ITEMS (Data Entry)'!$A$3:$A$504,0),2),\"\"))),\"\")))","v":""},null,{"$f":"IF(IFERROR(INDIRECT(CONCATENATE(\"'UNITCOST ITEMS (Data Entry)'!C\",IFERROR(SUM(MATCH(A177,'UNITCOST ITEMS (Data Entry)'!$A$3:$A$504,0),2),\"\"))),\"\")=0,\"\",IFERROR(INDIRECT(CONCATENATE(\"'UNITCOST ITEMS (Data Entry)'!C\",IFERROR(SUM(MATCH(A177,'UNITCOST ITEMS (Data Entry)'!$A$3:$A$504,0),2),\"\"))),\"\"))","v":""},""]
[170,{"$f":"IF(IFERROR(INDIRECT(CONCATENATE(\"'UNITCOST ITEMS (Data Entry)'!D\",IFERROR(SUM(MATCH(A178,'UNITCOST ITEMS (Data Entry)'!$A$3:$A$504,0),2),\"\"))),\"\")=0,\"\",IFERROR(INDIRECT(CONCATENATE(\"'UNITCOST ITEMS (Data Entry)'!D\",IFERROR(SUM(MATCH(A178,'UNITCOST ITEMS (Data Entry)'!$A$3:$A$504,0),2),\"\"))),\"\"))","v":""},{"$f":"IF(IFERROR(INDIRECT(CONCATENATE(\"'UNITCOST ITEMS (Data Entry)'!E\",IFERROR(SUM(MATCH(A178,'UNITCOST ITEMS (Data Entry)'!$A$3:$A$504,0),2),\"\"))),\"\")=0,\"\",IFERROR(INDIRECT(CONCATENATE(\"'UNITCOST ITEMS (Data Entry)'!E\",IFERROR(SUM(MATCH(A178,'UNITCOST ITEMS (Data Entry)'!$A$3:$A$504,0),2),\"\"))),\"\"))","v":""},null,{"$f":"IF(IFERROR(INDIRECT(CONCATENATE(\"'UNITCOST ITEMS (Data Entry)'!F\",IFERROR(SUM(MATCH(A178,'UNITCOST ITEMS (Data Entry)'!$A$3:$A$504,0),2),\"\"))),\"\")=0,\"\",IFERROR(INDIRECT(CONCATENATE(\"'UNITCOST ITEMS (Data Entry)'!F\",IFERROR(SUM(MATCH(A178,'UNITCOST ITEMS (Data Entry)'!$A$3:$A$504,0),2),\"\"))),\"\"))","v":""},{"$f":"IF(IFERROR(INDIRECT(CONCATENATE(\"'UNITCOST ITEMS (Data Entry)'!G\",IFERROR(SUM(MATCH(A178,'UNITCOST ITEMS (Data Entry)'!$A$3:$A$504,0),2),\"\"))),\"\")=0,\"\",IFERROR(INDIRECT(CONCATENATE(\"'UNITCOST ITEMS (Data Entry)'!G\",IFERROR(SUM(MATCH(A178,'UNITCOST ITEMS (Data Entry)'!$A$3:$A$504,0),2),\"\"))),\"\"))","v":""},{"$f":"IF(IFERROR(INDIRECT(CONCATENATE(\"'UNITCOST ITEMS (Data Entry)'!H\",IFERROR(SUM(MATCH(A178,'UNITCOST ITEMS (Data Entry)'!$A$3:$A$504,0),2),\"\"))),\"\")=0,\"\",IFERROR(INDIRECT(CONCATENATE(\"'UNITCOST ITEMS (Data Entry)'!H\",IFERROR(SUM(MATCH(A178,'UNITCOST ITEMS (Data Entry)'!$A$3:$A$504,0),2),\"\"))),\"\"))","v":""},{"$f":"IF(IFERROR(INDIRECT(CONCATENATE(\"'UNITCOST ITEMS (Data Entry)'!I\",IFERROR(SUM(MATCH(A178,'UNITCOST ITEMS (Data Entry)'!$A$3:$A$504,0),2),\"\"))),\"\")=0,\"\",IFERROR(INDIRECT(CONCATENATE(\"'UNITCOST ITEMS (Data Entry)'!I\",IFERROR(SUM(MATCH(A178,'UNITCOST ITEMS (Data Entry)'!$A$3:$A$504,0),2),\"\"))),\"\"))","v":""},{"$f":"IF(K178=2,\"\",IF(IFERROR(INDIRECT(CONCATENATE(\"'UNITCOST ITEMS (Data Entry)'!J\",IFERROR(SUM(MATCH(A178,'UNITCOST ITEMS (Data Entry)'!$A$3:$A$504,0),2),\"\"))),\"\")=0,\"\",IFERROR(INDIRECT(CONCATENATE(\"'UNITCOST ITEMS (Data Entry)'!J\",IFERROR(SUM(MATCH(A178,'UNITCOST ITEMS (Data Entry)'!$A$3:$A$504,0),2),\"\"))),\"\")))","v":""},null,{"$f":"IF(IFERROR(INDIRECT(CONCATENATE(\"'UNITCOST ITEMS (Data Entry)'!C\",IFERROR(SUM(MATCH(A178,'UNITCOST ITEMS (Data Entry)'!$A$3:$A$504,0),2),\"\"))),\"\")=0,\"\",IFERROR(INDIRECT(CONCATENATE(\"'UNITCOST ITEMS (Data Entry)'!C\",IFERROR(SUM(MATCH(A178,'UNITCOST ITEMS (Data Entry)'!$A$3:$A$504,0),2),\"\"))),\"\"))","v":""},""]
[171,{"$f":"IF(IFERROR(INDIRECT(CONCATENATE(\"'UNITCOST ITEMS (Data Entry)'!D\",IFERROR(SUM(MATCH(A179,'UNITCOST ITEMS (Data Entry)'!$A$3:$A$504,0),2),\"\"))),\"\")=0,\"\",IFERROR(INDIRECT(CONCATENATE(\"'UNITCOST ITEMS (Data Entry)'!D\",IFERROR(SUM(MATCH(A179,'UNITCOST ITEMS (Data Entry)'!$A$3:$A$504,0),2),\"\"))),\"\"))","v":""},{"$f":"IF(IFERROR(INDIRECT(CONCATENATE(\"'UNITCOST ITEMS (Data Entry)'!E\",IFERROR(SUM(MATCH(A179,'UNITCOST ITEMS (Data Entry)'!$A$3:$A$504,0),2),\"\"))),\"\")=0,\"\",IFERROR(INDIRECT(CONCATENATE(\"'UNITCOST ITEMS (Data Entry)'!E\",IFERROR(SUM(MATCH(A179,'UNITCOST ITEMS (Data Entry)'!$A$3:$A$504,0),2),\"\"))),\"\"))","v":""},null,{"$f":"IF(IFERROR(INDIRECT(CONCATENATE(\"'UNITCOST ITEMS (Data Entry)'!F\",IFERROR(SUM(MATCH(A179,'UNITCOST ITEMS (Data Entry)'!$A$3:$A$504,0),2),\"\"))),\"\")=0,\"\",IFERROR(INDIRECT(CONCATENATE(\"'UNITCOST ITEMS (Data Entry)'!F\",IFERROR(SUM(MATCH(A179,'UNITCOST ITEMS (Data Entry)'!$A$3:$A$504,0),2),\"\"))),\"\"))","v":""},{"$f":"IF(IFERROR(INDIRECT(CONCATENATE(\"'UNITCOST ITEMS (Data Entry)'!G\",IFERROR(SUM(MATCH(A179,'UNITCOST ITEMS (Data Entry)'!$A$3:$A$504,0),2),\"\"))),\"\")=0,\"\",IFERROR(INDIRECT(CONCATENATE(\"'UNITCOST ITEMS (Data Entry)'!G\",IFERROR(SUM(MATCH(A179,'UNITCOST ITEMS (Data Entry)'!$A$3:$A$504,0),2),\"\"))),\"\"))","v":""},{"$f":"IF(IFERROR(INDIRECT(CONCATENATE(\"'UNITCOST ITEMS (Data Entry)'!H\",IFERROR(SUM(MATCH(A179,'UNITCOST ITEMS (Data Entry)'!$A$3:$A$504,0),2),\"\"))),\"\")=0,\"\",IFERROR(INDIRECT(CONCATENATE(\"'UNITCOST ITEMS (Data Entry)'!H\",IFERROR(SUM(MATCH(A179,'UNITCOST ITEMS (Data Entry)'!$A$3:$A$504,0),2),\"\"))),\"\"))","v":""},{"$f":"IF(IFERROR(INDIRECT(CONCATENATE(\"'UNITCOST ITEMS (Data Entry)'!I\",IFERROR(SUM(MATCH(A179,'UNITCOST ITEMS (Data Entry)'!$A$3:$A$504,0),2),\"\"))),\"\")=0,\"\",IFERROR(INDIRECT(CONCATENATE(\"'UNITCOST ITEMS (Data Entry)'!I\",IFERROR(SUM(MATCH(A179,'UNITCOST ITEMS (Data Entry)'!$A$3:$A$504,0),2),\"\"))),\"\"))","v":""},{"$f":"IF(K179=2,\"\",IF(IFERROR(INDIRECT(CONCATENATE(\"'UNITCOST ITEMS (Data Entry)'!J\",IFERROR(SUM(MATCH(A179,'UNITCOST ITEMS (Data Entry)'!$A$3:$A$504,0),2),\"\"))),\"\")=0,\"\",IFERROR(INDIRECT(CONCATENATE(\"'UNITCOST ITEMS (Data Entry)'!J\",IFERROR(SUM(MATCH(A179,'UNITCOST ITEMS (Data Entry)'!$A$3:$A$504,0),2),\"\"))),\"\")))","v":""},null,{"$f":"IF(IFERROR(INDIRECT(CONCATENATE(\"'UNITCOST ITEMS (Data Entry)'!C\",IFERROR(SUM(MATCH(A179,'UNITCOST ITEMS (Data Entry)'!$A$3:$A$504,0),2),\"\"))),\"\")=0,\"\",IFERROR(INDIRECT(CONCATENATE(\"'UNITCOST ITEMS (Data Entry)'!C\",IFERROR(SUM(MATCH(A179,'UNITCOST ITEMS (Data Entry)'!$A$3:$A$504,0),2),\"\"))),\"\"))","v":""},""]
[172,{"$f":"IF(IFERROR(INDIRECT(CONCATENATE(\"'UNITCOST ITEMS (Data Entry)'!D\",IFERROR(SUM(MATCH(A180,'UNITCOST ITEMS (Data Entry)'!$A$3:$A$504,0),2),\"\"))),\"\")=0,\"\",IFERROR(INDIRECT(CONCATENATE(\"'UNITCOST ITEMS (Data Entry)'!D\",IFERROR(SUM(MATCH(A180,'UNITCOST ITEMS (Data Entry)'!$A$3:$A$504,0),2),\"\"))),\"\"))","v":""},{"$f":"IF(IFERROR(INDIRECT(CONCATENATE(\"'UNITCOST ITEMS (Data Entry)'!E\",IFERROR(SUM(MATCH(A180,'UNITCOST ITEMS (Data Entry)'!$A$3:$A$504,0),2),\"\"))),\"\")=0,\"\",IFERROR(INDIRECT(CONCATENATE(\"'UNITCOST ITEMS (Data Entry)'!E\",IFERROR(SUM(MATCH(A180,'UNITCOST ITEMS (Data Entry)'!$A$3:$A$504,0),2),\"\"))),\"\"))","v":""},null,{"$f":"IF(IFERROR(INDIRECT(CONCATENATE(\"'UNITCOST ITEMS (Data Entry)'!F\",IFERROR(SUM(MATCH(A180,'UNITCOST ITEMS (Data Entry)'!$A$3:$A$504,0),2),\"\"))),\"\")=0,\"\",IFERROR(INDIRECT(CONCATENATE(\"'UNITCOST ITEMS (Data Entry)'!F\",IFERROR(SUM(MATCH(A180,'UNITCOST ITEMS (Data Entry)'!$A$3:$A$504,0),2),\"\"))),\"\"))","v":""},{"$f":"IF(IFERROR(INDIRECT(CONCATENATE(\"'UNITCOST ITEMS (Data Entry)'!G\",IFERROR(SUM(MATCH(A180,'UNITCOST ITEMS (Data Entry)'!$A$3:$A$504,0),2),\"\"))),\"\")=0,\"\",IFERROR(INDIRECT(CONCATENATE(\"'UNITCOST ITEMS (Data Entry)'!G\",IFERROR(SUM(MATCH(A180,'UNITCOST ITEMS (Data Entry)'!$A$3:$A$504,0),2),\"\"))),\"\"))","v":""},{"$f":"IF(IFERROR(INDIRECT(CONCATENATE(\"'UNITCOST ITEMS (Data Entry)'!H\",IFERROR(SUM(MATCH(A180,'UNITCOST ITEMS (Data Entry)'!$A$3:$A$504,0),2),\"\"))),\"\")=0,\"\",IFERROR(INDIRECT(CONCATENATE(\"'UNITCOST ITEMS (Data Entry)'!H\",IFERROR(SUM(MATCH(A180,'UNITCOST ITEMS (Data Entry)'!$A$3:$A$504,0),2),\"\"))),\"\"))","v":""},{"$f":"IF(IFERROR(INDIRECT(CONCATENATE(\"'UNITCOST ITEMS (Data Entry)'!I\",IFERROR(SUM(MATCH(A180,'UNITCOST ITEMS (Data Entry)'!$A$3:$A$504,0),2),\"\"))),\"\")=0,\"\",IFERROR(INDIRECT(CONCATENATE(\"'UNITCOST ITEMS (Data Entry)'!I\",IFERROR(SUM(MATCH(A180,'UNITCOST ITEMS (Data Entry)'!$A$3:$A$504,0),2),\"\"))),\"\"))","v":""},{"$f":"IF(K180=2,\"\",IF(IFERROR(INDIRECT(CONCATENATE(\"'UNITCOST ITEMS (Data Entry)'!J\",IFERROR(SUM(MATCH(A180,'UNITCOST ITEMS (Data Entry)'!$A$3:$A$504,0),2),\"\"))),\"\")=0,\"\",IFERROR(INDIRECT(CONCATENATE(\"'UNITCOST ITEMS (Data Entry)'!J\",IFERROR(SUM(MATCH(A180,'UNITCOST ITEMS (Data Entry)'!$A$3:$A$504,0),2),\"\"))),\"\")))","v":""},null,{"$f":"IF(IFERROR(INDIRECT(CONCATENATE(\"'UNITCOST ITEMS (Data Entry)'!C\",IFERROR(SUM(MATCH(A180,'UNITCOST ITEMS (Data Entry)'!$A$3:$A$504,0),2),\"\"))),\"\")=0,\"\",IFERROR(INDIRECT(CONCATENATE(\"'UNITCOST ITEMS (Data Entry)'!C\",IFERROR(SUM(MATCH(A180,'UNITCOST ITEMS (Data Entry)'!$A$3:$A$504,0),2),\"\"))),\"\"))","v":""},""]
[173,{"$f":"IF(IFERROR(INDIRECT(CONCATENATE(\"'UNITCOST ITEMS (Data Entry)'!D\",IFERROR(SUM(MATCH(A181,'UNITCOST ITEMS (Data Entry)'!$A$3:$A$504,0),2),\"\"))),\"\")=0,\"\",IFERROR(INDIRECT(CONCATENATE(\"'UNITCOST ITEMS (Data Entry)'!D\",IFERROR(SUM(MATCH(A181,'UNITCOST ITEMS (Data Entry)'!$A$3:$A$504,0),2),\"\"))),\"\"))","v":""},{"$f":"IF(IFERROR(INDIRECT(CONCATENATE(\"'UNITCOST ITEMS (Data Entry)'!E\",IFERROR(SUM(MATCH(A181,'UNITCOST ITEMS (Data Entry)'!$A$3:$A$504,0),2),\"\"))),\"\")=0,\"\",IFERROR(INDIRECT(CONCATENATE(\"'UNITCOST ITEMS (Data Entry)'!E\",IFERROR(SUM(MATCH(A181,'UNITCOST ITEMS (Data Entry)'!$A$3:$A$504,0),2),\"\"))),\"\"))","v":""},null,{"$f":"IF(IFERROR(INDIRECT(CONCATENATE(\"'UNITCOST ITEMS (Data Entry)'!F\",IFERROR(SUM(MATCH(A181,'UNITCOST ITEMS (Data Entry)'!$A$3:$A$504,0),2),\"\"))),\"\")=0,\"\",IFERROR(INDIRECT(CONCATENATE(\"'UNITCOST ITEMS (Data Entry)'!F\",IFERROR(SUM(MATCH(A181,'UNITCOST ITEMS (Data Entry)'!$A$3:$A$504,0),2),\"\"))),\"\"))","v":""},{"$f":"IF(IFERROR(INDIRECT(CONCATENATE(\"'UNITCOST ITEMS (Data Entry)'!G\",IFERROR(SUM(MATCH(A181,'UNITCOST ITEMS (Data Entry)'!$A$3:$A$504,0),2),\"\"))),\"\")=0,\"\",IFERROR(INDIRECT(CONCATENATE(\"'UNITCOST ITEMS (Data Entry)'!G\",IFERROR(SUM(MATCH(A181,'UNITCOST ITEMS (Data Entry)'!$A$3:$A$504,0),2),\"\"))),\"\"))","v":""},{"$f":"IF(IFERROR(INDIRECT(CONCATENATE(\"'UNITCOST ITEMS (Data Entry)'!H\",IFERROR(SUM(MATCH(A181,'UNITCOST ITEMS (Data Entry)'!$A$3:$A$504,0),2),\"\"))),\"\")=0,\"\",IFERROR(INDIRECT(CONCATENATE(\"'UNITCOST ITEMS (Data Entry)'!H\",IFERROR(SUM(MATCH(A181,'UNITCOST ITEMS (Data Entry)'!$A$3:$A$504,0),2),\"\"))),\"\"))","v":""},{"$f":"IF(IFERROR(INDIRECT(CONCATENATE(\"'UNITCOST ITEMS (Data Entry)'!I\",IFERROR(SUM(MATCH(A181,'UNITCOST ITEMS (Data Entry)'!$A$3:$A$504,0),2),\"\"))),\"\")=0,\"\",IFERROR(INDIRECT(CONCATENATE(\"'UNITCOST ITEMS (Data Entry)'!I\",IFERROR(SUM(MATCH(A181,'UNITCOST ITEMS (Data Entry)'!$A$3:$A$504,0),2),\"\"))),\"\"))","v":""},{"$f":"IF(K181=2,\"\",IF(IFERROR(INDIRECT(CONCATENATE(\"'UNITCOST ITEMS (Data Entry)'!J\",IFERROR(SUM(MATCH(A181,'UNITCOST ITEMS (Data Entry)'!$A$3:$A$504,0),2),\"\"))),\"\")=0,\"\",IFERROR(INDIRECT(CONCATENATE(\"'UNITCOST ITEMS (Data Entry)'!J\",IFERROR(SUM(MATCH(A181,'UNITCOST ITEMS (Data Entry)'!$A$3:$A$504,0),2),\"\"))),\"\")))","v":""},null,{"$f":"IF(IFERROR(INDIRECT(CONCATENATE(\"'UNITCOST ITEMS (Data Entry)'!C\",IFERROR(SUM(MATCH(A181,'UNITCOST ITEMS (Data Entry)'!$A$3:$A$504,0),2),\"\"))),\"\")=0,\"\",IFERROR(INDIRECT(CONCATENATE(\"'UNITCOST ITEMS (Data Entry)'!C\",IFERROR(SUM(MATCH(A181,'UNITCOST ITEMS (Data Entry)'!$A$3:$A$504,0),2),\"\"))),\"\"))","v":""},""]
[174,{"$f":"IF(IFERROR(INDIRECT(CONCATENATE(\"'UNITCOST ITEMS (Data Entry)'!D\",IFERROR(SUM(MATCH(A182,'UNITCOST ITEMS (Data Entry)'!$A$3:$A$504,0),2),\"\"))),\"\")=0,\"\",IFERROR(INDIRECT(CONCATENATE(\"'UNITCOST ITEMS (Data Entry)'!D\",IFERROR(SUM(MATCH(A182,'UNITCOST ITEMS (Data Entry)'!$A$3:$A$504,0),2),\"\"))),\"\"))","v":""},{"$f":"IF(IFERROR(INDIRECT(CONCATENATE(\"'UNITCOST ITEMS (Data Entry)'!E\",IFERROR(SUM(MATCH(A182,'UNITCOST ITEMS (Data Entry)'!$A$3:$A$504,0),2),\"\"))),\"\")=0,\"\",IFERROR(INDIRECT(CONCATENATE(\"'UNITCOST ITEMS (Data Entry)'!E\",IFERROR(SUM(MATCH(A182,'UNITCOST ITEMS (Data Entry)'!$A$3:$A$504,0),2),\"\"))),\"\"))","v":""},null,{"$f":"IF(IFERROR(INDIRECT(CONCATENATE(\"'UNITCOST ITEMS (Data Entry)'!F\",IFERROR(SUM(MATCH(A182,'UNITCOST ITEMS (Data Entry)'!$A$3:$A$504,0),2),\"\"))),\"\")=0,\"\",IFERROR(INDIRECT(CONCATENATE(\"'UNITCOST ITEMS (Data Entry)'!F\",IFERROR(SUM(MATCH(A182,'UNITCOST ITEMS (Data Entry)'!$A$3:$A$504,0),2),\"\"))),\"\"))","v":""},{"$f":"IF(IFERROR(INDIRECT(CONCATENATE(\"'UNITCOST ITEMS (Data Entry)'!G\",IFERROR(SUM(MATCH(A182,'UNITCOST ITEMS (Data Entry)'!$A$3:$A$504,0),2),\"\"))),\"\")=0,\"\",IFERROR(INDIRECT(CONCATENATE(\"'UNITCOST ITEMS (Data Entry)'!G\",IFERROR(SUM(MATCH(A182,'UNITCOST ITEMS (Data Entry)'!$A$3:$A$504,0),2),\"\"))),\"\"))","v":""},{"$f":"IF(IFERROR(INDIRECT(CONCATENATE(\"'UNITCOST ITEMS (Data Entry)'!H\",IFERROR(SUM(MATCH(A182,'UNITCOST ITEMS (Data Entry)'!$A$3:$A$504,0),2),\"\"))),\"\")=0,\"\",IFERROR(INDIRECT(CONCATENATE(\"'UNITCOST ITEMS (Data Entry)'!H\",IFERROR(SUM(MATCH(A182,'UNITCOST ITEMS (Data Entry)'!$A$3:$A$504,0),2),\"\"))),\"\"))","v":""},{"$f":"IF(IFERROR(INDIRECT(CONCATENATE(\"'UNITCOST ITEMS (Data Entry)'!I\",IFERROR(SUM(MATCH(A182,'UNITCOST ITEMS (Data Entry)'!$A$3:$A$504,0),2),\"\"))),\"\")=0,\"\",IFERROR(INDIRECT(CONCATENATE(\"'UNITCOST ITEMS (Data Entry)'!I\",IFERROR(SUM(MATCH(A182,'UNITCOST ITEMS (Data Entry)'!$A$3:$A$504,0),2),\"\"))),\"\"))","v":""},{"$f":"IF(K182=2,\"\",IF(IFERROR(INDIRECT(CONCATENATE(\"'UNITCOST ITEMS (Data Entry)'!J\",IFERROR(SUM(MATCH(A182,'UNITCOST ITEMS (Data Entry)'!$A$3:$A$504,0),2),\"\"))),\"\")=0,\"\",IFERROR(INDIRECT(CONCATENATE(\"'UNITCOST ITEMS (Data Entry)'!J\",IFERROR(SUM(MATCH(A182,'UNITCOST ITEMS (Data Entry)'!$A$3:$A$504,0),2),\"\"))),\"\")))","v":""},null,{"$f":"IF(IFERROR(INDIRECT(CONCATENATE(\"'UNITCOST ITEMS (Data Entry)'!C\",IFERROR(SUM(MATCH(A182,'UNITCOST ITEMS (Data Entry)'!$A$3:$A$504,0),2),\"\"))),\"\")=0,\"\",IFERROR(INDIRECT(CONCATENATE(\"'UNITCOST ITEMS (Data Entry)'!C\",IFERROR(SUM(MATCH(A182,'UNITCOST ITEMS (Data Entry)'!$A$3:$A$504,0),2),\"\"))),\"\"))","v":""},""]
[175,{"$f":"IF(IFERROR(INDIRECT(CONCATENATE(\"'UNITCOST ITEMS (Data Entry)'!D\",IFERROR(SUM(MATCH(A183,'UNITCOST ITEMS (Data Entry)'!$A$3:$A$504,0),2),\"\"))),\"\")=0,\"\",IFERROR(INDIRECT(CONCATENATE(\"'UNITCOST ITEMS (Data Entry)'!D\",IFERROR(SUM(MATCH(A183,'UNITCOST ITEMS (Data Entry)'!$A$3:$A$504,0),2),\"\"))),\"\"))","v":""},{"$f":"IF(IFERROR(INDIRECT(CONCATENATE(\"'UNITCOST ITEMS (Data Entry)'!E\",IFERROR(SUM(MATCH(A183,'UNITCOST ITEMS (Data Entry)'!$A$3:$A$504,0),2),\"\"))),\"\")=0,\"\",IFERROR(INDIRECT(CONCATENATE(\"'UNITCOST ITEMS (Data Entry)'!E\",IFERROR(SUM(MATCH(A183,'UNITCOST ITEMS (Data Entry)'!$A$3:$A$504,0),2),\"\"))),\"\"))","v":""},null,{"$f":"IF(IFERROR(INDIRECT(CONCATENATE(\"'UNITCOST ITEMS (Data Entry)'!F\",IFERROR(SUM(MATCH(A183,'UNITCOST ITEMS (Data Entry)'!$A$3:$A$504,0),2),\"\"))),\"\")=0,\"\",IFERROR(INDIRECT(CONCATENATE(\"'UNITCOST ITEMS (Data Entry)'!F\",IFERROR(SUM(MATCH(A183,'UNITCOST ITEMS (Data Entry)'!$A$3:$A$504,0),2),\"\"))),\"\"))","v":""},{"$f":"IF(IFERROR(INDIRECT(CONCATENATE(\"'UNITCOST ITEMS (Data Entry)'!G\",IFERROR(SUM(MATCH(A183,'UNITCOST ITEMS (Data Entry)'!$A$3:$A$504,0),2),\"\"))),\"\")=0,\"\",IFERROR(INDIRECT(CONCATENATE(\"'UNITCOST ITEMS (Data Entry)'!G\",IFERROR(SUM(MATCH(A183,'UNITCOST ITEMS (Data Entry)'!$A$3:$A$504,0),2),\"\"))),\"\"))","v":""},{"$f":"IF(IFERROR(INDIRECT(CONCATENATE(\"'UNITCOST ITEMS (Data Entry)'!H\",IFERROR(SUM(MATCH(A183,'UNITCOST ITEMS (Data Entry)'!$A$3:$A$504,0),2),\"\"))),\"\")=0,\"\",IFERROR(INDIRECT(CONCATENATE(\"'UNITCOST ITEMS (Data Entry)'!H\",IFERROR(SUM(MATCH(A183,'UNITCOST ITEMS (Data Entry)'!$A$3:$A$504,0),2),\"\"))),\"\"))","v":""},{"$f":"IF(IFERROR(INDIRECT(CONCATENATE(\"'UNITCOST ITEMS (Data Entry)'!I\",IFERROR(SUM(MATCH(A183,'UNITCOST ITEMS (Data Entry)'!$A$3:$A$504,0),2),\"\"))),\"\")=0,\"\",IFERROR(INDIRECT(CONCATENATE(\"'UNITCOST ITEMS (Data Entry)'!I\",IFERROR(SUM(MATCH(A183,'UNITCOST ITEMS (Data Entry)'!$A$3:$A$504,0),2),\"\"))),\"\"))","v":""},{"$f":"IF(K183=2,\"\",IF(IFERROR(INDIRECT(CONCATENATE(\"'UNITCOST ITEMS (Data Entry)'!J\",IFERROR(SUM(MATCH(A183,'UNITCOST ITEMS (Data Entry)'!$A$3:$A$504,0),2),\"\"))),\"\")=0,\"\",IFERROR(INDIRECT(CONCATENATE(\"'UNITCOST ITEMS (Data Entry)'!J\",IFERROR(SUM(MATCH(A183,'UNITCOST ITEMS (Data Entry)'!$A$3:$A$504,0),2),\"\"))),\"\")))","v":""},null,{"$f":"IF(IFERROR(INDIRECT(CONCATENATE(\"'UNITCOST ITEMS (Data Entry)'!C\",IFERROR(SUM(MATCH(A183,'UNITCOST ITEMS (Data Entry)'!$A$3:$A$504,0),2),\"\"))),\"\")=0,\"\",IFERROR(INDIRECT(CONCATENATE(\"'UNITCOST ITEMS (Data Entry)'!C\",IFERROR(SUM(MATCH(A183,'UNITCOST ITEMS (Data Entry)'!$A$3:$A$504,0),2),\"\"))),\"\"))","v":""},""]
[176,{"$f":"IF(IFERROR(INDIRECT(CONCATENATE(\"'UNITCOST ITEMS (Data Entry)'!D\",IFERROR(SUM(MATCH(A184,'UNITCOST ITEMS (Data Entry)'!$A$3:$A$504,0),2),\"\"))),\"\")=0,\"\",IFERROR(INDIRECT(CONCATENATE(\"'UNITCOST ITEMS (Data Entry)'!D\",IFERROR(SUM(MATCH(A184,'UNITCOST ITEMS (Data Entry)'!$A$3:$A$504,0),2),\"\"))),\"\"))","v":""},{"$f":"IF(IFERROR(INDIRECT(CONCATENATE(\"'UNITCOST ITEMS (Data Entry)'!E\",IFERROR(SUM(MATCH(A184,'UNITCOST ITEMS (Data Entry)'!$A$3:$A$504,0),2),\"\"))),\"\")=0,\"\",IFERROR(INDIRECT(CONCATENATE(\"'UNITCOST ITEMS (Data Entry)'!E\",IFERROR(SUM(MATCH(A184,'UNITCOST ITEMS (Data Entry)'!$A$3:$A$504,0),2),\"\"))),\"\"))","v":""},null,{"$f":"IF(IFERROR(INDIRECT(CONCATENATE(\"'UNITCOST ITEMS (Data Entry)'!F\",IFERROR(SUM(MATCH(A184,'UNITCOST ITEMS (Data Entry)'!$A$3:$A$504,0),2),\"\"))),\"\")=0,\"\",IFERROR(INDIRECT(CONCATENATE(\"'UNITCOST ITEMS (Data Entry)'!F\",IFERROR(SUM(MATCH(A184,'UNITCOST ITEMS (Data Entry)'!$A$3:$A$504,0),2),\"\"))),\"\"))","v":""},{"$f":"IF(IFERROR(INDIRECT(CONCATENATE(\"'UNITCOST ITEMS (Data Entry)'!G\",IFERROR(SUM(MATCH(A184,'UNITCOST ITEMS (Data Entry)'!$A$3:$A$504,0),2),\"\"))),\"\")=0,\"\",IFERROR(INDIRECT(CONCATENATE(\"'UNITCOST ITEMS (Data Entry)'!G\",IFERROR(SUM(MATCH(A184,'UNITCOST ITEMS (Data Entry)'!$A$3:$A$504,0),2),\"\"))),\"\"))","v":""},{"$f":"IF(IFERROR(INDIRECT(CONCATENATE(\"'UNITCOST ITEMS (Data Entry)'!H\",IFERROR(SUM(MATCH(A184,'UNITCOST ITEMS (Data Entry)'!$A$3:$A$504,0),2),\"\"))),\"\")=0,\"\",IFERROR(INDIRECT(CONCATENATE(\"'UNITCOST ITEMS (Data Entry)'!H\",IFERROR(SUM(MATCH(A184,'UNITCOST ITEMS (Data Entry)'!$A$3:$A$504,0),2),\"\"))),\"\"))","v":""},{"$f":"IF(IFERROR(INDIRECT(CONCATENATE(\"'UNITCOST ITEMS (Data Entry)'!I\",IFERROR(SUM(MATCH(A184,'UNITCOST ITEMS (Data Entry)'!$A$3:$A$504,0),2),\"\"))),\"\")=0,\"\",IFERROR(INDIRECT(CONCATENATE(\"'UNITCOST ITEMS (Data Entry)'!I\",IFERROR(SUM(MATCH(A184,'UNITCOST ITEMS (Data Entry)'!$A$3:$A$504,0),2),\"\"))),\"\"))","v":""},{"$f":"IF(K184=2,\"\",IF(IFERROR(INDIRECT(CONCATENATE(\"'UNITCOST ITEMS (Data Entry)'!J\",IFERROR(SUM(MATCH(A184,'UNITCOST ITEMS (Data Entry)'!$A$3:$A$504,0),2),\"\"))),\"\")=0,\"\",IFERROR(INDIRECT(CONCATENATE(\"'UNITCOST ITEMS (Data Entry)'!J\",IFERROR(SUM(MATCH(A184,'UNITCOST ITEMS (Data Entry)'!$A$3:$A$504,0),2),\"\"))),\"\")))","v":""},null,{"$f":"IF(IFERROR(INDIRECT(CONCATENATE(\"'UNITCOST ITEMS (Data Entry)'!C\",IFERROR(SUM(MATCH(A184,'UNITCOST ITEMS (Data Entry)'!$A$3:$A$504,0),2),\"\"))),\"\")=0,\"\",IFERROR(INDIRECT(CONCATENATE(\"'UNITCOST ITEMS (Data Entry)'!C\",IFERROR(SUM(MATCH(A184,'UNITCOST ITEMS (Data Entry)'!$A$3:$A$504,0),2),\"\"))),\"\"))","v":""},""]
[177,{"$f":"IF(IFERROR(INDIRECT(CONCATENATE(\"'UNITCOST ITEMS (Data Entry)'!D\",IFERROR(SUM(MATCH(A185,'UNITCOST ITEMS (Data Entry)'!$A$3:$A$504,0),2),\"\"))),\"\")=0,\"\",IFERROR(INDIRECT(CONCATENATE(\"'UNITCOST ITEMS (Data Entry)'!D\",IFERROR(SUM(MATCH(A185,'UNITCOST ITEMS (Data Entry)'!$A$3:$A$504,0),2),\"\"))),\"\"))","v":""},{"$f":"IF(IFERROR(INDIRECT(CONCATENATE(\"'UNITCOST ITEMS (Data Entry)'!E\",IFERROR(SUM(MATCH(A185,'UNITCOST ITEMS (Data Entry)'!$A$3:$A$504,0),2),\"\"))),\"\")=0,\"\",IFERROR(INDIRECT(CONCATENATE(\"'UNITCOST ITEMS (Data Entry)'!E\",IFERROR(SUM(MATCH(A185,'UNITCOST ITEMS (Data Entry)'!$A$3:$A$504,0),2),\"\"))),\"\"))","v":""},null,{"$f":"IF(IFERROR(INDIRECT(CONCATENATE(\"'UNITCOST ITEMS (Data Entry)'!F\",IFERROR(SUM(MATCH(A185,'UNITCOST ITEMS (Data Entry)'!$A$3:$A$504,0),2),\"\"))),\"\")=0,\"\",IFERROR(INDIRECT(CONCATENATE(\"'UNITCOST ITEMS (Data Entry)'!F\",IFERROR(SUM(MATCH(A185,'UNITCOST ITEMS (Data Entry)'!$A$3:$A$504,0),2),\"\"))),\"\"))","v":""},{"$f":"IF(IFERROR(INDIRECT(CONCATENATE(\"'UNITCOST ITEMS (Data Entry)'!G\",IFERROR(SUM(MATCH(A185,'UNITCOST ITEMS (Data Entry)'!$A$3:$A$504,0),2),\"\"))),\"\")=0,\"\",IFERROR(INDIRECT(CONCATENATE(\"'UNITCOST ITEMS (Data Entry)'!G\",IFERROR(SUM(MATCH(A185,'UNITCOST ITEMS (Data Entry)'!$A$3:$A$504,0),2),\"\"))),\"\"))","v":""},{"$f":"IF(IFERROR(INDIRECT(CONCATENATE(\"'UNITCOST ITEMS (Data Entry)'!H\",IFERROR(SUM(MATCH(A185,'UNITCOST ITEMS (Data Entry)'!$A$3:$A$504,0),2),\"\"))),\"\")=0,\"\",IFERROR(INDIRECT(CONCATENATE(\"'UNITCOST ITEMS (Data Entry)'!H\",IFERROR(SUM(MATCH(A185,'UNITCOST ITEMS (Data Entry)'!$A$3:$A$504,0),2),\"\"))),\"\"))","v":""},{"$f":"IF(IFERROR(INDIRECT(CONCATENATE(\"'UNITCOST ITEMS (Data Entry)'!I\",IFERROR(SUM(MATCH(A185,'UNITCOST ITEMS (Data Entry)'!$A$3:$A$504,0),2),\"\"))),\"\")=0,\"\",IFERROR(INDIRECT(CONCATENATE(\"'UNITCOST ITEMS (Data Entry)'!I\",IFERROR(SUM(MATCH(A185,'UNITCOST ITEMS (Data Entry)'!$A$3:$A$504,0),2),\"\"))),\"\"))","v":""},{"$f":"IF(K185=2,\"\",IF(IFERROR(INDIRECT(CONCATENATE(\"'UNITCOST ITEMS (Data Entry)'!J\",IFERROR(SUM(MATCH(A185,'UNITCOST ITEMS (Data Entry)'!$A$3:$A$504,0),2),\"\"))),\"\")=0,\"\",IFERROR(INDIRECT(CONCATENATE(\"'UNITCOST ITEMS (Data Entry)'!J\",IFERROR(SUM(MATCH(A185,'UNITCOST ITEMS (Data Entry)'!$A$3:$A$504,0),2),\"\"))),\"\")))","v":""},null,{"$f":"IF(IFERROR(INDIRECT(CONCATENATE(\"'UNITCOST ITEMS (Data Entry)'!C\",IFERROR(SUM(MATCH(A185,'UNITCOST ITEMS (Data Entry)'!$A$3:$A$504,0),2),\"\"))),\"\")=0,\"\",IFERROR(INDIRECT(CONCATENATE(\"'UNITCOST ITEMS (Data Entry)'!C\",IFERROR(SUM(MATCH(A185,'UNITCOST ITEMS (Data Entry)'!$A$3:$A$504,0),2),\"\"))),\"\"))","v":""},""]
[178,{"$f":"IF(IFERROR(INDIRECT(CONCATENATE(\"'UNITCOST ITEMS (Data Entry)'!D\",IFERROR(SUM(MATCH(A186,'UNITCOST ITEMS (Data Entry)'!$A$3:$A$504,0),2),\"\"))),\"\")=0,\"\",IFERROR(INDIRECT(CONCATENATE(\"'UNITCOST ITEMS (Data Entry)'!D\",IFERROR(SUM(MATCH(A186,'UNITCOST ITEMS (Data Entry)'!$A$3:$A$504,0),2),\"\"))),\"\"))","v":""},{"$f":"IF(IFERROR(INDIRECT(CONCATENATE(\"'UNITCOST ITEMS (Data Entry)'!E\",IFERROR(SUM(MATCH(A186,'UNITCOST ITEMS (Data Entry)'!$A$3:$A$504,0),2),\"\"))),\"\")=0,\"\",IFERROR(INDIRECT(CONCATENATE(\"'UNITCOST ITEMS (Data Entry)'!E\",IFERROR(SUM(MATCH(A186,'UNITCOST ITEMS (Data Entry)'!$A$3:$A$504,0),2),\"\"))),\"\"))","v":""},null,{"$f":"IF(IFERROR(INDIRECT(CONCATENATE(\"'UNITCOST ITEMS (Data Entry)'!F\",IFERROR(SUM(MATCH(A186,'UNITCOST ITEMS (Data Entry)'!$A$3:$A$504,0),2),\"\"))),\"\")=0,\"\",IFERROR(INDIRECT(CONCATENATE(\"'UNITCOST ITEMS (Data Entry)'!F\",IFERROR(SUM(MATCH(A186,'UNITCOST ITEMS (Data Entry)'!$A$3:$A$504,0),2),\"\"))),\"\"))","v":""},{"$f":"IF(IFERROR(INDIRECT(CONCATENATE(\"'UNITCOST ITEMS (Data Entry)'!G\",IFERROR(SUM(MATCH(A186,'UNITCOST ITEMS (Data Entry)'!$A$3:$A$504,0),2),\"\"))),\"\")=0,\"\",IFERROR(INDIRECT(CONCATENATE(\"'UNITCOST ITEMS (Data Entry)'!G\",IFERROR(SUM(MATCH(A186,'UNITCOST ITEMS (Data Entry)'!$A$3:$A$504,0),2),\"\"))),\"\"))","v":""},{"$f":"IF(IFERROR(INDIRECT(CONCATENATE(\"'UNITCOST ITEMS (Data Entry)'!H\",IFERROR(SUM(MATCH(A186,'UNITCOST ITEMS (Data Entry)'!$A$3:$A$504,0),2),\"\"))),\"\")=0,\"\",IFERROR(INDIRECT(CONCATENATE(\"'UNITCOST ITEMS (Data Entry)'!H\",IFERROR(SUM(MATCH(A186,'UNITCOST ITEMS (Data Entry)'!$A$3:$A$504,0),2),\"\"))),\"\"))","v":""},{"$f":"IF(IFERROR(INDIRECT(CONCATENATE(\"'UNITCOST ITEMS (Data Entry)'!I\",IFERROR(SUM(MATCH(A186,'UNITCOST ITEMS (Data Entry)'!$A$3:$A$504,0),2),\"\"))),\"\")=0,\"\",IFERROR(INDIRECT(CONCATENATE(\"'UNITCOST ITEMS (Data Entry)'!I\",IFERROR(SUM(MATCH(A186,'UNITCOST ITEMS (Data Entry)'!$A$3:$A$504,0),2),\"\"))),\"\"))","v":""},{"$f":"IF(K186=2,\"\",IF(IFERROR(INDIRECT(CONCATENATE(\"'UNITCOST ITEMS (Data Entry)'!J\",IFERROR(SUM(MATCH(A186,'UNITCOST ITEMS (Data Entry)'!$A$3:$A$504,0),2),\"\"))),\"\")=0,\"\",IFERROR(INDIRECT(CONCATENATE(\"'UNITCOST ITEMS (Data Entry)'!J\",IFERROR(SUM(MATCH(A186,'UNITCOST ITEMS (Data Entry)'!$A$3:$A$504,0),2),\"\"))),\"\")))","v":""},null,{"$f":"IF(IFERROR(INDIRECT(CONCATENATE(\"'UNITCOST ITEMS (Data Entry)'!C\",IFERROR(SUM(MATCH(A186,'UNITCOST ITEMS (Data Entry)'!$A$3:$A$504,0),2),\"\"))),\"\")=0,\"\",IFERROR(INDIRECT(CONCATENATE(\"'UNITCOST ITEMS (Data Entry)'!C\",IFERROR(SUM(MATCH(A186,'UNITCOST ITEMS (Data Entry)'!$A$3:$A$504,0),2),\"\"))),\"\"))","v":""},""]
[179,{"$f":"IF(IFERROR(INDIRECT(CONCATENATE(\"'UNITCOST ITEMS (Data Entry)'!D\",IFERROR(SUM(MATCH(A187,'UNITCOST ITEMS (Data Entry)'!$A$3:$A$504,0),2),\"\"))),\"\")=0,\"\",IFERROR(INDIRECT(CONCATENATE(\"'UNITCOST ITEMS (Data Entry)'!D\",IFERROR(SUM(MATCH(A187,'UNITCOST ITEMS (Data Entry)'!$A$3:$A$504,0),2),\"\"))),\"\"))","v":""},{"$f":"IF(IFERROR(INDIRECT(CONCATENATE(\"'UNITCOST ITEMS (Data Entry)'!E\",IFERROR(SUM(MATCH(A187,'UNITCOST ITEMS (Data Entry)'!$A$3:$A$504,0),2),\"\"))),\"\")=0,\"\",IFERROR(INDIRECT(CONCATENATE(\"'UNITCOST ITEMS (Data Entry)'!E\",IFERROR(SUM(MATCH(A187,'UNITCOST ITEMS (Data Entry)'!$A$3:$A$504,0),2),\"\"))),\"\"))","v":""},null,{"$f":"IF(IFERROR(INDIRECT(CONCATENATE(\"'UNITCOST ITEMS (Data Entry)'!F\",IFERROR(SUM(MATCH(A187,'UNITCOST ITEMS (Data Entry)'!$A$3:$A$504,0),2),\"\"))),\"\")=0,\"\",IFERROR(INDIRECT(CONCATENATE(\"'UNITCOST ITEMS (Data Entry)'!F\",IFERROR(SUM(MATCH(A187,'UNITCOST ITEMS (Data Entry)'!$A$3:$A$504,0),2),\"\"))),\"\"))","v":""},{"$f":"IF(IFERROR(INDIRECT(CONCATENATE(\"'UNITCOST ITEMS (Data Entry)'!G\",IFERROR(SUM(MATCH(A187,'UNITCOST ITEMS (Data Entry)'!$A$3:$A$504,0),2),\"\"))),\"\")=0,\"\",IFERROR(INDIRECT(CONCATENATE(\"'UNITCOST ITEMS (Data Entry)'!G\",IFERROR(SUM(MATCH(A187,'UNITCOST ITEMS (Data Entry)'!$A$3:$A$504,0),2),\"\"))),\"\"))","v":""},{"$f":"IF(IFERROR(INDIRECT(CONCATENATE(\"'UNITCOST ITEMS (Data Entry)'!H\",IFERROR(SUM(MATCH(A187,'UNITCOST ITEMS (Data Entry)'!$A$3:$A$504,0),2),\"\"))),\"\")=0,\"\",IFERROR(INDIRECT(CONCATENATE(\"'UNITCOST ITEMS (Data Entry)'!H\",IFERROR(SUM(MATCH(A187,'UNITCOST ITEMS (Data Entry)'!$A$3:$A$504,0),2),\"\"))),\"\"))","v":""},{"$f":"IF(IFERROR(INDIRECT(CONCATENATE(\"'UNITCOST ITEMS (Data Entry)'!I\",IFERROR(SUM(MATCH(A187,'UNITCOST ITEMS (Data Entry)'!$A$3:$A$504,0),2),\"\"))),\"\")=0,\"\",IFERROR(INDIRECT(CONCATENATE(\"'UNITCOST ITEMS (Data Entry)'!I\",IFERROR(SUM(MATCH(A187,'UNITCOST ITEMS (Data Entry)'!$A$3:$A$504,0),2),\"\"))),\"\"))","v":""},{"$f":"IF(K187=2,\"\",IF(IFERROR(INDIRECT(CONCATENATE(\"'UNITCOST ITEMS (Data Entry)'!J\",IFERROR(SUM(MATCH(A187,'UNITCOST ITEMS (Data Entry)'!$A$3:$A$504,0),2),\"\"))),\"\")=0,\"\",IFERROR(INDIRECT(CONCATENATE(\"'UNITCOST ITEMS (Data Entry)'!J\",IFERROR(SUM(MATCH(A187,'UNITCOST ITEMS (Data Entry)'!$A$3:$A$504,0),2),\"\"))),\"\")))","v":""},null,{"$f":"IF(IFERROR(INDIRECT(CONCATENATE(\"'UNITCOST ITEMS (Data Entry)'!C\",IFERROR(SUM(MATCH(A187,'UNITCOST ITEMS (Data Entry)'!$A$3:$A$504,0),2),\"\"))),\"\")=0,\"\",IFERROR(INDIRECT(CONCATENATE(\"'UNITCOST ITEMS (Data Entry)'!C\",IFERROR(SUM(MATCH(A187,'UNITCOST ITEMS (Data Entry)'!$A$3:$A$504,0),2),\"\"))),\"\"))","v":""},""]
[180,{"$f":"IF(IFERROR(INDIRECT(CONCATENATE(\"'UNITCOST ITEMS (Data Entry)'!D\",IFERROR(SUM(MATCH(A188,'UNITCOST ITEMS (Data Entry)'!$A$3:$A$504,0),2),\"\"))),\"\")=0,\"\",IFERROR(INDIRECT(CONCATENATE(\"'UNITCOST ITEMS (Data Entry)'!D\",IFERROR(SUM(MATCH(A188,'UNITCOST ITEMS (Data Entry)'!$A$3:$A$504,0),2),\"\"))),\"\"))","v":""},{"$f":"IF(IFERROR(INDIRECT(CONCATENATE(\"'UNITCOST ITEMS (Data Entry)'!E\",IFERROR(SUM(MATCH(A188,'UNITCOST ITEMS (Data Entry)'!$A$3:$A$504,0),2),\"\"))),\"\")=0,\"\",IFERROR(INDIRECT(CONCATENATE(\"'UNITCOST ITEMS (Data Entry)'!E\",IFERROR(SUM(MATCH(A188,'UNITCOST ITEMS (Data Entry)'!$A$3:$A$504,0),2),\"\"))),\"\"))","v":""},null,{"$f":"IF(IFERROR(INDIRECT(CONCATENATE(\"'UNITCOST ITEMS (Data Entry)'!F\",IFERROR(SUM(MATCH(A188,'UNITCOST ITEMS (Data Entry)'!$A$3:$A$504,0),2),\"\"))),\"\")=0,\"\",IFERROR(INDIRECT(CONCATENATE(\"'UNITCOST ITEMS (Data Entry)'!F\",IFERROR(SUM(MATCH(A188,'UNITCOST ITEMS (Data Entry)'!$A$3:$A$504,0),2),\"\"))),\"\"))","v":""},{"$f":"IF(IFERROR(INDIRECT(CONCATENATE(\"'UNITCOST ITEMS (Data Entry)'!G\",IFERROR(SUM(MATCH(A188,'UNITCOST ITEMS (Data Entry)'!$A$3:$A$504,0),2),\"\"))),\"\")=0,\"\",IFERROR(INDIRECT(CONCATENATE(\"'UNITCOST ITEMS (Data Entry)'!G\",IFERROR(SUM(MATCH(A188,'UNITCOST ITEMS (Data Entry)'!$A$3:$A$504,0),2),\"\"))),\"\"))","v":""},{"$f":"IF(IFERROR(INDIRECT(CONCATENATE(\"'UNITCOST ITEMS (Data Entry)'!H\",IFERROR(SUM(MATCH(A188,'UNITCOST ITEMS (Data Entry)'!$A$3:$A$504,0),2),\"\"))),\"\")=0,\"\",IFERROR(INDIRECT(CONCATENATE(\"'UNITCOST ITEMS (Data Entry)'!H\",IFERROR(SUM(MATCH(A188,'UNITCOST ITEMS (Data Entry)'!$A$3:$A$504,0),2),\"\"))),\"\"))","v":""},{"$f":"IF(IFERROR(INDIRECT(CONCATENATE(\"'UNITCOST ITEMS (Data Entry)'!I\",IFERROR(SUM(MATCH(A188,'UNITCOST ITEMS (Data Entry)'!$A$3:$A$504,0),2),\"\"))),\"\")=0,\"\",IFERROR(INDIRECT(CONCATENATE(\"'UNITCOST ITEMS (Data Entry)'!I\",IFERROR(SUM(MATCH(A188,'UNITCOST ITEMS (Data Entry)'!$A$3:$A$504,0),2),\"\"))),\"\"))","v":""},{"$f":"IF(K188=2,\"\",IF(IFERROR(INDIRECT(CONCATENATE(\"'UNITCOST ITEMS (Data Entry)'!J\",IFERROR(SUM(MATCH(A188,'UNITCOST ITEMS (Data Entry)'!$A$3:$A$504,0),2),\"\"))),\"\")=0,\"\",IFERROR(INDIRECT(CONCATENATE(\"'UNITCOST ITEMS (Data Entry)'!J\",IFERROR(SUM(MATCH(A188,'UNITCOST ITEMS (Data Entry)'!$A$3:$A$504,0),2),\"\"))),\"\")))","v":""},null,{"$f":"IF(IFERROR(INDIRECT(CONCATENATE(\"'UNITCOST ITEMS (Data Entry)'!C\",IFERROR(SUM(MATCH(A188,'UNITCOST ITEMS (Data Entry)'!$A$3:$A$504,0),2),\"\"))),\"\")=0,\"\",IFERROR(INDIRECT(CONCATENATE(\"'UNITCOST ITEMS (Data Entry)'!C\",IFERROR(SUM(MATCH(A188,'UNITCOST ITEMS (Data Entry)'!$A$3:$A$504,0),2),\"\"))),\"\"))","v":""},""]
[181,{"$f":"IF(IFERROR(INDIRECT(CONCATENATE(\"'UNITCOST ITEMS (Data Entry)'!D\",IFERROR(SUM(MATCH(A189,'UNITCOST ITEMS (Data Entry)'!$A$3:$A$504,0),2),\"\"))),\"\")=0,\"\",IFERROR(INDIRECT(CONCATENATE(\"'UNITCOST ITEMS (Data Entry)'!D\",IFERROR(SUM(MATCH(A189,'UNITCOST ITEMS (Data Entry)'!$A$3:$A$504,0),2),\"\"))),\"\"))","v":""},{"$f":"IF(IFERROR(INDIRECT(CONCATENATE(\"'UNITCOST ITEMS (Data Entry)'!E\",IFERROR(SUM(MATCH(A189,'UNITCOST ITEMS (Data Entry)'!$A$3:$A$504,0),2),\"\"))),\"\")=0,\"\",IFERROR(INDIRECT(CONCATENATE(\"'UNITCOST ITEMS (Data Entry)'!E\",IFERROR(SUM(MATCH(A189,'UNITCOST ITEMS (Data Entry)'!$A$3:$A$504,0),2),\"\"))),\"\"))","v":""},null,{"$f":"IF(IFERROR(INDIRECT(CONCATENATE(\"'UNITCOST ITEMS (Data Entry)'!F\",IFERROR(SUM(MATCH(A189,'UNITCOST ITEMS (Data Entry)'!$A$3:$A$504,0),2),\"\"))),\"\")=0,\"\",IFERROR(INDIRECT(CONCATENATE(\"'UNITCOST ITEMS (Data Entry)'!F\",IFERROR(SUM(MATCH(A189,'UNITCOST ITEMS (Data Entry)'!$A$3:$A$504,0),2),\"\"))),\"\"))","v":""},{"$f":"IF(IFERROR(INDIRECT(CONCATENATE(\"'UNITCOST ITEMS (Data Entry)'!G\",IFERROR(SUM(MATCH(A189,'UNITCOST ITEMS (Data Entry)'!$A$3:$A$504,0),2),\"\"))),\"\")=0,\"\",IFERROR(INDIRECT(CONCATENATE(\"'UNITCOST ITEMS (Data Entry)'!G\",IFERROR(SUM(MATCH(A189,'UNITCOST ITEMS (Data Entry)'!$A$3:$A$504,0),2),\"\"))),\"\"))","v":""},{"$f":"IF(IFERROR(INDIRECT(CONCATENATE(\"'UNITCOST ITEMS (Data Entry)'!H\",IFERROR(SUM(MATCH(A189,'UNITCOST ITEMS (Data Entry)'!$A$3:$A$504,0),2),\"\"))),\"\")=0,\"\",IFERROR(INDIRECT(CONCATENATE(\"'UNITCOST ITEMS (Data Entry)'!H\",IFERROR(SUM(MATCH(A189,'UNITCOST ITEMS (Data Entry)'!$A$3:$A$504,0),2),\"\"))),\"\"))","v":""},{"$f":"IF(IFERROR(INDIRECT(CONCATENATE(\"'UNITCOST ITEMS (Data Entry)'!I\",IFERROR(SUM(MATCH(A189,'UNITCOST ITEMS (Data Entry)'!$A$3:$A$504,0),2),\"\"))),\"\")=0,\"\",IFERROR(INDIRECT(CONCATENATE(\"'UNITCOST ITEMS (Data Entry)'!I\",IFERROR(SUM(MATCH(A189,'UNITCOST ITEMS (Data Entry)'!$A$3:$A$504,0),2),\"\"))),\"\"))","v":""},{"$f":"IF(K189=2,\"\",IF(IFERROR(INDIRECT(CONCATENATE(\"'UNITCOST ITEMS (Data Entry)'!J\",IFERROR(SUM(MATCH(A189,'UNITCOST ITEMS (Data Entry)'!$A$3:$A$504,0),2),\"\"))),\"\")=0,\"\",IFERROR(INDIRECT(CONCATENATE(\"'UNITCOST ITEMS (Data Entry)'!J\",IFERROR(SUM(MATCH(A189,'UNITCOST ITEMS (Data Entry)'!$A$3:$A$504,0),2),\"\"))),\"\")))","v":""},null,{"$f":"IF(IFERROR(INDIRECT(CONCATENATE(\"'UNITCOST ITEMS (Data Entry)'!C\",IFERROR(SUM(MATCH(A189,'UNITCOST ITEMS (Data Entry)'!$A$3:$A$504,0),2),\"\"))),\"\")=0,\"\",IFERROR(INDIRECT(CONCATENATE(\"'UNITCOST ITEMS (Data Entry)'!C\",IFERROR(SUM(MATCH(A189,'UNITCOST ITEMS (Data Entry)'!$A$3:$A$504,0),2),\"\"))),\"\"))","v":""},""]
[182,{"$f":"IF(IFERROR(INDIRECT(CONCATENATE(\"'UNITCOST ITEMS (Data Entry)'!D\",IFERROR(SUM(MATCH(A190,'UNITCOST ITEMS (Data Entry)'!$A$3:$A$504,0),2),\"\"))),\"\")=0,\"\",IFERROR(INDIRECT(CONCATENATE(\"'UNITCOST ITEMS (Data Entry)'!D\",IFERROR(SUM(MATCH(A190,'UNITCOST ITEMS (Data Entry)'!$A$3:$A$504,0),2),\"\"))),\"\"))","v":""},{"$f":"IF(IFERROR(INDIRECT(CONCATENATE(\"'UNITCOST ITEMS (Data Entry)'!E\",IFERROR(SUM(MATCH(A190,'UNITCOST ITEMS (Data Entry)'!$A$3:$A$504,0),2),\"\"))),\"\")=0,\"\",IFERROR(INDIRECT(CONCATENATE(\"'UNITCOST ITEMS (Data Entry)'!E\",IFERROR(SUM(MATCH(A190,'UNITCOST ITEMS (Data Entry)'!$A$3:$A$504,0),2),\"\"))),\"\"))","v":""},null,{"$f":"IF(IFERROR(INDIRECT(CONCATENATE(\"'UNITCOST ITEMS (Data Entry)'!F\",IFERROR(SUM(MATCH(A190,'UNITCOST ITEMS (Data Entry)'!$A$3:$A$504,0),2),\"\"))),\"\")=0,\"\",IFERROR(INDIRECT(CONCATENATE(\"'UNITCOST ITEMS (Data Entry)'!F\",IFERROR(SUM(MATCH(A190,'UNITCOST ITEMS (Data Entry)'!$A$3:$A$504,0),2),\"\"))),\"\"))","v":""},{"$f":"IF(IFERROR(INDIRECT(CONCATENATE(\"'UNITCOST ITEMS (Data Entry)'!G\",IFERROR(SUM(MATCH(A190,'UNITCOST ITEMS (Data Entry)'!$A$3:$A$504,0),2),\"\"))),\"\")=0,\"\",IFERROR(INDIRECT(CONCATENATE(\"'UNITCOST ITEMS (Data Entry)'!G\",IFERROR(SUM(MATCH(A190,'UNITCOST ITEMS (Data Entry)'!$A$3:$A$504,0),2),\"\"))),\"\"))","v":""},{"$f":"IF(IFERROR(INDIRECT(CONCATENATE(\"'UNITCOST ITEMS (Data Entry)'!H\",IFERROR(SUM(MATCH(A190,'UNITCOST ITEMS (Data Entry)'!$A$3:$A$504,0),2),\"\"))),\"\")=0,\"\",IFERROR(INDIRECT(CONCATENATE(\"'UNITCOST ITEMS (Data Entry)'!H\",IFERROR(SUM(MATCH(A190,'UNITCOST ITEMS (Data Entry)'!$A$3:$A$504,0),2),\"\"))),\"\"))","v":""},{"$f":"IF(IFERROR(INDIRECT(CONCATENATE(\"'UNITCOST ITEMS (Data Entry)'!I\",IFERROR(SUM(MATCH(A190,'UNITCOST ITEMS (Data Entry)'!$A$3:$A$504,0),2),\"\"))),\"\")=0,\"\",IFERROR(INDIRECT(CONCATENATE(\"'UNITCOST ITEMS (Data Entry)'!I\",IFERROR(SUM(MATCH(A190,'UNITCOST ITEMS (Data Entry)'!$A$3:$A$504,0),2),\"\"))),\"\"))","v":""},{"$f":"IF(K190=2,\"\",IF(IFERROR(INDIRECT(CONCATENATE(\"'UNITCOST ITEMS (Data Entry)'!J\",IFERROR(SUM(MATCH(A190,'UNITCOST ITEMS (Data Entry)'!$A$3:$A$504,0),2),\"\"))),\"\")=0,\"\",IFERROR(INDIRECT(CONCATENATE(\"'UNITCOST ITEMS (Data Entry)'!J\",IFERROR(SUM(MATCH(A190,'UNITCOST ITEMS (Data Entry)'!$A$3:$A$504,0),2),\"\"))),\"\")))","v":""},null,{"$f":"IF(IFERROR(INDIRECT(CONCATENATE(\"'UNITCOST ITEMS (Data Entry)'!C\",IFERROR(SUM(MATCH(A190,'UNITCOST ITEMS (Data Entry)'!$A$3:$A$504,0),2),\"\"))),\"\")=0,\"\",IFERROR(INDIRECT(CONCATENATE(\"'UNITCOST ITEMS (Data Entry)'!C\",IFERROR(SUM(MATCH(A190,'UNITCOST ITEMS (Data Entry)'!$A$3:$A$504,0),2),\"\"))),\"\"))","v":""},""]
[183,{"$f":"IF(IFERROR(INDIRECT(CONCATENATE(\"'UNITCOST ITEMS (Data Entry)'!D\",IFERROR(SUM(MATCH(A191,'UNITCOST ITEMS (Data Entry)'!$A$3:$A$504,0),2),\"\"))),\"\")=0,\"\",IFERROR(INDIRECT(CONCATENATE(\"'UNITCOST ITEMS (Data Entry)'!D\",IFERROR(SUM(MATCH(A191,'UNITCOST ITEMS (Data Entry)'!$A$3:$A$504,0),2),\"\"))),\"\"))","v":""},{"$f":"IF(IFERROR(INDIRECT(CONCATENATE(\"'UNITCOST ITEMS (Data Entry)'!E\",IFERROR(SUM(MATCH(A191,'UNITCOST ITEMS (Data Entry)'!$A$3:$A$504,0),2),\"\"))),\"\")=0,\"\",IFERROR(INDIRECT(CONCATENATE(\"'UNITCOST ITEMS (Data Entry)'!E\",IFERROR(SUM(MATCH(A191,'UNITCOST ITEMS (Data Entry)'!$A$3:$A$504,0),2),\"\"))),\"\"))","v":""},null,{"$f":"IF(IFERROR(INDIRECT(CONCATENATE(\"'UNITCOST ITEMS (Data Entry)'!F\",IFERROR(SUM(MATCH(A191,'UNITCOST ITEMS (Data Entry)'!$A$3:$A$504,0),2),\"\"))),\"\")=0,\"\",IFERROR(INDIRECT(CONCATENATE(\"'UNITCOST ITEMS (Data Entry)'!F\",IFERROR(SUM(MATCH(A191,'UNITCOST ITEMS (Data Entry)'!$A$3:$A$504,0),2),\"\"))),\"\"))","v":""},{"$f":"IF(IFERROR(INDIRECT(CONCATENATE(\"'UNITCOST ITEMS (Data Entry)'!G\",IFERROR(SUM(MATCH(A191,'UNITCOST ITEMS (Data Entry)'!$A$3:$A$504,0),2),\"\"))),\"\")=0,\"\",IFERROR(INDIRECT(CONCATENATE(\"'UNITCOST ITEMS (Data Entry)'!G\",IFERROR(SUM(MATCH(A191,'UNITCOST ITEMS (Data Entry)'!$A$3:$A$504,0),2),\"\"))),\"\"))","v":""},{"$f":"IF(IFERROR(INDIRECT(CONCATENATE(\"'UNITCOST ITEMS (Data Entry)'!H\",IFERROR(SUM(MATCH(A191,'UNITCOST ITEMS (Data Entry)'!$A$3:$A$504,0),2),\"\"))),\"\")=0,\"\",IFERROR(INDIRECT(CONCATENATE(\"'UNITCOST ITEMS (Data Entry)'!H\",IFERROR(SUM(MATCH(A191,'UNITCOST ITEMS (Data Entry)'!$A$3:$A$504,0),2),\"\"))),\"\"))","v":""},{"$f":"IF(IFERROR(INDIRECT(CONCATENATE(\"'UNITCOST ITEMS (Data Entry)'!I\",IFERROR(SUM(MATCH(A191,'UNITCOST ITEMS (Data Entry)'!$A$3:$A$504,0),2),\"\"))),\"\")=0,\"\",IFERROR(INDIRECT(CONCATENATE(\"'UNITCOST ITEMS (Data Entry)'!I\",IFERROR(SUM(MATCH(A191,'UNITCOST ITEMS (Data Entry)'!$A$3:$A$504,0),2),\"\"))),\"\"))","v":""},{"$f":"IF(K191=2,\"\",IF(IFERROR(INDIRECT(CONCATENATE(\"'UNITCOST ITEMS (Data Entry)'!J\",IFERROR(SUM(MATCH(A191,'UNITCOST ITEMS (Data Entry)'!$A$3:$A$504,0),2),\"\"))),\"\")=0,\"\",IFERROR(INDIRECT(CONCATENATE(\"'UNITCOST ITEMS (Data Entry)'!J\",IFERROR(SUM(MATCH(A191,'UNITCOST ITEMS (Data Entry)'!$A$3:$A$504,0),2),\"\"))),\"\")))","v":""},null,{"$f":"IF(IFERROR(INDIRECT(CONCATENATE(\"'UNITCOST ITEMS (Data Entry)'!C\",IFERROR(SUM(MATCH(A191,'UNITCOST ITEMS (Data Entry)'!$A$3:$A$504,0),2),\"\"))),\"\")=0,\"\",IFERROR(INDIRECT(CONCATENATE(\"'UNITCOST ITEMS (Data Entry)'!C\",IFERROR(SUM(MATCH(A191,'UNITCOST ITEMS (Data Entry)'!$A$3:$A$504,0),2),\"\"))),\"\"))","v":""},""]
[184,{"$f":"IF(IFERROR(INDIRECT(CONCATENATE(\"'UNITCOST ITEMS (Data Entry)'!D\",IFERROR(SUM(MATCH(A192,'UNITCOST ITEMS (Data Entry)'!$A$3:$A$504,0),2),\"\"))),\"\")=0,\"\",IFERROR(INDIRECT(CONCATENATE(\"'UNITCOST ITEMS (Data Entry)'!D\",IFERROR(SUM(MATCH(A192,'UNITCOST ITEMS (Data Entry)'!$A$3:$A$504,0),2),\"\"))),\"\"))","v":""},{"$f":"IF(IFERROR(INDIRECT(CONCATENATE(\"'UNITCOST ITEMS (Data Entry)'!E\",IFERROR(SUM(MATCH(A192,'UNITCOST ITEMS (Data Entry)'!$A$3:$A$504,0),2),\"\"))),\"\")=0,\"\",IFERROR(INDIRECT(CONCATENATE(\"'UNITCOST ITEMS (Data Entry)'!E\",IFERROR(SUM(MATCH(A192,'UNITCOST ITEMS (Data Entry)'!$A$3:$A$504,0),2),\"\"))),\"\"))","v":""},null,{"$f":"IF(IFERROR(INDIRECT(CONCATENATE(\"'UNITCOST ITEMS (Data Entry)'!F\",IFERROR(SUM(MATCH(A192,'UNITCOST ITEMS (Data Entry)'!$A$3:$A$504,0),2),\"\"))),\"\")=0,\"\",IFERROR(INDIRECT(CONCATENATE(\"'UNITCOST ITEMS (Data Entry)'!F\",IFERROR(SUM(MATCH(A192,'UNITCOST ITEMS (Data Entry)'!$A$3:$A$504,0),2),\"\"))),\"\"))","v":""},{"$f":"IF(IFERROR(INDIRECT(CONCATENATE(\"'UNITCOST ITEMS (Data Entry)'!G\",IFERROR(SUM(MATCH(A192,'UNITCOST ITEMS (Data Entry)'!$A$3:$A$504,0),2),\"\"))),\"\")=0,\"\",IFERROR(INDIRECT(CONCATENATE(\"'UNITCOST ITEMS (Data Entry)'!G\",IFERROR(SUM(MATCH(A192,'UNITCOST ITEMS (Data Entry)'!$A$3:$A$504,0),2),\"\"))),\"\"))","v":""},{"$f":"IF(IFERROR(INDIRECT(CONCATENATE(\"'UNITCOST ITEMS (Data Entry)'!H\",IFERROR(SUM(MATCH(A192,'UNITCOST ITEMS (Data Entry)'!$A$3:$A$504,0),2),\"\"))),\"\")=0,\"\",IFERROR(INDIRECT(CONCATENATE(\"'UNITCOST ITEMS (Data Entry)'!H\",IFERROR(SUM(MATCH(A192,'UNITCOST ITEMS (Data Entry)'!$A$3:$A$504,0),2),\"\"))),\"\"))","v":""},{"$f":"IF(IFERROR(INDIRECT(CONCATENATE(\"'UNITCOST ITEMS (Data Entry)'!I\",IFERROR(SUM(MATCH(A192,'UNITCOST ITEMS (Data Entry)'!$A$3:$A$504,0),2),\"\"))),\"\")=0,\"\",IFERROR(INDIRECT(CONCATENATE(\"'UNITCOST ITEMS (Data Entry)'!I\",IFERROR(SUM(MATCH(A192,'UNITCOST ITEMS (Data Entry)'!$A$3:$A$504,0),2),\"\"))),\"\"))","v":""},{"$f":"IF(K192=2,\"\",IF(IFERROR(INDIRECT(CONCATENATE(\"'UNITCOST ITEMS (Data Entry)'!J\",IFERROR(SUM(MATCH(A192,'UNITCOST ITEMS (Data Entry)'!$A$3:$A$504,0),2),\"\"))),\"\")=0,\"\",IFERROR(INDIRECT(CONCATENATE(\"'UNITCOST ITEMS (Data Entry)'!J\",IFERROR(SUM(MATCH(A192,'UNITCOST ITEMS (Data Entry)'!$A$3:$A$504,0),2),\"\"))),\"\")))","v":""},null,{"$f":"IF(IFERROR(INDIRECT(CONCATENATE(\"'UNITCOST ITEMS (Data Entry)'!C\",IFERROR(SUM(MATCH(A192,'UNITCOST ITEMS (Data Entry)'!$A$3:$A$504,0),2),\"\"))),\"\")=0,\"\",IFERROR(INDIRECT(CONCATENATE(\"'UNITCOST ITEMS (Data Entry)'!C\",IFERROR(SUM(MATCH(A192,'UNITCOST ITEMS (Data Entry)'!$A$3:$A$504,0),2),\"\"))),\"\"))","v":""},""]
[185,{"$f":"IF(IFERROR(INDIRECT(CONCATENATE(\"'UNITCOST ITEMS (Data Entry)'!D\",IFERROR(SUM(MATCH(A193,'UNITCOST ITEMS (Data Entry)'!$A$3:$A$504,0),2),\"\"))),\"\")=0,\"\",IFERROR(INDIRECT(CONCATENATE(\"'UNITCOST ITEMS (Data Entry)'!D\",IFERROR(SUM(MATCH(A193,'UNITCOST ITEMS (Data Entry)'!$A$3:$A$504,0),2),\"\"))),\"\"))","v":""},{"$f":"IF(IFERROR(INDIRECT(CONCATENATE(\"'UNITCOST ITEMS (Data Entry)'!E\",IFERROR(SUM(MATCH(A193,'UNITCOST ITEMS (Data Entry)'!$A$3:$A$504,0),2),\"\"))),\"\")=0,\"\",IFERROR(INDIRECT(CONCATENATE(\"'UNITCOST ITEMS (Data Entry)'!E\",IFERROR(SUM(MATCH(A193,'UNITCOST ITEMS (Data Entry)'!$A$3:$A$504,0),2),\"\"))),\"\"))","v":""},null,{"$f":"IF(IFERROR(INDIRECT(CONCATENATE(\"'UNITCOST ITEMS (Data Entry)'!F\",IFERROR(SUM(MATCH(A193,'UNITCOST ITEMS (Data Entry)'!$A$3:$A$504,0),2),\"\"))),\"\")=0,\"\",IFERROR(INDIRECT(CONCATENATE(\"'UNITCOST ITEMS (Data Entry)'!F\",IFERROR(SUM(MATCH(A193,'UNITCOST ITEMS (Data Entry)'!$A$3:$A$504,0),2),\"\"))),\"\"))","v":""},{"$f":"IF(IFERROR(INDIRECT(CONCATENATE(\"'UNITCOST ITEMS (Data Entry)'!G\",IFERROR(SUM(MATCH(A193,'UNITCOST ITEMS (Data Entry)'!$A$3:$A$504,0),2),\"\"))),\"\")=0,\"\",IFERROR(INDIRECT(CONCATENATE(\"'UNITCOST ITEMS (Data Entry)'!G\",IFERROR(SUM(MATCH(A193,'UNITCOST ITEMS (Data Entry)'!$A$3:$A$504,0),2),\"\"))),\"\"))","v":""},{"$f":"IF(IFERROR(INDIRECT(CONCATENATE(\"'UNITCOST ITEMS (Data Entry)'!H\",IFERROR(SUM(MATCH(A193,'UNITCOST ITEMS (Data Entry)'!$A$3:$A$504,0),2),\"\"))),\"\")=0,\"\",IFERROR(INDIRECT(CONCATENATE(\"'UNITCOST ITEMS (Data Entry)'!H\",IFERROR(SUM(MATCH(A193,'UNITCOST ITEMS (Data Entry)'!$A$3:$A$504,0),2),\"\"))),\"\"))","v":""},{"$f":"IF(IFERROR(INDIRECT(CONCATENATE(\"'UNITCOST ITEMS (Data Entry)'!I\",IFERROR(SUM(MATCH(A193,'UNITCOST ITEMS (Data Entry)'!$A$3:$A$504,0),2),\"\"))),\"\")=0,\"\",IFERROR(INDIRECT(CONCATENATE(\"'UNITCOST ITEMS (Data Entry)'!I\",IFERROR(SUM(MATCH(A193,'UNITCOST ITEMS (Data Entry)'!$A$3:$A$504,0),2),\"\"))),\"\"))","v":""},{"$f":"IF(K193=2,\"\",IF(IFERROR(INDIRECT(CONCATENATE(\"'UNITCOST ITEMS (Data Entry)'!J\",IFERROR(SUM(MATCH(A193,'UNITCOST ITEMS (Data Entry)'!$A$3:$A$504,0),2),\"\"))),\"\")=0,\"\",IFERROR(INDIRECT(CONCATENATE(\"'UNITCOST ITEMS (Data Entry)'!J\",IFERROR(SUM(MATCH(A193,'UNITCOST ITEMS (Data Entry)'!$A$3:$A$504,0),2),\"\"))),\"\")))","v":""},null,{"$f":"IF(IFERROR(INDIRECT(CONCATENATE(\"'UNITCOST ITEMS (Data Entry)'!C\",IFERROR(SUM(MATCH(A193,'UNITCOST ITEMS (Data Entry)'!$A$3:$A$504,0),2),\"\"))),\"\")=0,\"\",IFERROR(INDIRECT(CONCATENATE(\"'UNITCOST ITEMS (Data Entry)'!C\",IFERROR(SUM(MATCH(A193,'UNITCOST ITEMS (Data Entry)'!$A$3:$A$504,0),2),\"\"))),\"\"))","v":""},""]
[186,{"$f":"IF(IFERROR(INDIRECT(CONCATENATE(\"'UNITCOST ITEMS (Data Entry)'!D\",IFERROR(SUM(MATCH(A194,'UNITCOST ITEMS (Data Entry)'!$A$3:$A$504,0),2),\"\"))),\"\")=0,\"\",IFERROR(INDIRECT(CONCATENATE(\"'UNITCOST ITEMS (Data Entry)'!D\",IFERROR(SUM(MATCH(A194,'UNITCOST ITEMS (Data Entry)'!$A$3:$A$504,0),2),\"\"))),\"\"))","v":""},{"$f":"IF(IFERROR(INDIRECT(CONCATENATE(\"'UNITCOST ITEMS (Data Entry)'!E\",IFERROR(SUM(MATCH(A194,'UNITCOST ITEMS (Data Entry)'!$A$3:$A$504,0),2),\"\"))),\"\")=0,\"\",IFERROR(INDIRECT(CONCATENATE(\"'UNITCOST ITEMS (Data Entry)'!E\",IFERROR(SUM(MATCH(A194,'UNITCOST ITEMS (Data Entry)'!$A$3:$A$504,0),2),\"\"))),\"\"))","v":""},null,{"$f":"IF(IFERROR(INDIRECT(CONCATENATE(\"'UNITCOST ITEMS (Data Entry)'!F\",IFERROR(SUM(MATCH(A194,'UNITCOST ITEMS (Data Entry)'!$A$3:$A$504,0),2),\"\"))),\"\")=0,\"\",IFERROR(INDIRECT(CONCATENATE(\"'UNITCOST ITEMS (Data Entry)'!F\",IFERROR(SUM(MATCH(A194,'UNITCOST ITEMS (Data Entry)'!$A$3:$A$504,0),2),\"\"))),\"\"))","v":""},{"$f":"IF(IFERROR(INDIRECT(CONCATENATE(\"'UNITCOST ITEMS (Data Entry)'!G\",IFERROR(SUM(MATCH(A194,'UNITCOST ITEMS (Data Entry)'!$A$3:$A$504,0),2),\"\"))),\"\")=0,\"\",IFERROR(INDIRECT(CONCATENATE(\"'UNITCOST ITEMS (Data Entry)'!G\",IFERROR(SUM(MATCH(A194,'UNITCOST ITEMS (Data Entry)'!$A$3:$A$504,0),2),\"\"))),\"\"))","v":""},{"$f":"IF(IFERROR(INDIRECT(CONCATENATE(\"'UNITCOST ITEMS (Data Entry)'!H\",IFERROR(SUM(MATCH(A194,'UNITCOST ITEMS (Data Entry)'!$A$3:$A$504,0),2),\"\"))),\"\")=0,\"\",IFERROR(INDIRECT(CONCATENATE(\"'UNITCOST ITEMS (Data Entry)'!H\",IFERROR(SUM(MATCH(A194,'UNITCOST ITEMS (Data Entry)'!$A$3:$A$504,0),2),\"\"))),\"\"))","v":""},{"$f":"IF(IFERROR(INDIRECT(CONCATENATE(\"'UNITCOST ITEMS (Data Entry)'!I\",IFERROR(SUM(MATCH(A194,'UNITCOST ITEMS (Data Entry)'!$A$3:$A$504,0),2),\"\"))),\"\")=0,\"\",IFERROR(INDIRECT(CONCATENATE(\"'UNITCOST ITEMS (Data Entry)'!I\",IFERROR(SUM(MATCH(A194,'UNITCOST ITEMS (Data Entry)'!$A$3:$A$504,0),2),\"\"))),\"\"))","v":""},{"$f":"IF(K194=2,\"\",IF(IFERROR(INDIRECT(CONCATENATE(\"'UNITCOST ITEMS (Data Entry)'!J\",IFERROR(SUM(MATCH(A194,'UNITCOST ITEMS (Data Entry)'!$A$3:$A$504,0),2),\"\"))),\"\")=0,\"\",IFERROR(INDIRECT(CONCATENATE(\"'UNITCOST ITEMS (Data Entry)'!J\",IFERROR(SUM(MATCH(A194,'UNITCOST ITEMS (Data Entry)'!$A$3:$A$504,0),2),\"\"))),\"\")))","v":""},null,{"$f":"IF(IFERROR(INDIRECT(CONCATENATE(\"'UNITCOST ITEMS (Data Entry)'!C\",IFERROR(SUM(MATCH(A194,'UNITCOST ITEMS (Data Entry)'!$A$3:$A$504,0),2),\"\"))),\"\")=0,\"\",IFERROR(INDIRECT(CONCATENATE(\"'UNITCOST ITEMS (Data Entry)'!C\",IFERROR(SUM(MATCH(A194,'UNITCOST ITEMS (Data Entry)'!$A$3:$A$504,0),2),\"\"))),\"\"))","v":""},""]
[187,{"$f":"IF(IFERROR(INDIRECT(CONCATENATE(\"'UNITCOST ITEMS (Data Entry)'!D\",IFERROR(SUM(MATCH(A195,'UNITCOST ITEMS (Data Entry)'!$A$3:$A$504,0),2),\"\"))),\"\")=0,\"\",IFERROR(INDIRECT(CONCATENATE(\"'UNITCOST ITEMS (Data Entry)'!D\",IFERROR(SUM(MATCH(A195,'UNITCOST ITEMS (Data Entry)'!$A$3:$A$504,0),2),\"\"))),\"\"))","v":""},{"$f":"IF(IFERROR(INDIRECT(CONCATENATE(\"'UNITCOST ITEMS (Data Entry)'!E\",IFERROR(SUM(MATCH(A195,'UNITCOST ITEMS (Data Entry)'!$A$3:$A$504,0),2),\"\"))),\"\")=0,\"\",IFERROR(INDIRECT(CONCATENATE(\"'UNITCOST ITEMS (Data Entry)'!E\",IFERROR(SUM(MATCH(A195,'UNITCOST ITEMS (Data Entry)'!$A$3:$A$504,0),2),\"\"))),\"\"))","v":""},null,{"$f":"IF(IFERROR(INDIRECT(CONCATENATE(\"'UNITCOST ITEMS (Data Entry)'!F\",IFERROR(SUM(MATCH(A195,'UNITCOST ITEMS (Data Entry)'!$A$3:$A$504,0),2),\"\"))),\"\")=0,\"\",IFERROR(INDIRECT(CONCATENATE(\"'UNITCOST ITEMS (Data Entry)'!F\",IFERROR(SUM(MATCH(A195,'UNITCOST ITEMS (Data Entry)'!$A$3:$A$504,0),2),\"\"))),\"\"))","v":""},{"$f":"IF(IFERROR(INDIRECT(CONCATENATE(\"'UNITCOST ITEMS (Data Entry)'!G\",IFERROR(SUM(MATCH(A195,'UNITCOST ITEMS (Data Entry)'!$A$3:$A$504,0),2),\"\"))),\"\")=0,\"\",IFERROR(INDIRECT(CONCATENATE(\"'UNITCOST ITEMS (Data Entry)'!G\",IFERROR(SUM(MATCH(A195,'UNITCOST ITEMS (Data Entry)'!$A$3:$A$504,0),2),\"\"))),\"\"))","v":""},{"$f":"IF(IFERROR(INDIRECT(CONCATENATE(\"'UNITCOST ITEMS (Data Entry)'!H\",IFERROR(SUM(MATCH(A195,'UNITCOST ITEMS (Data Entry)'!$A$3:$A$504,0),2),\"\"))),\"\")=0,\"\",IFERROR(INDIRECT(CONCATENATE(\"'UNITCOST ITEMS (Data Entry)'!H\",IFERROR(SUM(MATCH(A195,'UNITCOST ITEMS (Data Entry)'!$A$3:$A$504,0),2),\"\"))),\"\"))","v":""},{"$f":"IF(IFERROR(INDIRECT(CONCATENATE(\"'UNITCOST ITEMS (Data Entry)'!I\",IFERROR(SUM(MATCH(A195,'UNITCOST ITEMS (Data Entry)'!$A$3:$A$504,0),2),\"\"))),\"\")=0,\"\",IFERROR(INDIRECT(CONCATENATE(\"'UNITCOST ITEMS (Data Entry)'!I\",IFERROR(SUM(MATCH(A195,'UNITCOST ITEMS (Data Entry)'!$A$3:$A$504,0),2),\"\"))),\"\"))","v":""},{"$f":"IF(K195=2,\"\",IF(IFERROR(INDIRECT(CONCATENATE(\"'UNITCOST ITEMS (Data Entry)'!J\",IFERROR(SUM(MATCH(A195,'UNITCOST ITEMS (Data Entry)'!$A$3:$A$504,0),2),\"\"))),\"\")=0,\"\",IFERROR(INDIRECT(CONCATENATE(\"'UNITCOST ITEMS (Data Entry)'!J\",IFERROR(SUM(MATCH(A195,'UNITCOST ITEMS (Data Entry)'!$A$3:$A$504,0),2),\"\"))),\"\")))","v":""},null,{"$f":"IF(IFERROR(INDIRECT(CONCATENATE(\"'UNITCOST ITEMS (Data Entry)'!C\",IFERROR(SUM(MATCH(A195,'UNITCOST ITEMS (Data Entry)'!$A$3:$A$504,0),2),\"\"))),\"\")=0,\"\",IFERROR(INDIRECT(CONCATENATE(\"'UNITCOST ITEMS (Data Entry)'!C\",IFERROR(SUM(MATCH(A195,'UNITCOST ITEMS (Data Entry)'!$A$3:$A$504,0),2),\"\"))),\"\"))","v":""},""]
[188,{"$f":"IF(IFERROR(INDIRECT(CONCATENATE(\"'UNITCOST ITEMS (Data Entry)'!D\",IFERROR(SUM(MATCH(A196,'UNITCOST ITEMS (Data Entry)'!$A$3:$A$504,0),2),\"\"))),\"\")=0,\"\",IFERROR(INDIRECT(CONCATENATE(\"'UNITCOST ITEMS (Data Entry)'!D\",IFERROR(SUM(MATCH(A196,'UNITCOST ITEMS (Data Entry)'!$A$3:$A$504,0),2),\"\"))),\"\"))","v":""},{"$f":"IF(IFERROR(INDIRECT(CONCATENATE(\"'UNITCOST ITEMS (Data Entry)'!E\",IFERROR(SUM(MATCH(A196,'UNITCOST ITEMS (Data Entry)'!$A$3:$A$504,0),2),\"\"))),\"\")=0,\"\",IFERROR(INDIRECT(CONCATENATE(\"'UNITCOST ITEMS (Data Entry)'!E\",IFERROR(SUM(MATCH(A196,'UNITCOST ITEMS (Data Entry)'!$A$3:$A$504,0),2),\"\"))),\"\"))","v":""},null,{"$f":"IF(IFERROR(INDIRECT(CONCATENATE(\"'UNITCOST ITEMS (Data Entry)'!F\",IFERROR(SUM(MATCH(A196,'UNITCOST ITEMS (Data Entry)'!$A$3:$A$504,0),2),\"\"))),\"\")=0,\"\",IFERROR(INDIRECT(CONCATENATE(\"'UNITCOST ITEMS (Data Entry)'!F\",IFERROR(SUM(MATCH(A196,'UNITCOST ITEMS (Data Entry)'!$A$3:$A$504,0),2),\"\"))),\"\"))","v":""},{"$f":"IF(IFERROR(INDIRECT(CONCATENATE(\"'UNITCOST ITEMS (Data Entry)'!G\",IFERROR(SUM(MATCH(A196,'UNITCOST ITEMS (Data Entry)'!$A$3:$A$504,0),2),\"\"))),\"\")=0,\"\",IFERROR(INDIRECT(CONCATENATE(\"'UNITCOST ITEMS (Data Entry)'!G\",IFERROR(SUM(MATCH(A196,'UNITCOST ITEMS (Data Entry)'!$A$3:$A$504,0),2),\"\"))),\"\"))","v":""},{"$f":"IF(IFERROR(INDIRECT(CONCATENATE(\"'UNITCOST ITEMS (Data Entry)'!H\",IFERROR(SUM(MATCH(A196,'UNITCOST ITEMS (Data Entry)'!$A$3:$A$504,0),2),\"\"))),\"\")=0,\"\",IFERROR(INDIRECT(CONCATENATE(\"'UNITCOST ITEMS (Data Entry)'!H\",IFERROR(SUM(MATCH(A196,'UNITCOST ITEMS (Data Entry)'!$A$3:$A$504,0),2),\"\"))),\"\"))","v":""},{"$f":"IF(IFERROR(INDIRECT(CONCATENATE(\"'UNITCOST ITEMS (Data Entry)'!I\",IFERROR(SUM(MATCH(A196,'UNITCOST ITEMS (Data Entry)'!$A$3:$A$504,0),2),\"\"))),\"\")=0,\"\",IFERROR(INDIRECT(CONCATENATE(\"'UNITCOST ITEMS (Data Entry)'!I\",IFERROR(SUM(MATCH(A196,'UNITCOST ITEMS (Data Entry)'!$A$3:$A$504,0),2),\"\"))),\"\"))","v":""},{"$f":"IF(K196=2,\"\",IF(IFERROR(INDIRECT(CONCATENATE(\"'UNITCOST ITEMS (Data Entry)'!J\",IFERROR(SUM(MATCH(A196,'UNITCOST ITEMS (Data Entry)'!$A$3:$A$504,0),2),\"\"))),\"\")=0,\"\",IFERROR(INDIRECT(CONCATENATE(\"'UNITCOST ITEMS (Data Entry)'!J\",IFERROR(SUM(MATCH(A196,'UNITCOST ITEMS (Data Entry)'!$A$3:$A$504,0),2),\"\"))),\"\")))","v":""},null,{"$f":"IF(IFERROR(INDIRECT(CONCATENATE(\"'UNITCOST ITEMS (Data Entry)'!C\",IFERROR(SUM(MATCH(A196,'UNITCOST ITEMS (Data Entry)'!$A$3:$A$504,0),2),\"\"))),\"\")=0,\"\",IFERROR(INDIRECT(CONCATENATE(\"'UNITCOST ITEMS (Data Entry)'!C\",IFERROR(SUM(MATCH(A196,'UNITCOST ITEMS (Data Entry)'!$A$3:$A$504,0),2),\"\"))),\"\"))","v":""},""]
[189,{"$f":"IF(IFERROR(INDIRECT(CONCATENATE(\"'UNITCOST ITEMS (Data Entry)'!D\",IFERROR(SUM(MATCH(A197,'UNITCOST ITEMS (Data Entry)'!$A$3:$A$504,0),2),\"\"))),\"\")=0,\"\",IFERROR(INDIRECT(CONCATENATE(\"'UNITCOST ITEMS (Data Entry)'!D\",IFERROR(SUM(MATCH(A197,'UNITCOST ITEMS (Data Entry)'!$A$3:$A$504,0),2),\"\"))),\"\"))","v":""},{"$f":"IF(IFERROR(INDIRECT(CONCATENATE(\"'UNITCOST ITEMS (Data Entry)'!E\",IFERROR(SUM(MATCH(A197,'UNITCOST ITEMS (Data Entry)'!$A$3:$A$504,0),2),\"\"))),\"\")=0,\"\",IFERROR(INDIRECT(CONCATENATE(\"'UNITCOST ITEMS (Data Entry)'!E\",IFERROR(SUM(MATCH(A197,'UNITCOST ITEMS (Data Entry)'!$A$3:$A$504,0),2),\"\"))),\"\"))","v":""},null,{"$f":"IF(IFERROR(INDIRECT(CONCATENATE(\"'UNITCOST ITEMS (Data Entry)'!F\",IFERROR(SUM(MATCH(A197,'UNITCOST ITEMS (Data Entry)'!$A$3:$A$504,0),2),\"\"))),\"\")=0,\"\",IFERROR(INDIRECT(CONCATENATE(\"'UNITCOST ITEMS (Data Entry)'!F\",IFERROR(SUM(MATCH(A197,'UNITCOST ITEMS (Data Entry)'!$A$3:$A$504,0),2),\"\"))),\"\"))","v":""},{"$f":"IF(IFERROR(INDIRECT(CONCATENATE(\"'UNITCOST ITEMS (Data Entry)'!G\",IFERROR(SUM(MATCH(A197,'UNITCOST ITEMS (Data Entry)'!$A$3:$A$504,0),2),\"\"))),\"\")=0,\"\",IFERROR(INDIRECT(CONCATENATE(\"'UNITCOST ITEMS (Data Entry)'!G\",IFERROR(SUM(MATCH(A197,'UNITCOST ITEMS (Data Entry)'!$A$3:$A$504,0),2),\"\"))),\"\"))","v":""},{"$f":"IF(IFERROR(INDIRECT(CONCATENATE(\"'UNITCOST ITEMS (Data Entry)'!H\",IFERROR(SUM(MATCH(A197,'UNITCOST ITEMS (Data Entry)'!$A$3:$A$504,0),2),\"\"))),\"\")=0,\"\",IFERROR(INDIRECT(CONCATENATE(\"'UNITCOST ITEMS (Data Entry)'!H\",IFERROR(SUM(MATCH(A197,'UNITCOST ITEMS (Data Entry)'!$A$3:$A$504,0),2),\"\"))),\"\"))","v":""},{"$f":"IF(IFERROR(INDIRECT(CONCATENATE(\"'UNITCOST ITEMS (Data Entry)'!I\",IFERROR(SUM(MATCH(A197,'UNITCOST ITEMS (Data Entry)'!$A$3:$A$504,0),2),\"\"))),\"\")=0,\"\",IFERROR(INDIRECT(CONCATENATE(\"'UNITCOST ITEMS (Data Entry)'!I\",IFERROR(SUM(MATCH(A197,'UNITCOST ITEMS (Data Entry)'!$A$3:$A$504,0),2),\"\"))),\"\"))","v":""},{"$f":"IF(K197=2,\"\",IF(IFERROR(INDIRECT(CONCATENATE(\"'UNITCOST ITEMS (Data Entry)'!J\",IFERROR(SUM(MATCH(A197,'UNITCOST ITEMS (Data Entry)'!$A$3:$A$504,0),2),\"\"))),\"\")=0,\"\",IFERROR(INDIRECT(CONCATENATE(\"'UNITCOST ITEMS (Data Entry)'!J\",IFERROR(SUM(MATCH(A197,'UNITCOST ITEMS (Data Entry)'!$A$3:$A$504,0),2),\"\"))),\"\")))","v":""},null,{"$f":"IF(IFERROR(INDIRECT(CONCATENATE(\"'UNITCOST ITEMS (Data Entry)'!C\",IFERROR(SUM(MATCH(A197,'UNITCOST ITEMS (Data Entry)'!$A$3:$A$504,0),2),\"\"))),\"\")=0,\"\",IFERROR(INDIRECT(CONCATENATE(\"'UNITCOST ITEMS (Data Entry)'!C\",IFERROR(SUM(MATCH(A197,'UNITCOST ITEMS (Data Entry)'!$A$3:$A$504,0),2),\"\"))),\"\"))","v":""},""]
[190,{"$f":"IF(IFERROR(INDIRECT(CONCATENATE(\"'UNITCOST ITEMS (Data Entry)'!D\",IFERROR(SUM(MATCH(A198,'UNITCOST ITEMS (Data Entry)'!$A$3:$A$504,0),2),\"\"))),\"\")=0,\"\",IFERROR(INDIRECT(CONCATENATE(\"'UNITCOST ITEMS (Data Entry)'!D\",IFERROR(SUM(MATCH(A198,'UNITCOST ITEMS (Data Entry)'!$A$3:$A$504,0),2),\"\"))),\"\"))","v":""},{"$f":"IF(IFERROR(INDIRECT(CONCATENATE(\"'UNITCOST ITEMS (Data Entry)'!E\",IFERROR(SUM(MATCH(A198,'UNITCOST ITEMS (Data Entry)'!$A$3:$A$504,0),2),\"\"))),\"\")=0,\"\",IFERROR(INDIRECT(CONCATENATE(\"'UNITCOST ITEMS (Data Entry)'!E\",IFERROR(SUM(MATCH(A198,'UNITCOST ITEMS (Data Entry)'!$A$3:$A$504,0),2),\"\"))),\"\"))","v":""},null,{"$f":"IF(IFERROR(INDIRECT(CONCATENATE(\"'UNITCOST ITEMS (Data Entry)'!F\",IFERROR(SUM(MATCH(A198,'UNITCOST ITEMS (Data Entry)'!$A$3:$A$504,0),2),\"\"))),\"\")=0,\"\",IFERROR(INDIRECT(CONCATENATE(\"'UNITCOST ITEMS (Data Entry)'!F\",IFERROR(SUM(MATCH(A198,'UNITCOST ITEMS (Data Entry)'!$A$3:$A$504,0),2),\"\"))),\"\"))","v":""},{"$f":"IF(IFERROR(INDIRECT(CONCATENATE(\"'UNITCOST ITEMS (Data Entry)'!G\",IFERROR(SUM(MATCH(A198,'UNITCOST ITEMS (Data Entry)'!$A$3:$A$504,0),2),\"\"))),\"\")=0,\"\",IFERROR(INDIRECT(CONCATENATE(\"'UNITCOST ITEMS (Data Entry)'!G\",IFERROR(SUM(MATCH(A198,'UNITCOST ITEMS (Data Entry)'!$A$3:$A$504,0),2),\"\"))),\"\"))","v":""},{"$f":"IF(IFERROR(INDIRECT(CONCATENATE(\"'UNITCOST ITEMS (Data Entry)'!H\",IFERROR(SUM(MATCH(A198,'UNITCOST ITEMS (Data Entry)'!$A$3:$A$504,0),2),\"\"))),\"\")=0,\"\",IFERROR(INDIRECT(CONCATENATE(\"'UNITCOST ITEMS (Data Entry)'!H\",IFERROR(SUM(MATCH(A198,'UNITCOST ITEMS (Data Entry)'!$A$3:$A$504,0),2),\"\"))),\"\"))","v":""},{"$f":"IF(IFERROR(INDIRECT(CONCATENATE(\"'UNITCOST ITEMS (Data Entry)'!I\",IFERROR(SUM(MATCH(A198,'UNITCOST ITEMS (Data Entry)'!$A$3:$A$504,0),2),\"\"))),\"\")=0,\"\",IFERROR(INDIRECT(CONCATENATE(\"'UNITCOST ITEMS (Data Entry)'!I\",IFERROR(SUM(MATCH(A198,'UNITCOST ITEMS (Data Entry)'!$A$3:$A$504,0),2),\"\"))),\"\"))","v":""},{"$f":"IF(K198=2,\"\",IF(IFERROR(INDIRECT(CONCATENATE(\"'UNITCOST ITEMS (Data Entry)'!J\",IFERROR(SUM(MATCH(A198,'UNITCOST ITEMS (Data Entry)'!$A$3:$A$504,0),2),\"\"))),\"\")=0,\"\",IFERROR(INDIRECT(CONCATENATE(\"'UNITCOST ITEMS (Data Entry)'!J\",IFERROR(SUM(MATCH(A198,'UNITCOST ITEMS (Data Entry)'!$A$3:$A$504,0),2),\"\"))),\"\")))","v":""},null,{"$f":"IF(IFERROR(INDIRECT(CONCATENATE(\"'UNITCOST ITEMS (Data Entry)'!C\",IFERROR(SUM(MATCH(A198,'UNITCOST ITEMS (Data Entry)'!$A$3:$A$504,0),2),\"\"))),\"\")=0,\"\",IFERROR(INDIRECT(CONCATENATE(\"'UNITCOST ITEMS (Data Entry)'!C\",IFERROR(SUM(MATCH(A198,'UNITCOST ITEMS (Data Entry)'!$A$3:$A$504,0),2),\"\"))),\"\"))","v":""},""]
[191,{"$f":"IF(IFERROR(INDIRECT(CONCATENATE(\"'UNITCOST ITEMS (Data Entry)'!D\",IFERROR(SUM(MATCH(A199,'UNITCOST ITEMS (Data Entry)'!$A$3:$A$504,0),2),\"\"))),\"\")=0,\"\",IFERROR(INDIRECT(CONCATENATE(\"'UNITCOST ITEMS (Data Entry)'!D\",IFERROR(SUM(MATCH(A199,'UNITCOST ITEMS (Data Entry)'!$A$3:$A$504,0),2),\"\"))),\"\"))","v":""},{"$f":"IF(IFERROR(INDIRECT(CONCATENATE(\"'UNITCOST ITEMS (Data Entry)'!E\",IFERROR(SUM(MATCH(A199,'UNITCOST ITEMS (Data Entry)'!$A$3:$A$504,0),2),\"\"))),\"\")=0,\"\",IFERROR(INDIRECT(CONCATENATE(\"'UNITCOST ITEMS (Data Entry)'!E\",IFERROR(SUM(MATCH(A199,'UNITCOST ITEMS (Data Entry)'!$A$3:$A$504,0),2),\"\"))),\"\"))","v":""},null,{"$f":"IF(IFERROR(INDIRECT(CONCATENATE(\"'UNITCOST ITEMS (Data Entry)'!F\",IFERROR(SUM(MATCH(A199,'UNITCOST ITEMS (Data Entry)'!$A$3:$A$504,0),2),\"\"))),\"\")=0,\"\",IFERROR(INDIRECT(CONCATENATE(\"'UNITCOST ITEMS (Data Entry)'!F\",IFERROR(SUM(MATCH(A199,'UNITCOST ITEMS (Data Entry)'!$A$3:$A$504,0),2),\"\"))),\"\"))","v":""},{"$f":"IF(IFERROR(INDIRECT(CONCATENATE(\"'UNITCOST ITEMS (Data Entry)'!G\",IFERROR(SUM(MATCH(A199,'UNITCOST ITEMS (Data Entry)'!$A$3:$A$504,0),2),\"\"))),\"\")=0,\"\",IFERROR(INDIRECT(CONCATENATE(\"'UNITCOST ITEMS (Data Entry)'!G\",IFERROR(SUM(MATCH(A199,'UNITCOST ITEMS (Data Entry)'!$A$3:$A$504,0),2),\"\"))),\"\"))","v":""},{"$f":"IF(IFERROR(INDIRECT(CONCATENATE(\"'UNITCOST ITEMS (Data Entry)'!H\",IFERROR(SUM(MATCH(A199,'UNITCOST ITEMS (Data Entry)'!$A$3:$A$504,0),2),\"\"))),\"\")=0,\"\",IFERROR(INDIRECT(CONCATENATE(\"'UNITCOST ITEMS (Data Entry)'!H\",IFERROR(SUM(MATCH(A199,'UNITCOST ITEMS (Data Entry)'!$A$3:$A$504,0),2),\"\"))),\"\"))","v":""},{"$f":"IF(IFERROR(INDIRECT(CONCATENATE(\"'UNITCOST ITEMS (Data Entry)'!I\",IFERROR(SUM(MATCH(A199,'UNITCOST ITEMS (Data Entry)'!$A$3:$A$504,0),2),\"\"))),\"\")=0,\"\",IFERROR(INDIRECT(CONCATENATE(\"'UNITCOST ITEMS (Data Entry)'!I\",IFERROR(SUM(MATCH(A199,'UNITCOST ITEMS (Data Entry)'!$A$3:$A$504,0),2),\"\"))),\"\"))","v":""},{"$f":"IF(K199=2,\"\",IF(IFERROR(INDIRECT(CONCATENATE(\"'UNITCOST ITEMS (Data Entry)'!J\",IFERROR(SUM(MATCH(A199,'UNITCOST ITEMS (Data Entry)'!$A$3:$A$504,0),2),\"\"))),\"\")=0,\"\",IFERROR(INDIRECT(CONCATENATE(\"'UNITCOST ITEMS (Data Entry)'!J\",IFERROR(SUM(MATCH(A199,'UNITCOST ITEMS (Data Entry)'!$A$3:$A$504,0),2),\"\"))),\"\")))","v":""},null,{"$f":"IF(IFERROR(INDIRECT(CONCATENATE(\"'UNITCOST ITEMS (Data Entry)'!C\",IFERROR(SUM(MATCH(A199,'UNITCOST ITEMS (Data Entry)'!$A$3:$A$504,0),2),\"\"))),\"\")=0,\"\",IFERROR(INDIRECT(CONCATENATE(\"'UNITCOST ITEMS (Data Entry)'!C\",IFERROR(SUM(MATCH(A199,'UNITCOST ITEMS (Data Entry)'!$A$3:$A$504,0),2),\"\"))),\"\"))","v":""},""]
[192,{"$f":"IF(IFERROR(INDIRECT(CONCATENATE(\"'UNITCOST ITEMS (Data Entry)'!D\",IFERROR(SUM(MATCH(A200,'UNITCOST ITEMS (Data Entry)'!$A$3:$A$504,0),2),\"\"))),\"\")=0,\"\",IFERROR(INDIRECT(CONCATENATE(\"'UNITCOST ITEMS (Data Entry)'!D\",IFERROR(SUM(MATCH(A200,'UNITCOST ITEMS (Data Entry)'!$A$3:$A$504,0),2),\"\"))),\"\"))","v":""},{"$f":"IF(IFERROR(INDIRECT(CONCATENATE(\"'UNITCOST ITEMS (Data Entry)'!E\",IFERROR(SUM(MATCH(A200,'UNITCOST ITEMS (Data Entry)'!$A$3:$A$504,0),2),\"\"))),\"\")=0,\"\",IFERROR(INDIRECT(CONCATENATE(\"'UNITCOST ITEMS (Data Entry)'!E\",IFERROR(SUM(MATCH(A200,'UNITCOST ITEMS (Data Entry)'!$A$3:$A$504,0),2),\"\"))),\"\"))","v":""},null,{"$f":"IF(IFERROR(INDIRECT(CONCATENATE(\"'UNITCOST ITEMS (Data Entry)'!F\",IFERROR(SUM(MATCH(A200,'UNITCOST ITEMS (Data Entry)'!$A$3:$A$504,0),2),\"\"))),\"\")=0,\"\",IFERROR(INDIRECT(CONCATENATE(\"'UNITCOST ITEMS (Data Entry)'!F\",IFERROR(SUM(MATCH(A200,'UNITCOST ITEMS (Data Entry)'!$A$3:$A$504,0),2),\"\"))),\"\"))","v":""},{"$f":"IF(IFERROR(INDIRECT(CONCATENATE(\"'UNITCOST ITEMS (Data Entry)'!G\",IFERROR(SUM(MATCH(A200,'UNITCOST ITEMS (Data Entry)'!$A$3:$A$504,0),2),\"\"))),\"\")=0,\"\",IFERROR(INDIRECT(CONCATENATE(\"'UNITCOST ITEMS (Data Entry)'!G\",IFERROR(SUM(MATCH(A200,'UNITCOST ITEMS (Data Entry)'!$A$3:$A$504,0),2),\"\"))),\"\"))","v":""},{"$f":"IF(IFERROR(INDIRECT(CONCATENATE(\"'UNITCOST ITEMS (Data Entry)'!H\",IFERROR(SUM(MATCH(A200,'UNITCOST ITEMS (Data Entry)'!$A$3:$A$504,0),2),\"\"))),\"\")=0,\"\",IFERROR(INDIRECT(CONCATENATE(\"'UNITCOST ITEMS (Data Entry)'!H\",IFERROR(SUM(MATCH(A200,'UNITCOST ITEMS (Data Entry)'!$A$3:$A$504,0),2),\"\"))),\"\"))","v":""},{"$f":"IF(IFERROR(INDIRECT(CONCATENATE(\"'UNITCOST ITEMS (Data Entry)'!I\",IFERROR(SUM(MATCH(A200,'UNITCOST ITEMS (Data Entry)'!$A$3:$A$504,0),2),\"\"))),\"\")=0,\"\",IFERROR(INDIRECT(CONCATENATE(\"'UNITCOST ITEMS (Data Entry)'!I\",IFERROR(SUM(MATCH(A200,'UNITCOST ITEMS (Data Entry)'!$A$3:$A$504,0),2),\"\"))),\"\"))","v":""},{"$f":"IF(K200=2,\"\",IF(IFERROR(INDIRECT(CONCATENATE(\"'UNITCOST ITEMS (Data Entry)'!J\",IFERROR(SUM(MATCH(A200,'UNITCOST ITEMS (Data Entry)'!$A$3:$A$504,0),2),\"\"))),\"\")=0,\"\",IFERROR(INDIRECT(CONCATENATE(\"'UNITCOST ITEMS (Data Entry)'!J\",IFERROR(SUM(MATCH(A200,'UNITCOST ITEMS (Data Entry)'!$A$3:$A$504,0),2),\"\"))),\"\")))","v":""},null,{"$f":"IF(IFERROR(INDIRECT(CONCATENATE(\"'UNITCOST ITEMS (Data Entry)'!C\",IFERROR(SUM(MATCH(A200,'UNITCOST ITEMS (Data Entry)'!$A$3:$A$504,0),2),\"\"))),\"\")=0,\"\",IFERROR(INDIRECT(CONCATENATE(\"'UNITCOST ITEMS (Data Entry)'!C\",IFERROR(SUM(MATCH(A200,'UNITCOST ITEMS (Data Entry)'!$A$3:$A$504,0),2),\"\"))),\"\"))","v":""},""]
[193,{"$f":"IF(IFERROR(INDIRECT(CONCATENATE(\"'UNITCOST ITEMS (Data Entry)'!D\",IFERROR(SUM(MATCH(A201,'UNITCOST ITEMS (Data Entry)'!$A$3:$A$504,0),2),\"\"))),\"\")=0,\"\",IFERROR(INDIRECT(CONCATENATE(\"'UNITCOST ITEMS (Data Entry)'!D\",IFERROR(SUM(MATCH(A201,'UNITCOST ITEMS (Data Entry)'!$A$3:$A$504,0),2),\"\"))),\"\"))","v":""},{"$f":"IF(IFERROR(INDIRECT(CONCATENATE(\"'UNITCOST ITEMS (Data Entry)'!E\",IFERROR(SUM(MATCH(A201,'UNITCOST ITEMS (Data Entry)'!$A$3:$A$504,0),2),\"\"))),\"\")=0,\"\",IFERROR(INDIRECT(CONCATENATE(\"'UNITCOST ITEMS (Data Entry)'!E\",IFERROR(SUM(MATCH(A201,'UNITCOST ITEMS (Data Entry)'!$A$3:$A$504,0),2),\"\"))),\"\"))","v":""},null,{"$f":"IF(IFERROR(INDIRECT(CONCATENATE(\"'UNITCOST ITEMS (Data Entry)'!F\",IFERROR(SUM(MATCH(A201,'UNITCOST ITEMS (Data Entry)'!$A$3:$A$504,0),2),\"\"))),\"\")=0,\"\",IFERROR(INDIRECT(CONCATENATE(\"'UNITCOST ITEMS (Data Entry)'!F\",IFERROR(SUM(MATCH(A201,'UNITCOST ITEMS (Data Entry)'!$A$3:$A$504,0),2),\"\"))),\"\"))","v":""},{"$f":"IF(IFERROR(INDIRECT(CONCATENATE(\"'UNITCOST ITEMS (Data Entry)'!G\",IFERROR(SUM(MATCH(A201,'UNITCOST ITEMS (Data Entry)'!$A$3:$A$504,0),2),\"\"))),\"\")=0,\"\",IFERROR(INDIRECT(CONCATENATE(\"'UNITCOST ITEMS (Data Entry)'!G\",IFERROR(SUM(MATCH(A201,'UNITCOST ITEMS (Data Entry)'!$A$3:$A$504,0),2),\"\"))),\"\"))","v":""},{"$f":"IF(IFERROR(INDIRECT(CONCATENATE(\"'UNITCOST ITEMS (Data Entry)'!H\",IFERROR(SUM(MATCH(A201,'UNITCOST ITEMS (Data Entry)'!$A$3:$A$504,0),2),\"\"))),\"\")=0,\"\",IFERROR(INDIRECT(CONCATENATE(\"'UNITCOST ITEMS (Data Entry)'!H\",IFERROR(SUM(MATCH(A201,'UNITCOST ITEMS (Data Entry)'!$A$3:$A$504,0),2),\"\"))),\"\"))","v":""},{"$f":"IF(IFERROR(INDIRECT(CONCATENATE(\"'UNITCOST ITEMS (Data Entry)'!I\",IFERROR(SUM(MATCH(A201,'UNITCOST ITEMS (Data Entry)'!$A$3:$A$504,0),2),\"\"))),\"\")=0,\"\",IFERROR(INDIRECT(CONCATENATE(\"'UNITCOST ITEMS (Data Entry)'!I\",IFERROR(SUM(MATCH(A201,'UNITCOST ITEMS (Data Entry)'!$A$3:$A$504,0),2),\"\"))),\"\"))","v":""},{"$f":"IF(K201=2,\"\",IF(IFERROR(INDIRECT(CONCATENATE(\"'UNITCOST ITEMS (Data Entry)'!J\",IFERROR(SUM(MATCH(A201,'UNITCOST ITEMS (Data Entry)'!$A$3:$A$504,0),2),\"\"))),\"\")=0,\"\",IFERROR(INDIRECT(CONCATENATE(\"'UNITCOST ITEMS (Data Entry)'!J\",IFERROR(SUM(MATCH(A201,'UNITCOST ITEMS (Data Entry)'!$A$3:$A$504,0),2),\"\"))),\"\")))","v":""},null,{"$f":"IF(IFERROR(INDIRECT(CONCATENATE(\"'UNITCOST ITEMS (Data Entry)'!C\",IFERROR(SUM(MATCH(A201,'UNITCOST ITEMS (Data Entry)'!$A$3:$A$504,0),2),\"\"))),\"\")=0,\"\",IFERROR(INDIRECT(CONCATENATE(\"'UNITCOST ITEMS (Data Entry)'!C\",IFERROR(SUM(MATCH(A201,'UNITCOST ITEMS (Data Entry)'!$A$3:$A$504,0),2),\"\"))),\"\"))","v":""},""]
[194,{"$f":"IF(IFERROR(INDIRECT(CONCATENATE(\"'UNITCOST ITEMS (Data Entry)'!D\",IFERROR(SUM(MATCH(A202,'UNITCOST ITEMS (Data Entry)'!$A$3:$A$504,0),2),\"\"))),\"\")=0,\"\",IFERROR(INDIRECT(CONCATENATE(\"'UNITCOST ITEMS (Data Entry)'!D\",IFERROR(SUM(MATCH(A202,'UNITCOST ITEMS (Data Entry)'!$A$3:$A$504,0),2),\"\"))),\"\"))","v":""},{"$f":"IF(IFERROR(INDIRECT(CONCATENATE(\"'UNITCOST ITEMS (Data Entry)'!E\",IFERROR(SUM(MATCH(A202,'UNITCOST ITEMS (Data Entry)'!$A$3:$A$504,0),2),\"\"))),\"\")=0,\"\",IFERROR(INDIRECT(CONCATENATE(\"'UNITCOST ITEMS (Data Entry)'!E\",IFERROR(SUM(MATCH(A202,'UNITCOST ITEMS (Data Entry)'!$A$3:$A$504,0),2),\"\"))),\"\"))","v":""},null,{"$f":"IF(IFERROR(INDIRECT(CONCATENATE(\"'UNITCOST ITEMS (Data Entry)'!F\",IFERROR(SUM(MATCH(A202,'UNITCOST ITEMS (Data Entry)'!$A$3:$A$504,0),2),\"\"))),\"\")=0,\"\",IFERROR(INDIRECT(CONCATENATE(\"'UNITCOST ITEMS (Data Entry)'!F\",IFERROR(SUM(MATCH(A202,'UNITCOST ITEMS (Data Entry)'!$A$3:$A$504,0),2),\"\"))),\"\"))","v":""},{"$f":"IF(IFERROR(INDIRECT(CONCATENATE(\"'UNITCOST ITEMS (Data Entry)'!G\",IFERROR(SUM(MATCH(A202,'UNITCOST ITEMS (Data Entry)'!$A$3:$A$504,0),2),\"\"))),\"\")=0,\"\",IFERROR(INDIRECT(CONCATENATE(\"'UNITCOST ITEMS (Data Entry)'!G\",IFERROR(SUM(MATCH(A202,'UNITCOST ITEMS (Data Entry)'!$A$3:$A$504,0),2),\"\"))),\"\"))","v":""},{"$f":"IF(IFERROR(INDIRECT(CONCATENATE(\"'UNITCOST ITEMS (Data Entry)'!H\",IFERROR(SUM(MATCH(A202,'UNITCOST ITEMS (Data Entry)'!$A$3:$A$504,0),2),\"\"))),\"\")=0,\"\",IFERROR(INDIRECT(CONCATENATE(\"'UNITCOST ITEMS (Data Entry)'!H\",IFERROR(SUM(MATCH(A202,'UNITCOST ITEMS (Data Entry)'!$A$3:$A$504,0),2),\"\"))),\"\"))","v":""},{"$f":"IF(IFERROR(INDIRECT(CONCATENATE(\"'UNITCOST ITEMS (Data Entry)'!I\",IFERROR(SUM(MATCH(A202,'UNITCOST ITEMS (Data Entry)'!$A$3:$A$504,0),2),\"\"))),\"\")=0,\"\",IFERROR(INDIRECT(CONCATENATE(\"'UNITCOST ITEMS (Data Entry)'!I\",IFERROR(SUM(MATCH(A202,'UNITCOST ITEMS (Data Entry)'!$A$3:$A$504,0),2),\"\"))),\"\"))","v":""},{"$f":"IF(K202=2,\"\",IF(IFERROR(INDIRECT(CONCATENATE(\"'UNITCOST ITEMS (Data Entry)'!J\",IFERROR(SUM(MATCH(A202,'UNITCOST ITEMS (Data Entry)'!$A$3:$A$504,0),2),\"\"))),\"\")=0,\"\",IFERROR(INDIRECT(CONCATENATE(\"'UNITCOST ITEMS (Data Entry)'!J\",IFERROR(SUM(MATCH(A202,'UNITCOST ITEMS (Data Entry)'!$A$3:$A$504,0),2),\"\"))),\"\")))","v":""},null,{"$f":"IF(IFERROR(INDIRECT(CONCATENATE(\"'UNITCOST ITEMS (Data Entry)'!C\",IFERROR(SUM(MATCH(A202,'UNITCOST ITEMS (Data Entry)'!$A$3:$A$504,0),2),\"\"))),\"\")=0,\"\",IFERROR(INDIRECT(CONCATENATE(\"'UNITCOST ITEMS (Data Entry)'!C\",IFERROR(SUM(MATCH(A202,'UNITCOST ITEMS (Data Entry)'!$A$3:$A$504,0),2),\"\"))),\"\"))","v":""},{"$f":"IF(K202<>\"\",ROW(),\"\")","v":""}]
[{"$f":"A202+1","v":195},{"$f":"IF(IFERROR(INDIRECT(CONCATENATE(\"'UNITCOST ITEMS (Data Entry)'!D\",IFERROR(SUM(MATCH(A203,'UNITCOST ITEMS (Data Entry)'!$A$3:$A$504,0),2),\"\"))),\"\")=0,\"\",IFERROR(INDIRECT(CONCATENATE(\"'UNITCOST ITEMS (Data Entry)'!D\",IFERROR(SUM(MATCH(A203,'UNITCOST ITEMS (Data Entry)'!$A$3:$A$504,0),2),\"\"))),\"\"))","v":""},{"$f":"IF(IFERROR(INDIRECT(CONCATENATE(\"'UNITCOST ITEMS (Data Entry)'!E\",IFERROR(SUM(MATCH(A203,'UNITCOST ITEMS (Data Entry)'!$A$3:$A$504,0),2),\"\"))),\"\")=0,\"\",IFERROR(INDIRECT(CONCATENATE(\"'UNITCOST ITEMS (Data Entry)'!E\",IFERROR(SUM(MATCH(A203,'UNITCOST ITEMS (Data Entry)'!$A$3:$A$504,0),2),\"\"))),\"\"))","v":""},null,{"$f":"IF(IFERROR(INDIRECT(CONCATENATE(\"'UNITCOST ITEMS (Data Entry)'!F\",IFERROR(SUM(MATCH(A203,'UNITCOST ITEMS (Data Entry)'!$A$3:$A$504,0),2),\"\"))),\"\")=0,\"\",IFERROR(INDIRECT(CONCATENATE(\"'UNITCOST ITEMS (Data Entry)'!F\",IFERROR(SUM(MATCH(A203,'UNITCOST ITEMS (Data Entry)'!$A$3:$A$504,0),2),\"\"))),\"\"))","v":""},{"$f":"IF(IFERROR(INDIRECT(CONCATENATE(\"'UNITCOST ITEMS (Data Entry)'!G\",IFERROR(SUM(MATCH(A203,'UNITCOST ITEMS (Data Entry)'!$A$3:$A$504,0),2),\"\"))),\"\")=0,\"\",IFERROR(INDIRECT(CONCATENATE(\"'UNITCOST ITEMS (Data Entry)'!G\",IFERROR(SUM(MATCH(A203,'UNITCOST ITEMS (Data Entry)'!$A$3:$A$504,0),2),\"\"))),\"\"))","v":""},{"$f":"IF(IFERROR(INDIRECT(CONCATENATE(\"'UNITCOST ITEMS (Data Entry)'!H\",IFERROR(SUM(MATCH(A203,'UNITCOST ITEMS (Data Entry)'!$A$3:$A$504,0),2),\"\"))),\"\")=0,\"\",IFERROR(INDIRECT(CONCATENATE(\"'UNITCOST ITEMS (Data Entry)'!H\",IFERROR(SUM(MATCH(A203,'UNITCOST ITEMS (Data Entry)'!$A$3:$A$504,0),2),\"\"))),\"\"))","v":""},{"$f":"IF(IFERROR(INDIRECT(CONCATENATE(\"'UNITCOST ITEMS (Data Entry)'!I\",IFERROR(SUM(MATCH(A203,'UNITCOST ITEMS (Data Entry)'!$A$3:$A$504,0),2),\"\"))),\"\")=0,\"\",IFERROR(INDIRECT(CONCATENATE(\"'UNITCOST ITEMS (Data Entry)'!I\",IFERROR(SUM(MATCH(A203,'UNITCOST ITEMS (Data Entry)'!$A$3:$A$504,0),2),\"\"))),\"\"))","v":""},{"$f":"IF(K203=2,\"\",IF(IFERROR(INDIRECT(CONCATENATE(\"'UNITCOST ITEMS (Data Entry)'!J\",IFERROR(SUM(MATCH(A203,'UNITCOST ITEMS (Data Entry)'!$A$3:$A$504,0),2),\"\"))),\"\")=0,\"\",IFERROR(INDIRECT(CONCATENATE(\"'UNITCOST ITEMS (Data Entry)'!J\",IFERROR(SUM(MATCH(A203,'UNITCOST ITEMS (Data Entry)'!$A$3:$A$504,0),2),\"\"))),\"\")))","v":""},null,{"$f":"IF(IFERROR(INDIRECT(CONCATENATE(\"'UNITCOST ITEMS (Data Entry)'!C\",IFERROR(SUM(MATCH(A203,'UNITCOST ITEMS (Data Entry)'!$A$3:$A$504,0),2),\"\"))),\"\")=0,\"\",IFERROR(INDIRECT(CONCATENATE(\"'UNITCOST ITEMS (Data Entry)'!C\",IFERROR(SUM(MATCH(A203,'UNITCOST ITEMS (Data Entry)'!$A$3:$A$504,0),2),\"\"))),\"\"))","v":""},""]
[196,{"$f":"IF(IFERROR(INDIRECT(CONCATENATE(\"'UNITCOST ITEMS (Data Entry)'!D\",IFERROR(SUM(MATCH(A204,'UNITCOST ITEMS (Data Entry)'!$A$3:$A$504,0),2),\"\"))),\"\")=0,\"\",IFERROR(INDIRECT(CONCATENATE(\"'UNITCOST ITEMS (Data Entry)'!D\",IFERROR(SUM(MATCH(A204,'UNITCOST ITEMS (Data Entry)'!$A$3:$A$504,0),2),\"\"))),\"\"))","v":""},{"$f":"IF(IFERROR(INDIRECT(CONCATENATE(\"'UNITCOST ITEMS (Data Entry)'!E\",IFERROR(SUM(MATCH(A204,'UNITCOST ITEMS (Data Entry)'!$A$3:$A$504,0),2),\"\"))),\"\")=0,\"\",IFERROR(INDIRECT(CONCATENATE(\"'UNITCOST ITEMS (Data Entry)'!E\",IFERROR(SUM(MATCH(A204,'UNITCOST ITEMS (Data Entry)'!$A$3:$A$504,0),2),\"\"))),\"\"))","v":""},null,{"$f":"IF(IFERROR(INDIRECT(CONCATENATE(\"'UNITCOST ITEMS (Data Entry)'!F\",IFERROR(SUM(MATCH(A204,'UNITCOST ITEMS (Data Entry)'!$A$3:$A$504,0),2),\"\"))),\"\")=0,\"\",IFERROR(INDIRECT(CONCATENATE(\"'UNITCOST ITEMS (Data Entry)'!F\",IFERROR(SUM(MATCH(A204,'UNITCOST ITEMS (Data Entry)'!$A$3:$A$504,0),2),\"\"))),\"\"))","v":""},{"$f":"IF(IFERROR(INDIRECT(CONCATENATE(\"'UNITCOST ITEMS (Data Entry)'!G\",IFERROR(SUM(MATCH(A204,'UNITCOST ITEMS (Data Entry)'!$A$3:$A$504,0),2),\"\"))),\"\")=0,\"\",IFERROR(INDIRECT(CONCATENATE(\"'UNITCOST ITEMS (Data Entry)'!G\",IFERROR(SUM(MATCH(A204,'UNITCOST ITEMS (Data Entry)'!$A$3:$A$504,0),2),\"\"))),\"\"))","v":""},{"$f":"IF(IFERROR(INDIRECT(CONCATENATE(\"'UNITCOST ITEMS (Data Entry)'!H\",IFERROR(SUM(MATCH(A204,'UNITCOST ITEMS (Data Entry)'!$A$3:$A$504,0),2),\"\"))),\"\")=0,\"\",IFERROR(INDIRECT(CONCATENATE(\"'UNITCOST ITEMS (Data Entry)'!H\",IFERROR(SUM(MATCH(A204,'UNITCOST ITEMS (Data Entry)'!$A$3:$A$504,0),2),\"\"))),\"\"))","v":""},{"$f":"IF(IFERROR(INDIRECT(CONCATENATE(\"'UNITCOST ITEMS (Data Entry)'!I\",IFERROR(SUM(MATCH(A204,'UNITCOST ITEMS (Data Entry)'!$A$3:$A$504,0),2),\"\"))),\"\")=0,\"\",IFERROR(INDIRECT(CONCATENATE(\"'UNITCOST ITEMS (Data Entry)'!I\",IFERROR(SUM(MATCH(A204,'UNITCOST ITEMS (Data Entry)'!$A$3:$A$504,0),2),\"\"))),\"\"))","v":""},{"$f":"IF(K204=2,\"\",IF(IFERROR(INDIRECT(CONCATENATE(\"'UNITCOST ITEMS (Data Entry)'!J\",IFERROR(SUM(MATCH(A204,'UNITCOST ITEMS (Data Entry)'!$A$3:$A$504,0),2),\"\"))),\"\")=0,\"\",IFERROR(INDIRECT(CONCATENATE(\"'UNITCOST ITEMS (Data Entry)'!J\",IFERROR(SUM(MATCH(A204,'UNITCOST ITEMS (Data Entry)'!$A$3:$A$504,0),2),\"\"))),\"\")))","v":""},null,{"$f":"IF(IFERROR(INDIRECT(CONCATENATE(\"'UNITCOST ITEMS (Data Entry)'!C\",IFERROR(SUM(MATCH(A204,'UNITCOST ITEMS (Data Entry)'!$A$3:$A$504,0),2),\"\"))),\"\")=0,\"\",IFERROR(INDIRECT(CONCATENATE(\"'UNITCOST ITEMS (Data Entry)'!C\",IFERROR(SUM(MATCH(A204,'UNITCOST ITEMS (Data Entry)'!$A$3:$A$504,0),2),\"\"))),\"\"))","v":""},""]
[197,{"$f":"IF(IFERROR(INDIRECT(CONCATENATE(\"'UNITCOST ITEMS (Data Entry)'!D\",IFERROR(SUM(MATCH(A205,'UNITCOST ITEMS (Data Entry)'!$A$3:$A$504,0),2),\"\"))),\"\")=0,\"\",IFERROR(INDIRECT(CONCATENATE(\"'UNITCOST ITEMS (Data Entry)'!D\",IFERROR(SUM(MATCH(A205,'UNITCOST ITEMS (Data Entry)'!$A$3:$A$504,0),2),\"\"))),\"\"))","v":""},{"$f":"IF(IFERROR(INDIRECT(CONCATENATE(\"'UNITCOST ITEMS (Data Entry)'!E\",IFERROR(SUM(MATCH(A205,'UNITCOST ITEMS (Data Entry)'!$A$3:$A$504,0),2),\"\"))),\"\")=0,\"\",IFERROR(INDIRECT(CONCATENATE(\"'UNITCOST ITEMS (Data Entry)'!E\",IFERROR(SUM(MATCH(A205,'UNITCOST ITEMS (Data Entry)'!$A$3:$A$504,0),2),\"\"))),\"\"))","v":""},null,{"$f":"IF(IFERROR(INDIRECT(CONCATENATE(\"'UNITCOST ITEMS (Data Entry)'!F\",IFERROR(SUM(MATCH(A205,'UNITCOST ITEMS (Data Entry)'!$A$3:$A$504,0),2),\"\"))),\"\")=0,\"\",IFERROR(INDIRECT(CONCATENATE(\"'UNITCOST ITEMS (Data Entry)'!F\",IFERROR(SUM(MATCH(A205,'UNITCOST ITEMS (Data Entry)'!$A$3:$A$504,0),2),\"\"))),\"\"))","v":""},{"$f":"IF(IFERROR(INDIRECT(CONCATENATE(\"'UNITCOST ITEMS (Data Entry)'!G\",IFERROR(SUM(MATCH(A205,'UNITCOST ITEMS (Data Entry)'!$A$3:$A$504,0),2),\"\"))),\"\")=0,\"\",IFERROR(INDIRECT(CONCATENATE(\"'UNITCOST ITEMS (Data Entry)'!G\",IFERROR(SUM(MATCH(A205,'UNITCOST ITEMS (Data Entry)'!$A$3:$A$504,0),2),\"\"))),\"\"))","v":""},{"$f":"IF(IFERROR(INDIRECT(CONCATENATE(\"'UNITCOST ITEMS (Data Entry)'!H\",IFERROR(SUM(MATCH(A205,'UNITCOST ITEMS (Data Entry)'!$A$3:$A$504,0),2),\"\"))),\"\")=0,\"\",IFERROR(INDIRECT(CONCATENATE(\"'UNITCOST ITEMS (Data Entry)'!H\",IFERROR(SUM(MATCH(A205,'UNITCOST ITEMS (Data Entry)'!$A$3:$A$504,0),2),\"\"))),\"\"))","v":""},{"$f":"IF(IFERROR(INDIRECT(CONCATENATE(\"'UNITCOST ITEMS (Data Entry)'!I\",IFERROR(SUM(MATCH(A205,'UNITCOST ITEMS (Data Entry)'!$A$3:$A$504,0),2),\"\"))),\"\")=0,\"\",IFERROR(INDIRECT(CONCATENATE(\"'UNITCOST ITEMS (Data Entry)'!I\",IFERROR(SUM(MATCH(A205,'UNITCOST ITEMS (Data Entry)'!$A$3:$A$504,0),2),\"\"))),\"\"))","v":""},{"$f":"IF(K205=2,\"\",IF(IFERROR(INDIRECT(CONCATENATE(\"'UNITCOST ITEMS (Data Entry)'!J\",IFERROR(SUM(MATCH(A205,'UNITCOST ITEMS (Data Entry)'!$A$3:$A$504,0),2),\"\"))),\"\")=0,\"\",IFERROR(INDIRECT(CONCATENATE(\"'UNITCOST ITEMS (Data Entry)'!J\",IFERROR(SUM(MATCH(A205,'UNITCOST ITEMS (Data Entry)'!$A$3:$A$504,0),2),\"\"))),\"\")))","v":""},null,{"$f":"IF(IFERROR(INDIRECT(CONCATENATE(\"'UNITCOST ITEMS (Data Entry)'!C\",IFERROR(SUM(MATCH(A205,'UNITCOST ITEMS (Data Entry)'!$A$3:$A$504,0),2),\"\"))),\"\")=0,\"\",IFERROR(INDIRECT(CONCATENATE(\"'UNITCOST ITEMS (Data Entry)'!C\",IFERROR(SUM(MATCH(A205,'UNITCOST ITEMS (Data Entry)'!$A$3:$A$504,0),2),\"\"))),\"\"))","v":""},""]
[198,{"$f":"IF(IFERROR(INDIRECT(CONCATENATE(\"'UNITCOST ITEMS (Data Entry)'!D\",IFERROR(SUM(MATCH(A206,'UNITCOST ITEMS (Data Entry)'!$A$3:$A$504,0),2),\"\"))),\"\")=0,\"\",IFERROR(INDIRECT(CONCATENATE(\"'UNITCOST ITEMS (Data Entry)'!D\",IFERROR(SUM(MATCH(A206,'UNITCOST ITEMS (Data Entry)'!$A$3:$A$504,0),2),\"\"))),\"\"))","v":""},{"$f":"IF(IFERROR(INDIRECT(CONCATENATE(\"'UNITCOST ITEMS (Data Entry)'!E\",IFERROR(SUM(MATCH(A206,'UNITCOST ITEMS (Data Entry)'!$A$3:$A$504,0),2),\"\"))),\"\")=0,\"\",IFERROR(INDIRECT(CONCATENATE(\"'UNITCOST ITEMS (Data Entry)'!E\",IFERROR(SUM(MATCH(A206,'UNITCOST ITEMS (Data Entry)'!$A$3:$A$504,0),2),\"\"))),\"\"))","v":""},null,{"$f":"IF(IFERROR(INDIRECT(CONCATENATE(\"'UNITCOST ITEMS (Data Entry)'!F\",IFERROR(SUM(MATCH(A206,'UNITCOST ITEMS (Data Entry)'!$A$3:$A$504,0),2),\"\"))),\"\")=0,\"\",IFERROR(INDIRECT(CONCATENATE(\"'UNITCOST ITEMS (Data Entry)'!F\",IFERROR(SUM(MATCH(A206,'UNITCOST ITEMS (Data Entry)'!$A$3:$A$504,0),2),\"\"))),\"\"))","v":""},{"$f":"IF(IFERROR(INDIRECT(CONCATENATE(\"'UNITCOST ITEMS (Data Entry)'!G\",IFERROR(SUM(MATCH(A206,'UNITCOST ITEMS (Data Entry)'!$A$3:$A$504,0),2),\"\"))),\"\")=0,\"\",IFERROR(INDIRECT(CONCATENATE(\"'UNITCOST ITEMS (Data Entry)'!G\",IFERROR(SUM(MATCH(A206,'UNITCOST ITEMS (Data Entry)'!$A$3:$A$504,0),2),\"\"))),\"\"))","v":""},{"$f":"IF(IFERROR(INDIRECT(CONCATENATE(\"'UNITCOST ITEMS (Data Entry)'!H\",IFERROR(SUM(MATCH(A206,'UNITCOST ITEMS (Data Entry)'!$A$3:$A$504,0),2),\"\"))),\"\")=0,\"\",IFERROR(INDIRECT(CONCATENATE(\"'UNITCOST ITEMS (Data Entry)'!H\",IFERROR(SUM(MATCH(A206,'UNITCOST ITEMS (Data Entry)'!$A$3:$A$504,0),2),\"\"))),\"\"))","v":""},{"$f":"IF(IFERROR(INDIRECT(CONCATENATE(\"'UNITCOST ITEMS (Data Entry)'!I\",IFERROR(SUM(MATCH(A206,'UNITCOST ITEMS (Data Entry)'!$A$3:$A$504,0),2),\"\"))),\"\")=0,\"\",IFERROR(INDIRECT(CONCATENATE(\"'UNITCOST ITEMS (Data Entry)'!I\",IFERROR(SUM(MATCH(A206,'UNITCOST ITEMS (Data Entry)'!$A$3:$A$504,0),2),\"\"))),\"\"))","v":""},{"$f":"IF(K206=2,\"\",IF(IFERROR(INDIRECT(CONCATENATE(\"'UNITCOST ITEMS (Data Entry)'!J\",IFERROR(SUM(MATCH(A206,'UNITCOST ITEMS (Data Entry)'!$A$3:$A$504,0),2),\"\"))),\"\")=0,\"\",IFERROR(INDIRECT(CONCATENATE(\"'UNITCOST ITEMS (Data Entry)'!J\",IFERROR(SUM(MATCH(A206,'UNITCOST ITEMS (Data Entry)'!$A$3:$A$504,0),2),\"\"))),\"\")))","v":""},null,{"$f":"IF(IFERROR(INDIRECT(CONCATENATE(\"'UNITCOST ITEMS (Data Entry)'!C\",IFERROR(SUM(MATCH(A206,'UNITCOST ITEMS (Data Entry)'!$A$3:$A$504,0),2),\"\"))),\"\")=0,\"\",IFERROR(INDIRECT(CONCATENATE(\"'UNITCOST ITEMS (Data Entry)'!C\",IFERROR(SUM(MATCH(A206,'UNITCOST ITEMS (Data Entry)'!$A$3:$A$504,0),2),\"\"))),\"\"))","v":""},""]
[199,{"$f":"IF(IFERROR(INDIRECT(CONCATENATE(\"'UNITCOST ITEMS (Data Entry)'!D\",IFERROR(SUM(MATCH(A207,'UNITCOST ITEMS (Data Entry)'!$A$3:$A$504,0),2),\"\"))),\"\")=0,\"\",IFERROR(INDIRECT(CONCATENATE(\"'UNITCOST ITEMS (Data Entry)'!D\",IFERROR(SUM(MATCH(A207,'UNITCOST ITEMS (Data Entry)'!$A$3:$A$504,0),2),\"\"))),\"\"))","v":""},{"$f":"IF(IFERROR(INDIRECT(CONCATENATE(\"'UNITCOST ITEMS (Data Entry)'!E\",IFERROR(SUM(MATCH(A207,'UNITCOST ITEMS (Data Entry)'!$A$3:$A$504,0),2),\"\"))),\"\")=0,\"\",IFERROR(INDIRECT(CONCATENATE(\"'UNITCOST ITEMS (Data Entry)'!E\",IFERROR(SUM(MATCH(A207,'UNITCOST ITEMS (Data Entry)'!$A$3:$A$504,0),2),\"\"))),\"\"))","v":""},null,{"$f":"IF(IFERROR(INDIRECT(CONCATENATE(\"'UNITCOST ITEMS (Data Entry)'!F\",IFERROR(SUM(MATCH(A207,'UNITCOST ITEMS (Data Entry)'!$A$3:$A$504,0),2),\"\"))),\"\")=0,\"\",IFERROR(INDIRECT(CONCATENATE(\"'UNITCOST ITEMS (Data Entry)'!F\",IFERROR(SUM(MATCH(A207,'UNITCOST ITEMS (Data Entry)'!$A$3:$A$504,0),2),\"\"))),\"\"))","v":""},{"$f":"IF(IFERROR(INDIRECT(CONCATENATE(\"'UNITCOST ITEMS (Data Entry)'!G\",IFERROR(SUM(MATCH(A207,'UNITCOST ITEMS (Data Entry)'!$A$3:$A$504,0),2),\"\"))),\"\")=0,\"\",IFERROR(INDIRECT(CONCATENATE(\"'UNITCOST ITEMS (Data Entry)'!G\",IFERROR(SUM(MATCH(A207,'UNITCOST ITEMS (Data Entry)'!$A$3:$A$504,0),2),\"\"))),\"\"))","v":""},{"$f":"IF(IFERROR(INDIRECT(CONCATENATE(\"'UNITCOST ITEMS (Data Entry)'!H\",IFERROR(SUM(MATCH(A207,'UNITCOST ITEMS (Data Entry)'!$A$3:$A$504,0),2),\"\"))),\"\")=0,\"\",IFERROR(INDIRECT(CONCATENATE(\"'UNITCOST ITEMS (Data Entry)'!H\",IFERROR(SUM(MATCH(A207,'UNITCOST ITEMS (Data Entry)'!$A$3:$A$504,0),2),\"\"))),\"\"))","v":""},{"$f":"IF(IFERROR(INDIRECT(CONCATENATE(\"'UNITCOST ITEMS (Data Entry)'!I\",IFERROR(SUM(MATCH(A207,'UNITCOST ITEMS (Data Entry)'!$A$3:$A$504,0),2),\"\"))),\"\")=0,\"\",IFERROR(INDIRECT(CONCATENATE(\"'UNITCOST ITEMS (Data Entry)'!I\",IFERROR(SUM(MATCH(A207,'UNITCOST ITEMS (Data Entry)'!$A$3:$A$504,0),2),\"\"))),\"\"))","v":""},{"$f":"IF(K207=2,\"\",IF(IFERROR(INDIRECT(CONCATENATE(\"'UNITCOST ITEMS (Data Entry)'!J\",IFERROR(SUM(MATCH(A207,'UNITCOST ITEMS (Data Entry)'!$A$3:$A$504,0),2),\"\"))),\"\")=0,\"\",IFERROR(INDIRECT(CONCATENATE(\"'UNITCOST ITEMS (Data Entry)'!J\",IFERROR(SUM(MATCH(A207,'UNITCOST ITEMS (Data Entry)'!$A$3:$A$504,0),2),\"\"))),\"\")))","v":""},null,{"$f":"IF(IFERROR(INDIRECT(CONCATENATE(\"'UNITCOST ITEMS (Data Entry)'!C\",IFERROR(SUM(MATCH(A207,'UNITCOST ITEMS (Data Entry)'!$A$3:$A$504,0),2),\"\"))),\"\")=0,\"\",IFERROR(INDIRECT(CONCATENATE(\"'UNITCOST ITEMS (Data Entry)'!C\",IFERROR(SUM(MATCH(A207,'UNITCOST ITEMS (Data Entry)'!$A$3:$A$504,0),2),\"\"))),\"\"))","v":""},""]
[200,{"$f":"IF(IFERROR(INDIRECT(CONCATENATE(\"'UNITCOST ITEMS (Data Entry)'!D\",IFERROR(SUM(MATCH(A208,'UNITCOST ITEMS (Data Entry)'!$A$3:$A$504,0),2),\"\"))),\"\")=0,\"\",IFERROR(INDIRECT(CONCATENATE(\"'UNITCOST ITEMS (Data Entry)'!D\",IFERROR(SUM(MATCH(A208,'UNITCOST ITEMS (Data Entry)'!$A$3:$A$504,0),2),\"\"))),\"\"))","v":""},{"$f":"IF(IFERROR(INDIRECT(CONCATENATE(\"'UNITCOST ITEMS (Data Entry)'!E\",IFERROR(SUM(MATCH(A208,'UNITCOST ITEMS (Data Entry)'!$A$3:$A$504,0),2),\"\"))),\"\")=0,\"\",IFERROR(INDIRECT(CONCATENATE(\"'UNITCOST ITEMS (Data Entry)'!E\",IFERROR(SUM(MATCH(A208,'UNITCOST ITEMS (Data Entry)'!$A$3:$A$504,0),2),\"\"))),\"\"))","v":""},null,{"$f":"IF(IFERROR(INDIRECT(CONCATENATE(\"'UNITCOST ITEMS (Data Entry)'!F\",IFERROR(SUM(MATCH(A208,'UNITCOST ITEMS (Data Entry)'!$A$3:$A$504,0),2),\"\"))),\"\")=0,\"\",IFERROR(INDIRECT(CONCATENATE(\"'UNITCOST ITEMS (Data Entry)'!F\",IFERROR(SUM(MATCH(A208,'UNITCOST ITEMS (Data Entry)'!$A$3:$A$504,0),2),\"\"))),\"\"))","v":""},{"$f":"IF(IFERROR(INDIRECT(CONCATENATE(\"'UNITCOST ITEMS (Data Entry)'!G\",IFERROR(SUM(MATCH(A208,'UNITCOST ITEMS (Data Entry)'!$A$3:$A$504,0),2),\"\"))),\"\")=0,\"\",IFERROR(INDIRECT(CONCATENATE(\"'UNITCOST ITEMS (Data Entry)'!G\",IFERROR(SUM(MATCH(A208,'UNITCOST ITEMS (Data Entry)'!$A$3:$A$504,0),2),\"\"))),\"\"))","v":""},{"$f":"IF(IFERROR(INDIRECT(CONCATENATE(\"'UNITCOST ITEMS (Data Entry)'!H\",IFERROR(SUM(MATCH(A208,'UNITCOST ITEMS (Data Entry)'!$A$3:$A$504,0),2),\"\"))),\"\")=0,\"\",IFERROR(INDIRECT(CONCATENATE(\"'UNITCOST ITEMS (Data Entry)'!H\",IFERROR(SUM(MATCH(A208,'UNITCOST ITEMS (Data Entry)'!$A$3:$A$504,0),2),\"\"))),\"\"))","v":""},{"$f":"IF(IFERROR(INDIRECT(CONCATENATE(\"'UNITCOST ITEMS (Data Entry)'!I\",IFERROR(SUM(MATCH(A208,'UNITCOST ITEMS (Data Entry)'!$A$3:$A$504,0),2),\"\"))),\"\")=0,\"\",IFERROR(INDIRECT(CONCATENATE(\"'UNITCOST ITEMS (Data Entry)'!I\",IFERROR(SUM(MATCH(A208,'UNITCOST ITEMS (Data Entry)'!$A$3:$A$504,0),2),\"\"))),\"\"))","v":""},{"$f":"IF(K208=2,\"\",IF(IFERROR(INDIRECT(CONCATENATE(\"'UNITCOST ITEMS (Data Entry)'!J\",IFERROR(SUM(MATCH(A208,'UNITCOST ITEMS (Data Entry)'!$A$3:$A$504,0),2),\"\"))),\"\")=0,\"\",IFERROR(INDIRECT(CONCATENATE(\"'UNITCOST ITEMS (Data Entry)'!J\",IFERROR(SUM(MATCH(A208,'UNITCOST ITEMS (Data Entry)'!$A$3:$A$504,0),2),\"\"))),\"\")))","v":""},null,{"$f":"IF(IFERROR(INDIRECT(CONCATENATE(\"'UNITCOST ITEMS (Data Entry)'!C\",IFERROR(SUM(MATCH(A208,'UNITCOST ITEMS (Data Entry)'!$A$3:$A$504,0),2),\"\"))),\"\")=0,\"\",IFERROR(INDIRECT(CONCATENATE(\"'UNITCOST ITEMS (Data Entry)'!C\",IFERROR(SUM(MATCH(A208,'UNITCOST ITEMS (Data Entry)'!$A$3:$A$504,0),2),\"\"))),\"\"))","v":""},""]
[201,{"$f":"IF(IFERROR(INDIRECT(CONCATENATE(\"'UNITCOST ITEMS (Data Entry)'!D\",IFERROR(SUM(MATCH(A209,'UNITCOST ITEMS (Data Entry)'!$A$3:$A$504,0),2),\"\"))),\"\")=0,\"\",IFERROR(INDIRECT(CONCATENATE(\"'UNITCOST ITEMS (Data Entry)'!D\",IFERROR(SUM(MATCH(A209,'UNITCOST ITEMS (Data Entry)'!$A$3:$A$504,0),2),\"\"))),\"\"))","v":""},{"$f":"IF(IFERROR(INDIRECT(CONCATENATE(\"'UNITCOST ITEMS (Data Entry)'!E\",IFERROR(SUM(MATCH(A209,'UNITCOST ITEMS (Data Entry)'!$A$3:$A$504,0),2),\"\"))),\"\")=0,\"\",IFERROR(INDIRECT(CONCATENATE(\"'UNITCOST ITEMS (Data Entry)'!E\",IFERROR(SUM(MATCH(A209,'UNITCOST ITEMS (Data Entry)'!$A$3:$A$504,0),2),\"\"))),\"\"))","v":""},null,{"$f":"IF(IFERROR(INDIRECT(CONCATENATE(\"'UNITCOST ITEMS (Data Entry)'!F\",IFERROR(SUM(MATCH(A209,'UNITCOST ITEMS (Data Entry)'!$A$3:$A$504,0),2),\"\"))),\"\")=0,\"\",IFERROR(INDIRECT(CONCATENATE(\"'UNITCOST ITEMS (Data Entry)'!F\",IFERROR(SUM(MATCH(A209,'UNITCOST ITEMS (Data Entry)'!$A$3:$A$504,0),2),\"\"))),\"\"))","v":""},{"$f":"IF(IFERROR(INDIRECT(CONCATENATE(\"'UNITCOST ITEMS (Data Entry)'!G\",IFERROR(SUM(MATCH(A209,'UNITCOST ITEMS (Data Entry)'!$A$3:$A$504,0),2),\"\"))),\"\")=0,\"\",IFERROR(INDIRECT(CONCATENATE(\"'UNITCOST ITEMS (Data Entry)'!G\",IFERROR(SUM(MATCH(A209,'UNITCOST ITEMS (Data Entry)'!$A$3:$A$504,0),2),\"\"))),\"\"))","v":""},{"$f":"IF(IFERROR(INDIRECT(CONCATENATE(\"'UNITCOST ITEMS (Data Entry)'!H\",IFERROR(SUM(MATCH(A209,'UNITCOST ITEMS (Data Entry)'!$A$3:$A$504,0),2),\"\"))),\"\")=0,\"\",IFERROR(INDIRECT(CONCATENATE(\"'UNITCOST ITEMS (Data Entry)'!H\",IFERROR(SUM(MATCH(A209,'UNITCOST ITEMS (Data Entry)'!$A$3:$A$504,0),2),\"\"))),\"\"))","v":""},{"$f":"IF(IFERROR(INDIRECT(CONCATENATE(\"'UNITCOST ITEMS (Data Entry)'!I\",IFERROR(SUM(MATCH(A209,'UNITCOST ITEMS (Data Entry)'!$A$3:$A$504,0),2),\"\"))),\"\")=0,\"\",IFERROR(INDIRECT(CONCATENATE(\"'UNITCOST ITEMS (Data Entry)'!I\",IFERROR(SUM(MATCH(A209,'UNITCOST ITEMS (Data Entry)'!$A$3:$A$504,0),2),\"\"))),\"\"))","v":""},{"$f":"IF(K209=2,\"\",IF(IFERROR(INDIRECT(CONCATENATE(\"'UNITCOST ITEMS (Data Entry)'!J\",IFERROR(SUM(MATCH(A209,'UNITCOST ITEMS (Data Entry)'!$A$3:$A$504,0),2),\"\"))),\"\")=0,\"\",IFERROR(INDIRECT(CONCATENATE(\"'UNITCOST ITEMS (Data Entry)'!J\",IFERROR(SUM(MATCH(A209,'UNITCOST ITEMS (Data Entry)'!$A$3:$A$504,0),2),\"\"))),\"\")))","v":""},null,{"$f":"IF(IFERROR(INDIRECT(CONCATENATE(\"'UNITCOST ITEMS (Data Entry)'!C\",IFERROR(SUM(MATCH(A209,'UNITCOST ITEMS (Data Entry)'!$A$3:$A$504,0),2),\"\"))),\"\")=0,\"\",IFERROR(INDIRECT(CONCATENATE(\"'UNITCOST ITEMS (Data Entry)'!C\",IFERROR(SUM(MATCH(A209,'UNITCOST ITEMS (Data Entry)'!$A$3:$A$504,0),2),\"\"))),\"\"))","v":""},""]
[202,{"$f":"IF(IFERROR(INDIRECT(CONCATENATE(\"'UNITCOST ITEMS (Data Entry)'!D\",IFERROR(SUM(MATCH(A210,'UNITCOST ITEMS (Data Entry)'!$A$3:$A$504,0),2),\"\"))),\"\")=0,\"\",IFERROR(INDIRECT(CONCATENATE(\"'UNITCOST ITEMS (Data Entry)'!D\",IFERROR(SUM(MATCH(A210,'UNITCOST ITEMS (Data Entry)'!$A$3:$A$504,0),2),\"\"))),\"\"))","v":""},{"$f":"IF(IFERROR(INDIRECT(CONCATENATE(\"'UNITCOST ITEMS (Data Entry)'!E\",IFERROR(SUM(MATCH(A210,'UNITCOST ITEMS (Data Entry)'!$A$3:$A$504,0),2),\"\"))),\"\")=0,\"\",IFERROR(INDIRECT(CONCATENATE(\"'UNITCOST ITEMS (Data Entry)'!E\",IFERROR(SUM(MATCH(A210,'UNITCOST ITEMS (Data Entry)'!$A$3:$A$504,0),2),\"\"))),\"\"))","v":""},null,{"$f":"IF(IFERROR(INDIRECT(CONCATENATE(\"'UNITCOST ITEMS (Data Entry)'!F\",IFERROR(SUM(MATCH(A210,'UNITCOST ITEMS (Data Entry)'!$A$3:$A$504,0),2),\"\"))),\"\")=0,\"\",IFERROR(INDIRECT(CONCATENATE(\"'UNITCOST ITEMS (Data Entry)'!F\",IFERROR(SUM(MATCH(A210,'UNITCOST ITEMS (Data Entry)'!$A$3:$A$504,0),2),\"\"))),\"\"))","v":""},{"$f":"IF(IFERROR(INDIRECT(CONCATENATE(\"'UNITCOST ITEMS (Data Entry)'!G\",IFERROR(SUM(MATCH(A210,'UNITCOST ITEMS (Data Entry)'!$A$3:$A$504,0),2),\"\"))),\"\")=0,\"\",IFERROR(INDIRECT(CONCATENATE(\"'UNITCOST ITEMS (Data Entry)'!G\",IFERROR(SUM(MATCH(A210,'UNITCOST ITEMS (Data Entry)'!$A$3:$A$504,0),2),\"\"))),\"\"))","v":""},{"$f":"IF(IFERROR(INDIRECT(CONCATENATE(\"'UNITCOST ITEMS (Data Entry)'!H\",IFERROR(SUM(MATCH(A210,'UNITCOST ITEMS (Data Entry)'!$A$3:$A$504,0),2),\"\"))),\"\")=0,\"\",IFERROR(INDIRECT(CONCATENATE(\"'UNITCOST ITEMS (Data Entry)'!H\",IFERROR(SUM(MATCH(A210,'UNITCOST ITEMS (Data Entry)'!$A$3:$A$504,0),2),\"\"))),\"\"))","v":""},{"$f":"IF(IFERROR(INDIRECT(CONCATENATE(\"'UNITCOST ITEMS (Data Entry)'!I\",IFERROR(SUM(MATCH(A210,'UNITCOST ITEMS (Data Entry)'!$A$3:$A$504,0),2),\"\"))),\"\")=0,\"\",IFERROR(INDIRECT(CONCATENATE(\"'UNITCOST ITEMS (Data Entry)'!I\",IFERROR(SUM(MATCH(A210,'UNITCOST ITEMS (Data Entry)'!$A$3:$A$504,0),2),\"\"))),\"\"))","v":""},{"$f":"IF(K210=2,\"\",IF(IFERROR(INDIRECT(CONCATENATE(\"'UNITCOST ITEMS (Data Entry)'!J\",IFERROR(SUM(MATCH(A210,'UNITCOST ITEMS (Data Entry)'!$A$3:$A$504,0),2),\"\"))),\"\")=0,\"\",IFERROR(INDIRECT(CONCATENATE(\"'UNITCOST ITEMS (Data Entry)'!J\",IFERROR(SUM(MATCH(A210,'UNITCOST ITEMS (Data Entry)'!$A$3:$A$504,0),2),\"\"))),\"\")))","v":""},null,{"$f":"IF(IFERROR(INDIRECT(CONCATENATE(\"'UNITCOST ITEMS (Data Entry)'!C\",IFERROR(SUM(MATCH(A210,'UNITCOST ITEMS (Data Entry)'!$A$3:$A$504,0),2),\"\"))),\"\")=0,\"\",IFERROR(INDIRECT(CONCATENATE(\"'UNITCOST ITEMS (Data Entry)'!C\",IFERROR(SUM(MATCH(A210,'UNITCOST ITEMS (Data Entry)'!$A$3:$A$504,0),2),\"\"))),\"\"))","v":""},""]
[203,{"$f":"IF(IFERROR(INDIRECT(CONCATENATE(\"'UNITCOST ITEMS (Data Entry)'!D\",IFERROR(SUM(MATCH(A211,'UNITCOST ITEMS (Data Entry)'!$A$3:$A$504,0),2),\"\"))),\"\")=0,\"\",IFERROR(INDIRECT(CONCATENATE(\"'UNITCOST ITEMS (Data Entry)'!D\",IFERROR(SUM(MATCH(A211,'UNITCOST ITEMS (Data Entry)'!$A$3:$A$504,0),2),\"\"))),\"\"))","v":""},{"$f":"IF(IFERROR(INDIRECT(CONCATENATE(\"'UNITCOST ITEMS (Data Entry)'!E\",IFERROR(SUM(MATCH(A211,'UNITCOST ITEMS (Data Entry)'!$A$3:$A$504,0),2),\"\"))),\"\")=0,\"\",IFERROR(INDIRECT(CONCATENATE(\"'UNITCOST ITEMS (Data Entry)'!E\",IFERROR(SUM(MATCH(A211,'UNITCOST ITEMS (Data Entry)'!$A$3:$A$504,0),2),\"\"))),\"\"))","v":""},null,{"$f":"IF(IFERROR(INDIRECT(CONCATENATE(\"'UNITCOST ITEMS (Data Entry)'!F\",IFERROR(SUM(MATCH(A211,'UNITCOST ITEMS (Data Entry)'!$A$3:$A$504,0),2),\"\"))),\"\")=0,\"\",IFERROR(INDIRECT(CONCATENATE(\"'UNITCOST ITEMS (Data Entry)'!F\",IFERROR(SUM(MATCH(A211,'UNITCOST ITEMS (Data Entry)'!$A$3:$A$504,0),2),\"\"))),\"\"))","v":""},{"$f":"IF(IFERROR(INDIRECT(CONCATENATE(\"'UNITCOST ITEMS (Data Entry)'!G\",IFERROR(SUM(MATCH(A211,'UNITCOST ITEMS (Data Entry)'!$A$3:$A$504,0),2),\"\"))),\"\")=0,\"\",IFERROR(INDIRECT(CONCATENATE(\"'UNITCOST ITEMS (Data Entry)'!G\",IFERROR(SUM(MATCH(A211,'UNITCOST ITEMS (Data Entry)'!$A$3:$A$504,0),2),\"\"))),\"\"))","v":""},{"$f":"IF(IFERROR(INDIRECT(CONCATENATE(\"'UNITCOST ITEMS (Data Entry)'!H\",IFERROR(SUM(MATCH(A211,'UNITCOST ITEMS (Data Entry)'!$A$3:$A$504,0),2),\"\"))),\"\")=0,\"\",IFERROR(INDIRECT(CONCATENATE(\"'UNITCOST ITEMS (Data Entry)'!H\",IFERROR(SUM(MATCH(A211,'UNITCOST ITEMS (Data Entry)'!$A$3:$A$504,0),2),\"\"))),\"\"))","v":""},{"$f":"IF(IFERROR(INDIRECT(CONCATENATE(\"'UNITCOST ITEMS (Data Entry)'!I\",IFERROR(SUM(MATCH(A211,'UNITCOST ITEMS (Data Entry)'!$A$3:$A$504,0),2),\"\"))),\"\")=0,\"\",IFERROR(INDIRECT(CONCATENATE(\"'UNITCOST ITEMS (Data Entry)'!I\",IFERROR(SUM(MATCH(A211,'UNITCOST ITEMS (Data Entry)'!$A$3:$A$504,0),2),\"\"))),\"\"))","v":""},{"$f":"IF(K211=2,\"\",IF(IFERROR(INDIRECT(CONCATENATE(\"'UNITCOST ITEMS (Data Entry)'!J\",IFERROR(SUM(MATCH(A211,'UNITCOST ITEMS (Data Entry)'!$A$3:$A$504,0),2),\"\"))),\"\")=0,\"\",IFERROR(INDIRECT(CONCATENATE(\"'UNITCOST ITEMS (Data Entry)'!J\",IFERROR(SUM(MATCH(A211,'UNITCOST ITEMS (Data Entry)'!$A$3:$A$504,0),2),\"\"))),\"\")))","v":""},null,{"$f":"IF(IFERROR(INDIRECT(CONCATENATE(\"'UNITCOST ITEMS (Data Entry)'!C\",IFERROR(SUM(MATCH(A211,'UNITCOST ITEMS (Data Entry)'!$A$3:$A$504,0),2),\"\"))),\"\")=0,\"\",IFERROR(INDIRECT(CONCATENATE(\"'UNITCOST ITEMS (Data Entry)'!C\",IFERROR(SUM(MATCH(A211,'UNITCOST ITEMS (Data Entry)'!$A$3:$A$504,0),2),\"\"))),\"\"))","v":""},""]
[204,{"$f":"IF(IFERROR(INDIRECT(CONCATENATE(\"'UNITCOST ITEMS (Data Entry)'!D\",IFERROR(SUM(MATCH(A212,'UNITCOST ITEMS (Data Entry)'!$A$3:$A$504,0),2),\"\"))),\"\")=0,\"\",IFERROR(INDIRECT(CONCATENATE(\"'UNITCOST ITEMS (Data Entry)'!D\",IFERROR(SUM(MATCH(A212,'UNITCOST ITEMS (Data Entry)'!$A$3:$A$504,0),2),\"\"))),\"\"))","v":""},{"$f":"IF(IFERROR(INDIRECT(CONCATENATE(\"'UNITCOST ITEMS (Data Entry)'!E\",IFERROR(SUM(MATCH(A212,'UNITCOST ITEMS (Data Entry)'!$A$3:$A$504,0),2),\"\"))),\"\")=0,\"\",IFERROR(INDIRECT(CONCATENATE(\"'UNITCOST ITEMS (Data Entry)'!E\",IFERROR(SUM(MATCH(A212,'UNITCOST ITEMS (Data Entry)'!$A$3:$A$504,0),2),\"\"))),\"\"))","v":""},null,{"$f":"IF(IFERROR(INDIRECT(CONCATENATE(\"'UNITCOST ITEMS (Data Entry)'!F\",IFERROR(SUM(MATCH(A212,'UNITCOST ITEMS (Data Entry)'!$A$3:$A$504,0),2),\"\"))),\"\")=0,\"\",IFERROR(INDIRECT(CONCATENATE(\"'UNITCOST ITEMS (Data Entry)'!F\",IFERROR(SUM(MATCH(A212,'UNITCOST ITEMS (Data Entry)'!$A$3:$A$504,0),2),\"\"))),\"\"))","v":""},{"$f":"IF(IFERROR(INDIRECT(CONCATENATE(\"'UNITCOST ITEMS (Data Entry)'!G\",IFERROR(SUM(MATCH(A212,'UNITCOST ITEMS (Data Entry)'!$A$3:$A$504,0),2),\"\"))),\"\")=0,\"\",IFERROR(INDIRECT(CONCATENATE(\"'UNITCOST ITEMS (Data Entry)'!G\",IFERROR(SUM(MATCH(A212,'UNITCOST ITEMS (Data Entry)'!$A$3:$A$504,0),2),\"\"))),\"\"))","v":""},{"$f":"IF(IFERROR(INDIRECT(CONCATENATE(\"'UNITCOST ITEMS (Data Entry)'!H\",IFERROR(SUM(MATCH(A212,'UNITCOST ITEMS (Data Entry)'!$A$3:$A$504,0),2),\"\"))),\"\")=0,\"\",IFERROR(INDIRECT(CONCATENATE(\"'UNITCOST ITEMS (Data Entry)'!H\",IFERROR(SUM(MATCH(A212,'UNITCOST ITEMS (Data Entry)'!$A$3:$A$504,0),2),\"\"))),\"\"))","v":""},{"$f":"IF(IFERROR(INDIRECT(CONCATENATE(\"'UNITCOST ITEMS (Data Entry)'!I\",IFERROR(SUM(MATCH(A212,'UNITCOST ITEMS (Data Entry)'!$A$3:$A$504,0),2),\"\"))),\"\")=0,\"\",IFERROR(INDIRECT(CONCATENATE(\"'UNITCOST ITEMS (Data Entry)'!I\",IFERROR(SUM(MATCH(A212,'UNITCOST ITEMS (Data Entry)'!$A$3:$A$504,0),2),\"\"))),\"\"))","v":""},{"$f":"IF(K212=2,\"\",IF(IFERROR(INDIRECT(CONCATENATE(\"'UNITCOST ITEMS (Data Entry)'!J\",IFERROR(SUM(MATCH(A212,'UNITCOST ITEMS (Data Entry)'!$A$3:$A$504,0),2),\"\"))),\"\")=0,\"\",IFERROR(INDIRECT(CONCATENATE(\"'UNITCOST ITEMS (Data Entry)'!J\",IFERROR(SUM(MATCH(A212,'UNITCOST ITEMS (Data Entry)'!$A$3:$A$504,0),2),\"\"))),\"\")))","v":""},null,{"$f":"IF(IFERROR(INDIRECT(CONCATENATE(\"'UNITCOST ITEMS (Data Entry)'!C\",IFERROR(SUM(MATCH(A212,'UNITCOST ITEMS (Data Entry)'!$A$3:$A$504,0),2),\"\"))),\"\")=0,\"\",IFERROR(INDIRECT(CONCATENATE(\"'UNITCOST ITEMS (Data Entry)'!C\",IFERROR(SUM(MATCH(A212,'UNITCOST ITEMS (Data Entry)'!$A$3:$A$504,0),2),\"\"))),\"\"))","v":""},""]
[205,{"$f":"IF(IFERROR(INDIRECT(CONCATENATE(\"'UNITCOST ITEMS (Data Entry)'!D\",IFERROR(SUM(MATCH(A213,'UNITCOST ITEMS (Data Entry)'!$A$3:$A$504,0),2),\"\"))),\"\")=0,\"\",IFERROR(INDIRECT(CONCATENATE(\"'UNITCOST ITEMS (Data Entry)'!D\",IFERROR(SUM(MATCH(A213,'UNITCOST ITEMS (Data Entry)'!$A$3:$A$504,0),2),\"\"))),\"\"))","v":""},{"$f":"IF(IFERROR(INDIRECT(CONCATENATE(\"'UNITCOST ITEMS (Data Entry)'!E\",IFERROR(SUM(MATCH(A213,'UNITCOST ITEMS (Data Entry)'!$A$3:$A$504,0),2),\"\"))),\"\")=0,\"\",IFERROR(INDIRECT(CONCATENATE(\"'UNITCOST ITEMS (Data Entry)'!E\",IFERROR(SUM(MATCH(A213,'UNITCOST ITEMS (Data Entry)'!$A$3:$A$504,0),2),\"\"))),\"\"))","v":""},null,{"$f":"IF(IFERROR(INDIRECT(CONCATENATE(\"'UNITCOST ITEMS (Data Entry)'!F\",IFERROR(SUM(MATCH(A213,'UNITCOST ITEMS (Data Entry)'!$A$3:$A$504,0),2),\"\"))),\"\")=0,\"\",IFERROR(INDIRECT(CONCATENATE(\"'UNITCOST ITEMS (Data Entry)'!F\",IFERROR(SUM(MATCH(A213,'UNITCOST ITEMS (Data Entry)'!$A$3:$A$504,0),2),\"\"))),\"\"))","v":""},{"$f":"IF(IFERROR(INDIRECT(CONCATENATE(\"'UNITCOST ITEMS (Data Entry)'!G\",IFERROR(SUM(MATCH(A213,'UNITCOST ITEMS (Data Entry)'!$A$3:$A$504,0),2),\"\"))),\"\")=0,\"\",IFERROR(INDIRECT(CONCATENATE(\"'UNITCOST ITEMS (Data Entry)'!G\",IFERROR(SUM(MATCH(A213,'UNITCOST ITEMS (Data Entry)'!$A$3:$A$504,0),2),\"\"))),\"\"))","v":""},{"$f":"IF(IFERROR(INDIRECT(CONCATENATE(\"'UNITCOST ITEMS (Data Entry)'!H\",IFERROR(SUM(MATCH(A213,'UNITCOST ITEMS (Data Entry)'!$A$3:$A$504,0),2),\"\"))),\"\")=0,\"\",IFERROR(INDIRECT(CONCATENATE(\"'UNITCOST ITEMS (Data Entry)'!H\",IFERROR(SUM(MATCH(A213,'UNITCOST ITEMS (Data Entry)'!$A$3:$A$504,0),2),\"\"))),\"\"))","v":""},{"$f":"IF(IFERROR(INDIRECT(CONCATENATE(\"'UNITCOST ITEMS (Data Entry)'!I\",IFERROR(SUM(MATCH(A213,'UNITCOST ITEMS (Data Entry)'!$A$3:$A$504,0),2),\"\"))),\"\")=0,\"\",IFERROR(INDIRECT(CONCATENATE(\"'UNITCOST ITEMS (Data Entry)'!I\",IFERROR(SUM(MATCH(A213,'UNITCOST ITEMS (Data Entry)'!$A$3:$A$504,0),2),\"\"))),\"\"))","v":""},{"$f":"IF(K213=2,\"\",IF(IFERROR(INDIRECT(CONCATENATE(\"'UNITCOST ITEMS (Data Entry)'!J\",IFERROR(SUM(MATCH(A213,'UNITCOST ITEMS (Data Entry)'!$A$3:$A$504,0),2),\"\"))),\"\")=0,\"\",IFERROR(INDIRECT(CONCATENATE(\"'UNITCOST ITEMS (Data Entry)'!J\",IFERROR(SUM(MATCH(A213,'UNITCOST ITEMS (Data Entry)'!$A$3:$A$504,0),2),\"\"))),\"\")))","v":""},null,{"$f":"IF(IFERROR(INDIRECT(CONCATENATE(\"'UNITCOST ITEMS (Data Entry)'!C\",IFERROR(SUM(MATCH(A213,'UNITCOST ITEMS (Data Entry)'!$A$3:$A$504,0),2),\"\"))),\"\")=0,\"\",IFERROR(INDIRECT(CONCATENATE(\"'UNITCOST ITEMS (Data Entry)'!C\",IFERROR(SUM(MATCH(A213,'UNITCOST ITEMS (Data Entry)'!$A$3:$A$504,0),2),\"\"))),\"\"))","v":""},""]
[206,{"$f":"IF(IFERROR(INDIRECT(CONCATENATE(\"'UNITCOST ITEMS (Data Entry)'!D\",IFERROR(SUM(MATCH(A214,'UNITCOST ITEMS (Data Entry)'!$A$3:$A$504,0),2),\"\"))),\"\")=0,\"\",IFERROR(INDIRECT(CONCATENATE(\"'UNITCOST ITEMS (Data Entry)'!D\",IFERROR(SUM(MATCH(A214,'UNITCOST ITEMS (Data Entry)'!$A$3:$A$504,0),2),\"\"))),\"\"))","v":""},{"$f":"IF(IFERROR(INDIRECT(CONCATENATE(\"'UNITCOST ITEMS (Data Entry)'!E\",IFERROR(SUM(MATCH(A214,'UNITCOST ITEMS (Data Entry)'!$A$3:$A$504,0),2),\"\"))),\"\")=0,\"\",IFERROR(INDIRECT(CONCATENATE(\"'UNITCOST ITEMS (Data Entry)'!E\",IFERROR(SUM(MATCH(A214,'UNITCOST ITEMS (Data Entry)'!$A$3:$A$504,0),2),\"\"))),\"\"))","v":""},null,{"$f":"IF(IFERROR(INDIRECT(CONCATENATE(\"'UNITCOST ITEMS (Data Entry)'!F\",IFERROR(SUM(MATCH(A214,'UNITCOST ITEMS (Data Entry)'!$A$3:$A$504,0),2),\"\"))),\"\")=0,\"\",IFERROR(INDIRECT(CONCATENATE(\"'UNITCOST ITEMS (Data Entry)'!F\",IFERROR(SUM(MATCH(A214,'UNITCOST ITEMS (Data Entry)'!$A$3:$A$504,0),2),\"\"))),\"\"))","v":""},{"$f":"IF(IFERROR(INDIRECT(CONCATENATE(\"'UNITCOST ITEMS (Data Entry)'!G\",IFERROR(SUM(MATCH(A214,'UNITCOST ITEMS (Data Entry)'!$A$3:$A$504,0),2),\"\"))),\"\")=0,\"\",IFERROR(INDIRECT(CONCATENATE(\"'UNITCOST ITEMS (Data Entry)'!G\",IFERROR(SUM(MATCH(A214,'UNITCOST ITEMS (Data Entry)'!$A$3:$A$504,0),2),\"\"))),\"\"))","v":""},{"$f":"IF(IFERROR(INDIRECT(CONCATENATE(\"'UNITCOST ITEMS (Data Entry)'!H\",IFERROR(SUM(MATCH(A214,'UNITCOST ITEMS (Data Entry)'!$A$3:$A$504,0),2),\"\"))),\"\")=0,\"\",IFERROR(INDIRECT(CONCATENATE(\"'UNITCOST ITEMS (Data Entry)'!H\",IFERROR(SUM(MATCH(A214,'UNITCOST ITEMS (Data Entry)'!$A$3:$A$504,0),2),\"\"))),\"\"))","v":""},{"$f":"IF(IFERROR(INDIRECT(CONCATENATE(\"'UNITCOST ITEMS (Data Entry)'!I\",IFERROR(SUM(MATCH(A214,'UNITCOST ITEMS (Data Entry)'!$A$3:$A$504,0),2),\"\"))),\"\")=0,\"\",IFERROR(INDIRECT(CONCATENATE(\"'UNITCOST ITEMS (Data Entry)'!I\",IFERROR(SUM(MATCH(A214,'UNITCOST ITEMS (Data Entry)'!$A$3:$A$504,0),2),\"\"))),\"\"))","v":""},{"$f":"IF(K214=2,\"\",IF(IFERROR(INDIRECT(CONCATENATE(\"'UNITCOST ITEMS (Data Entry)'!J\",IFERROR(SUM(MATCH(A214,'UNITCOST ITEMS (Data Entry)'!$A$3:$A$504,0),2),\"\"))),\"\")=0,\"\",IFERROR(INDIRECT(CONCATENATE(\"'UNITCOST ITEMS (Data Entry)'!J\",IFERROR(SUM(MATCH(A214,'UNITCOST ITEMS (Data Entry)'!$A$3:$A$504,0),2),\"\"))),\"\")))","v":""},null,{"$f":"IF(IFERROR(INDIRECT(CONCATENATE(\"'UNITCOST ITEMS (Data Entry)'!C\",IFERROR(SUM(MATCH(A214,'UNITCOST ITEMS (Data Entry)'!$A$3:$A$504,0),2),\"\"))),\"\")=0,\"\",IFERROR(INDIRECT(CONCATENATE(\"'UNITCOST ITEMS (Data Entry)'!C\",IFERROR(SUM(MATCH(A214,'UNITCOST ITEMS (Data Entry)'!$A$3:$A$504,0),2),\"\"))),\"\"))","v":""},""]
[207,{"$f":"IF(IFERROR(INDIRECT(CONCATENATE(\"'UNITCOST ITEMS (Data Entry)'!D\",IFERROR(SUM(MATCH(A215,'UNITCOST ITEMS (Data Entry)'!$A$3:$A$504,0),2),\"\"))),\"\")=0,\"\",IFERROR(INDIRECT(CONCATENATE(\"'UNITCOST ITEMS (Data Entry)'!D\",IFERROR(SUM(MATCH(A215,'UNITCOST ITEMS (Data Entry)'!$A$3:$A$504,0),2),\"\"))),\"\"))","v":""},{"$f":"IF(IFERROR(INDIRECT(CONCATENATE(\"'UNITCOST ITEMS (Data Entry)'!E\",IFERROR(SUM(MATCH(A215,'UNITCOST ITEMS (Data Entry)'!$A$3:$A$504,0),2),\"\"))),\"\")=0,\"\",IFERROR(INDIRECT(CONCATENATE(\"'UNITCOST ITEMS (Data Entry)'!E\",IFERROR(SUM(MATCH(A215,'UNITCOST ITEMS (Data Entry)'!$A$3:$A$504,0),2),\"\"))),\"\"))","v":""},null,{"$f":"IF(IFERROR(INDIRECT(CONCATENATE(\"'UNITCOST ITEMS (Data Entry)'!F\",IFERROR(SUM(MATCH(A215,'UNITCOST ITEMS (Data Entry)'!$A$3:$A$504,0),2),\"\"))),\"\")=0,\"\",IFERROR(INDIRECT(CONCATENATE(\"'UNITCOST ITEMS (Data Entry)'!F\",IFERROR(SUM(MATCH(A215,'UNITCOST ITEMS (Data Entry)'!$A$3:$A$504,0),2),\"\"))),\"\"))","v":""},{"$f":"IF(IFERROR(INDIRECT(CONCATENATE(\"'UNITCOST ITEMS (Data Entry)'!G\",IFERROR(SUM(MATCH(A215,'UNITCOST ITEMS (Data Entry)'!$A$3:$A$504,0),2),\"\"))),\"\")=0,\"\",IFERROR(INDIRECT(CONCATENATE(\"'UNITCOST ITEMS (Data Entry)'!G\",IFERROR(SUM(MATCH(A215,'UNITCOST ITEMS (Data Entry)'!$A$3:$A$504,0),2),\"\"))),\"\"))","v":""},{"$f":"IF(IFERROR(INDIRECT(CONCATENATE(\"'UNITCOST ITEMS (Data Entry)'!H\",IFERROR(SUM(MATCH(A215,'UNITCOST ITEMS (Data Entry)'!$A$3:$A$504,0),2),\"\"))),\"\")=0,\"\",IFERROR(INDIRECT(CONCATENATE(\"'UNITCOST ITEMS (Data Entry)'!H\",IFERROR(SUM(MATCH(A215,'UNITCOST ITEMS (Data Entry)'!$A$3:$A$504,0),2),\"\"))),\"\"))","v":""},{"$f":"IF(IFERROR(INDIRECT(CONCATENATE(\"'UNITCOST ITEMS (Data Entry)'!I\",IFERROR(SUM(MATCH(A215,'UNITCOST ITEMS (Data Entry)'!$A$3:$A$504,0),2),\"\"))),\"\")=0,\"\",IFERROR(INDIRECT(CONCATENATE(\"'UNITCOST ITEMS (Data Entry)'!I\",IFERROR(SUM(MATCH(A215,'UNITCOST ITEMS (Data Entry)'!$A$3:$A$504,0),2),\"\"))),\"\"))","v":""},{"$f":"IF(K215=2,\"\",IF(IFERROR(INDIRECT(CONCATENATE(\"'UNITCOST ITEMS (Data Entry)'!J\",IFERROR(SUM(MATCH(A215,'UNITCOST ITEMS (Data Entry)'!$A$3:$A$504,0),2),\"\"))),\"\")=0,\"\",IFERROR(INDIRECT(CONCATENATE(\"'UNITCOST ITEMS (Data Entry)'!J\",IFERROR(SUM(MATCH(A215,'UNITCOST ITEMS (Data Entry)'!$A$3:$A$504,0),2),\"\"))),\"\")))","v":""},null,{"$f":"IF(IFERROR(INDIRECT(CONCATENATE(\"'UNITCOST ITEMS (Data Entry)'!C\",IFERROR(SUM(MATCH(A215,'UNITCOST ITEMS (Data Entry)'!$A$3:$A$504,0),2),\"\"))),\"\")=0,\"\",IFERROR(INDIRECT(CONCATENATE(\"'UNITCOST ITEMS (Data Entry)'!C\",IFERROR(SUM(MATCH(A215,'UNITCOST ITEMS (Data Entry)'!$A$3:$A$504,0),2),\"\"))),\"\"))","v":""},""]
[208,{"$f":"IF(IFERROR(INDIRECT(CONCATENATE(\"'UNITCOST ITEMS (Data Entry)'!D\",IFERROR(SUM(MATCH(A216,'UNITCOST ITEMS (Data Entry)'!$A$3:$A$504,0),2),\"\"))),\"\")=0,\"\",IFERROR(INDIRECT(CONCATENATE(\"'UNITCOST ITEMS (Data Entry)'!D\",IFERROR(SUM(MATCH(A216,'UNITCOST ITEMS (Data Entry)'!$A$3:$A$504,0),2),\"\"))),\"\"))","v":""},{"$f":"IF(IFERROR(INDIRECT(CONCATENATE(\"'UNITCOST ITEMS (Data Entry)'!E\",IFERROR(SUM(MATCH(A216,'UNITCOST ITEMS (Data Entry)'!$A$3:$A$504,0),2),\"\"))),\"\")=0,\"\",IFERROR(INDIRECT(CONCATENATE(\"'UNITCOST ITEMS (Data Entry)'!E\",IFERROR(SUM(MATCH(A216,'UNITCOST ITEMS (Data Entry)'!$A$3:$A$504,0),2),\"\"))),\"\"))","v":""},null,{"$f":"IF(IFERROR(INDIRECT(CONCATENATE(\"'UNITCOST ITEMS (Data Entry)'!F\",IFERROR(SUM(MATCH(A216,'UNITCOST ITEMS (Data Entry)'!$A$3:$A$504,0),2),\"\"))),\"\")=0,\"\",IFERROR(INDIRECT(CONCATENATE(\"'UNITCOST ITEMS (Data Entry)'!F\",IFERROR(SUM(MATCH(A216,'UNITCOST ITEMS (Data Entry)'!$A$3:$A$504,0),2),\"\"))),\"\"))","v":""},{"$f":"IF(IFERROR(INDIRECT(CONCATENATE(\"'UNITCOST ITEMS (Data Entry)'!G\",IFERROR(SUM(MATCH(A216,'UNITCOST ITEMS (Data Entry)'!$A$3:$A$504,0),2),\"\"))),\"\")=0,\"\",IFERROR(INDIRECT(CONCATENATE(\"'UNITCOST ITEMS (Data Entry)'!G\",IFERROR(SUM(MATCH(A216,'UNITCOST ITEMS (Data Entry)'!$A$3:$A$504,0),2),\"\"))),\"\"))","v":""},{"$f":"IF(IFERROR(INDIRECT(CONCATENATE(\"'UNITCOST ITEMS (Data Entry)'!H\",IFERROR(SUM(MATCH(A216,'UNITCOST ITEMS (Data Entry)'!$A$3:$A$504,0),2),\"\"))),\"\")=0,\"\",IFERROR(INDIRECT(CONCATENATE(\"'UNITCOST ITEMS (Data Entry)'!H\",IFERROR(SUM(MATCH(A216,'UNITCOST ITEMS (Data Entry)'!$A$3:$A$504,0),2),\"\"))),\"\"))","v":""},{"$f":"IF(IFERROR(INDIRECT(CONCATENATE(\"'UNITCOST ITEMS (Data Entry)'!I\",IFERROR(SUM(MATCH(A216,'UNITCOST ITEMS (Data Entry)'!$A$3:$A$504,0),2),\"\"))),\"\")=0,\"\",IFERROR(INDIRECT(CONCATENATE(\"'UNITCOST ITEMS (Data Entry)'!I\",IFERROR(SUM(MATCH(A216,'UNITCOST ITEMS (Data Entry)'!$A$3:$A$504,0),2),\"\"))),\"\"))","v":""},{"$f":"IF(K216=2,\"\",IF(IFERROR(INDIRECT(CONCATENATE(\"'UNITCOST ITEMS (Data Entry)'!J\",IFERROR(SUM(MATCH(A216,'UNITCOST ITEMS (Data Entry)'!$A$3:$A$504,0),2),\"\"))),\"\")=0,\"\",IFERROR(INDIRECT(CONCATENATE(\"'UNITCOST ITEMS (Data Entry)'!J\",IFERROR(SUM(MATCH(A216,'UNITCOST ITEMS (Data Entry)'!$A$3:$A$504,0),2),\"\"))),\"\")))","v":""},null,{"$f":"IF(IFERROR(INDIRECT(CONCATENATE(\"'UNITCOST ITEMS (Data Entry)'!C\",IFERROR(SUM(MATCH(A216,'UNITCOST ITEMS (Data Entry)'!$A$3:$A$504,0),2),\"\"))),\"\")=0,\"\",IFERROR(INDIRECT(CONCATENATE(\"'UNITCOST ITEMS (Data Entry)'!C\",IFERROR(SUM(MATCH(A216,'UNITCOST ITEMS (Data Entry)'!$A$3:$A$504,0),2),\"\"))),\"\"))","v":""},""]
[209,{"$f":"IF(IFERROR(INDIRECT(CONCATENATE(\"'UNITCOST ITEMS (Data Entry)'!D\",IFERROR(SUM(MATCH(A217,'UNITCOST ITEMS (Data Entry)'!$A$3:$A$504,0),2),\"\"))),\"\")=0,\"\",IFERROR(INDIRECT(CONCATENATE(\"'UNITCOST ITEMS (Data Entry)'!D\",IFERROR(SUM(MATCH(A217,'UNITCOST ITEMS (Data Entry)'!$A$3:$A$504,0),2),\"\"))),\"\"))","v":""},{"$f":"IF(IFERROR(INDIRECT(CONCATENATE(\"'UNITCOST ITEMS (Data Entry)'!E\",IFERROR(SUM(MATCH(A217,'UNITCOST ITEMS (Data Entry)'!$A$3:$A$504,0),2),\"\"))),\"\")=0,\"\",IFERROR(INDIRECT(CONCATENATE(\"'UNITCOST ITEMS (Data Entry)'!E\",IFERROR(SUM(MATCH(A217,'UNITCOST ITEMS (Data Entry)'!$A$3:$A$504,0),2),\"\"))),\"\"))","v":""},null,{"$f":"IF(IFERROR(INDIRECT(CONCATENATE(\"'UNITCOST ITEMS (Data Entry)'!F\",IFERROR(SUM(MATCH(A217,'UNITCOST ITEMS (Data Entry)'!$A$3:$A$504,0),2),\"\"))),\"\")=0,\"\",IFERROR(INDIRECT(CONCATENATE(\"'UNITCOST ITEMS (Data Entry)'!F\",IFERROR(SUM(MATCH(A217,'UNITCOST ITEMS (Data Entry)'!$A$3:$A$504,0),2),\"\"))),\"\"))","v":""},{"$f":"IF(IFERROR(INDIRECT(CONCATENATE(\"'UNITCOST ITEMS (Data Entry)'!G\",IFERROR(SUM(MATCH(A217,'UNITCOST ITEMS (Data Entry)'!$A$3:$A$504,0),2),\"\"))),\"\")=0,\"\",IFERROR(INDIRECT(CONCATENATE(\"'UNITCOST ITEMS (Data Entry)'!G\",IFERROR(SUM(MATCH(A217,'UNITCOST ITEMS (Data Entry)'!$A$3:$A$504,0),2),\"\"))),\"\"))","v":""},{"$f":"IF(IFERROR(INDIRECT(CONCATENATE(\"'UNITCOST ITEMS (Data Entry)'!H\",IFERROR(SUM(MATCH(A217,'UNITCOST ITEMS (Data Entry)'!$A$3:$A$504,0),2),\"\"))),\"\")=0,\"\",IFERROR(INDIRECT(CONCATENATE(\"'UNITCOST ITEMS (Data Entry)'!H\",IFERROR(SUM(MATCH(A217,'UNITCOST ITEMS (Data Entry)'!$A$3:$A$504,0),2),\"\"))),\"\"))","v":""},{"$f":"IF(IFERROR(INDIRECT(CONCATENATE(\"'UNITCOST ITEMS (Data Entry)'!I\",IFERROR(SUM(MATCH(A217,'UNITCOST ITEMS (Data Entry)'!$A$3:$A$504,0),2),\"\"))),\"\")=0,\"\",IFERROR(INDIRECT(CONCATENATE(\"'UNITCOST ITEMS (Data Entry)'!I\",IFERROR(SUM(MATCH(A217,'UNITCOST ITEMS (Data Entry)'!$A$3:$A$504,0),2),\"\"))),\"\"))","v":""},{"$f":"IF(K217=2,\"\",IF(IFERROR(INDIRECT(CONCATENATE(\"'UNITCOST ITEMS (Data Entry)'!J\",IFERROR(SUM(MATCH(A217,'UNITCOST ITEMS (Data Entry)'!$A$3:$A$504,0),2),\"\"))),\"\")=0,\"\",IFERROR(INDIRECT(CONCATENATE(\"'UNITCOST ITEMS (Data Entry)'!J\",IFERROR(SUM(MATCH(A217,'UNITCOST ITEMS (Data Entry)'!$A$3:$A$504,0),2),\"\"))),\"\")))","v":""},null,{"$f":"IF(IFERROR(INDIRECT(CONCATENATE(\"'UNITCOST ITEMS (Data Entry)'!C\",IFERROR(SUM(MATCH(A217,'UNITCOST ITEMS (Data Entry)'!$A$3:$A$504,0),2),\"\"))),\"\")=0,\"\",IFERROR(INDIRECT(CONCATENATE(\"'UNITCOST ITEMS (Data Entry)'!C\",IFERROR(SUM(MATCH(A217,'UNITCOST ITEMS (Data Entry)'!$A$3:$A$504,0),2),\"\"))),\"\"))","v":""},""]
[210,{"$f":"IF(IFERROR(INDIRECT(CONCATENATE(\"'UNITCOST ITEMS (Data Entry)'!D\",IFERROR(SUM(MATCH(A218,'UNITCOST ITEMS (Data Entry)'!$A$3:$A$504,0),2),\"\"))),\"\")=0,\"\",IFERROR(INDIRECT(CONCATENATE(\"'UNITCOST ITEMS (Data Entry)'!D\",IFERROR(SUM(MATCH(A218,'UNITCOST ITEMS (Data Entry)'!$A$3:$A$504,0),2),\"\"))),\"\"))","v":""},{"$f":"IF(IFERROR(INDIRECT(CONCATENATE(\"'UNITCOST ITEMS (Data Entry)'!E\",IFERROR(SUM(MATCH(A218,'UNITCOST ITEMS (Data Entry)'!$A$3:$A$504,0),2),\"\"))),\"\")=0,\"\",IFERROR(INDIRECT(CONCATENATE(\"'UNITCOST ITEMS (Data Entry)'!E\",IFERROR(SUM(MATCH(A218,'UNITCOST ITEMS (Data Entry)'!$A$3:$A$504,0),2),\"\"))),\"\"))","v":""},null,{"$f":"IF(IFERROR(INDIRECT(CONCATENATE(\"'UNITCOST ITEMS (Data Entry)'!F\",IFERROR(SUM(MATCH(A218,'UNITCOST ITEMS (Data Entry)'!$A$3:$A$504,0),2),\"\"))),\"\")=0,\"\",IFERROR(INDIRECT(CONCATENATE(\"'UNITCOST ITEMS (Data Entry)'!F\",IFERROR(SUM(MATCH(A218,'UNITCOST ITEMS (Data Entry)'!$A$3:$A$504,0),2),\"\"))),\"\"))","v":""},{"$f":"IF(IFERROR(INDIRECT(CONCATENATE(\"'UNITCOST ITEMS (Data Entry)'!G\",IFERROR(SUM(MATCH(A218,'UNITCOST ITEMS (Data Entry)'!$A$3:$A$504,0),2),\"\"))),\"\")=0,\"\",IFERROR(INDIRECT(CONCATENATE(\"'UNITCOST ITEMS (Data Entry)'!G\",IFERROR(SUM(MATCH(A218,'UNITCOST ITEMS (Data Entry)'!$A$3:$A$504,0),2),\"\"))),\"\"))","v":""},{"$f":"IF(IFERROR(INDIRECT(CONCATENATE(\"'UNITCOST ITEMS (Data Entry)'!H\",IFERROR(SUM(MATCH(A218,'UNITCOST ITEMS (Data Entry)'!$A$3:$A$504,0),2),\"\"))),\"\")=0,\"\",IFERROR(INDIRECT(CONCATENATE(\"'UNITCOST ITEMS (Data Entry)'!H\",IFERROR(SUM(MATCH(A218,'UNITCOST ITEMS (Data Entry)'!$A$3:$A$504,0),2),\"\"))),\"\"))","v":""},{"$f":"IF(IFERROR(INDIRECT(CONCATENATE(\"'UNITCOST ITEMS (Data Entry)'!I\",IFERROR(SUM(MATCH(A218,'UNITCOST ITEMS (Data Entry)'!$A$3:$A$504,0),2),\"\"))),\"\")=0,\"\",IFERROR(INDIRECT(CONCATENATE(\"'UNITCOST ITEMS (Data Entry)'!I\",IFERROR(SUM(MATCH(A218,'UNITCOST ITEMS (Data Entry)'!$A$3:$A$504,0),2),\"\"))),\"\"))","v":""},{"$f":"IF(K218=2,\"\",IF(IFERROR(INDIRECT(CONCATENATE(\"'UNITCOST ITEMS (Data Entry)'!J\",IFERROR(SUM(MATCH(A218,'UNITCOST ITEMS (Data Entry)'!$A$3:$A$504,0),2),\"\"))),\"\")=0,\"\",IFERROR(INDIRECT(CONCATENATE(\"'UNITCOST ITEMS (Data Entry)'!J\",IFERROR(SUM(MATCH(A218,'UNITCOST ITEMS (Data Entry)'!$A$3:$A$504,0),2),\"\"))),\"\")))","v":""},null,{"$f":"IF(IFERROR(INDIRECT(CONCATENATE(\"'UNITCOST ITEMS (Data Entry)'!C\",IFERROR(SUM(MATCH(A218,'UNITCOST ITEMS (Data Entry)'!$A$3:$A$504,0),2),\"\"))),\"\")=0,\"\",IFERROR(INDIRECT(CONCATENATE(\"'UNITCOST ITEMS (Data Entry)'!C\",IFERROR(SUM(MATCH(A218,'UNITCOST ITEMS (Data Entry)'!$A$3:$A$504,0),2),\"\"))),\"\"))","v":""},""]
[211,{"$f":"IF(IFERROR(INDIRECT(CONCATENATE(\"'UNITCOST ITEMS (Data Entry)'!D\",IFERROR(SUM(MATCH(A219,'UNITCOST ITEMS (Data Entry)'!$A$3:$A$504,0),2),\"\"))),\"\")=0,\"\",IFERROR(INDIRECT(CONCATENATE(\"'UNITCOST ITEMS (Data Entry)'!D\",IFERROR(SUM(MATCH(A219,'UNITCOST ITEMS (Data Entry)'!$A$3:$A$504,0),2),\"\"))),\"\"))","v":""},{"$f":"IF(IFERROR(INDIRECT(CONCATENATE(\"'UNITCOST ITEMS (Data Entry)'!E\",IFERROR(SUM(MATCH(A219,'UNITCOST ITEMS (Data Entry)'!$A$3:$A$504,0),2),\"\"))),\"\")=0,\"\",IFERROR(INDIRECT(CONCATENATE(\"'UNITCOST ITEMS (Data Entry)'!E\",IFERROR(SUM(MATCH(A219,'UNITCOST ITEMS (Data Entry)'!$A$3:$A$504,0),2),\"\"))),\"\"))","v":""},null,{"$f":"IF(IFERROR(INDIRECT(CONCATENATE(\"'UNITCOST ITEMS (Data Entry)'!F\",IFERROR(SUM(MATCH(A219,'UNITCOST ITEMS (Data Entry)'!$A$3:$A$504,0),2),\"\"))),\"\")=0,\"\",IFERROR(INDIRECT(CONCATENATE(\"'UNITCOST ITEMS (Data Entry)'!F\",IFERROR(SUM(MATCH(A219,'UNITCOST ITEMS (Data Entry)'!$A$3:$A$504,0),2),\"\"))),\"\"))","v":""},{"$f":"IF(IFERROR(INDIRECT(CONCATENATE(\"'UNITCOST ITEMS (Data Entry)'!G\",IFERROR(SUM(MATCH(A219,'UNITCOST ITEMS (Data Entry)'!$A$3:$A$504,0),2),\"\"))),\"\")=0,\"\",IFERROR(INDIRECT(CONCATENATE(\"'UNITCOST ITEMS (Data Entry)'!G\",IFERROR(SUM(MATCH(A219,'UNITCOST ITEMS (Data Entry)'!$A$3:$A$504,0),2),\"\"))),\"\"))","v":""},{"$f":"IF(IFERROR(INDIRECT(CONCATENATE(\"'UNITCOST ITEMS (Data Entry)'!H\",IFERROR(SUM(MATCH(A219,'UNITCOST ITEMS (Data Entry)'!$A$3:$A$504,0),2),\"\"))),\"\")=0,\"\",IFERROR(INDIRECT(CONCATENATE(\"'UNITCOST ITEMS (Data Entry)'!H\",IFERROR(SUM(MATCH(A219,'UNITCOST ITEMS (Data Entry)'!$A$3:$A$504,0),2),\"\"))),\"\"))","v":""},{"$f":"IF(IFERROR(INDIRECT(CONCATENATE(\"'UNITCOST ITEMS (Data Entry)'!I\",IFERROR(SUM(MATCH(A219,'UNITCOST ITEMS (Data Entry)'!$A$3:$A$504,0),2),\"\"))),\"\")=0,\"\",IFERROR(INDIRECT(CONCATENATE(\"'UNITCOST ITEMS (Data Entry)'!I\",IFERROR(SUM(MATCH(A219,'UNITCOST ITEMS (Data Entry)'!$A$3:$A$504,0),2),\"\"))),\"\"))","v":""},{"$f":"IF(K219=2,\"\",IF(IFERROR(INDIRECT(CONCATENATE(\"'UNITCOST ITEMS (Data Entry)'!J\",IFERROR(SUM(MATCH(A219,'UNITCOST ITEMS (Data Entry)'!$A$3:$A$504,0),2),\"\"))),\"\")=0,\"\",IFERROR(INDIRECT(CONCATENATE(\"'UNITCOST ITEMS (Data Entry)'!J\",IFERROR(SUM(MATCH(A219,'UNITCOST ITEMS (Data Entry)'!$A$3:$A$504,0),2),\"\"))),\"\")))","v":""},null,{"$f":"IF(IFERROR(INDIRECT(CONCATENATE(\"'UNITCOST ITEMS (Data Entry)'!C\",IFERROR(SUM(MATCH(A219,'UNITCOST ITEMS (Data Entry)'!$A$3:$A$504,0),2),\"\"))),\"\")=0,\"\",IFERROR(INDIRECT(CONCATENATE(\"'UNITCOST ITEMS (Data Entry)'!C\",IFERROR(SUM(MATCH(A219,'UNITCOST ITEMS (Data Entry)'!$A$3:$A$504,0),2),\"\"))),\"\"))","v":""},""]
[212,{"$f":"IF(IFERROR(INDIRECT(CONCATENATE(\"'UNITCOST ITEMS (Data Entry)'!D\",IFERROR(SUM(MATCH(A220,'UNITCOST ITEMS (Data Entry)'!$A$3:$A$504,0),2),\"\"))),\"\")=0,\"\",IFERROR(INDIRECT(CONCATENATE(\"'UNITCOST ITEMS (Data Entry)'!D\",IFERROR(SUM(MATCH(A220,'UNITCOST ITEMS (Data Entry)'!$A$3:$A$504,0),2),\"\"))),\"\"))","v":""},{"$f":"IF(IFERROR(INDIRECT(CONCATENATE(\"'UNITCOST ITEMS (Data Entry)'!E\",IFERROR(SUM(MATCH(A220,'UNITCOST ITEMS (Data Entry)'!$A$3:$A$504,0),2),\"\"))),\"\")=0,\"\",IFERROR(INDIRECT(CONCATENATE(\"'UNITCOST ITEMS (Data Entry)'!E\",IFERROR(SUM(MATCH(A220,'UNITCOST ITEMS (Data Entry)'!$A$3:$A$504,0),2),\"\"))),\"\"))","v":""},null,{"$f":"IF(IFERROR(INDIRECT(CONCATENATE(\"'UNITCOST ITEMS (Data Entry)'!F\",IFERROR(SUM(MATCH(A220,'UNITCOST ITEMS (Data Entry)'!$A$3:$A$504,0),2),\"\"))),\"\")=0,\"\",IFERROR(INDIRECT(CONCATENATE(\"'UNITCOST ITEMS (Data Entry)'!F\",IFERROR(SUM(MATCH(A220,'UNITCOST ITEMS (Data Entry)'!$A$3:$A$504,0),2),\"\"))),\"\"))","v":""},{"$f":"IF(IFERROR(INDIRECT(CONCATENATE(\"'UNITCOST ITEMS (Data Entry)'!G\",IFERROR(SUM(MATCH(A220,'UNITCOST ITEMS (Data Entry)'!$A$3:$A$504,0),2),\"\"))),\"\")=0,\"\",IFERROR(INDIRECT(CONCATENATE(\"'UNITCOST ITEMS (Data Entry)'!G\",IFERROR(SUM(MATCH(A220,'UNITCOST ITEMS (Data Entry)'!$A$3:$A$504,0),2),\"\"))),\"\"))","v":""},{"$f":"IF(IFERROR(INDIRECT(CONCATENATE(\"'UNITCOST ITEMS (Data Entry)'!H\",IFERROR(SUM(MATCH(A220,'UNITCOST ITEMS (Data Entry)'!$A$3:$A$504,0),2),\"\"))),\"\")=0,\"\",IFERROR(INDIRECT(CONCATENATE(\"'UNITCOST ITEMS (Data Entry)'!H\",IFERROR(SUM(MATCH(A220,'UNITCOST ITEMS (Data Entry)'!$A$3:$A$504,0),2),\"\"))),\"\"))","v":""},{"$f":"IF(IFERROR(INDIRECT(CONCATENATE(\"'UNITCOST ITEMS (Data Entry)'!I\",IFERROR(SUM(MATCH(A220,'UNITCOST ITEMS (Data Entry)'!$A$3:$A$504,0),2),\"\"))),\"\")=0,\"\",IFERROR(INDIRECT(CONCATENATE(\"'UNITCOST ITEMS (Data Entry)'!I\",IFERROR(SUM(MATCH(A220,'UNITCOST ITEMS (Data Entry)'!$A$3:$A$504,0),2),\"\"))),\"\"))","v":""},{"$f":"IF(K220=2,\"\",IF(IFERROR(INDIRECT(CONCATENATE(\"'UNITCOST ITEMS (Data Entry)'!J\",IFERROR(SUM(MATCH(A220,'UNITCOST ITEMS (Data Entry)'!$A$3:$A$504,0),2),\"\"))),\"\")=0,\"\",IFERROR(INDIRECT(CONCATENATE(\"'UNITCOST ITEMS (Data Entry)'!J\",IFERROR(SUM(MATCH(A220,'UNITCOST ITEMS (Data Entry)'!$A$3:$A$504,0),2),\"\"))),\"\")))","v":""},null,{"$f":"IF(IFERROR(INDIRECT(CONCATENATE(\"'UNITCOST ITEMS (Data Entry)'!C\",IFERROR(SUM(MATCH(A220,'UNITCOST ITEMS (Data Entry)'!$A$3:$A$504,0),2),\"\"))),\"\")=0,\"\",IFERROR(INDIRECT(CONCATENATE(\"'UNITCOST ITEMS (Data Entry)'!C\",IFERROR(SUM(MATCH(A220,'UNITCOST ITEMS (Data Entry)'!$A$3:$A$504,0),2),\"\"))),\"\"))","v":""},""]
[213,{"$f":"IF(IFERROR(INDIRECT(CONCATENATE(\"'UNITCOST ITEMS (Data Entry)'!D\",IFERROR(SUM(MATCH(A221,'UNITCOST ITEMS (Data Entry)'!$A$3:$A$504,0),2),\"\"))),\"\")=0,\"\",IFERROR(INDIRECT(CONCATENATE(\"'UNITCOST ITEMS (Data Entry)'!D\",IFERROR(SUM(MATCH(A221,'UNITCOST ITEMS (Data Entry)'!$A$3:$A$504,0),2),\"\"))),\"\"))","v":""},{"$f":"IF(IFERROR(INDIRECT(CONCATENATE(\"'UNITCOST ITEMS (Data Entry)'!E\",IFERROR(SUM(MATCH(A221,'UNITCOST ITEMS (Data Entry)'!$A$3:$A$504,0),2),\"\"))),\"\")=0,\"\",IFERROR(INDIRECT(CONCATENATE(\"'UNITCOST ITEMS (Data Entry)'!E\",IFERROR(SUM(MATCH(A221,'UNITCOST ITEMS (Data Entry)'!$A$3:$A$504,0),2),\"\"))),\"\"))","v":""},null,{"$f":"IF(IFERROR(INDIRECT(CONCATENATE(\"'UNITCOST ITEMS (Data Entry)'!F\",IFERROR(SUM(MATCH(A221,'UNITCOST ITEMS (Data Entry)'!$A$3:$A$504,0),2),\"\"))),\"\")=0,\"\",IFERROR(INDIRECT(CONCATENATE(\"'UNITCOST ITEMS (Data Entry)'!F\",IFERROR(SUM(MATCH(A221,'UNITCOST ITEMS (Data Entry)'!$A$3:$A$504,0),2),\"\"))),\"\"))","v":""},{"$f":"IF(IFERROR(INDIRECT(CONCATENATE(\"'UNITCOST ITEMS (Data Entry)'!G\",IFERROR(SUM(MATCH(A221,'UNITCOST ITEMS (Data Entry)'!$A$3:$A$504,0),2),\"\"))),\"\")=0,\"\",IFERROR(INDIRECT(CONCATENATE(\"'UNITCOST ITEMS (Data Entry)'!G\",IFERROR(SUM(MATCH(A221,'UNITCOST ITEMS (Data Entry)'!$A$3:$A$504,0),2),\"\"))),\"\"))","v":""},{"$f":"IF(IFERROR(INDIRECT(CONCATENATE(\"'UNITCOST ITEMS (Data Entry)'!H\",IFERROR(SUM(MATCH(A221,'UNITCOST ITEMS (Data Entry)'!$A$3:$A$504,0),2),\"\"))),\"\")=0,\"\",IFERROR(INDIRECT(CONCATENATE(\"'UNITCOST ITEMS (Data Entry)'!H\",IFERROR(SUM(MATCH(A221,'UNITCOST ITEMS (Data Entry)'!$A$3:$A$504,0),2),\"\"))),\"\"))","v":""},{"$f":"IF(IFERROR(INDIRECT(CONCATENATE(\"'UNITCOST ITEMS (Data Entry)'!I\",IFERROR(SUM(MATCH(A221,'UNITCOST ITEMS (Data Entry)'!$A$3:$A$504,0),2),\"\"))),\"\")=0,\"\",IFERROR(INDIRECT(CONCATENATE(\"'UNITCOST ITEMS (Data Entry)'!I\",IFERROR(SUM(MATCH(A221,'UNITCOST ITEMS (Data Entry)'!$A$3:$A$504,0),2),\"\"))),\"\"))","v":""},{"$f":"IF(K221=2,\"\",IF(IFERROR(INDIRECT(CONCATENATE(\"'UNITCOST ITEMS (Data Entry)'!J\",IFERROR(SUM(MATCH(A221,'UNITCOST ITEMS (Data Entry)'!$A$3:$A$504,0),2),\"\"))),\"\")=0,\"\",IFERROR(INDIRECT(CONCATENATE(\"'UNITCOST ITEMS (Data Entry)'!J\",IFERROR(SUM(MATCH(A221,'UNITCOST ITEMS (Data Entry)'!$A$3:$A$504,0),2),\"\"))),\"\")))","v":""},null,{"$f":"IF(IFERROR(INDIRECT(CONCATENATE(\"'UNITCOST ITEMS (Data Entry)'!C\",IFERROR(SUM(MATCH(A221,'UNITCOST ITEMS (Data Entry)'!$A$3:$A$504,0),2),\"\"))),\"\")=0,\"\",IFERROR(INDIRECT(CONCATENATE(\"'UNITCOST ITEMS (Data Entry)'!C\",IFERROR(SUM(MATCH(A221,'UNITCOST ITEMS (Data Entry)'!$A$3:$A$504,0),2),\"\"))),\"\"))","v":""},""]
[214,{"$f":"IF(IFERROR(INDIRECT(CONCATENATE(\"'UNITCOST ITEMS (Data Entry)'!D\",IFERROR(SUM(MATCH(A222,'UNITCOST ITEMS (Data Entry)'!$A$3:$A$504,0),2),\"\"))),\"\")=0,\"\",IFERROR(INDIRECT(CONCATENATE(\"'UNITCOST ITEMS (Data Entry)'!D\",IFERROR(SUM(MATCH(A222,'UNITCOST ITEMS (Data Entry)'!$A$3:$A$504,0),2),\"\"))),\"\"))","v":""},{"$f":"IF(IFERROR(INDIRECT(CONCATENATE(\"'UNITCOST ITEMS (Data Entry)'!E\",IFERROR(SUM(MATCH(A222,'UNITCOST ITEMS (Data Entry)'!$A$3:$A$504,0),2),\"\"))),\"\")=0,\"\",IFERROR(INDIRECT(CONCATENATE(\"'UNITCOST ITEMS (Data Entry)'!E\",IFERROR(SUM(MATCH(A222,'UNITCOST ITEMS (Data Entry)'!$A$3:$A$504,0),2),\"\"))),\"\"))","v":""},null,{"$f":"IF(IFERROR(INDIRECT(CONCATENATE(\"'UNITCOST ITEMS (Data Entry)'!F\",IFERROR(SUM(MATCH(A222,'UNITCOST ITEMS (Data Entry)'!$A$3:$A$504,0),2),\"\"))),\"\")=0,\"\",IFERROR(INDIRECT(CONCATENATE(\"'UNITCOST ITEMS (Data Entry)'!F\",IFERROR(SUM(MATCH(A222,'UNITCOST ITEMS (Data Entry)'!$A$3:$A$504,0),2),\"\"))),\"\"))","v":""},{"$f":"IF(IFERROR(INDIRECT(CONCATENATE(\"'UNITCOST ITEMS (Data Entry)'!G\",IFERROR(SUM(MATCH(A222,'UNITCOST ITEMS (Data Entry)'!$A$3:$A$504,0),2),\"\"))),\"\")=0,\"\",IFERROR(INDIRECT(CONCATENATE(\"'UNITCOST ITEMS (Data Entry)'!G\",IFERROR(SUM(MATCH(A222,'UNITCOST ITEMS (Data Entry)'!$A$3:$A$504,0),2),\"\"))),\"\"))","v":""},{"$f":"IF(IFERROR(INDIRECT(CONCATENATE(\"'UNITCOST ITEMS (Data Entry)'!H\",IFERROR(SUM(MATCH(A222,'UNITCOST ITEMS (Data Entry)'!$A$3:$A$504,0),2),\"\"))),\"\")=0,\"\",IFERROR(INDIRECT(CONCATENATE(\"'UNITCOST ITEMS (Data Entry)'!H\",IFERROR(SUM(MATCH(A222,'UNITCOST ITEMS (Data Entry)'!$A$3:$A$504,0),2),\"\"))),\"\"))","v":""},{"$f":"IF(IFERROR(INDIRECT(CONCATENATE(\"'UNITCOST ITEMS (Data Entry)'!I\",IFERROR(SUM(MATCH(A222,'UNITCOST ITEMS (Data Entry)'!$A$3:$A$504,0),2),\"\"))),\"\")=0,\"\",IFERROR(INDIRECT(CONCATENATE(\"'UNITCOST ITEMS (Data Entry)'!I\",IFERROR(SUM(MATCH(A222,'UNITCOST ITEMS (Data Entry)'!$A$3:$A$504,0),2),\"\"))),\"\"))","v":""},{"$f":"IF(K222=2,\"\",IF(IFERROR(INDIRECT(CONCATENATE(\"'UNITCOST ITEMS (Data Entry)'!J\",IFERROR(SUM(MATCH(A222,'UNITCOST ITEMS (Data Entry)'!$A$3:$A$504,0),2),\"\"))),\"\")=0,\"\",IFERROR(INDIRECT(CONCATENATE(\"'UNITCOST ITEMS (Data Entry)'!J\",IFERROR(SUM(MATCH(A222,'UNITCOST ITEMS (Data Entry)'!$A$3:$A$504,0),2),\"\"))),\"\")))","v":""},null,{"$f":"IF(IFERROR(INDIRECT(CONCATENATE(\"'UNITCOST ITEMS (Data Entry)'!C\",IFERROR(SUM(MATCH(A222,'UNITCOST ITEMS (Data Entry)'!$A$3:$A$504,0),2),\"\"))),\"\")=0,\"\",IFERROR(INDIRECT(CONCATENATE(\"'UNITCOST ITEMS (Data Entry)'!C\",IFERROR(SUM(MATCH(A222,'UNITCOST ITEMS (Data Entry)'!$A$3:$A$504,0),2),\"\"))),\"\"))","v":""},""]
[215,{"$f":"IF(IFERROR(INDIRECT(CONCATENATE(\"'UNITCOST ITEMS (Data Entry)'!D\",IFERROR(SUM(MATCH(A223,'UNITCOST ITEMS (Data Entry)'!$A$3:$A$504,0),2),\"\"))),\"\")=0,\"\",IFERROR(INDIRECT(CONCATENATE(\"'UNITCOST ITEMS (Data Entry)'!D\",IFERROR(SUM(MATCH(A223,'UNITCOST ITEMS (Data Entry)'!$A$3:$A$504,0),2),\"\"))),\"\"))","v":""},{"$f":"IF(IFERROR(INDIRECT(CONCATENATE(\"'UNITCOST ITEMS (Data Entry)'!E\",IFERROR(SUM(MATCH(A223,'UNITCOST ITEMS (Data Entry)'!$A$3:$A$504,0),2),\"\"))),\"\")=0,\"\",IFERROR(INDIRECT(CONCATENATE(\"'UNITCOST ITEMS (Data Entry)'!E\",IFERROR(SUM(MATCH(A223,'UNITCOST ITEMS (Data Entry)'!$A$3:$A$504,0),2),\"\"))),\"\"))","v":""},null,{"$f":"IF(IFERROR(INDIRECT(CONCATENATE(\"'UNITCOST ITEMS (Data Entry)'!F\",IFERROR(SUM(MATCH(A223,'UNITCOST ITEMS (Data Entry)'!$A$3:$A$504,0),2),\"\"))),\"\")=0,\"\",IFERROR(INDIRECT(CONCATENATE(\"'UNITCOST ITEMS (Data Entry)'!F\",IFERROR(SUM(MATCH(A223,'UNITCOST ITEMS (Data Entry)'!$A$3:$A$504,0),2),\"\"))),\"\"))","v":""},{"$f":"IF(IFERROR(INDIRECT(CONCATENATE(\"'UNITCOST ITEMS (Data Entry)'!G\",IFERROR(SUM(MATCH(A223,'UNITCOST ITEMS (Data Entry)'!$A$3:$A$504,0),2),\"\"))),\"\")=0,\"\",IFERROR(INDIRECT(CONCATENATE(\"'UNITCOST ITEMS (Data Entry)'!G\",IFERROR(SUM(MATCH(A223,'UNITCOST ITEMS (Data Entry)'!$A$3:$A$504,0),2),\"\"))),\"\"))","v":""},{"$f":"IF(IFERROR(INDIRECT(CONCATENATE(\"'UNITCOST ITEMS (Data Entry)'!H\",IFERROR(SUM(MATCH(A223,'UNITCOST ITEMS (Data Entry)'!$A$3:$A$504,0),2),\"\"))),\"\")=0,\"\",IFERROR(INDIRECT(CONCATENATE(\"'UNITCOST ITEMS (Data Entry)'!H\",IFERROR(SUM(MATCH(A223,'UNITCOST ITEMS (Data Entry)'!$A$3:$A$504,0),2),\"\"))),\"\"))","v":""},{"$f":"IF(IFERROR(INDIRECT(CONCATENATE(\"'UNITCOST ITEMS (Data Entry)'!I\",IFERROR(SUM(MATCH(A223,'UNITCOST ITEMS (Data Entry)'!$A$3:$A$504,0),2),\"\"))),\"\")=0,\"\",IFERROR(INDIRECT(CONCATENATE(\"'UNITCOST ITEMS (Data Entry)'!I\",IFERROR(SUM(MATCH(A223,'UNITCOST ITEMS (Data Entry)'!$A$3:$A$504,0),2),\"\"))),\"\"))","v":""},{"$f":"IF(K223=2,\"\",IF(IFERROR(INDIRECT(CONCATENATE(\"'UNITCOST ITEMS (Data Entry)'!J\",IFERROR(SUM(MATCH(A223,'UNITCOST ITEMS (Data Entry)'!$A$3:$A$504,0),2),\"\"))),\"\")=0,\"\",IFERROR(INDIRECT(CONCATENATE(\"'UNITCOST ITEMS (Data Entry)'!J\",IFERROR(SUM(MATCH(A223,'UNITCOST ITEMS (Data Entry)'!$A$3:$A$504,0),2),\"\"))),\"\")))","v":""},null,{"$f":"IF(IFERROR(INDIRECT(CONCATENATE(\"'UNITCOST ITEMS (Data Entry)'!C\",IFERROR(SUM(MATCH(A223,'UNITCOST ITEMS (Data Entry)'!$A$3:$A$504,0),2),\"\"))),\"\")=0,\"\",IFERROR(INDIRECT(CONCATENATE(\"'UNITCOST ITEMS (Data Entry)'!C\",IFERROR(SUM(MATCH(A223,'UNITCOST ITEMS (Data Entry)'!$A$3:$A$504,0),2),\"\"))),\"\"))","v":""},""]
[216,{"$f":"IF(IFERROR(INDIRECT(CONCATENATE(\"'UNITCOST ITEMS (Data Entry)'!D\",IFERROR(SUM(MATCH(A224,'UNITCOST ITEMS (Data Entry)'!$A$3:$A$504,0),2),\"\"))),\"\")=0,\"\",IFERROR(INDIRECT(CONCATENATE(\"'UNITCOST ITEMS (Data Entry)'!D\",IFERROR(SUM(MATCH(A224,'UNITCOST ITEMS (Data Entry)'!$A$3:$A$504,0),2),\"\"))),\"\"))","v":""},{"$f":"IF(IFERROR(INDIRECT(CONCATENATE(\"'UNITCOST ITEMS (Data Entry)'!E\",IFERROR(SUM(MATCH(A224,'UNITCOST ITEMS (Data Entry)'!$A$3:$A$504,0),2),\"\"))),\"\")=0,\"\",IFERROR(INDIRECT(CONCATENATE(\"'UNITCOST ITEMS (Data Entry)'!E\",IFERROR(SUM(MATCH(A224,'UNITCOST ITEMS (Data Entry)'!$A$3:$A$504,0),2),\"\"))),\"\"))","v":""},null,{"$f":"IF(IFERROR(INDIRECT(CONCATENATE(\"'UNITCOST ITEMS (Data Entry)'!F\",IFERROR(SUM(MATCH(A224,'UNITCOST ITEMS (Data Entry)'!$A$3:$A$504,0),2),\"\"))),\"\")=0,\"\",IFERROR(INDIRECT(CONCATENATE(\"'UNITCOST ITEMS (Data Entry)'!F\",IFERROR(SUM(MATCH(A224,'UNITCOST ITEMS (Data Entry)'!$A$3:$A$504,0),2),\"\"))),\"\"))","v":""},{"$f":"IF(IFERROR(INDIRECT(CONCATENATE(\"'UNITCOST ITEMS (Data Entry)'!G\",IFERROR(SUM(MATCH(A224,'UNITCOST ITEMS (Data Entry)'!$A$3:$A$504,0),2),\"\"))),\"\")=0,\"\",IFERROR(INDIRECT(CONCATENATE(\"'UNITCOST ITEMS (Data Entry)'!G\",IFERROR(SUM(MATCH(A224,'UNITCOST ITEMS (Data Entry)'!$A$3:$A$504,0),2),\"\"))),\"\"))","v":""},{"$f":"IF(IFERROR(INDIRECT(CONCATENATE(\"'UNITCOST ITEMS (Data Entry)'!H\",IFERROR(SUM(MATCH(A224,'UNITCOST ITEMS (Data Entry)'!$A$3:$A$504,0),2),\"\"))),\"\")=0,\"\",IFERROR(INDIRECT(CONCATENATE(\"'UNITCOST ITEMS (Data Entry)'!H\",IFERROR(SUM(MATCH(A224,'UNITCOST ITEMS (Data Entry)'!$A$3:$A$504,0),2),\"\"))),\"\"))","v":""},{"$f":"IF(IFERROR(INDIRECT(CONCATENATE(\"'UNITCOST ITEMS (Data Entry)'!I\",IFERROR(SUM(MATCH(A224,'UNITCOST ITEMS (Data Entry)'!$A$3:$A$504,0),2),\"\"))),\"\")=0,\"\",IFERROR(INDIRECT(CONCATENATE(\"'UNITCOST ITEMS (Data Entry)'!I\",IFERROR(SUM(MATCH(A224,'UNITCOST ITEMS (Data Entry)'!$A$3:$A$504,0),2),\"\"))),\"\"))","v":""},{"$f":"IF(K224=2,\"\",IF(IFERROR(INDIRECT(CONCATENATE(\"'UNITCOST ITEMS (Data Entry)'!J\",IFERROR(SUM(MATCH(A224,'UNITCOST ITEMS (Data Entry)'!$A$3:$A$504,0),2),\"\"))),\"\")=0,\"\",IFERROR(INDIRECT(CONCATENATE(\"'UNITCOST ITEMS (Data Entry)'!J\",IFERROR(SUM(MATCH(A224,'UNITCOST ITEMS (Data Entry)'!$A$3:$A$504,0),2),\"\"))),\"\")))","v":""},null,{"$f":"IF(IFERROR(INDIRECT(CONCATENATE(\"'UNITCOST ITEMS (Data Entry)'!C\",IFERROR(SUM(MATCH(A224,'UNITCOST ITEMS (Data Entry)'!$A$3:$A$504,0),2),\"\"))),\"\")=0,\"\",IFERROR(INDIRECT(CONCATENATE(\"'UNITCOST ITEMS (Data Entry)'!C\",IFERROR(SUM(MATCH(A224,'UNITCOST ITEMS (Data Entry)'!$A$3:$A$504,0),2),\"\"))),\"\"))","v":""},""]
[217,{"$f":"IF(IFERROR(INDIRECT(CONCATENATE(\"'UNITCOST ITEMS (Data Entry)'!D\",IFERROR(SUM(MATCH(A225,'UNITCOST ITEMS (Data Entry)'!$A$3:$A$504,0),2),\"\"))),\"\")=0,\"\",IFERROR(INDIRECT(CONCATENATE(\"'UNITCOST ITEMS (Data Entry)'!D\",IFERROR(SUM(MATCH(A225,'UNITCOST ITEMS (Data Entry)'!$A$3:$A$504,0),2),\"\"))),\"\"))","v":""},{"$f":"IF(IFERROR(INDIRECT(CONCATENATE(\"'UNITCOST ITEMS (Data Entry)'!E\",IFERROR(SUM(MATCH(A225,'UNITCOST ITEMS (Data Entry)'!$A$3:$A$504,0),2),\"\"))),\"\")=0,\"\",IFERROR(INDIRECT(CONCATENATE(\"'UNITCOST ITEMS (Data Entry)'!E\",IFERROR(SUM(MATCH(A225,'UNITCOST ITEMS (Data Entry)'!$A$3:$A$504,0),2),\"\"))),\"\"))","v":""},null,{"$f":"IF(IFERROR(INDIRECT(CONCATENATE(\"'UNITCOST ITEMS (Data Entry)'!F\",IFERROR(SUM(MATCH(A225,'UNITCOST ITEMS (Data Entry)'!$A$3:$A$504,0),2),\"\"))),\"\")=0,\"\",IFERROR(INDIRECT(CONCATENATE(\"'UNITCOST ITEMS (Data Entry)'!F\",IFERROR(SUM(MATCH(A225,'UNITCOST ITEMS (Data Entry)'!$A$3:$A$504,0),2),\"\"))),\"\"))","v":""},{"$f":"IF(IFERROR(INDIRECT(CONCATENATE(\"'UNITCOST ITEMS (Data Entry)'!G\",IFERROR(SUM(MATCH(A225,'UNITCOST ITEMS (Data Entry)'!$A$3:$A$504,0),2),\"\"))),\"\")=0,\"\",IFERROR(INDIRECT(CONCATENATE(\"'UNITCOST ITEMS (Data Entry)'!G\",IFERROR(SUM(MATCH(A225,'UNITCOST ITEMS (Data Entry)'!$A$3:$A$504,0),2),\"\"))),\"\"))","v":""},{"$f":"IF(IFERROR(INDIRECT(CONCATENATE(\"'UNITCOST ITEMS (Data Entry)'!H\",IFERROR(SUM(MATCH(A225,'UNITCOST ITEMS (Data Entry)'!$A$3:$A$504,0),2),\"\"))),\"\")=0,\"\",IFERROR(INDIRECT(CONCATENATE(\"'UNITCOST ITEMS (Data Entry)'!H\",IFERROR(SUM(MATCH(A225,'UNITCOST ITEMS (Data Entry)'!$A$3:$A$504,0),2),\"\"))),\"\"))","v":""},{"$f":"IF(IFERROR(INDIRECT(CONCATENATE(\"'UNITCOST ITEMS (Data Entry)'!I\",IFERROR(SUM(MATCH(A225,'UNITCOST ITEMS (Data Entry)'!$A$3:$A$504,0),2),\"\"))),\"\")=0,\"\",IFERROR(INDIRECT(CONCATENATE(\"'UNITCOST ITEMS (Data Entry)'!I\",IFERROR(SUM(MATCH(A225,'UNITCOST ITEMS (Data Entry)'!$A$3:$A$504,0),2),\"\"))),\"\"))","v":""},{"$f":"IF(K225=2,\"\",IF(IFERROR(INDIRECT(CONCATENATE(\"'UNITCOST ITEMS (Data Entry)'!J\",IFERROR(SUM(MATCH(A225,'UNITCOST ITEMS (Data Entry)'!$A$3:$A$504,0),2),\"\"))),\"\")=0,\"\",IFERROR(INDIRECT(CONCATENATE(\"'UNITCOST ITEMS (Data Entry)'!J\",IFERROR(SUM(MATCH(A225,'UNITCOST ITEMS (Data Entry)'!$A$3:$A$504,0),2),\"\"))),\"\")))","v":""},null,{"$f":"IF(IFERROR(INDIRECT(CONCATENATE(\"'UNITCOST ITEMS (Data Entry)'!C\",IFERROR(SUM(MATCH(A225,'UNITCOST ITEMS (Data Entry)'!$A$3:$A$504,0),2),\"\"))),\"\")=0,\"\",IFERROR(INDIRECT(CONCATENATE(\"'UNITCOST ITEMS (Data Entry)'!C\",IFERROR(SUM(MATCH(A225,'UNITCOST ITEMS (Data Entry)'!$A$3:$A$504,0),2),\"\"))),\"\"))","v":""},""]
[218,{"$f":"IF(IFERROR(INDIRECT(CONCATENATE(\"'UNITCOST ITEMS (Data Entry)'!D\",IFERROR(SUM(MATCH(A226,'UNITCOST ITEMS (Data Entry)'!$A$3:$A$504,0),2),\"\"))),\"\")=0,\"\",IFERROR(INDIRECT(CONCATENATE(\"'UNITCOST ITEMS (Data Entry)'!D\",IFERROR(SUM(MATCH(A226,'UNITCOST ITEMS (Data Entry)'!$A$3:$A$504,0),2),\"\"))),\"\"))","v":""},{"$f":"IF(IFERROR(INDIRECT(CONCATENATE(\"'UNITCOST ITEMS (Data Entry)'!E\",IFERROR(SUM(MATCH(A226,'UNITCOST ITEMS (Data Entry)'!$A$3:$A$504,0),2),\"\"))),\"\")=0,\"\",IFERROR(INDIRECT(CONCATENATE(\"'UNITCOST ITEMS (Data Entry)'!E\",IFERROR(SUM(MATCH(A226,'UNITCOST ITEMS (Data Entry)'!$A$3:$A$504,0),2),\"\"))),\"\"))","v":""},null,{"$f":"IF(IFERROR(INDIRECT(CONCATENATE(\"'UNITCOST ITEMS (Data Entry)'!F\",IFERROR(SUM(MATCH(A226,'UNITCOST ITEMS (Data Entry)'!$A$3:$A$504,0),2),\"\"))),\"\")=0,\"\",IFERROR(INDIRECT(CONCATENATE(\"'UNITCOST ITEMS (Data Entry)'!F\",IFERROR(SUM(MATCH(A226,'UNITCOST ITEMS (Data Entry)'!$A$3:$A$504,0),2),\"\"))),\"\"))","v":""},{"$f":"IF(IFERROR(INDIRECT(CONCATENATE(\"'UNITCOST ITEMS (Data Entry)'!G\",IFERROR(SUM(MATCH(A226,'UNITCOST ITEMS (Data Entry)'!$A$3:$A$504,0),2),\"\"))),\"\")=0,\"\",IFERROR(INDIRECT(CONCATENATE(\"'UNITCOST ITEMS (Data Entry)'!G\",IFERROR(SUM(MATCH(A226,'UNITCOST ITEMS (Data Entry)'!$A$3:$A$504,0),2),\"\"))),\"\"))","v":""},{"$f":"IF(IFERROR(INDIRECT(CONCATENATE(\"'UNITCOST ITEMS (Data Entry)'!H\",IFERROR(SUM(MATCH(A226,'UNITCOST ITEMS (Data Entry)'!$A$3:$A$504,0),2),\"\"))),\"\")=0,\"\",IFERROR(INDIRECT(CONCATENATE(\"'UNITCOST ITEMS (Data Entry)'!H\",IFERROR(SUM(MATCH(A226,'UNITCOST ITEMS (Data Entry)'!$A$3:$A$504,0),2),\"\"))),\"\"))","v":""},{"$f":"IF(IFERROR(INDIRECT(CONCATENATE(\"'UNITCOST ITEMS (Data Entry)'!I\",IFERROR(SUM(MATCH(A226,'UNITCOST ITEMS (Data Entry)'!$A$3:$A$504,0),2),\"\"))),\"\")=0,\"\",IFERROR(INDIRECT(CONCATENATE(\"'UNITCOST ITEMS (Data Entry)'!I\",IFERROR(SUM(MATCH(A226,'UNITCOST ITEMS (Data Entry)'!$A$3:$A$504,0),2),\"\"))),\"\"))","v":""},{"$f":"IF(K226=2,\"\",IF(IFERROR(INDIRECT(CONCATENATE(\"'UNITCOST ITEMS (Data Entry)'!J\",IFERROR(SUM(MATCH(A226,'UNITCOST ITEMS (Data Entry)'!$A$3:$A$504,0),2),\"\"))),\"\")=0,\"\",IFERROR(INDIRECT(CONCATENATE(\"'UNITCOST ITEMS (Data Entry)'!J\",IFERROR(SUM(MATCH(A226,'UNITCOST ITEMS (Data Entry)'!$A$3:$A$504,0),2),\"\"))),\"\")))","v":""},null,{"$f":"IF(IFERROR(INDIRECT(CONCATENATE(\"'UNITCOST ITEMS (Data Entry)'!C\",IFERROR(SUM(MATCH(A226,'UNITCOST ITEMS (Data Entry)'!$A$3:$A$504,0),2),\"\"))),\"\")=0,\"\",IFERROR(INDIRECT(CONCATENATE(\"'UNITCOST ITEMS (Data Entry)'!C\",IFERROR(SUM(MATCH(A226,'UNITCOST ITEMS (Data Entry)'!$A$3:$A$504,0),2),\"\"))),\"\"))","v":""},""]
[219,{"$f":"IF(IFERROR(INDIRECT(CONCATENATE(\"'UNITCOST ITEMS (Data Entry)'!D\",IFERROR(SUM(MATCH(A227,'UNITCOST ITEMS (Data Entry)'!$A$3:$A$504,0),2),\"\"))),\"\")=0,\"\",IFERROR(INDIRECT(CONCATENATE(\"'UNITCOST ITEMS (Data Entry)'!D\",IFERROR(SUM(MATCH(A227,'UNITCOST ITEMS (Data Entry)'!$A$3:$A$504,0),2),\"\"))),\"\"))","v":""},{"$f":"IF(IFERROR(INDIRECT(CONCATENATE(\"'UNITCOST ITEMS (Data Entry)'!E\",IFERROR(SUM(MATCH(A227,'UNITCOST ITEMS (Data Entry)'!$A$3:$A$504,0),2),\"\"))),\"\")=0,\"\",IFERROR(INDIRECT(CONCATENATE(\"'UNITCOST ITEMS (Data Entry)'!E\",IFERROR(SUM(MATCH(A227,'UNITCOST ITEMS (Data Entry)'!$A$3:$A$504,0),2),\"\"))),\"\"))","v":""},null,{"$f":"IF(IFERROR(INDIRECT(CONCATENATE(\"'UNITCOST ITEMS (Data Entry)'!F\",IFERROR(SUM(MATCH(A227,'UNITCOST ITEMS (Data Entry)'!$A$3:$A$504,0),2),\"\"))),\"\")=0,\"\",IFERROR(INDIRECT(CONCATENATE(\"'UNITCOST ITEMS (Data Entry)'!F\",IFERROR(SUM(MATCH(A227,'UNITCOST ITEMS (Data Entry)'!$A$3:$A$504,0),2),\"\"))),\"\"))","v":""},{"$f":"IF(IFERROR(INDIRECT(CONCATENATE(\"'UNITCOST ITEMS (Data Entry)'!G\",IFERROR(SUM(MATCH(A227,'UNITCOST ITEMS (Data Entry)'!$A$3:$A$504,0),2),\"\"))),\"\")=0,\"\",IFERROR(INDIRECT(CONCATENATE(\"'UNITCOST ITEMS (Data Entry)'!G\",IFERROR(SUM(MATCH(A227,'UNITCOST ITEMS (Data Entry)'!$A$3:$A$504,0),2),\"\"))),\"\"))","v":""},{"$f":"IF(IFERROR(INDIRECT(CONCATENATE(\"'UNITCOST ITEMS (Data Entry)'!H\",IFERROR(SUM(MATCH(A227,'UNITCOST ITEMS (Data Entry)'!$A$3:$A$504,0),2),\"\"))),\"\")=0,\"\",IFERROR(INDIRECT(CONCATENATE(\"'UNITCOST ITEMS (Data Entry)'!H\",IFERROR(SUM(MATCH(A227,'UNITCOST ITEMS (Data Entry)'!$A$3:$A$504,0),2),\"\"))),\"\"))","v":""},{"$f":"IF(IFERROR(INDIRECT(CONCATENATE(\"'UNITCOST ITEMS (Data Entry)'!I\",IFERROR(SUM(MATCH(A227,'UNITCOST ITEMS (Data Entry)'!$A$3:$A$504,0),2),\"\"))),\"\")=0,\"\",IFERROR(INDIRECT(CONCATENATE(\"'UNITCOST ITEMS (Data Entry)'!I\",IFERROR(SUM(MATCH(A227,'UNITCOST ITEMS (Data Entry)'!$A$3:$A$504,0),2),\"\"))),\"\"))","v":""},{"$f":"IF(K227=2,\"\",IF(IFERROR(INDIRECT(CONCATENATE(\"'UNITCOST ITEMS (Data Entry)'!J\",IFERROR(SUM(MATCH(A227,'UNITCOST ITEMS (Data Entry)'!$A$3:$A$504,0),2),\"\"))),\"\")=0,\"\",IFERROR(INDIRECT(CONCATENATE(\"'UNITCOST ITEMS (Data Entry)'!J\",IFERROR(SUM(MATCH(A227,'UNITCOST ITEMS (Data Entry)'!$A$3:$A$504,0),2),\"\"))),\"\")))","v":""},null,{"$f":"IF(IFERROR(INDIRECT(CONCATENATE(\"'UNITCOST ITEMS (Data Entry)'!C\",IFERROR(SUM(MATCH(A227,'UNITCOST ITEMS (Data Entry)'!$A$3:$A$504,0),2),\"\"))),\"\")=0,\"\",IFERROR(INDIRECT(CONCATENATE(\"'UNITCOST ITEMS (Data Entry)'!C\",IFERROR(SUM(MATCH(A227,'UNITCOST ITEMS (Data Entry)'!$A$3:$A$504,0),2),\"\"))),\"\"))","v":""},""]
[220,{"$f":"IF(IFERROR(INDIRECT(CONCATENATE(\"'UNITCOST ITEMS (Data Entry)'!D\",IFERROR(SUM(MATCH(A228,'UNITCOST ITEMS (Data Entry)'!$A$3:$A$504,0),2),\"\"))),\"\")=0,\"\",IFERROR(INDIRECT(CONCATENATE(\"'UNITCOST ITEMS (Data Entry)'!D\",IFERROR(SUM(MATCH(A228,'UNITCOST ITEMS (Data Entry)'!$A$3:$A$504,0),2),\"\"))),\"\"))","v":""},{"$f":"IF(IFERROR(INDIRECT(CONCATENATE(\"'UNITCOST ITEMS (Data Entry)'!E\",IFERROR(SUM(MATCH(A228,'UNITCOST ITEMS (Data Entry)'!$A$3:$A$504,0),2),\"\"))),\"\")=0,\"\",IFERROR(INDIRECT(CONCATENATE(\"'UNITCOST ITEMS (Data Entry)'!E\",IFERROR(SUM(MATCH(A228,'UNITCOST ITEMS (Data Entry)'!$A$3:$A$504,0),2),\"\"))),\"\"))","v":""},null,{"$f":"IF(IFERROR(INDIRECT(CONCATENATE(\"'UNITCOST ITEMS (Data Entry)'!F\",IFERROR(SUM(MATCH(A228,'UNITCOST ITEMS (Data Entry)'!$A$3:$A$504,0),2),\"\"))),\"\")=0,\"\",IFERROR(INDIRECT(CONCATENATE(\"'UNITCOST ITEMS (Data Entry)'!F\",IFERROR(SUM(MATCH(A228,'UNITCOST ITEMS (Data Entry)'!$A$3:$A$504,0),2),\"\"))),\"\"))","v":""},{"$f":"IF(IFERROR(INDIRECT(CONCATENATE(\"'UNITCOST ITEMS (Data Entry)'!G\",IFERROR(SUM(MATCH(A228,'UNITCOST ITEMS (Data Entry)'!$A$3:$A$504,0),2),\"\"))),\"\")=0,\"\",IFERROR(INDIRECT(CONCATENATE(\"'UNITCOST ITEMS (Data Entry)'!G\",IFERROR(SUM(MATCH(A228,'UNITCOST ITEMS (Data Entry)'!$A$3:$A$504,0),2),\"\"))),\"\"))","v":""},{"$f":"IF(IFERROR(INDIRECT(CONCATENATE(\"'UNITCOST ITEMS (Data Entry)'!H\",IFERROR(SUM(MATCH(A228,'UNITCOST ITEMS (Data Entry)'!$A$3:$A$504,0),2),\"\"))),\"\")=0,\"\",IFERROR(INDIRECT(CONCATENATE(\"'UNITCOST ITEMS (Data Entry)'!H\",IFERROR(SUM(MATCH(A228,'UNITCOST ITEMS (Data Entry)'!$A$3:$A$504,0),2),\"\"))),\"\"))","v":""},{"$f":"IF(IFERROR(INDIRECT(CONCATENATE(\"'UNITCOST ITEMS (Data Entry)'!I\",IFERROR(SUM(MATCH(A228,'UNITCOST ITEMS (Data Entry)'!$A$3:$A$504,0),2),\"\"))),\"\")=0,\"\",IFERROR(INDIRECT(CONCATENATE(\"'UNITCOST ITEMS (Data Entry)'!I\",IFERROR(SUM(MATCH(A228,'UNITCOST ITEMS (Data Entry)'!$A$3:$A$504,0),2),\"\"))),\"\"))","v":""},{"$f":"IF(K228=2,\"\",IF(IFERROR(INDIRECT(CONCATENATE(\"'UNITCOST ITEMS (Data Entry)'!J\",IFERROR(SUM(MATCH(A228,'UNITCOST ITEMS (Data Entry)'!$A$3:$A$504,0),2),\"\"))),\"\")=0,\"\",IFERROR(INDIRECT(CONCATENATE(\"'UNITCOST ITEMS (Data Entry)'!J\",IFERROR(SUM(MATCH(A228,'UNITCOST ITEMS (Data Entry)'!$A$3:$A$504,0),2),\"\"))),\"\")))","v":""},null,{"$f":"IF(IFERROR(INDIRECT(CONCATENATE(\"'UNITCOST ITEMS (Data Entry)'!C\",IFERROR(SUM(MATCH(A228,'UNITCOST ITEMS (Data Entry)'!$A$3:$A$504,0),2),\"\"))),\"\")=0,\"\",IFERROR(INDIRECT(CONCATENATE(\"'UNITCOST ITEMS (Data Entry)'!C\",IFERROR(SUM(MATCH(A228,'UNITCOST ITEMS (Data Entry)'!$A$3:$A$504,0),2),\"\"))),\"\"))","v":""},""]
[221,{"$f":"IF(IFERROR(INDIRECT(CONCATENATE(\"'UNITCOST ITEMS (Data Entry)'!D\",IFERROR(SUM(MATCH(A229,'UNITCOST ITEMS (Data Entry)'!$A$3:$A$504,0),2),\"\"))),\"\")=0,\"\",IFERROR(INDIRECT(CONCATENATE(\"'UNITCOST ITEMS (Data Entry)'!D\",IFERROR(SUM(MATCH(A229,'UNITCOST ITEMS (Data Entry)'!$A$3:$A$504,0),2),\"\"))),\"\"))","v":""},{"$f":"IF(IFERROR(INDIRECT(CONCATENATE(\"'UNITCOST ITEMS (Data Entry)'!E\",IFERROR(SUM(MATCH(A229,'UNITCOST ITEMS (Data Entry)'!$A$3:$A$504,0),2),\"\"))),\"\")=0,\"\",IFERROR(INDIRECT(CONCATENATE(\"'UNITCOST ITEMS (Data Entry)'!E\",IFERROR(SUM(MATCH(A229,'UNITCOST ITEMS (Data Entry)'!$A$3:$A$504,0),2),\"\"))),\"\"))","v":""},null,{"$f":"IF(IFERROR(INDIRECT(CONCATENATE(\"'UNITCOST ITEMS (Data Entry)'!F\",IFERROR(SUM(MATCH(A229,'UNITCOST ITEMS (Data Entry)'!$A$3:$A$504,0),2),\"\"))),\"\")=0,\"\",IFERROR(INDIRECT(CONCATENATE(\"'UNITCOST ITEMS (Data Entry)'!F\",IFERROR(SUM(MATCH(A229,'UNITCOST ITEMS (Data Entry)'!$A$3:$A$504,0),2),\"\"))),\"\"))","v":""},{"$f":"IF(IFERROR(INDIRECT(CONCATENATE(\"'UNITCOST ITEMS (Data Entry)'!G\",IFERROR(SUM(MATCH(A229,'UNITCOST ITEMS (Data Entry)'!$A$3:$A$504,0),2),\"\"))),\"\")=0,\"\",IFERROR(INDIRECT(CONCATENATE(\"'UNITCOST ITEMS (Data Entry)'!G\",IFERROR(SUM(MATCH(A229,'UNITCOST ITEMS (Data Entry)'!$A$3:$A$504,0),2),\"\"))),\"\"))","v":""},{"$f":"IF(IFERROR(INDIRECT(CONCATENATE(\"'UNITCOST ITEMS (Data Entry)'!H\",IFERROR(SUM(MATCH(A229,'UNITCOST ITEMS (Data Entry)'!$A$3:$A$504,0),2),\"\"))),\"\")=0,\"\",IFERROR(INDIRECT(CONCATENATE(\"'UNITCOST ITEMS (Data Entry)'!H\",IFERROR(SUM(MATCH(A229,'UNITCOST ITEMS (Data Entry)'!$A$3:$A$504,0),2),\"\"))),\"\"))","v":""},{"$f":"IF(IFERROR(INDIRECT(CONCATENATE(\"'UNITCOST ITEMS (Data Entry)'!I\",IFERROR(SUM(MATCH(A229,'UNITCOST ITEMS (Data Entry)'!$A$3:$A$504,0),2),\"\"))),\"\")=0,\"\",IFERROR(INDIRECT(CONCATENATE(\"'UNITCOST ITEMS (Data Entry)'!I\",IFERROR(SUM(MATCH(A229,'UNITCOST ITEMS (Data Entry)'!$A$3:$A$504,0),2),\"\"))),\"\"))","v":""},{"$f":"IF(K229=2,\"\",IF(IFERROR(INDIRECT(CONCATENATE(\"'UNITCOST ITEMS (Data Entry)'!J\",IFERROR(SUM(MATCH(A229,'UNITCOST ITEMS (Data Entry)'!$A$3:$A$504,0),2),\"\"))),\"\")=0,\"\",IFERROR(INDIRECT(CONCATENATE(\"'UNITCOST ITEMS (Data Entry)'!J\",IFERROR(SUM(MATCH(A229,'UNITCOST ITEMS (Data Entry)'!$A$3:$A$504,0),2),\"\"))),\"\")))","v":""},null,{"$f":"IF(IFERROR(INDIRECT(CONCATENATE(\"'UNITCOST ITEMS (Data Entry)'!C\",IFERROR(SUM(MATCH(A229,'UNITCOST ITEMS (Data Entry)'!$A$3:$A$504,0),2),\"\"))),\"\")=0,\"\",IFERROR(INDIRECT(CONCATENATE(\"'UNITCOST ITEMS (Data Entry)'!C\",IFERROR(SUM(MATCH(A229,'UNITCOST ITEMS (Data Entry)'!$A$3:$A$504,0),2),\"\"))),\"\"))","v":""},""]
[222,{"$f":"IF(IFERROR(INDIRECT(CONCATENATE(\"'UNITCOST ITEMS (Data Entry)'!D\",IFERROR(SUM(MATCH(A230,'UNITCOST ITEMS (Data Entry)'!$A$3:$A$504,0),2),\"\"))),\"\")=0,\"\",IFERROR(INDIRECT(CONCATENATE(\"'UNITCOST ITEMS (Data Entry)'!D\",IFERROR(SUM(MATCH(A230,'UNITCOST ITEMS (Data Entry)'!$A$3:$A$504,0),2),\"\"))),\"\"))","v":""},{"$f":"IF(IFERROR(INDIRECT(CONCATENATE(\"'UNITCOST ITEMS (Data Entry)'!E\",IFERROR(SUM(MATCH(A230,'UNITCOST ITEMS (Data Entry)'!$A$3:$A$504,0),2),\"\"))),\"\")=0,\"\",IFERROR(INDIRECT(CONCATENATE(\"'UNITCOST ITEMS (Data Entry)'!E\",IFERROR(SUM(MATCH(A230,'UNITCOST ITEMS (Data Entry)'!$A$3:$A$504,0),2),\"\"))),\"\"))","v":""},null,{"$f":"IF(IFERROR(INDIRECT(CONCATENATE(\"'UNITCOST ITEMS (Data Entry)'!F\",IFERROR(SUM(MATCH(A230,'UNITCOST ITEMS (Data Entry)'!$A$3:$A$504,0),2),\"\"))),\"\")=0,\"\",IFERROR(INDIRECT(CONCATENATE(\"'UNITCOST ITEMS (Data Entry)'!F\",IFERROR(SUM(MATCH(A230,'UNITCOST ITEMS (Data Entry)'!$A$3:$A$504,0),2),\"\"))),\"\"))","v":""},{"$f":"IF(IFERROR(INDIRECT(CONCATENATE(\"'UNITCOST ITEMS (Data Entry)'!G\",IFERROR(SUM(MATCH(A230,'UNITCOST ITEMS (Data Entry)'!$A$3:$A$504,0),2),\"\"))),\"\")=0,\"\",IFERROR(INDIRECT(CONCATENATE(\"'UNITCOST ITEMS (Data Entry)'!G\",IFERROR(SUM(MATCH(A230,'UNITCOST ITEMS (Data Entry)'!$A$3:$A$504,0),2),\"\"))),\"\"))","v":""},{"$f":"IF(IFERROR(INDIRECT(CONCATENATE(\"'UNITCOST ITEMS (Data Entry)'!H\",IFERROR(SUM(MATCH(A230,'UNITCOST ITEMS (Data Entry)'!$A$3:$A$504,0),2),\"\"))),\"\")=0,\"\",IFERROR(INDIRECT(CONCATENATE(\"'UNITCOST ITEMS (Data Entry)'!H\",IFERROR(SUM(MATCH(A230,'UNITCOST ITEMS (Data Entry)'!$A$3:$A$504,0),2),\"\"))),\"\"))","v":""},{"$f":"IF(IFERROR(INDIRECT(CONCATENATE(\"'UNITCOST ITEMS (Data Entry)'!I\",IFERROR(SUM(MATCH(A230,'UNITCOST ITEMS (Data Entry)'!$A$3:$A$504,0),2),\"\"))),\"\")=0,\"\",IFERROR(INDIRECT(CONCATENATE(\"'UNITCOST ITEMS (Data Entry)'!I\",IFERROR(SUM(MATCH(A230,'UNITCOST ITEMS (Data Entry)'!$A$3:$A$504,0),2),\"\"))),\"\"))","v":""},{"$f":"IF(K230=2,\"\",IF(IFERROR(INDIRECT(CONCATENATE(\"'UNITCOST ITEMS (Data Entry)'!J\",IFERROR(SUM(MATCH(A230,'UNITCOST ITEMS (Data Entry)'!$A$3:$A$504,0),2),\"\"))),\"\")=0,\"\",IFERROR(INDIRECT(CONCATENATE(\"'UNITCOST ITEMS (Data Entry)'!J\",IFERROR(SUM(MATCH(A230,'UNITCOST ITEMS (Data Entry)'!$A$3:$A$504,0),2),\"\"))),\"\")))","v":""},null,{"$f":"IF(IFERROR(INDIRECT(CONCATENATE(\"'UNITCOST ITEMS (Data Entry)'!C\",IFERROR(SUM(MATCH(A230,'UNITCOST ITEMS (Data Entry)'!$A$3:$A$504,0),2),\"\"))),\"\")=0,\"\",IFERROR(INDIRECT(CONCATENATE(\"'UNITCOST ITEMS (Data Entry)'!C\",IFERROR(SUM(MATCH(A230,'UNITCOST ITEMS (Data Entry)'!$A$3:$A$504,0),2),\"\"))),\"\"))","v":""},""]
[223,{"$f":"IF(IFERROR(INDIRECT(CONCATENATE(\"'UNITCOST ITEMS (Data Entry)'!D\",IFERROR(SUM(MATCH(A231,'UNITCOST ITEMS (Data Entry)'!$A$3:$A$504,0),2),\"\"))),\"\")=0,\"\",IFERROR(INDIRECT(CONCATENATE(\"'UNITCOST ITEMS (Data Entry)'!D\",IFERROR(SUM(MATCH(A231,'UNITCOST ITEMS (Data Entry)'!$A$3:$A$504,0),2),\"\"))),\"\"))","v":""},{"$f":"IF(IFERROR(INDIRECT(CONCATENATE(\"'UNITCOST ITEMS (Data Entry)'!E\",IFERROR(SUM(MATCH(A231,'UNITCOST ITEMS (Data Entry)'!$A$3:$A$504,0),2),\"\"))),\"\")=0,\"\",IFERROR(INDIRECT(CONCATENATE(\"'UNITCOST ITEMS (Data Entry)'!E\",IFERROR(SUM(MATCH(A231,'UNITCOST ITEMS (Data Entry)'!$A$3:$A$504,0),2),\"\"))),\"\"))","v":""},null,{"$f":"IF(IFERROR(INDIRECT(CONCATENATE(\"'UNITCOST ITEMS (Data Entry)'!F\",IFERROR(SUM(MATCH(A231,'UNITCOST ITEMS (Data Entry)'!$A$3:$A$504,0),2),\"\"))),\"\")=0,\"\",IFERROR(INDIRECT(CONCATENATE(\"'UNITCOST ITEMS (Data Entry)'!F\",IFERROR(SUM(MATCH(A231,'UNITCOST ITEMS (Data Entry)'!$A$3:$A$504,0),2),\"\"))),\"\"))","v":""},{"$f":"IF(IFERROR(INDIRECT(CONCATENATE(\"'UNITCOST ITEMS (Data Entry)'!G\",IFERROR(SUM(MATCH(A231,'UNITCOST ITEMS (Data Entry)'!$A$3:$A$504,0),2),\"\"))),\"\")=0,\"\",IFERROR(INDIRECT(CONCATENATE(\"'UNITCOST ITEMS (Data Entry)'!G\",IFERROR(SUM(MATCH(A231,'UNITCOST ITEMS (Data Entry)'!$A$3:$A$504,0),2),\"\"))),\"\"))","v":""},{"$f":"IF(IFERROR(INDIRECT(CONCATENATE(\"'UNITCOST ITEMS (Data Entry)'!H\",IFERROR(SUM(MATCH(A231,'UNITCOST ITEMS (Data Entry)'!$A$3:$A$504,0),2),\"\"))),\"\")=0,\"\",IFERROR(INDIRECT(CONCATENATE(\"'UNITCOST ITEMS (Data Entry)'!H\",IFERROR(SUM(MATCH(A231,'UNITCOST ITEMS (Data Entry)'!$A$3:$A$504,0),2),\"\"))),\"\"))","v":""},{"$f":"IF(IFERROR(INDIRECT(CONCATENATE(\"'UNITCOST ITEMS (Data Entry)'!I\",IFERROR(SUM(MATCH(A231,'UNITCOST ITEMS (Data Entry)'!$A$3:$A$504,0),2),\"\"))),\"\")=0,\"\",IFERROR(INDIRECT(CONCATENATE(\"'UNITCOST ITEMS (Data Entry)'!I\",IFERROR(SUM(MATCH(A231,'UNITCOST ITEMS (Data Entry)'!$A$3:$A$504,0),2),\"\"))),\"\"))","v":""},{"$f":"IF(K231=2,\"\",IF(IFERROR(INDIRECT(CONCATENATE(\"'UNITCOST ITEMS (Data Entry)'!J\",IFERROR(SUM(MATCH(A231,'UNITCOST ITEMS (Data Entry)'!$A$3:$A$504,0),2),\"\"))),\"\")=0,\"\",IFERROR(INDIRECT(CONCATENATE(\"'UNITCOST ITEMS (Data Entry)'!J\",IFERROR(SUM(MATCH(A231,'UNITCOST ITEMS (Data Entry)'!$A$3:$A$504,0),2),\"\"))),\"\")))","v":""},null,{"$f":"IF(IFERROR(INDIRECT(CONCATENATE(\"'UNITCOST ITEMS (Data Entry)'!C\",IFERROR(SUM(MATCH(A231,'UNITCOST ITEMS (Data Entry)'!$A$3:$A$504,0),2),\"\"))),\"\")=0,\"\",IFERROR(INDIRECT(CONCATENATE(\"'UNITCOST ITEMS (Data Entry)'!C\",IFERROR(SUM(MATCH(A231,'UNITCOST ITEMS (Data Entry)'!$A$3:$A$504,0),2),\"\"))),\"\"))","v":""},""]
[224,{"$f":"IF(IFERROR(INDIRECT(CONCATENATE(\"'UNITCOST ITEMS (Data Entry)'!D\",IFERROR(SUM(MATCH(A232,'UNITCOST ITEMS (Data Entry)'!$A$3:$A$504,0),2),\"\"))),\"\")=0,\"\",IFERROR(INDIRECT(CONCATENATE(\"'UNITCOST ITEMS (Data Entry)'!D\",IFERROR(SUM(MATCH(A232,'UNITCOST ITEMS (Data Entry)'!$A$3:$A$504,0),2),\"\"))),\"\"))","v":""},{"$f":"IF(IFERROR(INDIRECT(CONCATENATE(\"'UNITCOST ITEMS (Data Entry)'!E\",IFERROR(SUM(MATCH(A232,'UNITCOST ITEMS (Data Entry)'!$A$3:$A$504,0),2),\"\"))),\"\")=0,\"\",IFERROR(INDIRECT(CONCATENATE(\"'UNITCOST ITEMS (Data Entry)'!E\",IFERROR(SUM(MATCH(A232,'UNITCOST ITEMS (Data Entry)'!$A$3:$A$504,0),2),\"\"))),\"\"))","v":""},null,{"$f":"IF(IFERROR(INDIRECT(CONCATENATE(\"'UNITCOST ITEMS (Data Entry)'!F\",IFERROR(SUM(MATCH(A232,'UNITCOST ITEMS (Data Entry)'!$A$3:$A$504,0),2),\"\"))),\"\")=0,\"\",IFERROR(INDIRECT(CONCATENATE(\"'UNITCOST ITEMS (Data Entry)'!F\",IFERROR(SUM(MATCH(A232,'UNITCOST ITEMS (Data Entry)'!$A$3:$A$504,0),2),\"\"))),\"\"))","v":""},{"$f":"IF(IFERROR(INDIRECT(CONCATENATE(\"'UNITCOST ITEMS (Data Entry)'!G\",IFERROR(SUM(MATCH(A232,'UNITCOST ITEMS (Data Entry)'!$A$3:$A$504,0),2),\"\"))),\"\")=0,\"\",IFERROR(INDIRECT(CONCATENATE(\"'UNITCOST ITEMS (Data Entry)'!G\",IFERROR(SUM(MATCH(A232,'UNITCOST ITEMS (Data Entry)'!$A$3:$A$504,0),2),\"\"))),\"\"))","v":""},{"$f":"IF(IFERROR(INDIRECT(CONCATENATE(\"'UNITCOST ITEMS (Data Entry)'!H\",IFERROR(SUM(MATCH(A232,'UNITCOST ITEMS (Data Entry)'!$A$3:$A$504,0),2),\"\"))),\"\")=0,\"\",IFERROR(INDIRECT(CONCATENATE(\"'UNITCOST ITEMS (Data Entry)'!H\",IFERROR(SUM(MATCH(A232,'UNITCOST ITEMS (Data Entry)'!$A$3:$A$504,0),2),\"\"))),\"\"))","v":""},{"$f":"IF(IFERROR(INDIRECT(CONCATENATE(\"'UNITCOST ITEMS (Data Entry)'!I\",IFERROR(SUM(MATCH(A232,'UNITCOST ITEMS (Data Entry)'!$A$3:$A$504,0),2),\"\"))),\"\")=0,\"\",IFERROR(INDIRECT(CONCATENATE(\"'UNITCOST ITEMS (Data Entry)'!I\",IFERROR(SUM(MATCH(A232,'UNITCOST ITEMS (Data Entry)'!$A$3:$A$504,0),2),\"\"))),\"\"))","v":""},{"$f":"IF(K232=2,\"\",IF(IFERROR(INDIRECT(CONCATENATE(\"'UNITCOST ITEMS (Data Entry)'!J\",IFERROR(SUM(MATCH(A232,'UNITCOST ITEMS (Data Entry)'!$A$3:$A$504,0),2),\"\"))),\"\")=0,\"\",IFERROR(INDIRECT(CONCATENATE(\"'UNITCOST ITEMS (Data Entry)'!J\",IFERROR(SUM(MATCH(A232,'UNITCOST ITEMS (Data Entry)'!$A$3:$A$504,0),2),\"\"))),\"\")))","v":""},null,{"$f":"IF(IFERROR(INDIRECT(CONCATENATE(\"'UNITCOST ITEMS (Data Entry)'!C\",IFERROR(SUM(MATCH(A232,'UNITCOST ITEMS (Data Entry)'!$A$3:$A$504,0),2),\"\"))),\"\")=0,\"\",IFERROR(INDIRECT(CONCATENATE(\"'UNITCOST ITEMS (Data Entry)'!C\",IFERROR(SUM(MATCH(A232,'UNITCOST ITEMS (Data Entry)'!$A$3:$A$504,0),2),\"\"))),\"\"))","v":""},""]
[225,{"$f":"IF(IFERROR(INDIRECT(CONCATENATE(\"'UNITCOST ITEMS (Data Entry)'!D\",IFERROR(SUM(MATCH(A233,'UNITCOST ITEMS (Data Entry)'!$A$3:$A$504,0),2),\"\"))),\"\")=0,\"\",IFERROR(INDIRECT(CONCATENATE(\"'UNITCOST ITEMS (Data Entry)'!D\",IFERROR(SUM(MATCH(A233,'UNITCOST ITEMS (Data Entry)'!$A$3:$A$504,0),2),\"\"))),\"\"))","v":""},{"$f":"IF(IFERROR(INDIRECT(CONCATENATE(\"'UNITCOST ITEMS (Data Entry)'!E\",IFERROR(SUM(MATCH(A233,'UNITCOST ITEMS (Data Entry)'!$A$3:$A$504,0),2),\"\"))),\"\")=0,\"\",IFERROR(INDIRECT(CONCATENATE(\"'UNITCOST ITEMS (Data Entry)'!E\",IFERROR(SUM(MATCH(A233,'UNITCOST ITEMS (Data Entry)'!$A$3:$A$504,0),2),\"\"))),\"\"))","v":""},null,{"$f":"IF(IFERROR(INDIRECT(CONCATENATE(\"'UNITCOST ITEMS (Data Entry)'!F\",IFERROR(SUM(MATCH(A233,'UNITCOST ITEMS (Data Entry)'!$A$3:$A$504,0),2),\"\"))),\"\")=0,\"\",IFERROR(INDIRECT(CONCATENATE(\"'UNITCOST ITEMS (Data Entry)'!F\",IFERROR(SUM(MATCH(A233,'UNITCOST ITEMS (Data Entry)'!$A$3:$A$504,0),2),\"\"))),\"\"))","v":""},{"$f":"IF(IFERROR(INDIRECT(CONCATENATE(\"'UNITCOST ITEMS (Data Entry)'!G\",IFERROR(SUM(MATCH(A233,'UNITCOST ITEMS (Data Entry)'!$A$3:$A$504,0),2),\"\"))),\"\")=0,\"\",IFERROR(INDIRECT(CONCATENATE(\"'UNITCOST ITEMS (Data Entry)'!G\",IFERROR(SUM(MATCH(A233,'UNITCOST ITEMS (Data Entry)'!$A$3:$A$504,0),2),\"\"))),\"\"))","v":""},{"$f":"IF(IFERROR(INDIRECT(CONCATENATE(\"'UNITCOST ITEMS (Data Entry)'!H\",IFERROR(SUM(MATCH(A233,'UNITCOST ITEMS (Data Entry)'!$A$3:$A$504,0),2),\"\"))),\"\")=0,\"\",IFERROR(INDIRECT(CONCATENATE(\"'UNITCOST ITEMS (Data Entry)'!H\",IFERROR(SUM(MATCH(A233,'UNITCOST ITEMS (Data Entry)'!$A$3:$A$504,0),2),\"\"))),\"\"))","v":""},{"$f":"IF(IFERROR(INDIRECT(CONCATENATE(\"'UNITCOST ITEMS (Data Entry)'!I\",IFERROR(SUM(MATCH(A233,'UNITCOST ITEMS (Data Entry)'!$A$3:$A$504,0),2),\"\"))),\"\")=0,\"\",IFERROR(INDIRECT(CONCATENATE(\"'UNITCOST ITEMS (Data Entry)'!I\",IFERROR(SUM(MATCH(A233,'UNITCOST ITEMS (Data Entry)'!$A$3:$A$504,0),2),\"\"))),\"\"))","v":""},{"$f":"IF(K233=2,\"\",IF(IFERROR(INDIRECT(CONCATENATE(\"'UNITCOST ITEMS (Data Entry)'!J\",IFERROR(SUM(MATCH(A233,'UNITCOST ITEMS (Data Entry)'!$A$3:$A$504,0),2),\"\"))),\"\")=0,\"\",IFERROR(INDIRECT(CONCATENATE(\"'UNITCOST ITEMS (Data Entry)'!J\",IFERROR(SUM(MATCH(A233,'UNITCOST ITEMS (Data Entry)'!$A$3:$A$504,0),2),\"\"))),\"\")))","v":""},null,{"$f":"IF(IFERROR(INDIRECT(CONCATENATE(\"'UNITCOST ITEMS (Data Entry)'!C\",IFERROR(SUM(MATCH(A233,'UNITCOST ITEMS (Data Entry)'!$A$3:$A$504,0),2),\"\"))),\"\")=0,\"\",IFERROR(INDIRECT(CONCATENATE(\"'UNITCOST ITEMS (Data Entry)'!C\",IFERROR(SUM(MATCH(A233,'UNITCOST ITEMS (Data Entry)'!$A$3:$A$504,0),2),\"\"))),\"\"))","v":""},""]
[226,{"$f":"IF(IFERROR(INDIRECT(CONCATENATE(\"'UNITCOST ITEMS (Data Entry)'!D\",IFERROR(SUM(MATCH(A234,'UNITCOST ITEMS (Data Entry)'!$A$3:$A$504,0),2),\"\"))),\"\")=0,\"\",IFERROR(INDIRECT(CONCATENATE(\"'UNITCOST ITEMS (Data Entry)'!D\",IFERROR(SUM(MATCH(A234,'UNITCOST ITEMS (Data Entry)'!$A$3:$A$504,0),2),\"\"))),\"\"))","v":""},{"$f":"IF(IFERROR(INDIRECT(CONCATENATE(\"'UNITCOST ITEMS (Data Entry)'!E\",IFERROR(SUM(MATCH(A234,'UNITCOST ITEMS (Data Entry)'!$A$3:$A$504,0),2),\"\"))),\"\")=0,\"\",IFERROR(INDIRECT(CONCATENATE(\"'UNITCOST ITEMS (Data Entry)'!E\",IFERROR(SUM(MATCH(A234,'UNITCOST ITEMS (Data Entry)'!$A$3:$A$504,0),2),\"\"))),\"\"))","v":""},null,{"$f":"IF(IFERROR(INDIRECT(CONCATENATE(\"'UNITCOST ITEMS (Data Entry)'!F\",IFERROR(SUM(MATCH(A234,'UNITCOST ITEMS (Data Entry)'!$A$3:$A$504,0),2),\"\"))),\"\")=0,\"\",IFERROR(INDIRECT(CONCATENATE(\"'UNITCOST ITEMS (Data Entry)'!F\",IFERROR(SUM(MATCH(A234,'UNITCOST ITEMS (Data Entry)'!$A$3:$A$504,0),2),\"\"))),\"\"))","v":""},{"$f":"IF(IFERROR(INDIRECT(CONCATENATE(\"'UNITCOST ITEMS (Data Entry)'!G\",IFERROR(SUM(MATCH(A234,'UNITCOST ITEMS (Data Entry)'!$A$3:$A$504,0),2),\"\"))),\"\")=0,\"\",IFERROR(INDIRECT(CONCATENATE(\"'UNITCOST ITEMS (Data Entry)'!G\",IFERROR(SUM(MATCH(A234,'UNITCOST ITEMS (Data Entry)'!$A$3:$A$504,0),2),\"\"))),\"\"))","v":""},{"$f":"IF(IFERROR(INDIRECT(CONCATENATE(\"'UNITCOST ITEMS (Data Entry)'!H\",IFERROR(SUM(MATCH(A234,'UNITCOST ITEMS (Data Entry)'!$A$3:$A$504,0),2),\"\"))),\"\")=0,\"\",IFERROR(INDIRECT(CONCATENATE(\"'UNITCOST ITEMS (Data Entry)'!H\",IFERROR(SUM(MATCH(A234,'UNITCOST ITEMS (Data Entry)'!$A$3:$A$504,0),2),\"\"))),\"\"))","v":""},{"$f":"IF(IFERROR(INDIRECT(CONCATENATE(\"'UNITCOST ITEMS (Data Entry)'!I\",IFERROR(SUM(MATCH(A234,'UNITCOST ITEMS (Data Entry)'!$A$3:$A$504,0),2),\"\"))),\"\")=0,\"\",IFERROR(INDIRECT(CONCATENATE(\"'UNITCOST ITEMS (Data Entry)'!I\",IFERROR(SUM(MATCH(A234,'UNITCOST ITEMS (Data Entry)'!$A$3:$A$504,0),2),\"\"))),\"\"))","v":""},{"$f":"IF(K234=2,\"\",IF(IFERROR(INDIRECT(CONCATENATE(\"'UNITCOST ITEMS (Data Entry)'!J\",IFERROR(SUM(MATCH(A234,'UNITCOST ITEMS (Data Entry)'!$A$3:$A$504,0),2),\"\"))),\"\")=0,\"\",IFERROR(INDIRECT(CONCATENATE(\"'UNITCOST ITEMS (Data Entry)'!J\",IFERROR(SUM(MATCH(A234,'UNITCOST ITEMS (Data Entry)'!$A$3:$A$504,0),2),\"\"))),\"\")))","v":""},null,{"$f":"IF(IFERROR(INDIRECT(CONCATENATE(\"'UNITCOST ITEMS (Data Entry)'!C\",IFERROR(SUM(MATCH(A234,'UNITCOST ITEMS (Data Entry)'!$A$3:$A$504,0),2),\"\"))),\"\")=0,\"\",IFERROR(INDIRECT(CONCATENATE(\"'UNITCOST ITEMS (Data Entry)'!C\",IFERROR(SUM(MATCH(A234,'UNITCOST ITEMS (Data Entry)'!$A$3:$A$504,0),2),\"\"))),\"\"))","v":""},""]
[227,{"$f":"IF(IFERROR(INDIRECT(CONCATENATE(\"'UNITCOST ITEMS (Data Entry)'!D\",IFERROR(SUM(MATCH(A235,'UNITCOST ITEMS (Data Entry)'!$A$3:$A$504,0),2),\"\"))),\"\")=0,\"\",IFERROR(INDIRECT(CONCATENATE(\"'UNITCOST ITEMS (Data Entry)'!D\",IFERROR(SUM(MATCH(A235,'UNITCOST ITEMS (Data Entry)'!$A$3:$A$504,0),2),\"\"))),\"\"))","v":""},{"$f":"IF(IFERROR(INDIRECT(CONCATENATE(\"'UNITCOST ITEMS (Data Entry)'!E\",IFERROR(SUM(MATCH(A235,'UNITCOST ITEMS (Data Entry)'!$A$3:$A$504,0),2),\"\"))),\"\")=0,\"\",IFERROR(INDIRECT(CONCATENATE(\"'UNITCOST ITEMS (Data Entry)'!E\",IFERROR(SUM(MATCH(A235,'UNITCOST ITEMS (Data Entry)'!$A$3:$A$504,0),2),\"\"))),\"\"))","v":""},null,{"$f":"IF(IFERROR(INDIRECT(CONCATENATE(\"'UNITCOST ITEMS (Data Entry)'!F\",IFERROR(SUM(MATCH(A235,'UNITCOST ITEMS (Data Entry)'!$A$3:$A$504,0),2),\"\"))),\"\")=0,\"\",IFERROR(INDIRECT(CONCATENATE(\"'UNITCOST ITEMS (Data Entry)'!F\",IFERROR(SUM(MATCH(A235,'UNITCOST ITEMS (Data Entry)'!$A$3:$A$504,0),2),\"\"))),\"\"))","v":""},{"$f":"IF(IFERROR(INDIRECT(CONCATENATE(\"'UNITCOST ITEMS (Data Entry)'!G\",IFERROR(SUM(MATCH(A235,'UNITCOST ITEMS (Data Entry)'!$A$3:$A$504,0),2),\"\"))),\"\")=0,\"\",IFERROR(INDIRECT(CONCATENATE(\"'UNITCOST ITEMS (Data Entry)'!G\",IFERROR(SUM(MATCH(A235,'UNITCOST ITEMS (Data Entry)'!$A$3:$A$504,0),2),\"\"))),\"\"))","v":""},{"$f":"IF(IFERROR(INDIRECT(CONCATENATE(\"'UNITCOST ITEMS (Data Entry)'!H\",IFERROR(SUM(MATCH(A235,'UNITCOST ITEMS (Data Entry)'!$A$3:$A$504,0),2),\"\"))),\"\")=0,\"\",IFERROR(INDIRECT(CONCATENATE(\"'UNITCOST ITEMS (Data Entry)'!H\",IFERROR(SUM(MATCH(A235,'UNITCOST ITEMS (Data Entry)'!$A$3:$A$504,0),2),\"\"))),\"\"))","v":""},{"$f":"IF(IFERROR(INDIRECT(CONCATENATE(\"'UNITCOST ITEMS (Data Entry)'!I\",IFERROR(SUM(MATCH(A235,'UNITCOST ITEMS (Data Entry)'!$A$3:$A$504,0),2),\"\"))),\"\")=0,\"\",IFERROR(INDIRECT(CONCATENATE(\"'UNITCOST ITEMS (Data Entry)'!I\",IFERROR(SUM(MATCH(A235,'UNITCOST ITEMS (Data Entry)'!$A$3:$A$504,0),2),\"\"))),\"\"))","v":""},{"$f":"IF(K235=2,\"\",IF(IFERROR(INDIRECT(CONCATENATE(\"'UNITCOST ITEMS (Data Entry)'!J\",IFERROR(SUM(MATCH(A235,'UNITCOST ITEMS (Data Entry)'!$A$3:$A$504,0),2),\"\"))),\"\")=0,\"\",IFERROR(INDIRECT(CONCATENATE(\"'UNITCOST ITEMS (Data Entry)'!J\",IFERROR(SUM(MATCH(A235,'UNITCOST ITEMS (Data Entry)'!$A$3:$A$504,0),2),\"\"))),\"\")))","v":""},null,{"$f":"IF(IFERROR(INDIRECT(CONCATENATE(\"'UNITCOST ITEMS (Data Entry)'!C\",IFERROR(SUM(MATCH(A235,'UNITCOST ITEMS (Data Entry)'!$A$3:$A$504,0),2),\"\"))),\"\")=0,\"\",IFERROR(INDIRECT(CONCATENATE(\"'UNITCOST ITEMS (Data Entry)'!C\",IFERROR(SUM(MATCH(A235,'UNITCOST ITEMS (Data Entry)'!$A$3:$A$504,0),2),\"\"))),\"\"))","v":""},""]
[228,{"$f":"IF(IFERROR(INDIRECT(CONCATENATE(\"'UNITCOST ITEMS (Data Entry)'!D\",IFERROR(SUM(MATCH(A236,'UNITCOST ITEMS (Data Entry)'!$A$3:$A$504,0),2),\"\"))),\"\")=0,\"\",IFERROR(INDIRECT(CONCATENATE(\"'UNITCOST ITEMS (Data Entry)'!D\",IFERROR(SUM(MATCH(A236,'UNITCOST ITEMS (Data Entry)'!$A$3:$A$504,0),2),\"\"))),\"\"))","v":""},{"$f":"IF(IFERROR(INDIRECT(CONCATENATE(\"'UNITCOST ITEMS (Data Entry)'!E\",IFERROR(SUM(MATCH(A236,'UNITCOST ITEMS (Data Entry)'!$A$3:$A$504,0),2),\"\"))),\"\")=0,\"\",IFERROR(INDIRECT(CONCATENATE(\"'UNITCOST ITEMS (Data Entry)'!E\",IFERROR(SUM(MATCH(A236,'UNITCOST ITEMS (Data Entry)'!$A$3:$A$504,0),2),\"\"))),\"\"))","v":""},null,{"$f":"IF(IFERROR(INDIRECT(CONCATENATE(\"'UNITCOST ITEMS (Data Entry)'!F\",IFERROR(SUM(MATCH(A236,'UNITCOST ITEMS (Data Entry)'!$A$3:$A$504,0),2),\"\"))),\"\")=0,\"\",IFERROR(INDIRECT(CONCATENATE(\"'UNITCOST ITEMS (Data Entry)'!F\",IFERROR(SUM(MATCH(A236,'UNITCOST ITEMS (Data Entry)'!$A$3:$A$504,0),2),\"\"))),\"\"))","v":""},{"$f":"IF(IFERROR(INDIRECT(CONCATENATE(\"'UNITCOST ITEMS (Data Entry)'!G\",IFERROR(SUM(MATCH(A236,'UNITCOST ITEMS (Data Entry)'!$A$3:$A$504,0),2),\"\"))),\"\")=0,\"\",IFERROR(INDIRECT(CONCATENATE(\"'UNITCOST ITEMS (Data Entry)'!G\",IFERROR(SUM(MATCH(A236,'UNITCOST ITEMS (Data Entry)'!$A$3:$A$504,0),2),\"\"))),\"\"))","v":""},{"$f":"IF(IFERROR(INDIRECT(CONCATENATE(\"'UNITCOST ITEMS (Data Entry)'!H\",IFERROR(SUM(MATCH(A236,'UNITCOST ITEMS (Data Entry)'!$A$3:$A$504,0),2),\"\"))),\"\")=0,\"\",IFERROR(INDIRECT(CONCATENATE(\"'UNITCOST ITEMS (Data Entry)'!H\",IFERROR(SUM(MATCH(A236,'UNITCOST ITEMS (Data Entry)'!$A$3:$A$504,0),2),\"\"))),\"\"))","v":""},{"$f":"IF(IFERROR(INDIRECT(CONCATENATE(\"'UNITCOST ITEMS (Data Entry)'!I\",IFERROR(SUM(MATCH(A236,'UNITCOST ITEMS (Data Entry)'!$A$3:$A$504,0),2),\"\"))),\"\")=0,\"\",IFERROR(INDIRECT(CONCATENATE(\"'UNITCOST ITEMS (Data Entry)'!I\",IFERROR(SUM(MATCH(A236,'UNITCOST ITEMS (Data Entry)'!$A$3:$A$504,0),2),\"\"))),\"\"))","v":""},{"$f":"IF(K236=2,\"\",IF(IFERROR(INDIRECT(CONCATENATE(\"'UNITCOST ITEMS (Data Entry)'!J\",IFERROR(SUM(MATCH(A236,'UNITCOST ITEMS (Data Entry)'!$A$3:$A$504,0),2),\"\"))),\"\")=0,\"\",IFERROR(INDIRECT(CONCATENATE(\"'UNITCOST ITEMS (Data Entry)'!J\",IFERROR(SUM(MATCH(A236,'UNITCOST ITEMS (Data Entry)'!$A$3:$A$504,0),2),\"\"))),\"\")))","v":""},null,{"$f":"IF(IFERROR(INDIRECT(CONCATENATE(\"'UNITCOST ITEMS (Data Entry)'!C\",IFERROR(SUM(MATCH(A236,'UNITCOST ITEMS (Data Entry)'!$A$3:$A$504,0),2),\"\"))),\"\")=0,\"\",IFERROR(INDIRECT(CONCATENATE(\"'UNITCOST ITEMS (Data Entry)'!C\",IFERROR(SUM(MATCH(A236,'UNITCOST ITEMS (Data Entry)'!$A$3:$A$504,0),2),\"\"))),\"\"))","v":""},""]
[229,{"$f":"IF(IFERROR(INDIRECT(CONCATENATE(\"'UNITCOST ITEMS (Data Entry)'!D\",IFERROR(SUM(MATCH(A237,'UNITCOST ITEMS (Data Entry)'!$A$3:$A$504,0),2),\"\"))),\"\")=0,\"\",IFERROR(INDIRECT(CONCATENATE(\"'UNITCOST ITEMS (Data Entry)'!D\",IFERROR(SUM(MATCH(A237,'UNITCOST ITEMS (Data Entry)'!$A$3:$A$504,0),2),\"\"))),\"\"))","v":""},{"$f":"IF(IFERROR(INDIRECT(CONCATENATE(\"'UNITCOST ITEMS (Data Entry)'!E\",IFERROR(SUM(MATCH(A237,'UNITCOST ITEMS (Data Entry)'!$A$3:$A$504,0),2),\"\"))),\"\")=0,\"\",IFERROR(INDIRECT(CONCATENATE(\"'UNITCOST ITEMS (Data Entry)'!E\",IFERROR(SUM(MATCH(A237,'UNITCOST ITEMS (Data Entry)'!$A$3:$A$504,0),2),\"\"))),\"\"))","v":""},null,{"$f":"IF(IFERROR(INDIRECT(CONCATENATE(\"'UNITCOST ITEMS (Data Entry)'!F\",IFERROR(SUM(MATCH(A237,'UNITCOST ITEMS (Data Entry)'!$A$3:$A$504,0),2),\"\"))),\"\")=0,\"\",IFERROR(INDIRECT(CONCATENATE(\"'UNITCOST ITEMS (Data Entry)'!F\",IFERROR(SUM(MATCH(A237,'UNITCOST ITEMS (Data Entry)'!$A$3:$A$504,0),2),\"\"))),\"\"))","v":""},{"$f":"IF(IFERROR(INDIRECT(CONCATENATE(\"'UNITCOST ITEMS (Data Entry)'!G\",IFERROR(SUM(MATCH(A237,'UNITCOST ITEMS (Data Entry)'!$A$3:$A$504,0),2),\"\"))),\"\")=0,\"\",IFERROR(INDIRECT(CONCATENATE(\"'UNITCOST ITEMS (Data Entry)'!G\",IFERROR(SUM(MATCH(A237,'UNITCOST ITEMS (Data Entry)'!$A$3:$A$504,0),2),\"\"))),\"\"))","v":""},{"$f":"IF(IFERROR(INDIRECT(CONCATENATE(\"'UNITCOST ITEMS (Data Entry)'!H\",IFERROR(SUM(MATCH(A237,'UNITCOST ITEMS (Data Entry)'!$A$3:$A$504,0),2),\"\"))),\"\")=0,\"\",IFERROR(INDIRECT(CONCATENATE(\"'UNITCOST ITEMS (Data Entry)'!H\",IFERROR(SUM(MATCH(A237,'UNITCOST ITEMS (Data Entry)'!$A$3:$A$504,0),2),\"\"))),\"\"))","v":""},{"$f":"IF(IFERROR(INDIRECT(CONCATENATE(\"'UNITCOST ITEMS (Data Entry)'!I\",IFERROR(SUM(MATCH(A237,'UNITCOST ITEMS (Data Entry)'!$A$3:$A$504,0),2),\"\"))),\"\")=0,\"\",IFERROR(INDIRECT(CONCATENATE(\"'UNITCOST ITEMS (Data Entry)'!I\",IFERROR(SUM(MATCH(A237,'UNITCOST ITEMS (Data Entry)'!$A$3:$A$504,0),2),\"\"))),\"\"))","v":""},{"$f":"IF(K237=2,\"\",IF(IFERROR(INDIRECT(CONCATENATE(\"'UNITCOST ITEMS (Data Entry)'!J\",IFERROR(SUM(MATCH(A237,'UNITCOST ITEMS (Data Entry)'!$A$3:$A$504,0),2),\"\"))),\"\")=0,\"\",IFERROR(INDIRECT(CONCATENATE(\"'UNITCOST ITEMS (Data Entry)'!J\",IFERROR(SUM(MATCH(A237,'UNITCOST ITEMS (Data Entry)'!$A$3:$A$504,0),2),\"\"))),\"\")))","v":""},null,{"$f":"IF(IFERROR(INDIRECT(CONCATENATE(\"'UNITCOST ITEMS (Data Entry)'!C\",IFERROR(SUM(MATCH(A237,'UNITCOST ITEMS (Data Entry)'!$A$3:$A$504,0),2),\"\"))),\"\")=0,\"\",IFERROR(INDIRECT(CONCATENATE(\"'UNITCOST ITEMS (Data Entry)'!C\",IFERROR(SUM(MATCH(A237,'UNITCOST ITEMS (Data Entry)'!$A$3:$A$504,0),2),\"\"))),\"\"))","v":""},""]
[230,{"$f":"IF(IFERROR(INDIRECT(CONCATENATE(\"'UNITCOST ITEMS (Data Entry)'!D\",IFERROR(SUM(MATCH(A238,'UNITCOST ITEMS (Data Entry)'!$A$3:$A$504,0),2),\"\"))),\"\")=0,\"\",IFERROR(INDIRECT(CONCATENATE(\"'UNITCOST ITEMS (Data Entry)'!D\",IFERROR(SUM(MATCH(A238,'UNITCOST ITEMS (Data Entry)'!$A$3:$A$504,0),2),\"\"))),\"\"))","v":""},{"$f":"IF(IFERROR(INDIRECT(CONCATENATE(\"'UNITCOST ITEMS (Data Entry)'!E\",IFERROR(SUM(MATCH(A238,'UNITCOST ITEMS (Data Entry)'!$A$3:$A$504,0),2),\"\"))),\"\")=0,\"\",IFERROR(INDIRECT(CONCATENATE(\"'UNITCOST ITEMS (Data Entry)'!E\",IFERROR(SUM(MATCH(A238,'UNITCOST ITEMS (Data Entry)'!$A$3:$A$504,0),2),\"\"))),\"\"))","v":""},null,{"$f":"IF(IFERROR(INDIRECT(CONCATENATE(\"'UNITCOST ITEMS (Data Entry)'!F\",IFERROR(SUM(MATCH(A238,'UNITCOST ITEMS (Data Entry)'!$A$3:$A$504,0),2),\"\"))),\"\")=0,\"\",IFERROR(INDIRECT(CONCATENATE(\"'UNITCOST ITEMS (Data Entry)'!F\",IFERROR(SUM(MATCH(A238,'UNITCOST ITEMS (Data Entry)'!$A$3:$A$504,0),2),\"\"))),\"\"))","v":""},{"$f":"IF(IFERROR(INDIRECT(CONCATENATE(\"'UNITCOST ITEMS (Data Entry)'!G\",IFERROR(SUM(MATCH(A238,'UNITCOST ITEMS (Data Entry)'!$A$3:$A$504,0),2),\"\"))),\"\")=0,\"\",IFERROR(INDIRECT(CONCATENATE(\"'UNITCOST ITEMS (Data Entry)'!G\",IFERROR(SUM(MATCH(A238,'UNITCOST ITEMS (Data Entry)'!$A$3:$A$504,0),2),\"\"))),\"\"))","v":""},{"$f":"IF(IFERROR(INDIRECT(CONCATENATE(\"'UNITCOST ITEMS (Data Entry)'!H\",IFERROR(SUM(MATCH(A238,'UNITCOST ITEMS (Data Entry)'!$A$3:$A$504,0),2),\"\"))),\"\")=0,\"\",IFERROR(INDIRECT(CONCATENATE(\"'UNITCOST ITEMS (Data Entry)'!H\",IFERROR(SUM(MATCH(A238,'UNITCOST ITEMS (Data Entry)'!$A$3:$A$504,0),2),\"\"))),\"\"))","v":""},{"$f":"IF(IFERROR(INDIRECT(CONCATENATE(\"'UNITCOST ITEMS (Data Entry)'!I\",IFERROR(SUM(MATCH(A238,'UNITCOST ITEMS (Data Entry)'!$A$3:$A$504,0),2),\"\"))),\"\")=0,\"\",IFERROR(INDIRECT(CONCATENATE(\"'UNITCOST ITEMS (Data Entry)'!I\",IFERROR(SUM(MATCH(A238,'UNITCOST ITEMS (Data Entry)'!$A$3:$A$504,0),2),\"\"))),\"\"))","v":""},{"$f":"IF(K238=2,\"\",IF(IFERROR(INDIRECT(CONCATENATE(\"'UNITCOST ITEMS (Data Entry)'!J\",IFERROR(SUM(MATCH(A238,'UNITCOST ITEMS (Data Entry)'!$A$3:$A$504,0),2),\"\"))),\"\")=0,\"\",IFERROR(INDIRECT(CONCATENATE(\"'UNITCOST ITEMS (Data Entry)'!J\",IFERROR(SUM(MATCH(A238,'UNITCOST ITEMS (Data Entry)'!$A$3:$A$504,0),2),\"\"))),\"\")))","v":""},null,{"$f":"IF(IFERROR(INDIRECT(CONCATENATE(\"'UNITCOST ITEMS (Data Entry)'!C\",IFERROR(SUM(MATCH(A238,'UNITCOST ITEMS (Data Entry)'!$A$3:$A$504,0),2),\"\"))),\"\")=0,\"\",IFERROR(INDIRECT(CONCATENATE(\"'UNITCOST ITEMS (Data Entry)'!C\",IFERROR(SUM(MATCH(A238,'UNITCOST ITEMS (Data Entry)'!$A$3:$A$504,0),2),\"\"))),\"\"))","v":""},""]
[231,{"$f":"IF(IFERROR(INDIRECT(CONCATENATE(\"'UNITCOST ITEMS (Data Entry)'!D\",IFERROR(SUM(MATCH(A239,'UNITCOST ITEMS (Data Entry)'!$A$3:$A$504,0),2),\"\"))),\"\")=0,\"\",IFERROR(INDIRECT(CONCATENATE(\"'UNITCOST ITEMS (Data Entry)'!D\",IFERROR(SUM(MATCH(A239,'UNITCOST ITEMS (Data Entry)'!$A$3:$A$504,0),2),\"\"))),\"\"))","v":""},{"$f":"IF(IFERROR(INDIRECT(CONCATENATE(\"'UNITCOST ITEMS (Data Entry)'!E\",IFERROR(SUM(MATCH(A239,'UNITCOST ITEMS (Data Entry)'!$A$3:$A$504,0),2),\"\"))),\"\")=0,\"\",IFERROR(INDIRECT(CONCATENATE(\"'UNITCOST ITEMS (Data Entry)'!E\",IFERROR(SUM(MATCH(A239,'UNITCOST ITEMS (Data Entry)'!$A$3:$A$504,0),2),\"\"))),\"\"))","v":""},null,{"$f":"IF(IFERROR(INDIRECT(CONCATENATE(\"'UNITCOST ITEMS (Data Entry)'!F\",IFERROR(SUM(MATCH(A239,'UNITCOST ITEMS (Data Entry)'!$A$3:$A$504,0),2),\"\"))),\"\")=0,\"\",IFERROR(INDIRECT(CONCATENATE(\"'UNITCOST ITEMS (Data Entry)'!F\",IFERROR(SUM(MATCH(A239,'UNITCOST ITEMS (Data Entry)'!$A$3:$A$504,0),2),\"\"))),\"\"))","v":""},{"$f":"IF(IFERROR(INDIRECT(CONCATENATE(\"'UNITCOST ITEMS (Data Entry)'!G\",IFERROR(SUM(MATCH(A239,'UNITCOST ITEMS (Data Entry)'!$A$3:$A$504,0),2),\"\"))),\"\")=0,\"\",IFERROR(INDIRECT(CONCATENATE(\"'UNITCOST ITEMS (Data Entry)'!G\",IFERROR(SUM(MATCH(A239,'UNITCOST ITEMS (Data Entry)'!$A$3:$A$504,0),2),\"\"))),\"\"))","v":""},{"$f":"IF(IFERROR(INDIRECT(CONCATENATE(\"'UNITCOST ITEMS (Data Entry)'!H\",IFERROR(SUM(MATCH(A239,'UNITCOST ITEMS (Data Entry)'!$A$3:$A$504,0),2),\"\"))),\"\")=0,\"\",IFERROR(INDIRECT(CONCATENATE(\"'UNITCOST ITEMS (Data Entry)'!H\",IFERROR(SUM(MATCH(A239,'UNITCOST ITEMS (Data Entry)'!$A$3:$A$504,0),2),\"\"))),\"\"))","v":""},{"$f":"IF(IFERROR(INDIRECT(CONCATENATE(\"'UNITCOST ITEMS (Data Entry)'!I\",IFERROR(SUM(MATCH(A239,'UNITCOST ITEMS (Data Entry)'!$A$3:$A$504,0),2),\"\"))),\"\")=0,\"\",IFERROR(INDIRECT(CONCATENATE(\"'UNITCOST ITEMS (Data Entry)'!I\",IFERROR(SUM(MATCH(A239,'UNITCOST ITEMS (Data Entry)'!$A$3:$A$504,0),2),\"\"))),\"\"))","v":""},{"$f":"IF(K239=2,\"\",IF(IFERROR(INDIRECT(CONCATENATE(\"'UNITCOST ITEMS (Data Entry)'!J\",IFERROR(SUM(MATCH(A239,'UNITCOST ITEMS (Data Entry)'!$A$3:$A$504,0),2),\"\"))),\"\")=0,\"\",IFERROR(INDIRECT(CONCATENATE(\"'UNITCOST ITEMS (Data Entry)'!J\",IFERROR(SUM(MATCH(A239,'UNITCOST ITEMS (Data Entry)'!$A$3:$A$504,0),2),\"\"))),\"\")))","v":""},null,{"$f":"IF(IFERROR(INDIRECT(CONCATENATE(\"'UNITCOST ITEMS (Data Entry)'!C\",IFERROR(SUM(MATCH(A239,'UNITCOST ITEMS (Data Entry)'!$A$3:$A$504,0),2),\"\"))),\"\")=0,\"\",IFERROR(INDIRECT(CONCATENATE(\"'UNITCOST ITEMS (Data Entry)'!C\",IFERROR(SUM(MATCH(A239,'UNITCOST ITEMS (Data Entry)'!$A$3:$A$504,0),2),\"\"))),\"\"))","v":""},""]
[232,{"$f":"IF(IFERROR(INDIRECT(CONCATENATE(\"'UNITCOST ITEMS (Data Entry)'!D\",IFERROR(SUM(MATCH(A240,'UNITCOST ITEMS (Data Entry)'!$A$3:$A$504,0),2),\"\"))),\"\")=0,\"\",IFERROR(INDIRECT(CONCATENATE(\"'UNITCOST ITEMS (Data Entry)'!D\",IFERROR(SUM(MATCH(A240,'UNITCOST ITEMS (Data Entry)'!$A$3:$A$504,0),2),\"\"))),\"\"))","v":""},{"$f":"IF(IFERROR(INDIRECT(CONCATENATE(\"'UNITCOST ITEMS (Data Entry)'!E\",IFERROR(SUM(MATCH(A240,'UNITCOST ITEMS (Data Entry)'!$A$3:$A$504,0),2),\"\"))),\"\")=0,\"\",IFERROR(INDIRECT(CONCATENATE(\"'UNITCOST ITEMS (Data Entry)'!E\",IFERROR(SUM(MATCH(A240,'UNITCOST ITEMS (Data Entry)'!$A$3:$A$504,0),2),\"\"))),\"\"))","v":""},null,{"$f":"IF(IFERROR(INDIRECT(CONCATENATE(\"'UNITCOST ITEMS (Data Entry)'!F\",IFERROR(SUM(MATCH(A240,'UNITCOST ITEMS (Data Entry)'!$A$3:$A$504,0),2),\"\"))),\"\")=0,\"\",IFERROR(INDIRECT(CONCATENATE(\"'UNITCOST ITEMS (Data Entry)'!F\",IFERROR(SUM(MATCH(A240,'UNITCOST ITEMS (Data Entry)'!$A$3:$A$504,0),2),\"\"))),\"\"))","v":""},{"$f":"IF(IFERROR(INDIRECT(CONCATENATE(\"'UNITCOST ITEMS (Data Entry)'!G\",IFERROR(SUM(MATCH(A240,'UNITCOST ITEMS (Data Entry)'!$A$3:$A$504,0),2),\"\"))),\"\")=0,\"\",IFERROR(INDIRECT(CONCATENATE(\"'UNITCOST ITEMS (Data Entry)'!G\",IFERROR(SUM(MATCH(A240,'UNITCOST ITEMS (Data Entry)'!$A$3:$A$504,0),2),\"\"))),\"\"))","v":""},{"$f":"IF(IFERROR(INDIRECT(CONCATENATE(\"'UNITCOST ITEMS (Data Entry)'!H\",IFERROR(SUM(MATCH(A240,'UNITCOST ITEMS (Data Entry)'!$A$3:$A$504,0),2),\"\"))),\"\")=0,\"\",IFERROR(INDIRECT(CONCATENATE(\"'UNITCOST ITEMS (Data Entry)'!H\",IFERROR(SUM(MATCH(A240,'UNITCOST ITEMS (Data Entry)'!$A$3:$A$504,0),2),\"\"))),\"\"))","v":""},{"$f":"IF(IFERROR(INDIRECT(CONCATENATE(\"'UNITCOST ITEMS (Data Entry)'!I\",IFERROR(SUM(MATCH(A240,'UNITCOST ITEMS (Data Entry)'!$A$3:$A$504,0),2),\"\"))),\"\")=0,\"\",IFERROR(INDIRECT(CONCATENATE(\"'UNITCOST ITEMS (Data Entry)'!I\",IFERROR(SUM(MATCH(A240,'UNITCOST ITEMS (Data Entry)'!$A$3:$A$504,0),2),\"\"))),\"\"))","v":""},{"$f":"IF(K240=2,\"\",IF(IFERROR(INDIRECT(CONCATENATE(\"'UNITCOST ITEMS (Data Entry)'!J\",IFERROR(SUM(MATCH(A240,'UNITCOST ITEMS (Data Entry)'!$A$3:$A$504,0),2),\"\"))),\"\")=0,\"\",IFERROR(INDIRECT(CONCATENATE(\"'UNITCOST ITEMS (Data Entry)'!J\",IFERROR(SUM(MATCH(A240,'UNITCOST ITEMS (Data Entry)'!$A$3:$A$504,0),2),\"\"))),\"\")))","v":""},null,{"$f":"IF(IFERROR(INDIRECT(CONCATENATE(\"'UNITCOST ITEMS (Data Entry)'!C\",IFERROR(SUM(MATCH(A240,'UNITCOST ITEMS (Data Entry)'!$A$3:$A$504,0),2),\"\"))),\"\")=0,\"\",IFERROR(INDIRECT(CONCATENATE(\"'UNITCOST ITEMS (Data Entry)'!C\",IFERROR(SUM(MATCH(A240,'UNITCOST ITEMS (Data Entry)'!$A$3:$A$504,0),2),\"\"))),\"\"))","v":""},""]
[233,{"$f":"IF(IFERROR(INDIRECT(CONCATENATE(\"'UNITCOST ITEMS (Data Entry)'!D\",IFERROR(SUM(MATCH(A241,'UNITCOST ITEMS (Data Entry)'!$A$3:$A$504,0),2),\"\"))),\"\")=0,\"\",IFERROR(INDIRECT(CONCATENATE(\"'UNITCOST ITEMS (Data Entry)'!D\",IFERROR(SUM(MATCH(A241,'UNITCOST ITEMS (Data Entry)'!$A$3:$A$504,0),2),\"\"))),\"\"))","v":""},{"$f":"IF(IFERROR(INDIRECT(CONCATENATE(\"'UNITCOST ITEMS (Data Entry)'!E\",IFERROR(SUM(MATCH(A241,'UNITCOST ITEMS (Data Entry)'!$A$3:$A$504,0),2),\"\"))),\"\")=0,\"\",IFERROR(INDIRECT(CONCATENATE(\"'UNITCOST ITEMS (Data Entry)'!E\",IFERROR(SUM(MATCH(A241,'UNITCOST ITEMS (Data Entry)'!$A$3:$A$504,0),2),\"\"))),\"\"))","v":""},null,{"$f":"IF(IFERROR(INDIRECT(CONCATENATE(\"'UNITCOST ITEMS (Data Entry)'!F\",IFERROR(SUM(MATCH(A241,'UNITCOST ITEMS (Data Entry)'!$A$3:$A$504,0),2),\"\"))),\"\")=0,\"\",IFERROR(INDIRECT(CONCATENATE(\"'UNITCOST ITEMS (Data Entry)'!F\",IFERROR(SUM(MATCH(A241,'UNITCOST ITEMS (Data Entry)'!$A$3:$A$504,0),2),\"\"))),\"\"))","v":""},{"$f":"IF(IFERROR(INDIRECT(CONCATENATE(\"'UNITCOST ITEMS (Data Entry)'!G\",IFERROR(SUM(MATCH(A241,'UNITCOST ITEMS (Data Entry)'!$A$3:$A$504,0),2),\"\"))),\"\")=0,\"\",IFERROR(INDIRECT(CONCATENATE(\"'UNITCOST ITEMS (Data Entry)'!G\",IFERROR(SUM(MATCH(A241,'UNITCOST ITEMS (Data Entry)'!$A$3:$A$504,0),2),\"\"))),\"\"))","v":""},{"$f":"IF(IFERROR(INDIRECT(CONCATENATE(\"'UNITCOST ITEMS (Data Entry)'!H\",IFERROR(SUM(MATCH(A241,'UNITCOST ITEMS (Data Entry)'!$A$3:$A$504,0),2),\"\"))),\"\")=0,\"\",IFERROR(INDIRECT(CONCATENATE(\"'UNITCOST ITEMS (Data Entry)'!H\",IFERROR(SUM(MATCH(A241,'UNITCOST ITEMS (Data Entry)'!$A$3:$A$504,0),2),\"\"))),\"\"))","v":""},{"$f":"IF(IFERROR(INDIRECT(CONCATENATE(\"'UNITCOST ITEMS (Data Entry)'!I\",IFERROR(SUM(MATCH(A241,'UNITCOST ITEMS (Data Entry)'!$A$3:$A$504,0),2),\"\"))),\"\")=0,\"\",IFERROR(INDIRECT(CONCATENATE(\"'UNITCOST ITEMS (Data Entry)'!I\",IFERROR(SUM(MATCH(A241,'UNITCOST ITEMS (Data Entry)'!$A$3:$A$504,0),2),\"\"))),\"\"))","v":""},{"$f":"IF(K241=2,\"\",IF(IFERROR(INDIRECT(CONCATENATE(\"'UNITCOST ITEMS (Data Entry)'!J\",IFERROR(SUM(MATCH(A241,'UNITCOST ITEMS (Data Entry)'!$A$3:$A$504,0),2),\"\"))),\"\")=0,\"\",IFERROR(INDIRECT(CONCATENATE(\"'UNITCOST ITEMS (Data Entry)'!J\",IFERROR(SUM(MATCH(A241,'UNITCOST ITEMS (Data Entry)'!$A$3:$A$504,0),2),\"\"))),\"\")))","v":""},null,{"$f":"IF(IFERROR(INDIRECT(CONCATENATE(\"'UNITCOST ITEMS (Data Entry)'!C\",IFERROR(SUM(MATCH(A241,'UNITCOST ITEMS (Data Entry)'!$A$3:$A$504,0),2),\"\"))),\"\")=0,\"\",IFERROR(INDIRECT(CONCATENATE(\"'UNITCOST ITEMS (Data Entry)'!C\",IFERROR(SUM(MATCH(A241,'UNITCOST ITEMS (Data Entry)'!$A$3:$A$504,0),2),\"\"))),\"\"))","v":""},""]
[234,{"$f":"IF(IFERROR(INDIRECT(CONCATENATE(\"'UNITCOST ITEMS (Data Entry)'!D\",IFERROR(SUM(MATCH(A242,'UNITCOST ITEMS (Data Entry)'!$A$3:$A$504,0),2),\"\"))),\"\")=0,\"\",IFERROR(INDIRECT(CONCATENATE(\"'UNITCOST ITEMS (Data Entry)'!D\",IFERROR(SUM(MATCH(A242,'UNITCOST ITEMS (Data Entry)'!$A$3:$A$504,0),2),\"\"))),\"\"))","v":""},{"$f":"IF(IFERROR(INDIRECT(CONCATENATE(\"'UNITCOST ITEMS (Data Entry)'!E\",IFERROR(SUM(MATCH(A242,'UNITCOST ITEMS (Data Entry)'!$A$3:$A$504,0),2),\"\"))),\"\")=0,\"\",IFERROR(INDIRECT(CONCATENATE(\"'UNITCOST ITEMS (Data Entry)'!E\",IFERROR(SUM(MATCH(A242,'UNITCOST ITEMS (Data Entry)'!$A$3:$A$504,0),2),\"\"))),\"\"))","v":""},null,{"$f":"IF(IFERROR(INDIRECT(CONCATENATE(\"'UNITCOST ITEMS (Data Entry)'!F\",IFERROR(SUM(MATCH(A242,'UNITCOST ITEMS (Data Entry)'!$A$3:$A$504,0),2),\"\"))),\"\")=0,\"\",IFERROR(INDIRECT(CONCATENATE(\"'UNITCOST ITEMS (Data Entry)'!F\",IFERROR(SUM(MATCH(A242,'UNITCOST ITEMS (Data Entry)'!$A$3:$A$504,0),2),\"\"))),\"\"))","v":""},{"$f":"IF(IFERROR(INDIRECT(CONCATENATE(\"'UNITCOST ITEMS (Data Entry)'!G\",IFERROR(SUM(MATCH(A242,'UNITCOST ITEMS (Data Entry)'!$A$3:$A$504,0),2),\"\"))),\"\")=0,\"\",IFERROR(INDIRECT(CONCATENATE(\"'UNITCOST ITEMS (Data Entry)'!G\",IFERROR(SUM(MATCH(A242,'UNITCOST ITEMS (Data Entry)'!$A$3:$A$504,0),2),\"\"))),\"\"))","v":""},{"$f":"IF(IFERROR(INDIRECT(CONCATENATE(\"'UNITCOST ITEMS (Data Entry)'!H\",IFERROR(SUM(MATCH(A242,'UNITCOST ITEMS (Data Entry)'!$A$3:$A$504,0),2),\"\"))),\"\")=0,\"\",IFERROR(INDIRECT(CONCATENATE(\"'UNITCOST ITEMS (Data Entry)'!H\",IFERROR(SUM(MATCH(A242,'UNITCOST ITEMS (Data Entry)'!$A$3:$A$504,0),2),\"\"))),\"\"))","v":""},{"$f":"IF(IFERROR(INDIRECT(CONCATENATE(\"'UNITCOST ITEMS (Data Entry)'!I\",IFERROR(SUM(MATCH(A242,'UNITCOST ITEMS (Data Entry)'!$A$3:$A$504,0),2),\"\"))),\"\")=0,\"\",IFERROR(INDIRECT(CONCATENATE(\"'UNITCOST ITEMS (Data Entry)'!I\",IFERROR(SUM(MATCH(A242,'UNITCOST ITEMS (Data Entry)'!$A$3:$A$504,0),2),\"\"))),\"\"))","v":""},{"$f":"IF(K242=2,\"\",IF(IFERROR(INDIRECT(CONCATENATE(\"'UNITCOST ITEMS (Data Entry)'!J\",IFERROR(SUM(MATCH(A242,'UNITCOST ITEMS (Data Entry)'!$A$3:$A$504,0),2),\"\"))),\"\")=0,\"\",IFERROR(INDIRECT(CONCATENATE(\"'UNITCOST ITEMS (Data Entry)'!J\",IFERROR(SUM(MATCH(A242,'UNITCOST ITEMS (Data Entry)'!$A$3:$A$504,0),2),\"\"))),\"\")))","v":""},null,{"$f":"IF(IFERROR(INDIRECT(CONCATENATE(\"'UNITCOST ITEMS (Data Entry)'!C\",IFERROR(SUM(MATCH(A242,'UNITCOST ITEMS (Data Entry)'!$A$3:$A$504,0),2),\"\"))),\"\")=0,\"\",IFERROR(INDIRECT(CONCATENATE(\"'UNITCOST ITEMS (Data Entry)'!C\",IFERROR(SUM(MATCH(A242,'UNITCOST ITEMS (Data Entry)'!$A$3:$A$504,0),2),\"\"))),\"\"))","v":""},""]
[235,{"$f":"IF(IFERROR(INDIRECT(CONCATENATE(\"'UNITCOST ITEMS (Data Entry)'!D\",IFERROR(SUM(MATCH(A243,'UNITCOST ITEMS (Data Entry)'!$A$3:$A$504,0),2),\"\"))),\"\")=0,\"\",IFERROR(INDIRECT(CONCATENATE(\"'UNITCOST ITEMS (Data Entry)'!D\",IFERROR(SUM(MATCH(A243,'UNITCOST ITEMS (Data Entry)'!$A$3:$A$504,0),2),\"\"))),\"\"))","v":""},{"$f":"IF(IFERROR(INDIRECT(CONCATENATE(\"'UNITCOST ITEMS (Data Entry)'!E\",IFERROR(SUM(MATCH(A243,'UNITCOST ITEMS (Data Entry)'!$A$3:$A$504,0),2),\"\"))),\"\")=0,\"\",IFERROR(INDIRECT(CONCATENATE(\"'UNITCOST ITEMS (Data Entry)'!E\",IFERROR(SUM(MATCH(A243,'UNITCOST ITEMS (Data Entry)'!$A$3:$A$504,0),2),\"\"))),\"\"))","v":""},null,{"$f":"IF(IFERROR(INDIRECT(CONCATENATE(\"'UNITCOST ITEMS (Data Entry)'!F\",IFERROR(SUM(MATCH(A243,'UNITCOST ITEMS (Data Entry)'!$A$3:$A$504,0),2),\"\"))),\"\")=0,\"\",IFERROR(INDIRECT(CONCATENATE(\"'UNITCOST ITEMS (Data Entry)'!F\",IFERROR(SUM(MATCH(A243,'UNITCOST ITEMS (Data Entry)'!$A$3:$A$504,0),2),\"\"))),\"\"))","v":""},{"$f":"IF(IFERROR(INDIRECT(CONCATENATE(\"'UNITCOST ITEMS (Data Entry)'!G\",IFERROR(SUM(MATCH(A243,'UNITCOST ITEMS (Data Entry)'!$A$3:$A$504,0),2),\"\"))),\"\")=0,\"\",IFERROR(INDIRECT(CONCATENATE(\"'UNITCOST ITEMS (Data Entry)'!G\",IFERROR(SUM(MATCH(A243,'UNITCOST ITEMS (Data Entry)'!$A$3:$A$504,0),2),\"\"))),\"\"))","v":""},{"$f":"IF(IFERROR(INDIRECT(CONCATENATE(\"'UNITCOST ITEMS (Data Entry)'!H\",IFERROR(SUM(MATCH(A243,'UNITCOST ITEMS (Data Entry)'!$A$3:$A$504,0),2),\"\"))),\"\")=0,\"\",IFERROR(INDIRECT(CONCATENATE(\"'UNITCOST ITEMS (Data Entry)'!H\",IFERROR(SUM(MATCH(A243,'UNITCOST ITEMS (Data Entry)'!$A$3:$A$504,0),2),\"\"))),\"\"))","v":""},{"$f":"IF(IFERROR(INDIRECT(CONCATENATE(\"'UNITCOST ITEMS (Data Entry)'!I\",IFERROR(SUM(MATCH(A243,'UNITCOST ITEMS (Data Entry)'!$A$3:$A$504,0),2),\"\"))),\"\")=0,\"\",IFERROR(INDIRECT(CONCATENATE(\"'UNITCOST ITEMS (Data Entry)'!I\",IFERROR(SUM(MATCH(A243,'UNITCOST ITEMS (Data Entry)'!$A$3:$A$504,0),2),\"\"))),\"\"))","v":""},{"$f":"IF(K243=2,\"\",IF(IFERROR(INDIRECT(CONCATENATE(\"'UNITCOST ITEMS (Data Entry)'!J\",IFERROR(SUM(MATCH(A243,'UNITCOST ITEMS (Data Entry)'!$A$3:$A$504,0),2),\"\"))),\"\")=0,\"\",IFERROR(INDIRECT(CONCATENATE(\"'UNITCOST ITEMS (Data Entry)'!J\",IFERROR(SUM(MATCH(A243,'UNITCOST ITEMS (Data Entry)'!$A$3:$A$504,0),2),\"\"))),\"\")))","v":""},null,{"$f":"IF(IFERROR(INDIRECT(CONCATENATE(\"'UNITCOST ITEMS (Data Entry)'!C\",IFERROR(SUM(MATCH(A243,'UNITCOST ITEMS (Data Entry)'!$A$3:$A$504,0),2),\"\"))),\"\")=0,\"\",IFERROR(INDIRECT(CONCATENATE(\"'UNITCOST ITEMS (Data Entry)'!C\",IFERROR(SUM(MATCH(A243,'UNITCOST ITEMS (Data Entry)'!$A$3:$A$504,0),2),\"\"))),\"\"))","v":""},""]
[236,{"$f":"IF(IFERROR(INDIRECT(CONCATENATE(\"'UNITCOST ITEMS (Data Entry)'!D\",IFERROR(SUM(MATCH(A244,'UNITCOST ITEMS (Data Entry)'!$A$3:$A$504,0),2),\"\"))),\"\")=0,\"\",IFERROR(INDIRECT(CONCATENATE(\"'UNITCOST ITEMS (Data Entry)'!D\",IFERROR(SUM(MATCH(A244,'UNITCOST ITEMS (Data Entry)'!$A$3:$A$504,0),2),\"\"))),\"\"))","v":""},{"$f":"IF(IFERROR(INDIRECT(CONCATENATE(\"'UNITCOST ITEMS (Data Entry)'!E\",IFERROR(SUM(MATCH(A244,'UNITCOST ITEMS (Data Entry)'!$A$3:$A$504,0),2),\"\"))),\"\")=0,\"\",IFERROR(INDIRECT(CONCATENATE(\"'UNITCOST ITEMS (Data Entry)'!E\",IFERROR(SUM(MATCH(A244,'UNITCOST ITEMS (Data Entry)'!$A$3:$A$504,0),2),\"\"))),\"\"))","v":""},null,{"$f":"IF(IFERROR(INDIRECT(CONCATENATE(\"'UNITCOST ITEMS (Data Entry)'!F\",IFERROR(SUM(MATCH(A244,'UNITCOST ITEMS (Data Entry)'!$A$3:$A$504,0),2),\"\"))),\"\")=0,\"\",IFERROR(INDIRECT(CONCATENATE(\"'UNITCOST ITEMS (Data Entry)'!F\",IFERROR(SUM(MATCH(A244,'UNITCOST ITEMS (Data Entry)'!$A$3:$A$504,0),2),\"\"))),\"\"))","v":""},{"$f":"IF(IFERROR(INDIRECT(CONCATENATE(\"'UNITCOST ITEMS (Data Entry)'!G\",IFERROR(SUM(MATCH(A244,'UNITCOST ITEMS (Data Entry)'!$A$3:$A$504,0),2),\"\"))),\"\")=0,\"\",IFERROR(INDIRECT(CONCATENATE(\"'UNITCOST ITEMS (Data Entry)'!G\",IFERROR(SUM(MATCH(A244,'UNITCOST ITEMS (Data Entry)'!$A$3:$A$504,0),2),\"\"))),\"\"))","v":""},{"$f":"IF(IFERROR(INDIRECT(CONCATENATE(\"'UNITCOST ITEMS (Data Entry)'!H\",IFERROR(SUM(MATCH(A244,'UNITCOST ITEMS (Data Entry)'!$A$3:$A$504,0),2),\"\"))),\"\")=0,\"\",IFERROR(INDIRECT(CONCATENATE(\"'UNITCOST ITEMS (Data Entry)'!H\",IFERROR(SUM(MATCH(A244,'UNITCOST ITEMS (Data Entry)'!$A$3:$A$504,0),2),\"\"))),\"\"))","v":""},{"$f":"IF(IFERROR(INDIRECT(CONCATENATE(\"'UNITCOST ITEMS (Data Entry)'!I\",IFERROR(SUM(MATCH(A244,'UNITCOST ITEMS (Data Entry)'!$A$3:$A$504,0),2),\"\"))),\"\")=0,\"\",IFERROR(INDIRECT(CONCATENATE(\"'UNITCOST ITEMS (Data Entry)'!I\",IFERROR(SUM(MATCH(A244,'UNITCOST ITEMS (Data Entry)'!$A$3:$A$504,0),2),\"\"))),\"\"))","v":""},{"$f":"IF(K244=2,\"\",IF(IFERROR(INDIRECT(CONCATENATE(\"'UNITCOST ITEMS (Data Entry)'!J\",IFERROR(SUM(MATCH(A244,'UNITCOST ITEMS (Data Entry)'!$A$3:$A$504,0),2),\"\"))),\"\")=0,\"\",IFERROR(INDIRECT(CONCATENATE(\"'UNITCOST ITEMS (Data Entry)'!J\",IFERROR(SUM(MATCH(A244,'UNITCOST ITEMS (Data Entry)'!$A$3:$A$504,0),2),\"\"))),\"\")))","v":""},null,{"$f":"IF(IFERROR(INDIRECT(CONCATENATE(\"'UNITCOST ITEMS (Data Entry)'!C\",IFERROR(SUM(MATCH(A244,'UNITCOST ITEMS (Data Entry)'!$A$3:$A$504,0),2),\"\"))),\"\")=0,\"\",IFERROR(INDIRECT(CONCATENATE(\"'UNITCOST ITEMS (Data Entry)'!C\",IFERROR(SUM(MATCH(A244,'UNITCOST ITEMS (Data Entry)'!$A$3:$A$504,0),2),\"\"))),\"\"))","v":""},""]
[237,{"$f":"IF(IFERROR(INDIRECT(CONCATENATE(\"'UNITCOST ITEMS (Data Entry)'!D\",IFERROR(SUM(MATCH(A245,'UNITCOST ITEMS (Data Entry)'!$A$3:$A$504,0),2),\"\"))),\"\")=0,\"\",IFERROR(INDIRECT(CONCATENATE(\"'UNITCOST ITEMS (Data Entry)'!D\",IFERROR(SUM(MATCH(A245,'UNITCOST ITEMS (Data Entry)'!$A$3:$A$504,0),2),\"\"))),\"\"))","v":""},{"$f":"IF(IFERROR(INDIRECT(CONCATENATE(\"'UNITCOST ITEMS (Data Entry)'!E\",IFERROR(SUM(MATCH(A245,'UNITCOST ITEMS (Data Entry)'!$A$3:$A$504,0),2),\"\"))),\"\")=0,\"\",IFERROR(INDIRECT(CONCATENATE(\"'UNITCOST ITEMS (Data Entry)'!E\",IFERROR(SUM(MATCH(A245,'UNITCOST ITEMS (Data Entry)'!$A$3:$A$504,0),2),\"\"))),\"\"))","v":""},null,{"$f":"IF(IFERROR(INDIRECT(CONCATENATE(\"'UNITCOST ITEMS (Data Entry)'!F\",IFERROR(SUM(MATCH(A245,'UNITCOST ITEMS (Data Entry)'!$A$3:$A$504,0),2),\"\"))),\"\")=0,\"\",IFERROR(INDIRECT(CONCATENATE(\"'UNITCOST ITEMS (Data Entry)'!F\",IFERROR(SUM(MATCH(A245,'UNITCOST ITEMS (Data Entry)'!$A$3:$A$504,0),2),\"\"))),\"\"))","v":""},{"$f":"IF(IFERROR(INDIRECT(CONCATENATE(\"'UNITCOST ITEMS (Data Entry)'!G\",IFERROR(SUM(MATCH(A245,'UNITCOST ITEMS (Data Entry)'!$A$3:$A$504,0),2),\"\"))),\"\")=0,\"\",IFERROR(INDIRECT(CONCATENATE(\"'UNITCOST ITEMS (Data Entry)'!G\",IFERROR(SUM(MATCH(A245,'UNITCOST ITEMS (Data Entry)'!$A$3:$A$504,0),2),\"\"))),\"\"))","v":""},{"$f":"IF(IFERROR(INDIRECT(CONCATENATE(\"'UNITCOST ITEMS (Data Entry)'!H\",IFERROR(SUM(MATCH(A245,'UNITCOST ITEMS (Data Entry)'!$A$3:$A$504,0),2),\"\"))),\"\")=0,\"\",IFERROR(INDIRECT(CONCATENATE(\"'UNITCOST ITEMS (Data Entry)'!H\",IFERROR(SUM(MATCH(A245,'UNITCOST ITEMS (Data Entry)'!$A$3:$A$504,0),2),\"\"))),\"\"))","v":""},{"$f":"IF(IFERROR(INDIRECT(CONCATENATE(\"'UNITCOST ITEMS (Data Entry)'!I\",IFERROR(SUM(MATCH(A245,'UNITCOST ITEMS (Data Entry)'!$A$3:$A$504,0),2),\"\"))),\"\")=0,\"\",IFERROR(INDIRECT(CONCATENATE(\"'UNITCOST ITEMS (Data Entry)'!I\",IFERROR(SUM(MATCH(A245,'UNITCOST ITEMS (Data Entry)'!$A$3:$A$504,0),2),\"\"))),\"\"))","v":""},{"$f":"IF(K245=2,\"\",IF(IFERROR(INDIRECT(CONCATENATE(\"'UNITCOST ITEMS (Data Entry)'!J\",IFERROR(SUM(MATCH(A245,'UNITCOST ITEMS (Data Entry)'!$A$3:$A$504,0),2),\"\"))),\"\")=0,\"\",IFERROR(INDIRECT(CONCATENATE(\"'UNITCOST ITEMS (Data Entry)'!J\",IFERROR(SUM(MATCH(A245,'UNITCOST ITEMS (Data Entry)'!$A$3:$A$504,0),2),\"\"))),\"\")))","v":""},null,{"$f":"IF(IFERROR(INDIRECT(CONCATENATE(\"'UNITCOST ITEMS (Data Entry)'!C\",IFERROR(SUM(MATCH(A245,'UNITCOST ITEMS (Data Entry)'!$A$3:$A$504,0),2),\"\"))),\"\")=0,\"\",IFERROR(INDIRECT(CONCATENATE(\"'UNITCOST ITEMS (Data Entry)'!C\",IFERROR(SUM(MATCH(A245,'UNITCOST ITEMS (Data Entry)'!$A$3:$A$504,0),2),\"\"))),\"\"))","v":""},""]
[238,{"$f":"IF(IFERROR(INDIRECT(CONCATENATE(\"'UNITCOST ITEMS (Data Entry)'!D\",IFERROR(SUM(MATCH(A246,'UNITCOST ITEMS (Data Entry)'!$A$3:$A$504,0),2),\"\"))),\"\")=0,\"\",IFERROR(INDIRECT(CONCATENATE(\"'UNITCOST ITEMS (Data Entry)'!D\",IFERROR(SUM(MATCH(A246,'UNITCOST ITEMS (Data Entry)'!$A$3:$A$504,0),2),\"\"))),\"\"))","v":""},{"$f":"IF(IFERROR(INDIRECT(CONCATENATE(\"'UNITCOST ITEMS (Data Entry)'!E\",IFERROR(SUM(MATCH(A246,'UNITCOST ITEMS (Data Entry)'!$A$3:$A$504,0),2),\"\"))),\"\")=0,\"\",IFERROR(INDIRECT(CONCATENATE(\"'UNITCOST ITEMS (Data Entry)'!E\",IFERROR(SUM(MATCH(A246,'UNITCOST ITEMS (Data Entry)'!$A$3:$A$504,0),2),\"\"))),\"\"))","v":""},null,{"$f":"IF(IFERROR(INDIRECT(CONCATENATE(\"'UNITCOST ITEMS (Data Entry)'!F\",IFERROR(SUM(MATCH(A246,'UNITCOST ITEMS (Data Entry)'!$A$3:$A$504,0),2),\"\"))),\"\")=0,\"\",IFERROR(INDIRECT(CONCATENATE(\"'UNITCOST ITEMS (Data Entry)'!F\",IFERROR(SUM(MATCH(A246,'UNITCOST ITEMS (Data Entry)'!$A$3:$A$504,0),2),\"\"))),\"\"))","v":""},{"$f":"IF(IFERROR(INDIRECT(CONCATENATE(\"'UNITCOST ITEMS (Data Entry)'!G\",IFERROR(SUM(MATCH(A246,'UNITCOST ITEMS (Data Entry)'!$A$3:$A$504,0),2),\"\"))),\"\")=0,\"\",IFERROR(INDIRECT(CONCATENATE(\"'UNITCOST ITEMS (Data Entry)'!G\",IFERROR(SUM(MATCH(A246,'UNITCOST ITEMS (Data Entry)'!$A$3:$A$504,0),2),\"\"))),\"\"))","v":""},{"$f":"IF(IFERROR(INDIRECT(CONCATENATE(\"'UNITCOST ITEMS (Data Entry)'!H\",IFERROR(SUM(MATCH(A246,'UNITCOST ITEMS (Data Entry)'!$A$3:$A$504,0),2),\"\"))),\"\")=0,\"\",IFERROR(INDIRECT(CONCATENATE(\"'UNITCOST ITEMS (Data Entry)'!H\",IFERROR(SUM(MATCH(A246,'UNITCOST ITEMS (Data Entry)'!$A$3:$A$504,0),2),\"\"))),\"\"))","v":""},{"$f":"IF(IFERROR(INDIRECT(CONCATENATE(\"'UNITCOST ITEMS (Data Entry)'!I\",IFERROR(SUM(MATCH(A246,'UNITCOST ITEMS (Data Entry)'!$A$3:$A$504,0),2),\"\"))),\"\")=0,\"\",IFERROR(INDIRECT(CONCATENATE(\"'UNITCOST ITEMS (Data Entry)'!I\",IFERROR(SUM(MATCH(A246,'UNITCOST ITEMS (Data Entry)'!$A$3:$A$504,0),2),\"\"))),\"\"))","v":""},{"$f":"IF(K246=2,\"\",IF(IFERROR(INDIRECT(CONCATENATE(\"'UNITCOST ITEMS (Data Entry)'!J\",IFERROR(SUM(MATCH(A246,'UNITCOST ITEMS (Data Entry)'!$A$3:$A$504,0),2),\"\"))),\"\")=0,\"\",IFERROR(INDIRECT(CONCATENATE(\"'UNITCOST ITEMS (Data Entry)'!J\",IFERROR(SUM(MATCH(A246,'UNITCOST ITEMS (Data Entry)'!$A$3:$A$504,0),2),\"\"))),\"\")))","v":""},null,{"$f":"IF(IFERROR(INDIRECT(CONCATENATE(\"'UNITCOST ITEMS (Data Entry)'!C\",IFERROR(SUM(MATCH(A246,'UNITCOST ITEMS (Data Entry)'!$A$3:$A$504,0),2),\"\"))),\"\")=0,\"\",IFERROR(INDIRECT(CONCATENATE(\"'UNITCOST ITEMS (Data Entry)'!C\",IFERROR(SUM(MATCH(A246,'UNITCOST ITEMS (Data Entry)'!$A$3:$A$504,0),2),\"\"))),\"\"))","v":""},""]
[239,{"$f":"IF(IFERROR(INDIRECT(CONCATENATE(\"'UNITCOST ITEMS (Data Entry)'!D\",IFERROR(SUM(MATCH(A247,'UNITCOST ITEMS (Data Entry)'!$A$3:$A$504,0),2),\"\"))),\"\")=0,\"\",IFERROR(INDIRECT(CONCATENATE(\"'UNITCOST ITEMS (Data Entry)'!D\",IFERROR(SUM(MATCH(A247,'UNITCOST ITEMS (Data Entry)'!$A$3:$A$504,0),2),\"\"))),\"\"))","v":""},{"$f":"IF(IFERROR(INDIRECT(CONCATENATE(\"'UNITCOST ITEMS (Data Entry)'!E\",IFERROR(SUM(MATCH(A247,'UNITCOST ITEMS (Data Entry)'!$A$3:$A$504,0),2),\"\"))),\"\")=0,\"\",IFERROR(INDIRECT(CONCATENATE(\"'UNITCOST ITEMS (Data Entry)'!E\",IFERROR(SUM(MATCH(A247,'UNITCOST ITEMS (Data Entry)'!$A$3:$A$504,0),2),\"\"))),\"\"))","v":""},null,{"$f":"IF(IFERROR(INDIRECT(CONCATENATE(\"'UNITCOST ITEMS (Data Entry)'!F\",IFERROR(SUM(MATCH(A247,'UNITCOST ITEMS (Data Entry)'!$A$3:$A$504,0),2),\"\"))),\"\")=0,\"\",IFERROR(INDIRECT(CONCATENATE(\"'UNITCOST ITEMS (Data Entry)'!F\",IFERROR(SUM(MATCH(A247,'UNITCOST ITEMS (Data Entry)'!$A$3:$A$504,0),2),\"\"))),\"\"))","v":""},{"$f":"IF(IFERROR(INDIRECT(CONCATENATE(\"'UNITCOST ITEMS (Data Entry)'!G\",IFERROR(SUM(MATCH(A247,'UNITCOST ITEMS (Data Entry)'!$A$3:$A$504,0),2),\"\"))),\"\")=0,\"\",IFERROR(INDIRECT(CONCATENATE(\"'UNITCOST ITEMS (Data Entry)'!G\",IFERROR(SUM(MATCH(A247,'UNITCOST ITEMS (Data Entry)'!$A$3:$A$504,0),2),\"\"))),\"\"))","v":""},{"$f":"IF(IFERROR(INDIRECT(CONCATENATE(\"'UNITCOST ITEMS (Data Entry)'!H\",IFERROR(SUM(MATCH(A247,'UNITCOST ITEMS (Data Entry)'!$A$3:$A$504,0),2),\"\"))),\"\")=0,\"\",IFERROR(INDIRECT(CONCATENATE(\"'UNITCOST ITEMS (Data Entry)'!H\",IFERROR(SUM(MATCH(A247,'UNITCOST ITEMS (Data Entry)'!$A$3:$A$504,0),2),\"\"))),\"\"))","v":""},{"$f":"IF(IFERROR(INDIRECT(CONCATENATE(\"'UNITCOST ITEMS (Data Entry)'!I\",IFERROR(SUM(MATCH(A247,'UNITCOST ITEMS (Data Entry)'!$A$3:$A$504,0),2),\"\"))),\"\")=0,\"\",IFERROR(INDIRECT(CONCATENATE(\"'UNITCOST ITEMS (Data Entry)'!I\",IFERROR(SUM(MATCH(A247,'UNITCOST ITEMS (Data Entry)'!$A$3:$A$504,0),2),\"\"))),\"\"))","v":""},{"$f":"IF(K247=2,\"\",IF(IFERROR(INDIRECT(CONCATENATE(\"'UNITCOST ITEMS (Data Entry)'!J\",IFERROR(SUM(MATCH(A247,'UNITCOST ITEMS (Data Entry)'!$A$3:$A$504,0),2),\"\"))),\"\")=0,\"\",IFERROR(INDIRECT(CONCATENATE(\"'UNITCOST ITEMS (Data Entry)'!J\",IFERROR(SUM(MATCH(A247,'UNITCOST ITEMS (Data Entry)'!$A$3:$A$504,0),2),\"\"))),\"\")))","v":""},null,{"$f":"IF(IFERROR(INDIRECT(CONCATENATE(\"'UNITCOST ITEMS (Data Entry)'!C\",IFERROR(SUM(MATCH(A247,'UNITCOST ITEMS (Data Entry)'!$A$3:$A$504,0),2),\"\"))),\"\")=0,\"\",IFERROR(INDIRECT(CONCATENATE(\"'UNITCOST ITEMS (Data Entry)'!C\",IFERROR(SUM(MATCH(A247,'UNITCOST ITEMS (Data Entry)'!$A$3:$A$504,0),2),\"\"))),\"\"))","v":""},""]
[240,{"$f":"IF(IFERROR(INDIRECT(CONCATENATE(\"'UNITCOST ITEMS (Data Entry)'!D\",IFERROR(SUM(MATCH(A248,'UNITCOST ITEMS (Data Entry)'!$A$3:$A$504,0),2),\"\"))),\"\")=0,\"\",IFERROR(INDIRECT(CONCATENATE(\"'UNITCOST ITEMS (Data Entry)'!D\",IFERROR(SUM(MATCH(A248,'UNITCOST ITEMS (Data Entry)'!$A$3:$A$504,0),2),\"\"))),\"\"))","v":""},{"$f":"IF(IFERROR(INDIRECT(CONCATENATE(\"'UNITCOST ITEMS (Data Entry)'!E\",IFERROR(SUM(MATCH(A248,'UNITCOST ITEMS (Data Entry)'!$A$3:$A$504,0),2),\"\"))),\"\")=0,\"\",IFERROR(INDIRECT(CONCATENATE(\"'UNITCOST ITEMS (Data Entry)'!E\",IFERROR(SUM(MATCH(A248,'UNITCOST ITEMS (Data Entry)'!$A$3:$A$504,0),2),\"\"))),\"\"))","v":""},null,{"$f":"IF(IFERROR(INDIRECT(CONCATENATE(\"'UNITCOST ITEMS (Data Entry)'!F\",IFERROR(SUM(MATCH(A248,'UNITCOST ITEMS (Data Entry)'!$A$3:$A$504,0),2),\"\"))),\"\")=0,\"\",IFERROR(INDIRECT(CONCATENATE(\"'UNITCOST ITEMS (Data Entry)'!F\",IFERROR(SUM(MATCH(A248,'UNITCOST ITEMS (Data Entry)'!$A$3:$A$504,0),2),\"\"))),\"\"))","v":""},{"$f":"IF(IFERROR(INDIRECT(CONCATENATE(\"'UNITCOST ITEMS (Data Entry)'!G\",IFERROR(SUM(MATCH(A248,'UNITCOST ITEMS (Data Entry)'!$A$3:$A$504,0),2),\"\"))),\"\")=0,\"\",IFERROR(INDIRECT(CONCATENATE(\"'UNITCOST ITEMS (Data Entry)'!G\",IFERROR(SUM(MATCH(A248,'UNITCOST ITEMS (Data Entry)'!$A$3:$A$504,0),2),\"\"))),\"\"))","v":""},{"$f":"IF(IFERROR(INDIRECT(CONCATENATE(\"'UNITCOST ITEMS (Data Entry)'!H\",IFERROR(SUM(MATCH(A248,'UNITCOST ITEMS (Data Entry)'!$A$3:$A$504,0),2),\"\"))),\"\")=0,\"\",IFERROR(INDIRECT(CONCATENATE(\"'UNITCOST ITEMS (Data Entry)'!H\",IFERROR(SUM(MATCH(A248,'UNITCOST ITEMS (Data Entry)'!$A$3:$A$504,0),2),\"\"))),\"\"))","v":""},{"$f":"IF(IFERROR(INDIRECT(CONCATENATE(\"'UNITCOST ITEMS (Data Entry)'!I\",IFERROR(SUM(MATCH(A248,'UNITCOST ITEMS (Data Entry)'!$A$3:$A$504,0),2),\"\"))),\"\")=0,\"\",IFERROR(INDIRECT(CONCATENATE(\"'UNITCOST ITEMS (Data Entry)'!I\",IFERROR(SUM(MATCH(A248,'UNITCOST ITEMS (Data Entry)'!$A$3:$A$504,0),2),\"\"))),\"\"))","v":""},{"$f":"IF(K248=2,\"\",IF(IFERROR(INDIRECT(CONCATENATE(\"'UNITCOST ITEMS (Data Entry)'!J\",IFERROR(SUM(MATCH(A248,'UNITCOST ITEMS (Data Entry)'!$A$3:$A$504,0),2),\"\"))),\"\")=0,\"\",IFERROR(INDIRECT(CONCATENATE(\"'UNITCOST ITEMS (Data Entry)'!J\",IFERROR(SUM(MATCH(A248,'UNITCOST ITEMS (Data Entry)'!$A$3:$A$504,0),2),\"\"))),\"\")))","v":""},null,{"$f":"IF(IFERROR(INDIRECT(CONCATENATE(\"'UNITCOST ITEMS (Data Entry)'!C\",IFERROR(SUM(MATCH(A248,'UNITCOST ITEMS (Data Entry)'!$A$3:$A$504,0),2),\"\"))),\"\")=0,\"\",IFERROR(INDIRECT(CONCATENATE(\"'UNITCOST ITEMS (Data Entry)'!C\",IFERROR(SUM(MATCH(A248,'UNITCOST ITEMS (Data Entry)'!$A$3:$A$504,0),2),\"\"))),\"\"))","v":""},""]
[241,{"$f":"IF(IFERROR(INDIRECT(CONCATENATE(\"'UNITCOST ITEMS (Data Entry)'!D\",IFERROR(SUM(MATCH(A249,'UNITCOST ITEMS (Data Entry)'!$A$3:$A$504,0),2),\"\"))),\"\")=0,\"\",IFERROR(INDIRECT(CONCATENATE(\"'UNITCOST ITEMS (Data Entry)'!D\",IFERROR(SUM(MATCH(A249,'UNITCOST ITEMS (Data Entry)'!$A$3:$A$504,0),2),\"\"))),\"\"))","v":""},{"$f":"IF(IFERROR(INDIRECT(CONCATENATE(\"'UNITCOST ITEMS (Data Entry)'!E\",IFERROR(SUM(MATCH(A249,'UNITCOST ITEMS (Data Entry)'!$A$3:$A$504,0),2),\"\"))),\"\")=0,\"\",IFERROR(INDIRECT(CONCATENATE(\"'UNITCOST ITEMS (Data Entry)'!E\",IFERROR(SUM(MATCH(A249,'UNITCOST ITEMS (Data Entry)'!$A$3:$A$504,0),2),\"\"))),\"\"))","v":""},null,{"$f":"IF(IFERROR(INDIRECT(CONCATENATE(\"'UNITCOST ITEMS (Data Entry)'!F\",IFERROR(SUM(MATCH(A249,'UNITCOST ITEMS (Data Entry)'!$A$3:$A$504,0),2),\"\"))),\"\")=0,\"\",IFERROR(INDIRECT(CONCATENATE(\"'UNITCOST ITEMS (Data Entry)'!F\",IFERROR(SUM(MATCH(A249,'UNITCOST ITEMS (Data Entry)'!$A$3:$A$504,0),2),\"\"))),\"\"))","v":""},{"$f":"IF(IFERROR(INDIRECT(CONCATENATE(\"'UNITCOST ITEMS (Data Entry)'!G\",IFERROR(SUM(MATCH(A249,'UNITCOST ITEMS (Data Entry)'!$A$3:$A$504,0),2),\"\"))),\"\")=0,\"\",IFERROR(INDIRECT(CONCATENATE(\"'UNITCOST ITEMS (Data Entry)'!G\",IFERROR(SUM(MATCH(A249,'UNITCOST ITEMS (Data Entry)'!$A$3:$A$504,0),2),\"\"))),\"\"))","v":""},{"$f":"IF(IFERROR(INDIRECT(CONCATENATE(\"'UNITCOST ITEMS (Data Entry)'!H\",IFERROR(SUM(MATCH(A249,'UNITCOST ITEMS (Data Entry)'!$A$3:$A$504,0),2),\"\"))),\"\")=0,\"\",IFERROR(INDIRECT(CONCATENATE(\"'UNITCOST ITEMS (Data Entry)'!H\",IFERROR(SUM(MATCH(A249,'UNITCOST ITEMS (Data Entry)'!$A$3:$A$504,0),2),\"\"))),\"\"))","v":""},{"$f":"IF(IFERROR(INDIRECT(CONCATENATE(\"'UNITCOST ITEMS (Data Entry)'!I\",IFERROR(SUM(MATCH(A249,'UNITCOST ITEMS (Data Entry)'!$A$3:$A$504,0),2),\"\"))),\"\")=0,\"\",IFERROR(INDIRECT(CONCATENATE(\"'UNITCOST ITEMS (Data Entry)'!I\",IFERROR(SUM(MATCH(A249,'UNITCOST ITEMS (Data Entry)'!$A$3:$A$504,0),2),\"\"))),\"\"))","v":""},{"$f":"IF(K249=2,\"\",IF(IFERROR(INDIRECT(CONCATENATE(\"'UNITCOST ITEMS (Data Entry)'!J\",IFERROR(SUM(MATCH(A249,'UNITCOST ITEMS (Data Entry)'!$A$3:$A$504,0),2),\"\"))),\"\")=0,\"\",IFERROR(INDIRECT(CONCATENATE(\"'UNITCOST ITEMS (Data Entry)'!J\",IFERROR(SUM(MATCH(A249,'UNITCOST ITEMS (Data Entry)'!$A$3:$A$504,0),2),\"\"))),\"\")))","v":""},null,{"$f":"IF(IFERROR(INDIRECT(CONCATENATE(\"'UNITCOST ITEMS (Data Entry)'!C\",IFERROR(SUM(MATCH(A249,'UNITCOST ITEMS (Data Entry)'!$A$3:$A$504,0),2),\"\"))),\"\")=0,\"\",IFERROR(INDIRECT(CONCATENATE(\"'UNITCOST ITEMS (Data Entry)'!C\",IFERROR(SUM(MATCH(A249,'UNITCOST ITEMS (Data Entry)'!$A$3:$A$504,0),2),\"\"))),\"\"))","v":""},""]
[242,{"$f":"IF(IFERROR(INDIRECT(CONCATENATE(\"'UNITCOST ITEMS (Data Entry)'!D\",IFERROR(SUM(MATCH(A250,'UNITCOST ITEMS (Data Entry)'!$A$3:$A$504,0),2),\"\"))),\"\")=0,\"\",IFERROR(INDIRECT(CONCATENATE(\"'UNITCOST ITEMS (Data Entry)'!D\",IFERROR(SUM(MATCH(A250,'UNITCOST ITEMS (Data Entry)'!$A$3:$A$504,0),2),\"\"))),\"\"))","v":""},{"$f":"IF(IFERROR(INDIRECT(CONCATENATE(\"'UNITCOST ITEMS (Data Entry)'!E\",IFERROR(SUM(MATCH(A250,'UNITCOST ITEMS (Data Entry)'!$A$3:$A$504,0),2),\"\"))),\"\")=0,\"\",IFERROR(INDIRECT(CONCATENATE(\"'UNITCOST ITEMS (Data Entry)'!E\",IFERROR(SUM(MATCH(A250,'UNITCOST ITEMS (Data Entry)'!$A$3:$A$504,0),2),\"\"))),\"\"))","v":""},null,{"$f":"IF(IFERROR(INDIRECT(CONCATENATE(\"'UNITCOST ITEMS (Data Entry)'!F\",IFERROR(SUM(MATCH(A250,'UNITCOST ITEMS (Data Entry)'!$A$3:$A$504,0),2),\"\"))),\"\")=0,\"\",IFERROR(INDIRECT(CONCATENATE(\"'UNITCOST ITEMS (Data Entry)'!F\",IFERROR(SUM(MATCH(A250,'UNITCOST ITEMS (Data Entry)'!$A$3:$A$504,0),2),\"\"))),\"\"))","v":""},{"$f":"IF(IFERROR(INDIRECT(CONCATENATE(\"'UNITCOST ITEMS (Data Entry)'!G\",IFERROR(SUM(MATCH(A250,'UNITCOST ITEMS (Data Entry)'!$A$3:$A$504,0),2),\"\"))),\"\")=0,\"\",IFERROR(INDIRECT(CONCATENATE(\"'UNITCOST ITEMS (Data Entry)'!G\",IFERROR(SUM(MATCH(A250,'UNITCOST ITEMS (Data Entry)'!$A$3:$A$504,0),2),\"\"))),\"\"))","v":""},{"$f":"IF(IFERROR(INDIRECT(CONCATENATE(\"'UNITCOST ITEMS (Data Entry)'!H\",IFERROR(SUM(MATCH(A250,'UNITCOST ITEMS (Data Entry)'!$A$3:$A$504,0),2),\"\"))),\"\")=0,\"\",IFERROR(INDIRECT(CONCATENATE(\"'UNITCOST ITEMS (Data Entry)'!H\",IFERROR(SUM(MATCH(A250,'UNITCOST ITEMS (Data Entry)'!$A$3:$A$504,0),2),\"\"))),\"\"))","v":""},{"$f":"IF(IFERROR(INDIRECT(CONCATENATE(\"'UNITCOST ITEMS (Data Entry)'!I\",IFERROR(SUM(MATCH(A250,'UNITCOST ITEMS (Data Entry)'!$A$3:$A$504,0),2),\"\"))),\"\")=0,\"\",IFERROR(INDIRECT(CONCATENATE(\"'UNITCOST ITEMS (Data Entry)'!I\",IFERROR(SUM(MATCH(A250,'UNITCOST ITEMS (Data Entry)'!$A$3:$A$504,0),2),\"\"))),\"\"))","v":""},{"$f":"IF(K250=2,\"\",IF(IFERROR(INDIRECT(CONCATENATE(\"'UNITCOST ITEMS (Data Entry)'!J\",IFERROR(SUM(MATCH(A250,'UNITCOST ITEMS (Data Entry)'!$A$3:$A$504,0),2),\"\"))),\"\")=0,\"\",IFERROR(INDIRECT(CONCATENATE(\"'UNITCOST ITEMS (Data Entry)'!J\",IFERROR(SUM(MATCH(A250,'UNITCOST ITEMS (Data Entry)'!$A$3:$A$504,0),2),\"\"))),\"\")))","v":""},null,{"$f":"IF(IFERROR(INDIRECT(CONCATENATE(\"'UNITCOST ITEMS (Data Entry)'!C\",IFERROR(SUM(MATCH(A250,'UNITCOST ITEMS (Data Entry)'!$A$3:$A$504,0),2),\"\"))),\"\")=0,\"\",IFERROR(INDIRECT(CONCATENATE(\"'UNITCOST ITEMS (Data Entry)'!C\",IFERROR(SUM(MATCH(A250,'UNITCOST ITEMS (Data Entry)'!$A$3:$A$504,0),2),\"\"))),\"\"))","v":""},""]
[243,{"$f":"IF(IFERROR(INDIRECT(CONCATENATE(\"'UNITCOST ITEMS (Data Entry)'!D\",IFERROR(SUM(MATCH(A251,'UNITCOST ITEMS (Data Entry)'!$A$3:$A$504,0),2),\"\"))),\"\")=0,\"\",IFERROR(INDIRECT(CONCATENATE(\"'UNITCOST ITEMS (Data Entry)'!D\",IFERROR(SUM(MATCH(A251,'UNITCOST ITEMS (Data Entry)'!$A$3:$A$504,0),2),\"\"))),\"\"))","v":""},{"$f":"IF(IFERROR(INDIRECT(CONCATENATE(\"'UNITCOST ITEMS (Data Entry)'!E\",IFERROR(SUM(MATCH(A251,'UNITCOST ITEMS (Data Entry)'!$A$3:$A$504,0),2),\"\"))),\"\")=0,\"\",IFERROR(INDIRECT(CONCATENATE(\"'UNITCOST ITEMS (Data Entry)'!E\",IFERROR(SUM(MATCH(A251,'UNITCOST ITEMS (Data Entry)'!$A$3:$A$504,0),2),\"\"))),\"\"))","v":""},null,{"$f":"IF(IFERROR(INDIRECT(CONCATENATE(\"'UNITCOST ITEMS (Data Entry)'!F\",IFERROR(SUM(MATCH(A251,'UNITCOST ITEMS (Data Entry)'!$A$3:$A$504,0),2),\"\"))),\"\")=0,\"\",IFERROR(INDIRECT(CONCATENATE(\"'UNITCOST ITEMS (Data Entry)'!F\",IFERROR(SUM(MATCH(A251,'UNITCOST ITEMS (Data Entry)'!$A$3:$A$504,0),2),\"\"))),\"\"))","v":""},{"$f":"IF(IFERROR(INDIRECT(CONCATENATE(\"'UNITCOST ITEMS (Data Entry)'!G\",IFERROR(SUM(MATCH(A251,'UNITCOST ITEMS (Data Entry)'!$A$3:$A$504,0),2),\"\"))),\"\")=0,\"\",IFERROR(INDIRECT(CONCATENATE(\"'UNITCOST ITEMS (Data Entry)'!G\",IFERROR(SUM(MATCH(A251,'UNITCOST ITEMS (Data Entry)'!$A$3:$A$504,0),2),\"\"))),\"\"))","v":""},{"$f":"IF(IFERROR(INDIRECT(CONCATENATE(\"'UNITCOST ITEMS (Data Entry)'!H\",IFERROR(SUM(MATCH(A251,'UNITCOST ITEMS (Data Entry)'!$A$3:$A$504,0),2),\"\"))),\"\")=0,\"\",IFERROR(INDIRECT(CONCATENATE(\"'UNITCOST ITEMS (Data Entry)'!H\",IFERROR(SUM(MATCH(A251,'UNITCOST ITEMS (Data Entry)'!$A$3:$A$504,0),2),\"\"))),\"\"))","v":""},{"$f":"IF(IFERROR(INDIRECT(CONCATENATE(\"'UNITCOST ITEMS (Data Entry)'!I\",IFERROR(SUM(MATCH(A251,'UNITCOST ITEMS (Data Entry)'!$A$3:$A$504,0),2),\"\"))),\"\")=0,\"\",IFERROR(INDIRECT(CONCATENATE(\"'UNITCOST ITEMS (Data Entry)'!I\",IFERROR(SUM(MATCH(A251,'UNITCOST ITEMS (Data Entry)'!$A$3:$A$504,0),2),\"\"))),\"\"))","v":""},{"$f":"IF(K251=2,\"\",IF(IFERROR(INDIRECT(CONCATENATE(\"'UNITCOST ITEMS (Data Entry)'!J\",IFERROR(SUM(MATCH(A251,'UNITCOST ITEMS (Data Entry)'!$A$3:$A$504,0),2),\"\"))),\"\")=0,\"\",IFERROR(INDIRECT(CONCATENATE(\"'UNITCOST ITEMS (Data Entry)'!J\",IFERROR(SUM(MATCH(A251,'UNITCOST ITEMS (Data Entry)'!$A$3:$A$504,0),2),\"\"))),\"\")))","v":""},null,{"$f":"IF(IFERROR(INDIRECT(CONCATENATE(\"'UNITCOST ITEMS (Data Entry)'!C\",IFERROR(SUM(MATCH(A251,'UNITCOST ITEMS (Data Entry)'!$A$3:$A$504,0),2),\"\"))),\"\")=0,\"\",IFERROR(INDIRECT(CONCATENATE(\"'UNITCOST ITEMS (Data Entry)'!C\",IFERROR(SUM(MATCH(A251,'UNITCOST ITEMS (Data Entry)'!$A$3:$A$504,0),2),\"\"))),\"\"))","v":""},""]
[244,{"$f":"IF(IFERROR(INDIRECT(CONCATENATE(\"'UNITCOST ITEMS (Data Entry)'!D\",IFERROR(SUM(MATCH(A252,'UNITCOST ITEMS (Data Entry)'!$A$3:$A$504,0),2),\"\"))),\"\")=0,\"\",IFERROR(INDIRECT(CONCATENATE(\"'UNITCOST ITEMS (Data Entry)'!D\",IFERROR(SUM(MATCH(A252,'UNITCOST ITEMS (Data Entry)'!$A$3:$A$504,0),2),\"\"))),\"\"))","v":""},{"$f":"IF(IFERROR(INDIRECT(CONCATENATE(\"'UNITCOST ITEMS (Data Entry)'!E\",IFERROR(SUM(MATCH(A252,'UNITCOST ITEMS (Data Entry)'!$A$3:$A$504,0),2),\"\"))),\"\")=0,\"\",IFERROR(INDIRECT(CONCATENATE(\"'UNITCOST ITEMS (Data Entry)'!E\",IFERROR(SUM(MATCH(A252,'UNITCOST ITEMS (Data Entry)'!$A$3:$A$504,0),2),\"\"))),\"\"))","v":""},null,{"$f":"IF(IFERROR(INDIRECT(CONCATENATE(\"'UNITCOST ITEMS (Data Entry)'!F\",IFERROR(SUM(MATCH(A252,'UNITCOST ITEMS (Data Entry)'!$A$3:$A$504,0),2),\"\"))),\"\")=0,\"\",IFERROR(INDIRECT(CONCATENATE(\"'UNITCOST ITEMS (Data Entry)'!F\",IFERROR(SUM(MATCH(A252,'UNITCOST ITEMS (Data Entry)'!$A$3:$A$504,0),2),\"\"))),\"\"))","v":""},{"$f":"IF(IFERROR(INDIRECT(CONCATENATE(\"'UNITCOST ITEMS (Data Entry)'!G\",IFERROR(SUM(MATCH(A252,'UNITCOST ITEMS (Data Entry)'!$A$3:$A$504,0),2),\"\"))),\"\")=0,\"\",IFERROR(INDIRECT(CONCATENATE(\"'UNITCOST ITEMS (Data Entry)'!G\",IFERROR(SUM(MATCH(A252,'UNITCOST ITEMS (Data Entry)'!$A$3:$A$504,0),2),\"\"))),\"\"))","v":""},{"$f":"IF(IFERROR(INDIRECT(CONCATENATE(\"'UNITCOST ITEMS (Data Entry)'!H\",IFERROR(SUM(MATCH(A252,'UNITCOST ITEMS (Data Entry)'!$A$3:$A$504,0),2),\"\"))),\"\")=0,\"\",IFERROR(INDIRECT(CONCATENATE(\"'UNITCOST ITEMS (Data Entry)'!H\",IFERROR(SUM(MATCH(A252,'UNITCOST ITEMS (Data Entry)'!$A$3:$A$504,0),2),\"\"))),\"\"))","v":""},{"$f":"IF(IFERROR(INDIRECT(CONCATENATE(\"'UNITCOST ITEMS (Data Entry)'!I\",IFERROR(SUM(MATCH(A252,'UNITCOST ITEMS (Data Entry)'!$A$3:$A$504,0),2),\"\"))),\"\")=0,\"\",IFERROR(INDIRECT(CONCATENATE(\"'UNITCOST ITEMS (Data Entry)'!I\",IFERROR(SUM(MATCH(A252,'UNITCOST ITEMS (Data Entry)'!$A$3:$A$504,0),2),\"\"))),\"\"))","v":""},{"$f":"IF(K252=2,\"\",IF(IFERROR(INDIRECT(CONCATENATE(\"'UNITCOST ITEMS (Data Entry)'!J\",IFERROR(SUM(MATCH(A252,'UNITCOST ITEMS (Data Entry)'!$A$3:$A$504,0),2),\"\"))),\"\")=0,\"\",IFERROR(INDIRECT(CONCATENATE(\"'UNITCOST ITEMS (Data Entry)'!J\",IFERROR(SUM(MATCH(A252,'UNITCOST ITEMS (Data Entry)'!$A$3:$A$504,0),2),\"\"))),\"\")))","v":""},null,{"$f":"IF(IFERROR(INDIRECT(CONCATENATE(\"'UNITCOST ITEMS (Data Entry)'!C\",IFERROR(SUM(MATCH(A252,'UNITCOST ITEMS (Data Entry)'!$A$3:$A$504,0),2),\"\"))),\"\")=0,\"\",IFERROR(INDIRECT(CONCATENATE(\"'UNITCOST ITEMS (Data Entry)'!C\",IFERROR(SUM(MATCH(A252,'UNITCOST ITEMS (Data Entry)'!$A$3:$A$504,0),2),\"\"))),\"\"))","v":""},""]
[245,{"$f":"IF(IFERROR(INDIRECT(CONCATENATE(\"'UNITCOST ITEMS (Data Entry)'!D\",IFERROR(SUM(MATCH(A253,'UNITCOST ITEMS (Data Entry)'!$A$3:$A$504,0),2),\"\"))),\"\")=0,\"\",IFERROR(INDIRECT(CONCATENATE(\"'UNITCOST ITEMS (Data Entry)'!D\",IFERROR(SUM(MATCH(A253,'UNITCOST ITEMS (Data Entry)'!$A$3:$A$504,0),2),\"\"))),\"\"))","v":""},{"$f":"IF(IFERROR(INDIRECT(CONCATENATE(\"'UNITCOST ITEMS (Data Entry)'!E\",IFERROR(SUM(MATCH(A253,'UNITCOST ITEMS (Data Entry)'!$A$3:$A$504,0),2),\"\"))),\"\")=0,\"\",IFERROR(INDIRECT(CONCATENATE(\"'UNITCOST ITEMS (Data Entry)'!E\",IFERROR(SUM(MATCH(A253,'UNITCOST ITEMS (Data Entry)'!$A$3:$A$504,0),2),\"\"))),\"\"))","v":""},null,{"$f":"IF(IFERROR(INDIRECT(CONCATENATE(\"'UNITCOST ITEMS (Data Entry)'!F\",IFERROR(SUM(MATCH(A253,'UNITCOST ITEMS (Data Entry)'!$A$3:$A$504,0),2),\"\"))),\"\")=0,\"\",IFERROR(INDIRECT(CONCATENATE(\"'UNITCOST ITEMS (Data Entry)'!F\",IFERROR(SUM(MATCH(A253,'UNITCOST ITEMS (Data Entry)'!$A$3:$A$504,0),2),\"\"))),\"\"))","v":""},{"$f":"IF(IFERROR(INDIRECT(CONCATENATE(\"'UNITCOST ITEMS (Data Entry)'!G\",IFERROR(SUM(MATCH(A253,'UNITCOST ITEMS (Data Entry)'!$A$3:$A$504,0),2),\"\"))),\"\")=0,\"\",IFERROR(INDIRECT(CONCATENATE(\"'UNITCOST ITEMS (Data Entry)'!G\",IFERROR(SUM(MATCH(A253,'UNITCOST ITEMS (Data Entry)'!$A$3:$A$504,0),2),\"\"))),\"\"))","v":""},{"$f":"IF(IFERROR(INDIRECT(CONCATENATE(\"'UNITCOST ITEMS (Data Entry)'!H\",IFERROR(SUM(MATCH(A253,'UNITCOST ITEMS (Data Entry)'!$A$3:$A$504,0),2),\"\"))),\"\")=0,\"\",IFERROR(INDIRECT(CONCATENATE(\"'UNITCOST ITEMS (Data Entry)'!H\",IFERROR(SUM(MATCH(A253,'UNITCOST ITEMS (Data Entry)'!$A$3:$A$504,0),2),\"\"))),\"\"))","v":""},{"$f":"IF(IFERROR(INDIRECT(CONCATENATE(\"'UNITCOST ITEMS (Data Entry)'!I\",IFERROR(SUM(MATCH(A253,'UNITCOST ITEMS (Data Entry)'!$A$3:$A$504,0),2),\"\"))),\"\")=0,\"\",IFERROR(INDIRECT(CONCATENATE(\"'UNITCOST ITEMS (Data Entry)'!I\",IFERROR(SUM(MATCH(A253,'UNITCOST ITEMS (Data Entry)'!$A$3:$A$504,0),2),\"\"))),\"\"))","v":""},{"$f":"IF(K253=2,\"\",IF(IFERROR(INDIRECT(CONCATENATE(\"'UNITCOST ITEMS (Data Entry)'!J\",IFERROR(SUM(MATCH(A253,'UNITCOST ITEMS (Data Entry)'!$A$3:$A$504,0),2),\"\"))),\"\")=0,\"\",IFERROR(INDIRECT(CONCATENATE(\"'UNITCOST ITEMS (Data Entry)'!J\",IFERROR(SUM(MATCH(A253,'UNITCOST ITEMS (Data Entry)'!$A$3:$A$504,0),2),\"\"))),\"\")))","v":""},null,{"$f":"IF(IFERROR(INDIRECT(CONCATENATE(\"'UNITCOST ITEMS (Data Entry)'!C\",IFERROR(SUM(MATCH(A253,'UNITCOST ITEMS (Data Entry)'!$A$3:$A$504,0),2),\"\"))),\"\")=0,\"\",IFERROR(INDIRECT(CONCATENATE(\"'UNITCOST ITEMS (Data Entry)'!C\",IFERROR(SUM(MATCH(A253,'UNITCOST ITEMS (Data Entry)'!$A$3:$A$504,0),2),\"\"))),\"\"))","v":""},""]
[246,{"$f":"IF(IFERROR(INDIRECT(CONCATENATE(\"'UNITCOST ITEMS (Data Entry)'!D\",IFERROR(SUM(MATCH(A254,'UNITCOST ITEMS (Data Entry)'!$A$3:$A$504,0),2),\"\"))),\"\")=0,\"\",IFERROR(INDIRECT(CONCATENATE(\"'UNITCOST ITEMS (Data Entry)'!D\",IFERROR(SUM(MATCH(A254,'UNITCOST ITEMS (Data Entry)'!$A$3:$A$504,0),2),\"\"))),\"\"))","v":""},{"$f":"IF(IFERROR(INDIRECT(CONCATENATE(\"'UNITCOST ITEMS (Data Entry)'!E\",IFERROR(SUM(MATCH(A254,'UNITCOST ITEMS (Data Entry)'!$A$3:$A$504,0),2),\"\"))),\"\")=0,\"\",IFERROR(INDIRECT(CONCATENATE(\"'UNITCOST ITEMS (Data Entry)'!E\",IFERROR(SUM(MATCH(A254,'UNITCOST ITEMS (Data Entry)'!$A$3:$A$504,0),2),\"\"))),\"\"))","v":""},null,{"$f":"IF(IFERROR(INDIRECT(CONCATENATE(\"'UNITCOST ITEMS (Data Entry)'!F\",IFERROR(SUM(MATCH(A254,'UNITCOST ITEMS (Data Entry)'!$A$3:$A$504,0),2),\"\"))),\"\")=0,\"\",IFERROR(INDIRECT(CONCATENATE(\"'UNITCOST ITEMS (Data Entry)'!F\",IFERROR(SUM(MATCH(A254,'UNITCOST ITEMS (Data Entry)'!$A$3:$A$504,0),2),\"\"))),\"\"))","v":""},{"$f":"IF(IFERROR(INDIRECT(CONCATENATE(\"'UNITCOST ITEMS (Data Entry)'!G\",IFERROR(SUM(MATCH(A254,'UNITCOST ITEMS (Data Entry)'!$A$3:$A$504,0),2),\"\"))),\"\")=0,\"\",IFERROR(INDIRECT(CONCATENATE(\"'UNITCOST ITEMS (Data Entry)'!G\",IFERROR(SUM(MATCH(A254,'UNITCOST ITEMS (Data Entry)'!$A$3:$A$504,0),2),\"\"))),\"\"))","v":""},{"$f":"IF(IFERROR(INDIRECT(CONCATENATE(\"'UNITCOST ITEMS (Data Entry)'!H\",IFERROR(SUM(MATCH(A254,'UNITCOST ITEMS (Data Entry)'!$A$3:$A$504,0),2),\"\"))),\"\")=0,\"\",IFERROR(INDIRECT(CONCATENATE(\"'UNITCOST ITEMS (Data Entry)'!H\",IFERROR(SUM(MATCH(A254,'UNITCOST ITEMS (Data Entry)'!$A$3:$A$504,0),2),\"\"))),\"\"))","v":""},{"$f":"IF(IFERROR(INDIRECT(CONCATENATE(\"'UNITCOST ITEMS (Data Entry)'!I\",IFERROR(SUM(MATCH(A254,'UNITCOST ITEMS (Data Entry)'!$A$3:$A$504,0),2),\"\"))),\"\")=0,\"\",IFERROR(INDIRECT(CONCATENATE(\"'UNITCOST ITEMS (Data Entry)'!I\",IFERROR(SUM(MATCH(A254,'UNITCOST ITEMS (Data Entry)'!$A$3:$A$504,0),2),\"\"))),\"\"))","v":""},{"$f":"IF(K254=2,\"\",IF(IFERROR(INDIRECT(CONCATENATE(\"'UNITCOST ITEMS (Data Entry)'!J\",IFERROR(SUM(MATCH(A254,'UNITCOST ITEMS (Data Entry)'!$A$3:$A$504,0),2),\"\"))),\"\")=0,\"\",IFERROR(INDIRECT(CONCATENATE(\"'UNITCOST ITEMS (Data Entry)'!J\",IFERROR(SUM(MATCH(A254,'UNITCOST ITEMS (Data Entry)'!$A$3:$A$504,0),2),\"\"))),\"\")))","v":""},null,{"$f":"IF(IFERROR(INDIRECT(CONCATENATE(\"'UNITCOST ITEMS (Data Entry)'!C\",IFERROR(SUM(MATCH(A254,'UNITCOST ITEMS (Data Entry)'!$A$3:$A$504,0),2),\"\"))),\"\")=0,\"\",IFERROR(INDIRECT(CONCATENATE(\"'UNITCOST ITEMS (Data Entry)'!C\",IFERROR(SUM(MATCH(A254,'UNITCOST ITEMS (Data Entry)'!$A$3:$A$504,0),2),\"\"))),\"\"))","v":""},""]
[247,{"$f":"IF(IFERROR(INDIRECT(CONCATENATE(\"'UNITCOST ITEMS (Data Entry)'!D\",IFERROR(SUM(MATCH(A255,'UNITCOST ITEMS (Data Entry)'!$A$3:$A$504,0),2),\"\"))),\"\")=0,\"\",IFERROR(INDIRECT(CONCATENATE(\"'UNITCOST ITEMS (Data Entry)'!D\",IFERROR(SUM(MATCH(A255,'UNITCOST ITEMS (Data Entry)'!$A$3:$A$504,0),2),\"\"))),\"\"))","v":""},{"$f":"IF(IFERROR(INDIRECT(CONCATENATE(\"'UNITCOST ITEMS (Data Entry)'!E\",IFERROR(SUM(MATCH(A255,'UNITCOST ITEMS (Data Entry)'!$A$3:$A$504,0),2),\"\"))),\"\")=0,\"\",IFERROR(INDIRECT(CONCATENATE(\"'UNITCOST ITEMS (Data Entry)'!E\",IFERROR(SUM(MATCH(A255,'UNITCOST ITEMS (Data Entry)'!$A$3:$A$504,0),2),\"\"))),\"\"))","v":""},null,{"$f":"IF(IFERROR(INDIRECT(CONCATENATE(\"'UNITCOST ITEMS (Data Entry)'!F\",IFERROR(SUM(MATCH(A255,'UNITCOST ITEMS (Data Entry)'!$A$3:$A$504,0),2),\"\"))),\"\")=0,\"\",IFERROR(INDIRECT(CONCATENATE(\"'UNITCOST ITEMS (Data Entry)'!F\",IFERROR(SUM(MATCH(A255,'UNITCOST ITEMS (Data Entry)'!$A$3:$A$504,0),2),\"\"))),\"\"))","v":""},{"$f":"IF(IFERROR(INDIRECT(CONCATENATE(\"'UNITCOST ITEMS (Data Entry)'!G\",IFERROR(SUM(MATCH(A255,'UNITCOST ITEMS (Data Entry)'!$A$3:$A$504,0),2),\"\"))),\"\")=0,\"\",IFERROR(INDIRECT(CONCATENATE(\"'UNITCOST ITEMS (Data Entry)'!G\",IFERROR(SUM(MATCH(A255,'UNITCOST ITEMS (Data Entry)'!$A$3:$A$504,0),2),\"\"))),\"\"))","v":""},{"$f":"IF(IFERROR(INDIRECT(CONCATENATE(\"'UNITCOST ITEMS (Data Entry)'!H\",IFERROR(SUM(MATCH(A255,'UNITCOST ITEMS (Data Entry)'!$A$3:$A$504,0),2),\"\"))),\"\")=0,\"\",IFERROR(INDIRECT(CONCATENATE(\"'UNITCOST ITEMS (Data Entry)'!H\",IFERROR(SUM(MATCH(A255,'UNITCOST ITEMS (Data Entry)'!$A$3:$A$504,0),2),\"\"))),\"\"))","v":""},{"$f":"IF(IFERROR(INDIRECT(CONCATENATE(\"'UNITCOST ITEMS (Data Entry)'!I\",IFERROR(SUM(MATCH(A255,'UNITCOST ITEMS (Data Entry)'!$A$3:$A$504,0),2),\"\"))),\"\")=0,\"\",IFERROR(INDIRECT(CONCATENATE(\"'UNITCOST ITEMS (Data Entry)'!I\",IFERROR(SUM(MATCH(A255,'UNITCOST ITEMS (Data Entry)'!$A$3:$A$504,0),2),\"\"))),\"\"))","v":""},{"$f":"IF(K255=2,\"\",IF(IFERROR(INDIRECT(CONCATENATE(\"'UNITCOST ITEMS (Data Entry)'!J\",IFERROR(SUM(MATCH(A255,'UNITCOST ITEMS (Data Entry)'!$A$3:$A$504,0),2),\"\"))),\"\")=0,\"\",IFERROR(INDIRECT(CONCATENATE(\"'UNITCOST ITEMS (Data Entry)'!J\",IFERROR(SUM(MATCH(A255,'UNITCOST ITEMS (Data Entry)'!$A$3:$A$504,0),2),\"\"))),\"\")))","v":""},null,{"$f":"IF(IFERROR(INDIRECT(CONCATENATE(\"'UNITCOST ITEMS (Data Entry)'!C\",IFERROR(SUM(MATCH(A255,'UNITCOST ITEMS (Data Entry)'!$A$3:$A$504,0),2),\"\"))),\"\")=0,\"\",IFERROR(INDIRECT(CONCATENATE(\"'UNITCOST ITEMS (Data Entry)'!C\",IFERROR(SUM(MATCH(A255,'UNITCOST ITEMS (Data Entry)'!$A$3:$A$504,0),2),\"\"))),\"\"))","v":""},""]
[248,{"$f":"IF(IFERROR(INDIRECT(CONCATENATE(\"'UNITCOST ITEMS (Data Entry)'!D\",IFERROR(SUM(MATCH(A256,'UNITCOST ITEMS (Data Entry)'!$A$3:$A$504,0),2),\"\"))),\"\")=0,\"\",IFERROR(INDIRECT(CONCATENATE(\"'UNITCOST ITEMS (Data Entry)'!D\",IFERROR(SUM(MATCH(A256,'UNITCOST ITEMS (Data Entry)'!$A$3:$A$504,0),2),\"\"))),\"\"))","v":""},{"$f":"IF(IFERROR(INDIRECT(CONCATENATE(\"'UNITCOST ITEMS (Data Entry)'!E\",IFERROR(SUM(MATCH(A256,'UNITCOST ITEMS (Data Entry)'!$A$3:$A$504,0),2),\"\"))),\"\")=0,\"\",IFERROR(INDIRECT(CONCATENATE(\"'UNITCOST ITEMS (Data Entry)'!E\",IFERROR(SUM(MATCH(A256,'UNITCOST ITEMS (Data Entry)'!$A$3:$A$504,0),2),\"\"))),\"\"))","v":""},null,{"$f":"IF(IFERROR(INDIRECT(CONCATENATE(\"'UNITCOST ITEMS (Data Entry)'!F\",IFERROR(SUM(MATCH(A256,'UNITCOST ITEMS (Data Entry)'!$A$3:$A$504,0),2),\"\"))),\"\")=0,\"\",IFERROR(INDIRECT(CONCATENATE(\"'UNITCOST ITEMS (Data Entry)'!F\",IFERROR(SUM(MATCH(A256,'UNITCOST ITEMS (Data Entry)'!$A$3:$A$504,0),2),\"\"))),\"\"))","v":""},{"$f":"IF(IFERROR(INDIRECT(CONCATENATE(\"'UNITCOST ITEMS (Data Entry)'!G\",IFERROR(SUM(MATCH(A256,'UNITCOST ITEMS (Data Entry)'!$A$3:$A$504,0),2),\"\"))),\"\")=0,\"\",IFERROR(INDIRECT(CONCATENATE(\"'UNITCOST ITEMS (Data Entry)'!G\",IFERROR(SUM(MATCH(A256,'UNITCOST ITEMS (Data Entry)'!$A$3:$A$504,0),2),\"\"))),\"\"))","v":""},{"$f":"IF(IFERROR(INDIRECT(CONCATENATE(\"'UNITCOST ITEMS (Data Entry)'!H\",IFERROR(SUM(MATCH(A256,'UNITCOST ITEMS (Data Entry)'!$A$3:$A$504,0),2),\"\"))),\"\")=0,\"\",IFERROR(INDIRECT(CONCATENATE(\"'UNITCOST ITEMS (Data Entry)'!H\",IFERROR(SUM(MATCH(A256,'UNITCOST ITEMS (Data Entry)'!$A$3:$A$504,0),2),\"\"))),\"\"))","v":""},{"$f":"IF(IFERROR(INDIRECT(CONCATENATE(\"'UNITCOST ITEMS (Data Entry)'!I\",IFERROR(SUM(MATCH(A256,'UNITCOST ITEMS (Data Entry)'!$A$3:$A$504,0),2),\"\"))),\"\")=0,\"\",IFERROR(INDIRECT(CONCATENATE(\"'UNITCOST ITEMS (Data Entry)'!I\",IFERROR(SUM(MATCH(A256,'UNITCOST ITEMS (Data Entry)'!$A$3:$A$504,0),2),\"\"))),\"\"))","v":""},{"$f":"IF(K256=2,\"\",IF(IFERROR(INDIRECT(CONCATENATE(\"'UNITCOST ITEMS (Data Entry)'!J\",IFERROR(SUM(MATCH(A256,'UNITCOST ITEMS (Data Entry)'!$A$3:$A$504,0),2),\"\"))),\"\")=0,\"\",IFERROR(INDIRECT(CONCATENATE(\"'UNITCOST ITEMS (Data Entry)'!J\",IFERROR(SUM(MATCH(A256,'UNITCOST ITEMS (Data Entry)'!$A$3:$A$504,0),2),\"\"))),\"\")))","v":""},null,{"$f":"IF(IFERROR(INDIRECT(CONCATENATE(\"'UNITCOST ITEMS (Data Entry)'!C\",IFERROR(SUM(MATCH(A256,'UNITCOST ITEMS (Data Entry)'!$A$3:$A$504,0),2),\"\"))),\"\")=0,\"\",IFERROR(INDIRECT(CONCATENATE(\"'UNITCOST ITEMS (Data Entry)'!C\",IFERROR(SUM(MATCH(A256,'UNITCOST ITEMS (Data Entry)'!$A$3:$A$504,0),2),\"\"))),\"\"))","v":""},""]
[249,{"$f":"IF(IFERROR(INDIRECT(CONCATENATE(\"'UNITCOST ITEMS (Data Entry)'!D\",IFERROR(SUM(MATCH(A257,'UNITCOST ITEMS (Data Entry)'!$A$3:$A$504,0),2),\"\"))),\"\")=0,\"\",IFERROR(INDIRECT(CONCATENATE(\"'UNITCOST ITEMS (Data Entry)'!D\",IFERROR(SUM(MATCH(A257,'UNITCOST ITEMS (Data Entry)'!$A$3:$A$504,0),2),\"\"))),\"\"))","v":""},{"$f":"IF(IFERROR(INDIRECT(CONCATENATE(\"'UNITCOST ITEMS (Data Entry)'!E\",IFERROR(SUM(MATCH(A257,'UNITCOST ITEMS (Data Entry)'!$A$3:$A$504,0),2),\"\"))),\"\")=0,\"\",IFERROR(INDIRECT(CONCATENATE(\"'UNITCOST ITEMS (Data Entry)'!E\",IFERROR(SUM(MATCH(A257,'UNITCOST ITEMS (Data Entry)'!$A$3:$A$504,0),2),\"\"))),\"\"))","v":""},null,{"$f":"IF(IFERROR(INDIRECT(CONCATENATE(\"'UNITCOST ITEMS (Data Entry)'!F\",IFERROR(SUM(MATCH(A257,'UNITCOST ITEMS (Data Entry)'!$A$3:$A$504,0),2),\"\"))),\"\")=0,\"\",IFERROR(INDIRECT(CONCATENATE(\"'UNITCOST ITEMS (Data Entry)'!F\",IFERROR(SUM(MATCH(A257,'UNITCOST ITEMS (Data Entry)'!$A$3:$A$504,0),2),\"\"))),\"\"))","v":""},{"$f":"IF(IFERROR(INDIRECT(CONCATENATE(\"'UNITCOST ITEMS (Data Entry)'!G\",IFERROR(SUM(MATCH(A257,'UNITCOST ITEMS (Data Entry)'!$A$3:$A$504,0),2),\"\"))),\"\")=0,\"\",IFERROR(INDIRECT(CONCATENATE(\"'UNITCOST ITEMS (Data Entry)'!G\",IFERROR(SUM(MATCH(A257,'UNITCOST ITEMS (Data Entry)'!$A$3:$A$504,0),2),\"\"))),\"\"))","v":""},{"$f":"IF(IFERROR(INDIRECT(CONCATENATE(\"'UNITCOST ITEMS (Data Entry)'!H\",IFERROR(SUM(MATCH(A257,'UNITCOST ITEMS (Data Entry)'!$A$3:$A$504,0),2),\"\"))),\"\")=0,\"\",IFERROR(INDIRECT(CONCATENATE(\"'UNITCOST ITEMS (Data Entry)'!H\",IFERROR(SUM(MATCH(A257,'UNITCOST ITEMS (Data Entry)'!$A$3:$A$504,0),2),\"\"))),\"\"))","v":""},{"$f":"IF(IFERROR(INDIRECT(CONCATENATE(\"'UNITCOST ITEMS (Data Entry)'!I\",IFERROR(SUM(MATCH(A257,'UNITCOST ITEMS (Data Entry)'!$A$3:$A$504,0),2),\"\"))),\"\")=0,\"\",IFERROR(INDIRECT(CONCATENATE(\"'UNITCOST ITEMS (Data Entry)'!I\",IFERROR(SUM(MATCH(A257,'UNITCOST ITEMS (Data Entry)'!$A$3:$A$504,0),2),\"\"))),\"\"))","v":""},{"$f":"IF(K257=2,\"\",IF(IFERROR(INDIRECT(CONCATENATE(\"'UNITCOST ITEMS (Data Entry)'!J\",IFERROR(SUM(MATCH(A257,'UNITCOST ITEMS (Data Entry)'!$A$3:$A$504,0),2),\"\"))),\"\")=0,\"\",IFERROR(INDIRECT(CONCATENATE(\"'UNITCOST ITEMS (Data Entry)'!J\",IFERROR(SUM(MATCH(A257,'UNITCOST ITEMS (Data Entry)'!$A$3:$A$504,0),2),\"\"))),\"\")))","v":""},null,{"$f":"IF(IFERROR(INDIRECT(CONCATENATE(\"'UNITCOST ITEMS (Data Entry)'!C\",IFERROR(SUM(MATCH(A257,'UNITCOST ITEMS (Data Entry)'!$A$3:$A$504,0),2),\"\"))),\"\")=0,\"\",IFERROR(INDIRECT(CONCATENATE(\"'UNITCOST ITEMS (Data Entry)'!C\",IFERROR(SUM(MATCH(A257,'UNITCOST ITEMS (Data Entry)'!$A$3:$A$504,0),2),\"\"))),\"\"))","v":""},""]
[250,{"$f":"IF(IFERROR(INDIRECT(CONCATENATE(\"'UNITCOST ITEMS (Data Entry)'!D\",IFERROR(SUM(MATCH(A258,'UNITCOST ITEMS (Data Entry)'!$A$3:$A$504,0),2),\"\"))),\"\")=0,\"\",IFERROR(INDIRECT(CONCATENATE(\"'UNITCOST ITEMS (Data Entry)'!D\",IFERROR(SUM(MATCH(A258,'UNITCOST ITEMS (Data Entry)'!$A$3:$A$504,0),2),\"\"))),\"\"))","v":""},{"$f":"IF(IFERROR(INDIRECT(CONCATENATE(\"'UNITCOST ITEMS (Data Entry)'!E\",IFERROR(SUM(MATCH(A258,'UNITCOST ITEMS (Data Entry)'!$A$3:$A$504,0),2),\"\"))),\"\")=0,\"\",IFERROR(INDIRECT(CONCATENATE(\"'UNITCOST ITEMS (Data Entry)'!E\",IFERROR(SUM(MATCH(A258,'UNITCOST ITEMS (Data Entry)'!$A$3:$A$504,0),2),\"\"))),\"\"))","v":""},null,{"$f":"IF(IFERROR(INDIRECT(CONCATENATE(\"'UNITCOST ITEMS (Data Entry)'!F\",IFERROR(SUM(MATCH(A258,'UNITCOST ITEMS (Data Entry)'!$A$3:$A$504,0),2),\"\"))),\"\")=0,\"\",IFERROR(INDIRECT(CONCATENATE(\"'UNITCOST ITEMS (Data Entry)'!F\",IFERROR(SUM(MATCH(A258,'UNITCOST ITEMS (Data Entry)'!$A$3:$A$504,0),2),\"\"))),\"\"))","v":""},{"$f":"IF(IFERROR(INDIRECT(CONCATENATE(\"'UNITCOST ITEMS (Data Entry)'!G\",IFERROR(SUM(MATCH(A258,'UNITCOST ITEMS (Data Entry)'!$A$3:$A$504,0),2),\"\"))),\"\")=0,\"\",IFERROR(INDIRECT(CONCATENATE(\"'UNITCOST ITEMS (Data Entry)'!G\",IFERROR(SUM(MATCH(A258,'UNITCOST ITEMS (Data Entry)'!$A$3:$A$504,0),2),\"\"))),\"\"))","v":""},{"$f":"IF(IFERROR(INDIRECT(CONCATENATE(\"'UNITCOST ITEMS (Data Entry)'!H\",IFERROR(SUM(MATCH(A258,'UNITCOST ITEMS (Data Entry)'!$A$3:$A$504,0),2),\"\"))),\"\")=0,\"\",IFERROR(INDIRECT(CONCATENATE(\"'UNITCOST ITEMS (Data Entry)'!H\",IFERROR(SUM(MATCH(A258,'UNITCOST ITEMS (Data Entry)'!$A$3:$A$504,0),2),\"\"))),\"\"))","v":""},{"$f":"IF(IFERROR(INDIRECT(CONCATENATE(\"'UNITCOST ITEMS (Data Entry)'!I\",IFERROR(SUM(MATCH(A258,'UNITCOST ITEMS (Data Entry)'!$A$3:$A$504,0),2),\"\"))),\"\")=0,\"\",IFERROR(INDIRECT(CONCATENATE(\"'UNITCOST ITEMS (Data Entry)'!I\",IFERROR(SUM(MATCH(A258,'UNITCOST ITEMS (Data Entry)'!$A$3:$A$504,0),2),\"\"))),\"\"))","v":""},{"$f":"IF(K258=2,\"\",IF(IFERROR(INDIRECT(CONCATENATE(\"'UNITCOST ITEMS (Data Entry)'!J\",IFERROR(SUM(MATCH(A258,'UNITCOST ITEMS (Data Entry)'!$A$3:$A$504,0),2),\"\"))),\"\")=0,\"\",IFERROR(INDIRECT(CONCATENATE(\"'UNITCOST ITEMS (Data Entry)'!J\",IFERROR(SUM(MATCH(A258,'UNITCOST ITEMS (Data Entry)'!$A$3:$A$504,0),2),\"\"))),\"\")))","v":""},null,{"$f":"IF(IFERROR(INDIRECT(CONCATENATE(\"'UNITCOST ITEMS (Data Entry)'!C\",IFERROR(SUM(MATCH(A258,'UNITCOST ITEMS (Data Entry)'!$A$3:$A$504,0),2),\"\"))),\"\")=0,\"\",IFERROR(INDIRECT(CONCATENATE(\"'UNITCOST ITEMS (Data Entry)'!C\",IFERROR(SUM(MATCH(A258,'UNITCOST ITEMS (Data Entry)'!$A$3:$A$504,0),2),\"\"))),\"\"))","v":""},""]
[251,{"$f":"IF(IFERROR(INDIRECT(CONCATENATE(\"'UNITCOST ITEMS (Data Entry)'!D\",IFERROR(SUM(MATCH(A259,'UNITCOST ITEMS (Data Entry)'!$A$3:$A$504,0),2),\"\"))),\"\")=0,\"\",IFERROR(INDIRECT(CONCATENATE(\"'UNITCOST ITEMS (Data Entry)'!D\",IFERROR(SUM(MATCH(A259,'UNITCOST ITEMS (Data Entry)'!$A$3:$A$504,0),2),\"\"))),\"\"))","v":""},{"$f":"IF(IFERROR(INDIRECT(CONCATENATE(\"'UNITCOST ITEMS (Data Entry)'!E\",IFERROR(SUM(MATCH(A259,'UNITCOST ITEMS (Data Entry)'!$A$3:$A$504,0),2),\"\"))),\"\")=0,\"\",IFERROR(INDIRECT(CONCATENATE(\"'UNITCOST ITEMS (Data Entry)'!E\",IFERROR(SUM(MATCH(A259,'UNITCOST ITEMS (Data Entry)'!$A$3:$A$504,0),2),\"\"))),\"\"))","v":""},null,{"$f":"IF(IFERROR(INDIRECT(CONCATENATE(\"'UNITCOST ITEMS (Data Entry)'!F\",IFERROR(SUM(MATCH(A259,'UNITCOST ITEMS (Data Entry)'!$A$3:$A$504,0),2),\"\"))),\"\")=0,\"\",IFERROR(INDIRECT(CONCATENATE(\"'UNITCOST ITEMS (Data Entry)'!F\",IFERROR(SUM(MATCH(A259,'UNITCOST ITEMS (Data Entry)'!$A$3:$A$504,0),2),\"\"))),\"\"))","v":""},{"$f":"IF(IFERROR(INDIRECT(CONCATENATE(\"'UNITCOST ITEMS (Data Entry)'!G\",IFERROR(SUM(MATCH(A259,'UNITCOST ITEMS (Data Entry)'!$A$3:$A$504,0),2),\"\"))),\"\")=0,\"\",IFERROR(INDIRECT(CONCATENATE(\"'UNITCOST ITEMS (Data Entry)'!G\",IFERROR(SUM(MATCH(A259,'UNITCOST ITEMS (Data Entry)'!$A$3:$A$504,0),2),\"\"))),\"\"))","v":""},{"$f":"IF(IFERROR(INDIRECT(CONCATENATE(\"'UNITCOST ITEMS (Data Entry)'!H\",IFERROR(SUM(MATCH(A259,'UNITCOST ITEMS (Data Entry)'!$A$3:$A$504,0),2),\"\"))),\"\")=0,\"\",IFERROR(INDIRECT(CONCATENATE(\"'UNITCOST ITEMS (Data Entry)'!H\",IFERROR(SUM(MATCH(A259,'UNITCOST ITEMS (Data Entry)'!$A$3:$A$504,0),2),\"\"))),\"\"))","v":""},{"$f":"IF(IFERROR(INDIRECT(CONCATENATE(\"'UNITCOST ITEMS (Data Entry)'!I\",IFERROR(SUM(MATCH(A259,'UNITCOST ITEMS (Data Entry)'!$A$3:$A$504,0),2),\"\"))),\"\")=0,\"\",IFERROR(INDIRECT(CONCATENATE(\"'UNITCOST ITEMS (Data Entry)'!I\",IFERROR(SUM(MATCH(A259,'UNITCOST ITEMS (Data Entry)'!$A$3:$A$504,0),2),\"\"))),\"\"))","v":""},{"$f":"IF(K259=2,\"\",IF(IFERROR(INDIRECT(CONCATENATE(\"'UNITCOST ITEMS (Data Entry)'!J\",IFERROR(SUM(MATCH(A259,'UNITCOST ITEMS (Data Entry)'!$A$3:$A$504,0),2),\"\"))),\"\")=0,\"\",IFERROR(INDIRECT(CONCATENATE(\"'UNITCOST ITEMS (Data Entry)'!J\",IFERROR(SUM(MATCH(A259,'UNITCOST ITEMS (Data Entry)'!$A$3:$A$504,0),2),\"\"))),\"\")))","v":""},null,{"$f":"IF(IFERROR(INDIRECT(CONCATENATE(\"'UNITCOST ITEMS (Data Entry)'!C\",IFERROR(SUM(MATCH(A259,'UNITCOST ITEMS (Data Entry)'!$A$3:$A$504,0),2),\"\"))),\"\")=0,\"\",IFERROR(INDIRECT(CONCATENATE(\"'UNITCOST ITEMS (Data Entry)'!C\",IFERROR(SUM(MATCH(A259,'UNITCOST ITEMS (Data Entry)'!$A$3:$A$504,0),2),\"\"))),\"\"))","v":""},""]
[252,{"$f":"IF(IFERROR(INDIRECT(CONCATENATE(\"'UNITCOST ITEMS (Data Entry)'!D\",IFERROR(SUM(MATCH(A260,'UNITCOST ITEMS (Data Entry)'!$A$3:$A$504,0),2),\"\"))),\"\")=0,\"\",IFERROR(INDIRECT(CONCATENATE(\"'UNITCOST ITEMS (Data Entry)'!D\",IFERROR(SUM(MATCH(A260,'UNITCOST ITEMS (Data Entry)'!$A$3:$A$504,0),2),\"\"))),\"\"))","v":""},{"$f":"IF(IFERROR(INDIRECT(CONCATENATE(\"'UNITCOST ITEMS (Data Entry)'!E\",IFERROR(SUM(MATCH(A260,'UNITCOST ITEMS (Data Entry)'!$A$3:$A$504,0),2),\"\"))),\"\")=0,\"\",IFERROR(INDIRECT(CONCATENATE(\"'UNITCOST ITEMS (Data Entry)'!E\",IFERROR(SUM(MATCH(A260,'UNITCOST ITEMS (Data Entry)'!$A$3:$A$504,0),2),\"\"))),\"\"))","v":""},null,{"$f":"IF(IFERROR(INDIRECT(CONCATENATE(\"'UNITCOST ITEMS (Data Entry)'!F\",IFERROR(SUM(MATCH(A260,'UNITCOST ITEMS (Data Entry)'!$A$3:$A$504,0),2),\"\"))),\"\")=0,\"\",IFERROR(INDIRECT(CONCATENATE(\"'UNITCOST ITEMS (Data Entry)'!F\",IFERROR(SUM(MATCH(A260,'UNITCOST ITEMS (Data Entry)'!$A$3:$A$504,0),2),\"\"))),\"\"))","v":""},{"$f":"IF(IFERROR(INDIRECT(CONCATENATE(\"'UNITCOST ITEMS (Data Entry)'!G\",IFERROR(SUM(MATCH(A260,'UNITCOST ITEMS (Data Entry)'!$A$3:$A$504,0),2),\"\"))),\"\")=0,\"\",IFERROR(INDIRECT(CONCATENATE(\"'UNITCOST ITEMS (Data Entry)'!G\",IFERROR(SUM(MATCH(A260,'UNITCOST ITEMS (Data Entry)'!$A$3:$A$504,0),2),\"\"))),\"\"))","v":""},{"$f":"IF(IFERROR(INDIRECT(CONCATENATE(\"'UNITCOST ITEMS (Data Entry)'!H\",IFERROR(SUM(MATCH(A260,'UNITCOST ITEMS (Data Entry)'!$A$3:$A$504,0),2),\"\"))),\"\")=0,\"\",IFERROR(INDIRECT(CONCATENATE(\"'UNITCOST ITEMS (Data Entry)'!H\",IFERROR(SUM(MATCH(A260,'UNITCOST ITEMS (Data Entry)'!$A$3:$A$504,0),2),\"\"))),\"\"))","v":""},{"$f":"IF(IFERROR(INDIRECT(CONCATENATE(\"'UNITCOST ITEMS (Data Entry)'!I\",IFERROR(SUM(MATCH(A260,'UNITCOST ITEMS (Data Entry)'!$A$3:$A$504,0),2),\"\"))),\"\")=0,\"\",IFERROR(INDIRECT(CONCATENATE(\"'UNITCOST ITEMS (Data Entry)'!I\",IFERROR(SUM(MATCH(A260,'UNITCOST ITEMS (Data Entry)'!$A$3:$A$504,0),2),\"\"))),\"\"))","v":""},{"$f":"IF(K260=2,\"\",IF(IFERROR(INDIRECT(CONCATENATE(\"'UNITCOST ITEMS (Data Entry)'!J\",IFERROR(SUM(MATCH(A260,'UNITCOST ITEMS (Data Entry)'!$A$3:$A$504,0),2),\"\"))),\"\")=0,\"\",IFERROR(INDIRECT(CONCATENATE(\"'UNITCOST ITEMS (Data Entry)'!J\",IFERROR(SUM(MATCH(A260,'UNITCOST ITEMS (Data Entry)'!$A$3:$A$504,0),2),\"\"))),\"\")))","v":""},null,{"$f":"IF(IFERROR(INDIRECT(CONCATENATE(\"'UNITCOST ITEMS (Data Entry)'!C\",IFERROR(SUM(MATCH(A260,'UNITCOST ITEMS (Data Entry)'!$A$3:$A$504,0),2),\"\"))),\"\")=0,\"\",IFERROR(INDIRECT(CONCATENATE(\"'UNITCOST ITEMS (Data Entry)'!C\",IFERROR(SUM(MATCH(A260,'UNITCOST ITEMS (Data Entry)'!$A$3:$A$504,0),2),\"\"))),\"\"))","v":""},""]
[253,{"$f":"IF(IFERROR(INDIRECT(CONCATENATE(\"'UNITCOST ITEMS (Data Entry)'!D\",IFERROR(SUM(MATCH(A261,'UNITCOST ITEMS (Data Entry)'!$A$3:$A$504,0),2),\"\"))),\"\")=0,\"\",IFERROR(INDIRECT(CONCATENATE(\"'UNITCOST ITEMS (Data Entry)'!D\",IFERROR(SUM(MATCH(A261,'UNITCOST ITEMS (Data Entry)'!$A$3:$A$504,0),2),\"\"))),\"\"))","v":""},{"$f":"IF(IFERROR(INDIRECT(CONCATENATE(\"'UNITCOST ITEMS (Data Entry)'!E\",IFERROR(SUM(MATCH(A261,'UNITCOST ITEMS (Data Entry)'!$A$3:$A$504,0),2),\"\"))),\"\")=0,\"\",IFERROR(INDIRECT(CONCATENATE(\"'UNITCOST ITEMS (Data Entry)'!E\",IFERROR(SUM(MATCH(A261,'UNITCOST ITEMS (Data Entry)'!$A$3:$A$504,0),2),\"\"))),\"\"))","v":""},null,{"$f":"IF(IFERROR(INDIRECT(CONCATENATE(\"'UNITCOST ITEMS (Data Entry)'!F\",IFERROR(SUM(MATCH(A261,'UNITCOST ITEMS (Data Entry)'!$A$3:$A$504,0),2),\"\"))),\"\")=0,\"\",IFERROR(INDIRECT(CONCATENATE(\"'UNITCOST ITEMS (Data Entry)'!F\",IFERROR(SUM(MATCH(A261,'UNITCOST ITEMS (Data Entry)'!$A$3:$A$504,0),2),\"\"))),\"\"))","v":""},{"$f":"IF(IFERROR(INDIRECT(CONCATENATE(\"'UNITCOST ITEMS (Data Entry)'!G\",IFERROR(SUM(MATCH(A261,'UNITCOST ITEMS (Data Entry)'!$A$3:$A$504,0),2),\"\"))),\"\")=0,\"\",IFERROR(INDIRECT(CONCATENATE(\"'UNITCOST ITEMS (Data Entry)'!G\",IFERROR(SUM(MATCH(A261,'UNITCOST ITEMS (Data Entry)'!$A$3:$A$504,0),2),\"\"))),\"\"))","v":""},{"$f":"IF(IFERROR(INDIRECT(CONCATENATE(\"'UNITCOST ITEMS (Data Entry)'!H\",IFERROR(SUM(MATCH(A261,'UNITCOST ITEMS (Data Entry)'!$A$3:$A$504,0),2),\"\"))),\"\")=0,\"\",IFERROR(INDIRECT(CONCATENATE(\"'UNITCOST ITEMS (Data Entry)'!H\",IFERROR(SUM(MATCH(A261,'UNITCOST ITEMS (Data Entry)'!$A$3:$A$504,0),2),\"\"))),\"\"))","v":""},{"$f":"IF(IFERROR(INDIRECT(CONCATENATE(\"'UNITCOST ITEMS (Data Entry)'!I\",IFERROR(SUM(MATCH(A261,'UNITCOST ITEMS (Data Entry)'!$A$3:$A$504,0),2),\"\"))),\"\")=0,\"\",IFERROR(INDIRECT(CONCATENATE(\"'UNITCOST ITEMS (Data Entry)'!I\",IFERROR(SUM(MATCH(A261,'UNITCOST ITEMS (Data Entry)'!$A$3:$A$504,0),2),\"\"))),\"\"))","v":""},{"$f":"IF(K261=2,\"\",IF(IFERROR(INDIRECT(CONCATENATE(\"'UNITCOST ITEMS (Data Entry)'!J\",IFERROR(SUM(MATCH(A261,'UNITCOST ITEMS (Data Entry)'!$A$3:$A$504,0),2),\"\"))),\"\")=0,\"\",IFERROR(INDIRECT(CONCATENATE(\"'UNITCOST ITEMS (Data Entry)'!J\",IFERROR(SUM(MATCH(A261,'UNITCOST ITEMS (Data Entry)'!$A$3:$A$504,0),2),\"\"))),\"\")))","v":""},null,{"$f":"IF(IFERROR(INDIRECT(CONCATENATE(\"'UNITCOST ITEMS (Data Entry)'!C\",IFERROR(SUM(MATCH(A261,'UNITCOST ITEMS (Data Entry)'!$A$3:$A$504,0),2),\"\"))),\"\")=0,\"\",IFERROR(INDIRECT(CONCATENATE(\"'UNITCOST ITEMS (Data Entry)'!C\",IFERROR(SUM(MATCH(A261,'UNITCOST ITEMS (Data Entry)'!$A$3:$A$504,0),2),\"\"))),\"\"))","v":""},""]
[254,{"$f":"IF(IFERROR(INDIRECT(CONCATENATE(\"'UNITCOST ITEMS (Data Entry)'!D\",IFERROR(SUM(MATCH(A262,'UNITCOST ITEMS (Data Entry)'!$A$3:$A$504,0),2),\"\"))),\"\")=0,\"\",IFERROR(INDIRECT(CONCATENATE(\"'UNITCOST ITEMS (Data Entry)'!D\",IFERROR(SUM(MATCH(A262,'UNITCOST ITEMS (Data Entry)'!$A$3:$A$504,0),2),\"\"))),\"\"))","v":""},{"$f":"IF(IFERROR(INDIRECT(CONCATENATE(\"'UNITCOST ITEMS (Data Entry)'!E\",IFERROR(SUM(MATCH(A262,'UNITCOST ITEMS (Data Entry)'!$A$3:$A$504,0),2),\"\"))),\"\")=0,\"\",IFERROR(INDIRECT(CONCATENATE(\"'UNITCOST ITEMS (Data Entry)'!E\",IFERROR(SUM(MATCH(A262,'UNITCOST ITEMS (Data Entry)'!$A$3:$A$504,0),2),\"\"))),\"\"))","v":""},null,{"$f":"IF(IFERROR(INDIRECT(CONCATENATE(\"'UNITCOST ITEMS (Data Entry)'!F\",IFERROR(SUM(MATCH(A262,'UNITCOST ITEMS (Data Entry)'!$A$3:$A$504,0),2),\"\"))),\"\")=0,\"\",IFERROR(INDIRECT(CONCATENATE(\"'UNITCOST ITEMS (Data Entry)'!F\",IFERROR(SUM(MATCH(A262,'UNITCOST ITEMS (Data Entry)'!$A$3:$A$504,0),2),\"\"))),\"\"))","v":""},{"$f":"IF(IFERROR(INDIRECT(CONCATENATE(\"'UNITCOST ITEMS (Data Entry)'!G\",IFERROR(SUM(MATCH(A262,'UNITCOST ITEMS (Data Entry)'!$A$3:$A$504,0),2),\"\"))),\"\")=0,\"\",IFERROR(INDIRECT(CONCATENATE(\"'UNITCOST ITEMS (Data Entry)'!G\",IFERROR(SUM(MATCH(A262,'UNITCOST ITEMS (Data Entry)'!$A$3:$A$504,0),2),\"\"))),\"\"))","v":""},{"$f":"IF(IFERROR(INDIRECT(CONCATENATE(\"'UNITCOST ITEMS (Data Entry)'!H\",IFERROR(SUM(MATCH(A262,'UNITCOST ITEMS (Data Entry)'!$A$3:$A$504,0),2),\"\"))),\"\")=0,\"\",IFERROR(INDIRECT(CONCATENATE(\"'UNITCOST ITEMS (Data Entry)'!H\",IFERROR(SUM(MATCH(A262,'UNITCOST ITEMS (Data Entry)'!$A$3:$A$504,0),2),\"\"))),\"\"))","v":""},{"$f":"IF(IFERROR(INDIRECT(CONCATENATE(\"'UNITCOST ITEMS (Data Entry)'!I\",IFERROR(SUM(MATCH(A262,'UNITCOST ITEMS (Data Entry)'!$A$3:$A$504,0),2),\"\"))),\"\")=0,\"\",IFERROR(INDIRECT(CONCATENATE(\"'UNITCOST ITEMS (Data Entry)'!I\",IFERROR(SUM(MATCH(A262,'UNITCOST ITEMS (Data Entry)'!$A$3:$A$504,0),2),\"\"))),\"\"))","v":""},{"$f":"IF(K262=2,\"\",IF(IFERROR(INDIRECT(CONCATENATE(\"'UNITCOST ITEMS (Data Entry)'!J\",IFERROR(SUM(MATCH(A262,'UNITCOST ITEMS (Data Entry)'!$A$3:$A$504,0),2),\"\"))),\"\")=0,\"\",IFERROR(INDIRECT(CONCATENATE(\"'UNITCOST ITEMS (Data Entry)'!J\",IFERROR(SUM(MATCH(A262,'UNITCOST ITEMS (Data Entry)'!$A$3:$A$504,0),2),\"\"))),\"\")))","v":""},null,{"$f":"IF(IFERROR(INDIRECT(CONCATENATE(\"'UNITCOST ITEMS (Data Entry)'!C\",IFERROR(SUM(MATCH(A262,'UNITCOST ITEMS (Data Entry)'!$A$3:$A$504,0),2),\"\"))),\"\")=0,\"\",IFERROR(INDIRECT(CONCATENATE(\"'UNITCOST ITEMS (Data Entry)'!C\",IFERROR(SUM(MATCH(A262,'UNITCOST ITEMS (Data Entry)'!$A$3:$A$504,0),2),\"\"))),\"\"))","v":""},""]
[255,{"$f":"IF(IFERROR(INDIRECT(CONCATENATE(\"'UNITCOST ITEMS (Data Entry)'!D\",IFERROR(SUM(MATCH(A263,'UNITCOST ITEMS (Data Entry)'!$A$3:$A$504,0),2),\"\"))),\"\")=0,\"\",IFERROR(INDIRECT(CONCATENATE(\"'UNITCOST ITEMS (Data Entry)'!D\",IFERROR(SUM(MATCH(A263,'UNITCOST ITEMS (Data Entry)'!$A$3:$A$504,0),2),\"\"))),\"\"))","v":""},{"$f":"IF(IFERROR(INDIRECT(CONCATENATE(\"'UNITCOST ITEMS (Data Entry)'!E\",IFERROR(SUM(MATCH(A263,'UNITCOST ITEMS (Data Entry)'!$A$3:$A$504,0),2),\"\"))),\"\")=0,\"\",IFERROR(INDIRECT(CONCATENATE(\"'UNITCOST ITEMS (Data Entry)'!E\",IFERROR(SUM(MATCH(A263,'UNITCOST ITEMS (Data Entry)'!$A$3:$A$504,0),2),\"\"))),\"\"))","v":""},null,{"$f":"IF(IFERROR(INDIRECT(CONCATENATE(\"'UNITCOST ITEMS (Data Entry)'!F\",IFERROR(SUM(MATCH(A263,'UNITCOST ITEMS (Data Entry)'!$A$3:$A$504,0),2),\"\"))),\"\")=0,\"\",IFERROR(INDIRECT(CONCATENATE(\"'UNITCOST ITEMS (Data Entry)'!F\",IFERROR(SUM(MATCH(A263,'UNITCOST ITEMS (Data Entry)'!$A$3:$A$504,0),2),\"\"))),\"\"))","v":""},{"$f":"IF(IFERROR(INDIRECT(CONCATENATE(\"'UNITCOST ITEMS (Data Entry)'!G\",IFERROR(SUM(MATCH(A263,'UNITCOST ITEMS (Data Entry)'!$A$3:$A$504,0),2),\"\"))),\"\")=0,\"\",IFERROR(INDIRECT(CONCATENATE(\"'UNITCOST ITEMS (Data Entry)'!G\",IFERROR(SUM(MATCH(A263,'UNITCOST ITEMS (Data Entry)'!$A$3:$A$504,0),2),\"\"))),\"\"))","v":""},{"$f":"IF(IFERROR(INDIRECT(CONCATENATE(\"'UNITCOST ITEMS (Data Entry)'!H\",IFERROR(SUM(MATCH(A263,'UNITCOST ITEMS (Data Entry)'!$A$3:$A$504,0),2),\"\"))),\"\")=0,\"\",IFERROR(INDIRECT(CONCATENATE(\"'UNITCOST ITEMS (Data Entry)'!H\",IFERROR(SUM(MATCH(A263,'UNITCOST ITEMS (Data Entry)'!$A$3:$A$504,0),2),\"\"))),\"\"))","v":""},{"$f":"IF(IFERROR(INDIRECT(CONCATENATE(\"'UNITCOST ITEMS (Data Entry)'!I\",IFERROR(SUM(MATCH(A263,'UNITCOST ITEMS (Data Entry)'!$A$3:$A$504,0),2),\"\"))),\"\")=0,\"\",IFERROR(INDIRECT(CONCATENATE(\"'UNITCOST ITEMS (Data Entry)'!I\",IFERROR(SUM(MATCH(A263,'UNITCOST ITEMS (Data Entry)'!$A$3:$A$504,0),2),\"\"))),\"\"))","v":""},{"$f":"IF(K263=2,\"\",IF(IFERROR(INDIRECT(CONCATENATE(\"'UNITCOST ITEMS (Data Entry)'!J\",IFERROR(SUM(MATCH(A263,'UNITCOST ITEMS (Data Entry)'!$A$3:$A$504,0),2),\"\"))),\"\")=0,\"\",IFERROR(INDIRECT(CONCATENATE(\"'UNITCOST ITEMS (Data Entry)'!J\",IFERROR(SUM(MATCH(A263,'UNITCOST ITEMS (Data Entry)'!$A$3:$A$504,0),2),\"\"))),\"\")))","v":""},null,{"$f":"IF(IFERROR(INDIRECT(CONCATENATE(\"'UNITCOST ITEMS (Data Entry)'!C\",IFERROR(SUM(MATCH(A263,'UNITCOST ITEMS (Data Entry)'!$A$3:$A$504,0),2),\"\"))),\"\")=0,\"\",IFERROR(INDIRECT(CONCATENATE(\"'UNITCOST ITEMS (Data Entry)'!C\",IFERROR(SUM(MATCH(A263,'UNITCOST ITEMS (Data Entry)'!$A$3:$A$504,0),2),\"\"))),\"\"))","v":""},""]
[256,{"$f":"IF(IFERROR(INDIRECT(CONCATENATE(\"'UNITCOST ITEMS (Data Entry)'!D\",IFERROR(SUM(MATCH(A264,'UNITCOST ITEMS (Data Entry)'!$A$3:$A$504,0),2),\"\"))),\"\")=0,\"\",IFERROR(INDIRECT(CONCATENATE(\"'UNITCOST ITEMS (Data Entry)'!D\",IFERROR(SUM(MATCH(A264,'UNITCOST ITEMS (Data Entry)'!$A$3:$A$504,0),2),\"\"))),\"\"))","v":""},{"$f":"IF(IFERROR(INDIRECT(CONCATENATE(\"'UNITCOST ITEMS (Data Entry)'!E\",IFERROR(SUM(MATCH(A264,'UNITCOST ITEMS (Data Entry)'!$A$3:$A$504,0),2),\"\"))),\"\")=0,\"\",IFERROR(INDIRECT(CONCATENATE(\"'UNITCOST ITEMS (Data Entry)'!E\",IFERROR(SUM(MATCH(A264,'UNITCOST ITEMS (Data Entry)'!$A$3:$A$504,0),2),\"\"))),\"\"))","v":""},null,{"$f":"IF(IFERROR(INDIRECT(CONCATENATE(\"'UNITCOST ITEMS (Data Entry)'!F\",IFERROR(SUM(MATCH(A264,'UNITCOST ITEMS (Data Entry)'!$A$3:$A$504,0),2),\"\"))),\"\")=0,\"\",IFERROR(INDIRECT(CONCATENATE(\"'UNITCOST ITEMS (Data Entry)'!F\",IFERROR(SUM(MATCH(A264,'UNITCOST ITEMS (Data Entry)'!$A$3:$A$504,0),2),\"\"))),\"\"))","v":""},{"$f":"IF(IFERROR(INDIRECT(CONCATENATE(\"'UNITCOST ITEMS (Data Entry)'!G\",IFERROR(SUM(MATCH(A264,'UNITCOST ITEMS (Data Entry)'!$A$3:$A$504,0),2),\"\"))),\"\")=0,\"\",IFERROR(INDIRECT(CONCATENATE(\"'UNITCOST ITEMS (Data Entry)'!G\",IFERROR(SUM(MATCH(A264,'UNITCOST ITEMS (Data Entry)'!$A$3:$A$504,0),2),\"\"))),\"\"))","v":""},{"$f":"IF(IFERROR(INDIRECT(CONCATENATE(\"'UNITCOST ITEMS (Data Entry)'!H\",IFERROR(SUM(MATCH(A264,'UNITCOST ITEMS (Data Entry)'!$A$3:$A$504,0),2),\"\"))),\"\")=0,\"\",IFERROR(INDIRECT(CONCATENATE(\"'UNITCOST ITEMS (Data Entry)'!H\",IFERROR(SUM(MATCH(A264,'UNITCOST ITEMS (Data Entry)'!$A$3:$A$504,0),2),\"\"))),\"\"))","v":""},{"$f":"IF(IFERROR(INDIRECT(CONCATENATE(\"'UNITCOST ITEMS (Data Entry)'!I\",IFERROR(SUM(MATCH(A264,'UNITCOST ITEMS (Data Entry)'!$A$3:$A$504,0),2),\"\"))),\"\")=0,\"\",IFERROR(INDIRECT(CONCATENATE(\"'UNITCOST ITEMS (Data Entry)'!I\",IFERROR(SUM(MATCH(A264,'UNITCOST ITEMS (Data Entry)'!$A$3:$A$504,0),2),\"\"))),\"\"))","v":""},{"$f":"IF(K264=2,\"\",IF(IFERROR(INDIRECT(CONCATENATE(\"'UNITCOST ITEMS (Data Entry)'!J\",IFERROR(SUM(MATCH(A264,'UNITCOST ITEMS (Data Entry)'!$A$3:$A$504,0),2),\"\"))),\"\")=0,\"\",IFERROR(INDIRECT(CONCATENATE(\"'UNITCOST ITEMS (Data Entry)'!J\",IFERROR(SUM(MATCH(A264,'UNITCOST ITEMS (Data Entry)'!$A$3:$A$504,0),2),\"\"))),\"\")))","v":""},null,{"$f":"IF(IFERROR(INDIRECT(CONCATENATE(\"'UNITCOST ITEMS (Data Entry)'!C\",IFERROR(SUM(MATCH(A264,'UNITCOST ITEMS (Data Entry)'!$A$3:$A$504,0),2),\"\"))),\"\")=0,\"\",IFERROR(INDIRECT(CONCATENATE(\"'UNITCOST ITEMS (Data Entry)'!C\",IFERROR(SUM(MATCH(A264,'UNITCOST ITEMS (Data Entry)'!$A$3:$A$504,0),2),\"\"))),\"\"))","v":""},""]
[257,{"$f":"IF(IFERROR(INDIRECT(CONCATENATE(\"'UNITCOST ITEMS (Data Entry)'!D\",IFERROR(SUM(MATCH(A265,'UNITCOST ITEMS (Data Entry)'!$A$3:$A$504,0),2),\"\"))),\"\")=0,\"\",IFERROR(INDIRECT(CONCATENATE(\"'UNITCOST ITEMS (Data Entry)'!D\",IFERROR(SUM(MATCH(A265,'UNITCOST ITEMS (Data Entry)'!$A$3:$A$504,0),2),\"\"))),\"\"))","v":""},{"$f":"IF(IFERROR(INDIRECT(CONCATENATE(\"'UNITCOST ITEMS (Data Entry)'!E\",IFERROR(SUM(MATCH(A265,'UNITCOST ITEMS (Data Entry)'!$A$3:$A$504,0),2),\"\"))),\"\")=0,\"\",IFERROR(INDIRECT(CONCATENATE(\"'UNITCOST ITEMS (Data Entry)'!E\",IFERROR(SUM(MATCH(A265,'UNITCOST ITEMS (Data Entry)'!$A$3:$A$504,0),2),\"\"))),\"\"))","v":""},null,{"$f":"IF(IFERROR(INDIRECT(CONCATENATE(\"'UNITCOST ITEMS (Data Entry)'!F\",IFERROR(SUM(MATCH(A265,'UNITCOST ITEMS (Data Entry)'!$A$3:$A$504,0),2),\"\"))),\"\")=0,\"\",IFERROR(INDIRECT(CONCATENATE(\"'UNITCOST ITEMS (Data Entry)'!F\",IFERROR(SUM(MATCH(A265,'UNITCOST ITEMS (Data Entry)'!$A$3:$A$504,0),2),\"\"))),\"\"))","v":""},{"$f":"IF(IFERROR(INDIRECT(CONCATENATE(\"'UNITCOST ITEMS (Data Entry)'!G\",IFERROR(SUM(MATCH(A265,'UNITCOST ITEMS (Data Entry)'!$A$3:$A$504,0),2),\"\"))),\"\")=0,\"\",IFERROR(INDIRECT(CONCATENATE(\"'UNITCOST ITEMS (Data Entry)'!G\",IFERROR(SUM(MATCH(A265,'UNITCOST ITEMS (Data Entry)'!$A$3:$A$504,0),2),\"\"))),\"\"))","v":""},{"$f":"IF(IFERROR(INDIRECT(CONCATENATE(\"'UNITCOST ITEMS (Data Entry)'!H\",IFERROR(SUM(MATCH(A265,'UNITCOST ITEMS (Data Entry)'!$A$3:$A$504,0),2),\"\"))),\"\")=0,\"\",IFERROR(INDIRECT(CONCATENATE(\"'UNITCOST ITEMS (Data Entry)'!H\",IFERROR(SUM(MATCH(A265,'UNITCOST ITEMS (Data Entry)'!$A$3:$A$504,0),2),\"\"))),\"\"))","v":""},{"$f":"IF(IFERROR(INDIRECT(CONCATENATE(\"'UNITCOST ITEMS (Data Entry)'!I\",IFERROR(SUM(MATCH(A265,'UNITCOST ITEMS (Data Entry)'!$A$3:$A$504,0),2),\"\"))),\"\")=0,\"\",IFERROR(INDIRECT(CONCATENATE(\"'UNITCOST ITEMS (Data Entry)'!I\",IFERROR(SUM(MATCH(A265,'UNITCOST ITEMS (Data Entry)'!$A$3:$A$504,0),2),\"\"))),\"\"))","v":""},{"$f":"IF(K265=2,\"\",IF(IFERROR(INDIRECT(CONCATENATE(\"'UNITCOST ITEMS (Data Entry)'!J\",IFERROR(SUM(MATCH(A265,'UNITCOST ITEMS (Data Entry)'!$A$3:$A$504,0),2),\"\"))),\"\")=0,\"\",IFERROR(INDIRECT(CONCATENATE(\"'UNITCOST ITEMS (Data Entry)'!J\",IFERROR(SUM(MATCH(A265,'UNITCOST ITEMS (Data Entry)'!$A$3:$A$504,0),2),\"\"))),\"\")))","v":""},null,{"$f":"IF(IFERROR(INDIRECT(CONCATENATE(\"'UNITCOST ITEMS (Data Entry)'!C\",IFERROR(SUM(MATCH(A265,'UNITCOST ITEMS (Data Entry)'!$A$3:$A$504,0),2),\"\"))),\"\")=0,\"\",IFERROR(INDIRECT(CONCATENATE(\"'UNITCOST ITEMS (Data Entry)'!C\",IFERROR(SUM(MATCH(A265,'UNITCOST ITEMS (Data Entry)'!$A$3:$A$504,0),2),\"\"))),\"\"))","v":""},""]
[258,{"$f":"IF(IFERROR(INDIRECT(CONCATENATE(\"'UNITCOST ITEMS (Data Entry)'!D\",IFERROR(SUM(MATCH(A266,'UNITCOST ITEMS (Data Entry)'!$A$3:$A$504,0),2),\"\"))),\"\")=0,\"\",IFERROR(INDIRECT(CONCATENATE(\"'UNITCOST ITEMS (Data Entry)'!D\",IFERROR(SUM(MATCH(A266,'UNITCOST ITEMS (Data Entry)'!$A$3:$A$504,0),2),\"\"))),\"\"))","v":""},{"$f":"IF(IFERROR(INDIRECT(CONCATENATE(\"'UNITCOST ITEMS (Data Entry)'!E\",IFERROR(SUM(MATCH(A266,'UNITCOST ITEMS (Data Entry)'!$A$3:$A$504,0),2),\"\"))),\"\")=0,\"\",IFERROR(INDIRECT(CONCATENATE(\"'UNITCOST ITEMS (Data Entry)'!E\",IFERROR(SUM(MATCH(A266,'UNITCOST ITEMS (Data Entry)'!$A$3:$A$504,0),2),\"\"))),\"\"))","v":""},null,{"$f":"IF(IFERROR(INDIRECT(CONCATENATE(\"'UNITCOST ITEMS (Data Entry)'!F\",IFERROR(SUM(MATCH(A266,'UNITCOST ITEMS (Data Entry)'!$A$3:$A$504,0),2),\"\"))),\"\")=0,\"\",IFERROR(INDIRECT(CONCATENATE(\"'UNITCOST ITEMS (Data Entry)'!F\",IFERROR(SUM(MATCH(A266,'UNITCOST ITEMS (Data Entry)'!$A$3:$A$504,0),2),\"\"))),\"\"))","v":""},{"$f":"IF(IFERROR(INDIRECT(CONCATENATE(\"'UNITCOST ITEMS (Data Entry)'!G\",IFERROR(SUM(MATCH(A266,'UNITCOST ITEMS (Data Entry)'!$A$3:$A$504,0),2),\"\"))),\"\")=0,\"\",IFERROR(INDIRECT(CONCATENATE(\"'UNITCOST ITEMS (Data Entry)'!G\",IFERROR(SUM(MATCH(A266,'UNITCOST ITEMS (Data Entry)'!$A$3:$A$504,0),2),\"\"))),\"\"))","v":""},{"$f":"IF(IFERROR(INDIRECT(CONCATENATE(\"'UNITCOST ITEMS (Data Entry)'!H\",IFERROR(SUM(MATCH(A266,'UNITCOST ITEMS (Data Entry)'!$A$3:$A$504,0),2),\"\"))),\"\")=0,\"\",IFERROR(INDIRECT(CONCATENATE(\"'UNITCOST ITEMS (Data Entry)'!H\",IFERROR(SUM(MATCH(A266,'UNITCOST ITEMS (Data Entry)'!$A$3:$A$504,0),2),\"\"))),\"\"))","v":""},{"$f":"IF(IFERROR(INDIRECT(CONCATENATE(\"'UNITCOST ITEMS (Data Entry)'!I\",IFERROR(SUM(MATCH(A266,'UNITCOST ITEMS (Data Entry)'!$A$3:$A$504,0),2),\"\"))),\"\")=0,\"\",IFERROR(INDIRECT(CONCATENATE(\"'UNITCOST ITEMS (Data Entry)'!I\",IFERROR(SUM(MATCH(A266,'UNITCOST ITEMS (Data Entry)'!$A$3:$A$504,0),2),\"\"))),\"\"))","v":""},{"$f":"IF(K266=2,\"\",IF(IFERROR(INDIRECT(CONCATENATE(\"'UNITCOST ITEMS (Data Entry)'!J\",IFERROR(SUM(MATCH(A266,'UNITCOST ITEMS (Data Entry)'!$A$3:$A$504,0),2),\"\"))),\"\")=0,\"\",IFERROR(INDIRECT(CONCATENATE(\"'UNITCOST ITEMS (Data Entry)'!J\",IFERROR(SUM(MATCH(A266,'UNITCOST ITEMS (Data Entry)'!$A$3:$A$504,0),2),\"\"))),\"\")))","v":""},null,{"$f":"IF(IFERROR(INDIRECT(CONCATENATE(\"'UNITCOST ITEMS (Data Entry)'!C\",IFERROR(SUM(MATCH(A266,'UNITCOST ITEMS (Data Entry)'!$A$3:$A$504,0),2),\"\"))),\"\")=0,\"\",IFERROR(INDIRECT(CONCATENATE(\"'UNITCOST ITEMS (Data Entry)'!C\",IFERROR(SUM(MATCH(A266,'UNITCOST ITEMS (Data Entry)'!$A$3:$A$504,0),2),\"\"))),\"\"))","v":""},{"$f":"IF(K266<>\"\",ROW(),\"\")","v":""}]
[{"$f":"A266+1","v":259},{"$f":"IF(IFERROR(INDIRECT(CONCATENATE(\"'UNITCOST ITEMS (Data Entry)'!D\",IFERROR(SUM(MATCH(A267,'UNITCOST ITEMS (Data Entry)'!$A$3:$A$504,0),2),\"\"))),\"\")=0,\"\",IFERROR(INDIRECT(CONCATENATE(\"'UNITCOST ITEMS (Data Entry)'!D\",IFERROR(SUM(MATCH(A267,'UNITCOST ITEMS (Data Entry)'!$A$3:$A$504,0),2),\"\"))),\"\"))","v":""},{"$f":"IF(IFERROR(INDIRECT(CONCATENATE(\"'UNITCOST ITEMS (Data Entry)'!E\",IFERROR(SUM(MATCH(A267,'UNITCOST ITEMS (Data Entry)'!$A$3:$A$504,0),2),\"\"))),\"\")=0,\"\",IFERROR(INDIRECT(CONCATENATE(\"'UNITCOST ITEMS (Data Entry)'!E\",IFERROR(SUM(MATCH(A267,'UNITCOST ITEMS (Data Entry)'!$A$3:$A$504,0),2),\"\"))),\"\"))","v":""},null,{"$f":"IF(IFERROR(INDIRECT(CONCATENATE(\"'UNITCOST ITEMS (Data Entry)'!F\",IFERROR(SUM(MATCH(A267,'UNITCOST ITEMS (Data Entry)'!$A$3:$A$504,0),2),\"\"))),\"\")=0,\"\",IFERROR(INDIRECT(CONCATENATE(\"'UNITCOST ITEMS (Data Entry)'!F\",IFERROR(SUM(MATCH(A267,'UNITCOST ITEMS (Data Entry)'!$A$3:$A$504,0),2),\"\"))),\"\"))","v":""},{"$f":"IF(IFERROR(INDIRECT(CONCATENATE(\"'UNITCOST ITEMS (Data Entry)'!G\",IFERROR(SUM(MATCH(A267,'UNITCOST ITEMS (Data Entry)'!$A$3:$A$504,0),2),\"\"))),\"\")=0,\"\",IFERROR(INDIRECT(CONCATENATE(\"'UNITCOST ITEMS (Data Entry)'!G\",IFERROR(SUM(MATCH(A267,'UNITCOST ITEMS (Data Entry)'!$A$3:$A$504,0),2),\"\"))),\"\"))","v":""},{"$f":"IF(IFERROR(INDIRECT(CONCATENATE(\"'UNITCOST ITEMS (Data Entry)'!H\",IFERROR(SUM(MATCH(A267,'UNITCOST ITEMS (Data Entry)'!$A$3:$A$504,0),2),\"\"))),\"\")=0,\"\",IFERROR(INDIRECT(CONCATENATE(\"'UNITCOST ITEMS (Data Entry)'!H\",IFERROR(SUM(MATCH(A267,'UNITCOST ITEMS (Data Entry)'!$A$3:$A$504,0),2),\"\"))),\"\"))","v":""},{"$f":"IF(IFERROR(INDIRECT(CONCATENATE(\"'UNITCOST ITEMS (Data Entry)'!I\",IFERROR(SUM(MATCH(A267,'UNITCOST ITEMS (Data Entry)'!$A$3:$A$504,0),2),\"\"))),\"\")=0,\"\",IFERROR(INDIRECT(CONCATENATE(\"'UNITCOST ITEMS (Data Entry)'!I\",IFERROR(SUM(MATCH(A267,'UNITCOST ITEMS (Data Entry)'!$A$3:$A$504,0),2),\"\"))),\"\"))","v":""},{"$f":"IF(K267=2,\"\",IF(IFERROR(INDIRECT(CONCATENATE(\"'UNITCOST ITEMS (Data Entry)'!J\",IFERROR(SUM(MATCH(A267,'UNITCOST ITEMS (Data Entry)'!$A$3:$A$504,0),2),\"\"))),\"\")=0,\"\",IFERROR(INDIRECT(CONCATENATE(\"'UNITCOST ITEMS (Data Entry)'!J\",IFERROR(SUM(MATCH(A267,'UNITCOST ITEMS (Data Entry)'!$A$3:$A$504,0),2),\"\"))),\"\")))","v":""},null,{"$f":"IF(IFERROR(INDIRECT(CONCATENATE(\"'UNITCOST ITEMS (Data Entry)'!C\",IFERROR(SUM(MATCH(A267,'UNITCOST ITEMS (Data Entry)'!$A$3:$A$504,0),2),\"\"))),\"\")=0,\"\",IFERROR(INDIRECT(CONCATENATE(\"'UNITCOST ITEMS (Data Entry)'!C\",IFERROR(SUM(MATCH(A267,'UNITCOST ITEMS (Data Entry)'!$A$3:$A$504,0),2),\"\"))),\"\"))","v":""},""]
[260,{"$f":"IF(IFERROR(INDIRECT(CONCATENATE(\"'UNITCOST ITEMS (Data Entry)'!D\",IFERROR(SUM(MATCH(A268,'UNITCOST ITEMS (Data Entry)'!$A$3:$A$504,0),2),\"\"))),\"\")=0,\"\",IFERROR(INDIRECT(CONCATENATE(\"'UNITCOST ITEMS (Data Entry)'!D\",IFERROR(SUM(MATCH(A268,'UNITCOST ITEMS (Data Entry)'!$A$3:$A$504,0),2),\"\"))),\"\"))","v":""},{"$f":"IF(IFERROR(INDIRECT(CONCATENATE(\"'UNITCOST ITEMS (Data Entry)'!E\",IFERROR(SUM(MATCH(A268,'UNITCOST ITEMS (Data Entry)'!$A$3:$A$504,0),2),\"\"))),\"\")=0,\"\",IFERROR(INDIRECT(CONCATENATE(\"'UNITCOST ITEMS (Data Entry)'!E\",IFERROR(SUM(MATCH(A268,'UNITCOST ITEMS (Data Entry)'!$A$3:$A$504,0),2),\"\"))),\"\"))","v":""},null,{"$f":"IF(IFERROR(INDIRECT(CONCATENATE(\"'UNITCOST ITEMS (Data Entry)'!F\",IFERROR(SUM(MATCH(A268,'UNITCOST ITEMS (Data Entry)'!$A$3:$A$504,0),2),\"\"))),\"\")=0,\"\",IFERROR(INDIRECT(CONCATENATE(\"'UNITCOST ITEMS (Data Entry)'!F\",IFERROR(SUM(MATCH(A268,'UNITCOST ITEMS (Data Entry)'!$A$3:$A$504,0),2),\"\"))),\"\"))","v":""},{"$f":"IF(IFERROR(INDIRECT(CONCATENATE(\"'UNITCOST ITEMS (Data Entry)'!G\",IFERROR(SUM(MATCH(A268,'UNITCOST ITEMS (Data Entry)'!$A$3:$A$504,0),2),\"\"))),\"\")=0,\"\",IFERROR(INDIRECT(CONCATENATE(\"'UNITCOST ITEMS (Data Entry)'!G\",IFERROR(SUM(MATCH(A268,'UNITCOST ITEMS (Data Entry)'!$A$3:$A$504,0),2),\"\"))),\"\"))","v":""},{"$f":"IF(IFERROR(INDIRECT(CONCATENATE(\"'UNITCOST ITEMS (Data Entry)'!H\",IFERROR(SUM(MATCH(A268,'UNITCOST ITEMS (Data Entry)'!$A$3:$A$504,0),2),\"\"))),\"\")=0,\"\",IFERROR(INDIRECT(CONCATENATE(\"'UNITCOST ITEMS (Data Entry)'!H\",IFERROR(SUM(MATCH(A268,'UNITCOST ITEMS (Data Entry)'!$A$3:$A$504,0),2),\"\"))),\"\"))","v":""},{"$f":"IF(IFERROR(INDIRECT(CONCATENATE(\"'UNITCOST ITEMS (Data Entry)'!I\",IFERROR(SUM(MATCH(A268,'UNITCOST ITEMS (Data Entry)'!$A$3:$A$504,0),2),\"\"))),\"\")=0,\"\",IFERROR(INDIRECT(CONCATENATE(\"'UNITCOST ITEMS (Data Entry)'!I\",IFERROR(SUM(MATCH(A268,'UNITCOST ITEMS (Data Entry)'!$A$3:$A$504,0),2),\"\"))),\"\"))","v":""},{"$f":"IF(K268=2,\"\",IF(IFERROR(INDIRECT(CONCATENATE(\"'UNITCOST ITEMS (Data Entry)'!J\",IFERROR(SUM(MATCH(A268,'UNITCOST ITEMS (Data Entry)'!$A$3:$A$504,0),2),\"\"))),\"\")=0,\"\",IFERROR(INDIRECT(CONCATENATE(\"'UNITCOST ITEMS (Data Entry)'!J\",IFERROR(SUM(MATCH(A268,'UNITCOST ITEMS (Data Entry)'!$A$3:$A$504,0),2),\"\"))),\"\")))","v":""},null,{"$f":"IF(IFERROR(INDIRECT(CONCATENATE(\"'UNITCOST ITEMS (Data Entry)'!C\",IFERROR(SUM(MATCH(A268,'UNITCOST ITEMS (Data Entry)'!$A$3:$A$504,0),2),\"\"))),\"\")=0,\"\",IFERROR(INDIRECT(CONCATENATE(\"'UNITCOST ITEMS (Data Entry)'!C\",IFERROR(SUM(MATCH(A268,'UNITCOST ITEMS (Data Entry)'!$A$3:$A$504,0),2),\"\"))),\"\"))","v":""},""]
[261,{"$f":"IF(IFERROR(INDIRECT(CONCATENATE(\"'UNITCOST ITEMS (Data Entry)'!D\",IFERROR(SUM(MATCH(A269,'UNITCOST ITEMS (Data Entry)'!$A$3:$A$504,0),2),\"\"))),\"\")=0,\"\",IFERROR(INDIRECT(CONCATENATE(\"'UNITCOST ITEMS (Data Entry)'!D\",IFERROR(SUM(MATCH(A269,'UNITCOST ITEMS (Data Entry)'!$A$3:$A$504,0),2),\"\"))),\"\"))","v":""},{"$f":"IF(IFERROR(INDIRECT(CONCATENATE(\"'UNITCOST ITEMS (Data Entry)'!E\",IFERROR(SUM(MATCH(A269,'UNITCOST ITEMS (Data Entry)'!$A$3:$A$504,0),2),\"\"))),\"\")=0,\"\",IFERROR(INDIRECT(CONCATENATE(\"'UNITCOST ITEMS (Data Entry)'!E\",IFERROR(SUM(MATCH(A269,'UNITCOST ITEMS (Data Entry)'!$A$3:$A$504,0),2),\"\"))),\"\"))","v":""},null,{"$f":"IF(IFERROR(INDIRECT(CONCATENATE(\"'UNITCOST ITEMS (Data Entry)'!F\",IFERROR(SUM(MATCH(A269,'UNITCOST ITEMS (Data Entry)'!$A$3:$A$504,0),2),\"\"))),\"\")=0,\"\",IFERROR(INDIRECT(CONCATENATE(\"'UNITCOST ITEMS (Data Entry)'!F\",IFERROR(SUM(MATCH(A269,'UNITCOST ITEMS (Data Entry)'!$A$3:$A$504,0),2),\"\"))),\"\"))","v":""},{"$f":"IF(IFERROR(INDIRECT(CONCATENATE(\"'UNITCOST ITEMS (Data Entry)'!G\",IFERROR(SUM(MATCH(A269,'UNITCOST ITEMS (Data Entry)'!$A$3:$A$504,0),2),\"\"))),\"\")=0,\"\",IFERROR(INDIRECT(CONCATENATE(\"'UNITCOST ITEMS (Data Entry)'!G\",IFERROR(SUM(MATCH(A269,'UNITCOST ITEMS (Data Entry)'!$A$3:$A$504,0),2),\"\"))),\"\"))","v":""},{"$f":"IF(IFERROR(INDIRECT(CONCATENATE(\"'UNITCOST ITEMS (Data Entry)'!H\",IFERROR(SUM(MATCH(A269,'UNITCOST ITEMS (Data Entry)'!$A$3:$A$504,0),2),\"\"))),\"\")=0,\"\",IFERROR(INDIRECT(CONCATENATE(\"'UNITCOST ITEMS (Data Entry)'!H\",IFERROR(SUM(MATCH(A269,'UNITCOST ITEMS (Data Entry)'!$A$3:$A$504,0),2),\"\"))),\"\"))","v":""},{"$f":"IF(IFERROR(INDIRECT(CONCATENATE(\"'UNITCOST ITEMS (Data Entry)'!I\",IFERROR(SUM(MATCH(A269,'UNITCOST ITEMS (Data Entry)'!$A$3:$A$504,0),2),\"\"))),\"\")=0,\"\",IFERROR(INDIRECT(CONCATENATE(\"'UNITCOST ITEMS (Data Entry)'!I\",IFERROR(SUM(MATCH(A269,'UNITCOST ITEMS (Data Entry)'!$A$3:$A$504,0),2),\"\"))),\"\"))","v":""},{"$f":"IF(K269=2,\"\",IF(IFERROR(INDIRECT(CONCATENATE(\"'UNITCOST ITEMS (Data Entry)'!J\",IFERROR(SUM(MATCH(A269,'UNITCOST ITEMS (Data Entry)'!$A$3:$A$504,0),2),\"\"))),\"\")=0,\"\",IFERROR(INDIRECT(CONCATENATE(\"'UNITCOST ITEMS (Data Entry)'!J\",IFERROR(SUM(MATCH(A269,'UNITCOST ITEMS (Data Entry)'!$A$3:$A$504,0),2),\"\"))),\"\")))","v":""},null,{"$f":"IF(IFERROR(INDIRECT(CONCATENATE(\"'UNITCOST ITEMS (Data Entry)'!C\",IFERROR(SUM(MATCH(A269,'UNITCOST ITEMS (Data Entry)'!$A$3:$A$504,0),2),\"\"))),\"\")=0,\"\",IFERROR(INDIRECT(CONCATENATE(\"'UNITCOST ITEMS (Data Entry)'!C\",IFERROR(SUM(MATCH(A269,'UNITCOST ITEMS (Data Entry)'!$A$3:$A$504,0),2),\"\"))),\"\"))","v":""},""]
[262,{"$f":"IF(IFERROR(INDIRECT(CONCATENATE(\"'UNITCOST ITEMS (Data Entry)'!D\",IFERROR(SUM(MATCH(A270,'UNITCOST ITEMS (Data Entry)'!$A$3:$A$504,0),2),\"\"))),\"\")=0,\"\",IFERROR(INDIRECT(CONCATENATE(\"'UNITCOST ITEMS (Data Entry)'!D\",IFERROR(SUM(MATCH(A270,'UNITCOST ITEMS (Data Entry)'!$A$3:$A$504,0),2),\"\"))),\"\"))","v":""},{"$f":"IF(IFERROR(INDIRECT(CONCATENATE(\"'UNITCOST ITEMS (Data Entry)'!E\",IFERROR(SUM(MATCH(A270,'UNITCOST ITEMS (Data Entry)'!$A$3:$A$504,0),2),\"\"))),\"\")=0,\"\",IFERROR(INDIRECT(CONCATENATE(\"'UNITCOST ITEMS (Data Entry)'!E\",IFERROR(SUM(MATCH(A270,'UNITCOST ITEMS (Data Entry)'!$A$3:$A$504,0),2),\"\"))),\"\"))","v":""},null,{"$f":"IF(IFERROR(INDIRECT(CONCATENATE(\"'UNITCOST ITEMS (Data Entry)'!F\",IFERROR(SUM(MATCH(A270,'UNITCOST ITEMS (Data Entry)'!$A$3:$A$504,0),2),\"\"))),\"\")=0,\"\",IFERROR(INDIRECT(CONCATENATE(\"'UNITCOST ITEMS (Data Entry)'!F\",IFERROR(SUM(MATCH(A270,'UNITCOST ITEMS (Data Entry)'!$A$3:$A$504,0),2),\"\"))),\"\"))","v":""},{"$f":"IF(IFERROR(INDIRECT(CONCATENATE(\"'UNITCOST ITEMS (Data Entry)'!G\",IFERROR(SUM(MATCH(A270,'UNITCOST ITEMS (Data Entry)'!$A$3:$A$504,0),2),\"\"))),\"\")=0,\"\",IFERROR(INDIRECT(CONCATENATE(\"'UNITCOST ITEMS (Data Entry)'!G\",IFERROR(SUM(MATCH(A270,'UNITCOST ITEMS (Data Entry)'!$A$3:$A$504,0),2),\"\"))),\"\"))","v":""},{"$f":"IF(IFERROR(INDIRECT(CONCATENATE(\"'UNITCOST ITEMS (Data Entry)'!H\",IFERROR(SUM(MATCH(A270,'UNITCOST ITEMS (Data Entry)'!$A$3:$A$504,0),2),\"\"))),\"\")=0,\"\",IFERROR(INDIRECT(CONCATENATE(\"'UNITCOST ITEMS (Data Entry)'!H\",IFERROR(SUM(MATCH(A270,'UNITCOST ITEMS (Data Entry)'!$A$3:$A$504,0),2),\"\"))),\"\"))","v":""},{"$f":"IF(IFERROR(INDIRECT(CONCATENATE(\"'UNITCOST ITEMS (Data Entry)'!I\",IFERROR(SUM(MATCH(A270,'UNITCOST ITEMS (Data Entry)'!$A$3:$A$504,0),2),\"\"))),\"\")=0,\"\",IFERROR(INDIRECT(CONCATENATE(\"'UNITCOST ITEMS (Data Entry)'!I\",IFERROR(SUM(MATCH(A270,'UNITCOST ITEMS (Data Entry)'!$A$3:$A$504,0),2),\"\"))),\"\"))","v":""},{"$f":"IF(K270=2,\"\",IF(IFERROR(INDIRECT(CONCATENATE(\"'UNITCOST ITEMS (Data Entry)'!J\",IFERROR(SUM(MATCH(A270,'UNITCOST ITEMS (Data Entry)'!$A$3:$A$504,0),2),\"\"))),\"\")=0,\"\",IFERROR(INDIRECT(CONCATENATE(\"'UNITCOST ITEMS (Data Entry)'!J\",IFERROR(SUM(MATCH(A270,'UNITCOST ITEMS (Data Entry)'!$A$3:$A$504,0),2),\"\"))),\"\")))","v":""},null,{"$f":"IF(IFERROR(INDIRECT(CONCATENATE(\"'UNITCOST ITEMS (Data Entry)'!C\",IFERROR(SUM(MATCH(A270,'UNITCOST ITEMS (Data Entry)'!$A$3:$A$504,0),2),\"\"))),\"\")=0,\"\",IFERROR(INDIRECT(CONCATENATE(\"'UNITCOST ITEMS (Data Entry)'!C\",IFERROR(SUM(MATCH(A270,'UNITCOST ITEMS (Data Entry)'!$A$3:$A$504,0),2),\"\"))),\"\"))","v":""},""]
[263,{"$f":"IF(IFERROR(INDIRECT(CONCATENATE(\"'UNITCOST ITEMS (Data Entry)'!D\",IFERROR(SUM(MATCH(A271,'UNITCOST ITEMS (Data Entry)'!$A$3:$A$504,0),2),\"\"))),\"\")=0,\"\",IFERROR(INDIRECT(CONCATENATE(\"'UNITCOST ITEMS (Data Entry)'!D\",IFERROR(SUM(MATCH(A271,'UNITCOST ITEMS (Data Entry)'!$A$3:$A$504,0),2),\"\"))),\"\"))","v":""},{"$f":"IF(IFERROR(INDIRECT(CONCATENATE(\"'UNITCOST ITEMS (Data Entry)'!E\",IFERROR(SUM(MATCH(A271,'UNITCOST ITEMS (Data Entry)'!$A$3:$A$504,0),2),\"\"))),\"\")=0,\"\",IFERROR(INDIRECT(CONCATENATE(\"'UNITCOST ITEMS (Data Entry)'!E\",IFERROR(SUM(MATCH(A271,'UNITCOST ITEMS (Data Entry)'!$A$3:$A$504,0),2),\"\"))),\"\"))","v":""},null,{"$f":"IF(IFERROR(INDIRECT(CONCATENATE(\"'UNITCOST ITEMS (Data Entry)'!F\",IFERROR(SUM(MATCH(A271,'UNITCOST ITEMS (Data Entry)'!$A$3:$A$504,0),2),\"\"))),\"\")=0,\"\",IFERROR(INDIRECT(CONCATENATE(\"'UNITCOST ITEMS (Data Entry)'!F\",IFERROR(SUM(MATCH(A271,'UNITCOST ITEMS (Data Entry)'!$A$3:$A$504,0),2),\"\"))),\"\"))","v":""},{"$f":"IF(IFERROR(INDIRECT(CONCATENATE(\"'UNITCOST ITEMS (Data Entry)'!G\",IFERROR(SUM(MATCH(A271,'UNITCOST ITEMS (Data Entry)'!$A$3:$A$504,0),2),\"\"))),\"\")=0,\"\",IFERROR(INDIRECT(CONCATENATE(\"'UNITCOST ITEMS (Data Entry)'!G\",IFERROR(SUM(MATCH(A271,'UNITCOST ITEMS (Data Entry)'!$A$3:$A$504,0),2),\"\"))),\"\"))","v":""},{"$f":"IF(IFERROR(INDIRECT(CONCATENATE(\"'UNITCOST ITEMS (Data Entry)'!H\",IFERROR(SUM(MATCH(A271,'UNITCOST ITEMS (Data Entry)'!$A$3:$A$504,0),2),\"\"))),\"\")=0,\"\",IFERROR(INDIRECT(CONCATENATE(\"'UNITCOST ITEMS (Data Entry)'!H\",IFERROR(SUM(MATCH(A271,'UNITCOST ITEMS (Data Entry)'!$A$3:$A$504,0),2),\"\"))),\"\"))","v":""},{"$f":"IF(IFERROR(INDIRECT(CONCATENATE(\"'UNITCOST ITEMS (Data Entry)'!I\",IFERROR(SUM(MATCH(A271,'UNITCOST ITEMS (Data Entry)'!$A$3:$A$504,0),2),\"\"))),\"\")=0,\"\",IFERROR(INDIRECT(CONCATENATE(\"'UNITCOST ITEMS (Data Entry)'!I\",IFERROR(SUM(MATCH(A271,'UNITCOST ITEMS (Data Entry)'!$A$3:$A$504,0),2),\"\"))),\"\"))","v":""},{"$f":"IF(K271=2,\"\",IF(IFERROR(INDIRECT(CONCATENATE(\"'UNITCOST ITEMS (Data Entry)'!J\",IFERROR(SUM(MATCH(A271,'UNITCOST ITEMS (Data Entry)'!$A$3:$A$504,0),2),\"\"))),\"\")=0,\"\",IFERROR(INDIRECT(CONCATENATE(\"'UNITCOST ITEMS (Data Entry)'!J\",IFERROR(SUM(MATCH(A271,'UNITCOST ITEMS (Data Entry)'!$A$3:$A$504,0),2),\"\"))),\"\")))","v":""},null,{"$f":"IF(IFERROR(INDIRECT(CONCATENATE(\"'UNITCOST ITEMS (Data Entry)'!C\",IFERROR(SUM(MATCH(A271,'UNITCOST ITEMS (Data Entry)'!$A$3:$A$504,0),2),\"\"))),\"\")=0,\"\",IFERROR(INDIRECT(CONCATENATE(\"'UNITCOST ITEMS (Data Entry)'!C\",IFERROR(SUM(MATCH(A271,'UNITCOST ITEMS (Data Entry)'!$A$3:$A$504,0),2),\"\"))),\"\"))","v":""},""]
[264,{"$f":"IF(IFERROR(INDIRECT(CONCATENATE(\"'UNITCOST ITEMS (Data Entry)'!D\",IFERROR(SUM(MATCH(A272,'UNITCOST ITEMS (Data Entry)'!$A$3:$A$504,0),2),\"\"))),\"\")=0,\"\",IFERROR(INDIRECT(CONCATENATE(\"'UNITCOST ITEMS (Data Entry)'!D\",IFERROR(SUM(MATCH(A272,'UNITCOST ITEMS (Data Entry)'!$A$3:$A$504,0),2),\"\"))),\"\"))","v":""},{"$f":"IF(IFERROR(INDIRECT(CONCATENATE(\"'UNITCOST ITEMS (Data Entry)'!E\",IFERROR(SUM(MATCH(A272,'UNITCOST ITEMS (Data Entry)'!$A$3:$A$504,0),2),\"\"))),\"\")=0,\"\",IFERROR(INDIRECT(CONCATENATE(\"'UNITCOST ITEMS (Data Entry)'!E\",IFERROR(SUM(MATCH(A272,'UNITCOST ITEMS (Data Entry)'!$A$3:$A$504,0),2),\"\"))),\"\"))","v":""},null,{"$f":"IF(IFERROR(INDIRECT(CONCATENATE(\"'UNITCOST ITEMS (Data Entry)'!F\",IFERROR(SUM(MATCH(A272,'UNITCOST ITEMS (Data Entry)'!$A$3:$A$504,0),2),\"\"))),\"\")=0,\"\",IFERROR(INDIRECT(CONCATENATE(\"'UNITCOST ITEMS (Data Entry)'!F\",IFERROR(SUM(MATCH(A272,'UNITCOST ITEMS (Data Entry)'!$A$3:$A$504,0),2),\"\"))),\"\"))","v":""},{"$f":"IF(IFERROR(INDIRECT(CONCATENATE(\"'UNITCOST ITEMS (Data Entry)'!G\",IFERROR(SUM(MATCH(A272,'UNITCOST ITEMS (Data Entry)'!$A$3:$A$504,0),2),\"\"))),\"\")=0,\"\",IFERROR(INDIRECT(CONCATENATE(\"'UNITCOST ITEMS (Data Entry)'!G\",IFERROR(SUM(MATCH(A272,'UNITCOST ITEMS (Data Entry)'!$A$3:$A$504,0),2),\"\"))),\"\"))","v":""},{"$f":"IF(IFERROR(INDIRECT(CONCATENATE(\"'UNITCOST ITEMS (Data Entry)'!H\",IFERROR(SUM(MATCH(A272,'UNITCOST ITEMS (Data Entry)'!$A$3:$A$504,0),2),\"\"))),\"\")=0,\"\",IFERROR(INDIRECT(CONCATENATE(\"'UNITCOST ITEMS (Data Entry)'!H\",IFERROR(SUM(MATCH(A272,'UNITCOST ITEMS (Data Entry)'!$A$3:$A$504,0),2),\"\"))),\"\"))","v":""},{"$f":"IF(IFERROR(INDIRECT(CONCATENATE(\"'UNITCOST ITEMS (Data Entry)'!I\",IFERROR(SUM(MATCH(A272,'UNITCOST ITEMS (Data Entry)'!$A$3:$A$504,0),2),\"\"))),\"\")=0,\"\",IFERROR(INDIRECT(CONCATENATE(\"'UNITCOST ITEMS (Data Entry)'!I\",IFERROR(SUM(MATCH(A272,'UNITCOST ITEMS (Data Entry)'!$A$3:$A$504,0),2),\"\"))),\"\"))","v":""},{"$f":"IF(K272=2,\"\",IF(IFERROR(INDIRECT(CONCATENATE(\"'UNITCOST ITEMS (Data Entry)'!J\",IFERROR(SUM(MATCH(A272,'UNITCOST ITEMS (Data Entry)'!$A$3:$A$504,0),2),\"\"))),\"\")=0,\"\",IFERROR(INDIRECT(CONCATENATE(\"'UNITCOST ITEMS (Data Entry)'!J\",IFERROR(SUM(MATCH(A272,'UNITCOST ITEMS (Data Entry)'!$A$3:$A$504,0),2),\"\"))),\"\")))","v":""},null,{"$f":"IF(IFERROR(INDIRECT(CONCATENATE(\"'UNITCOST ITEMS (Data Entry)'!C\",IFERROR(SUM(MATCH(A272,'UNITCOST ITEMS (Data Entry)'!$A$3:$A$504,0),2),\"\"))),\"\")=0,\"\",IFERROR(INDIRECT(CONCATENATE(\"'UNITCOST ITEMS (Data Entry)'!C\",IFERROR(SUM(MATCH(A272,'UNITCOST ITEMS (Data Entry)'!$A$3:$A$504,0),2),\"\"))),\"\"))","v":""},""]
[265,{"$f":"IF(IFERROR(INDIRECT(CONCATENATE(\"'UNITCOST ITEMS (Data Entry)'!D\",IFERROR(SUM(MATCH(A273,'UNITCOST ITEMS (Data Entry)'!$A$3:$A$504,0),2),\"\"))),\"\")=0,\"\",IFERROR(INDIRECT(CONCATENATE(\"'UNITCOST ITEMS (Data Entry)'!D\",IFERROR(SUM(MATCH(A273,'UNITCOST ITEMS (Data Entry)'!$A$3:$A$504,0),2),\"\"))),\"\"))","v":""},{"$f":"IF(IFERROR(INDIRECT(CONCATENATE(\"'UNITCOST ITEMS (Data Entry)'!E\",IFERROR(SUM(MATCH(A273,'UNITCOST ITEMS (Data Entry)'!$A$3:$A$504,0),2),\"\"))),\"\")=0,\"\",IFERROR(INDIRECT(CONCATENATE(\"'UNITCOST ITEMS (Data Entry)'!E\",IFERROR(SUM(MATCH(A273,'UNITCOST ITEMS (Data Entry)'!$A$3:$A$504,0),2),\"\"))),\"\"))","v":""},null,{"$f":"IF(IFERROR(INDIRECT(CONCATENATE(\"'UNITCOST ITEMS (Data Entry)'!F\",IFERROR(SUM(MATCH(A273,'UNITCOST ITEMS (Data Entry)'!$A$3:$A$504,0),2),\"\"))),\"\")=0,\"\",IFERROR(INDIRECT(CONCATENATE(\"'UNITCOST ITEMS (Data Entry)'!F\",IFERROR(SUM(MATCH(A273,'UNITCOST ITEMS (Data Entry)'!$A$3:$A$504,0),2),\"\"))),\"\"))","v":""},{"$f":"IF(IFERROR(INDIRECT(CONCATENATE(\"'UNITCOST ITEMS (Data Entry)'!G\",IFERROR(SUM(MATCH(A273,'UNITCOST ITEMS (Data Entry)'!$A$3:$A$504,0),2),\"\"))),\"\")=0,\"\",IFERROR(INDIRECT(CONCATENATE(\"'UNITCOST ITEMS (Data Entry)'!G\",IFERROR(SUM(MATCH(A273,'UNITCOST ITEMS (Data Entry)'!$A$3:$A$504,0),2),\"\"))),\"\"))","v":""},{"$f":"IF(IFERROR(INDIRECT(CONCATENATE(\"'UNITCOST ITEMS (Data Entry)'!H\",IFERROR(SUM(MATCH(A273,'UNITCOST ITEMS (Data Entry)'!$A$3:$A$504,0),2),\"\"))),\"\")=0,\"\",IFERROR(INDIRECT(CONCATENATE(\"'UNITCOST ITEMS (Data Entry)'!H\",IFERROR(SUM(MATCH(A273,'UNITCOST ITEMS (Data Entry)'!$A$3:$A$504,0),2),\"\"))),\"\"))","v":""},{"$f":"IF(IFERROR(INDIRECT(CONCATENATE(\"'UNITCOST ITEMS (Data Entry)'!I\",IFERROR(SUM(MATCH(A273,'UNITCOST ITEMS (Data Entry)'!$A$3:$A$504,0),2),\"\"))),\"\")=0,\"\",IFERROR(INDIRECT(CONCATENATE(\"'UNITCOST ITEMS (Data Entry)'!I\",IFERROR(SUM(MATCH(A273,'UNITCOST ITEMS (Data Entry)'!$A$3:$A$504,0),2),\"\"))),\"\"))","v":""},{"$f":"IF(K273=2,\"\",IF(IFERROR(INDIRECT(CONCATENATE(\"'UNITCOST ITEMS (Data Entry)'!J\",IFERROR(SUM(MATCH(A273,'UNITCOST ITEMS (Data Entry)'!$A$3:$A$504,0),2),\"\"))),\"\")=0,\"\",IFERROR(INDIRECT(CONCATENATE(\"'UNITCOST ITEMS (Data Entry)'!J\",IFERROR(SUM(MATCH(A273,'UNITCOST ITEMS (Data Entry)'!$A$3:$A$504,0),2),\"\"))),\"\")))","v":""},null,{"$f":"IF(IFERROR(INDIRECT(CONCATENATE(\"'UNITCOST ITEMS (Data Entry)'!C\",IFERROR(SUM(MATCH(A273,'UNITCOST ITEMS (Data Entry)'!$A$3:$A$504,0),2),\"\"))),\"\")=0,\"\",IFERROR(INDIRECT(CONCATENATE(\"'UNITCOST ITEMS (Data Entry)'!C\",IFERROR(SUM(MATCH(A273,'UNITCOST ITEMS (Data Entry)'!$A$3:$A$504,0),2),\"\"))),\"\"))","v":""},""]
[266,{"$f":"IF(IFERROR(INDIRECT(CONCATENATE(\"'UNITCOST ITEMS (Data Entry)'!D\",IFERROR(SUM(MATCH(A274,'UNITCOST ITEMS (Data Entry)'!$A$3:$A$504,0),2),\"\"))),\"\")=0,\"\",IFERROR(INDIRECT(CONCATENATE(\"'UNITCOST ITEMS (Data Entry)'!D\",IFERROR(SUM(MATCH(A274,'UNITCOST ITEMS (Data Entry)'!$A$3:$A$504,0),2),\"\"))),\"\"))","v":""},{"$f":"IF(IFERROR(INDIRECT(CONCATENATE(\"'UNITCOST ITEMS (Data Entry)'!E\",IFERROR(SUM(MATCH(A274,'UNITCOST ITEMS (Data Entry)'!$A$3:$A$504,0),2),\"\"))),\"\")=0,\"\",IFERROR(INDIRECT(CONCATENATE(\"'UNITCOST ITEMS (Data Entry)'!E\",IFERROR(SUM(MATCH(A274,'UNITCOST ITEMS (Data Entry)'!$A$3:$A$504,0),2),\"\"))),\"\"))","v":""},null,{"$f":"IF(IFERROR(INDIRECT(CONCATENATE(\"'UNITCOST ITEMS (Data Entry)'!F\",IFERROR(SUM(MATCH(A274,'UNITCOST ITEMS (Data Entry)'!$A$3:$A$504,0),2),\"\"))),\"\")=0,\"\",IFERROR(INDIRECT(CONCATENATE(\"'UNITCOST ITEMS (Data Entry)'!F\",IFERROR(SUM(MATCH(A274,'UNITCOST ITEMS (Data Entry)'!$A$3:$A$504,0),2),\"\"))),\"\"))","v":""},{"$f":"IF(IFERROR(INDIRECT(CONCATENATE(\"'UNITCOST ITEMS (Data Entry)'!G\",IFERROR(SUM(MATCH(A274,'UNITCOST ITEMS (Data Entry)'!$A$3:$A$504,0),2),\"\"))),\"\")=0,\"\",IFERROR(INDIRECT(CONCATENATE(\"'UNITCOST ITEMS (Data Entry)'!G\",IFERROR(SUM(MATCH(A274,'UNITCOST ITEMS (Data Entry)'!$A$3:$A$504,0),2),\"\"))),\"\"))","v":""},{"$f":"IF(IFERROR(INDIRECT(CONCATENATE(\"'UNITCOST ITEMS (Data Entry)'!H\",IFERROR(SUM(MATCH(A274,'UNITCOST ITEMS (Data Entry)'!$A$3:$A$504,0),2),\"\"))),\"\")=0,\"\",IFERROR(INDIRECT(CONCATENATE(\"'UNITCOST ITEMS (Data Entry)'!H\",IFERROR(SUM(MATCH(A274,'UNITCOST ITEMS (Data Entry)'!$A$3:$A$504,0),2),\"\"))),\"\"))","v":""},{"$f":"IF(IFERROR(INDIRECT(CONCATENATE(\"'UNITCOST ITEMS (Data Entry)'!I\",IFERROR(SUM(MATCH(A274,'UNITCOST ITEMS (Data Entry)'!$A$3:$A$504,0),2),\"\"))),\"\")=0,\"\",IFERROR(INDIRECT(CONCATENATE(\"'UNITCOST ITEMS (Data Entry)'!I\",IFERROR(SUM(MATCH(A274,'UNITCOST ITEMS (Data Entry)'!$A$3:$A$504,0),2),\"\"))),\"\"))","v":""},{"$f":"IF(K274=2,\"\",IF(IFERROR(INDIRECT(CONCATENATE(\"'UNITCOST ITEMS (Data Entry)'!J\",IFERROR(SUM(MATCH(A274,'UNITCOST ITEMS (Data Entry)'!$A$3:$A$504,0),2),\"\"))),\"\")=0,\"\",IFERROR(INDIRECT(CONCATENATE(\"'UNITCOST ITEMS (Data Entry)'!J\",IFERROR(SUM(MATCH(A274,'UNITCOST ITEMS (Data Entry)'!$A$3:$A$504,0),2),\"\"))),\"\")))","v":""},null,{"$f":"IF(IFERROR(INDIRECT(CONCATENATE(\"'UNITCOST ITEMS (Data Entry)'!C\",IFERROR(SUM(MATCH(A274,'UNITCOST ITEMS (Data Entry)'!$A$3:$A$504,0),2),\"\"))),\"\")=0,\"\",IFERROR(INDIRECT(CONCATENATE(\"'UNITCOST ITEMS (Data Entry)'!C\",IFERROR(SUM(MATCH(A274,'UNITCOST ITEMS (Data Entry)'!$A$3:$A$504,0),2),\"\"))),\"\"))","v":""},""]
[267,{"$f":"IF(IFERROR(INDIRECT(CONCATENATE(\"'UNITCOST ITEMS (Data Entry)'!D\",IFERROR(SUM(MATCH(A275,'UNITCOST ITEMS (Data Entry)'!$A$3:$A$504,0),2),\"\"))),\"\")=0,\"\",IFERROR(INDIRECT(CONCATENATE(\"'UNITCOST ITEMS (Data Entry)'!D\",IFERROR(SUM(MATCH(A275,'UNITCOST ITEMS (Data Entry)'!$A$3:$A$504,0),2),\"\"))),\"\"))","v":""},{"$f":"IF(IFERROR(INDIRECT(CONCATENATE(\"'UNITCOST ITEMS (Data Entry)'!E\",IFERROR(SUM(MATCH(A275,'UNITCOST ITEMS (Data Entry)'!$A$3:$A$504,0),2),\"\"))),\"\")=0,\"\",IFERROR(INDIRECT(CONCATENATE(\"'UNITCOST ITEMS (Data Entry)'!E\",IFERROR(SUM(MATCH(A275,'UNITCOST ITEMS (Data Entry)'!$A$3:$A$504,0),2),\"\"))),\"\"))","v":""},null,{"$f":"IF(IFERROR(INDIRECT(CONCATENATE(\"'UNITCOST ITEMS (Data Entry)'!F\",IFERROR(SUM(MATCH(A275,'UNITCOST ITEMS (Data Entry)'!$A$3:$A$504,0),2),\"\"))),\"\")=0,\"\",IFERROR(INDIRECT(CONCATENATE(\"'UNITCOST ITEMS (Data Entry)'!F\",IFERROR(SUM(MATCH(A275,'UNITCOST ITEMS (Data Entry)'!$A$3:$A$504,0),2),\"\"))),\"\"))","v":""},{"$f":"IF(IFERROR(INDIRECT(CONCATENATE(\"'UNITCOST ITEMS (Data Entry)'!G\",IFERROR(SUM(MATCH(A275,'UNITCOST ITEMS (Data Entry)'!$A$3:$A$504,0),2),\"\"))),\"\")=0,\"\",IFERROR(INDIRECT(CONCATENATE(\"'UNITCOST ITEMS (Data Entry)'!G\",IFERROR(SUM(MATCH(A275,'UNITCOST ITEMS (Data Entry)'!$A$3:$A$504,0),2),\"\"))),\"\"))","v":""},{"$f":"IF(IFERROR(INDIRECT(CONCATENATE(\"'UNITCOST ITEMS (Data Entry)'!H\",IFERROR(SUM(MATCH(A275,'UNITCOST ITEMS (Data Entry)'!$A$3:$A$504,0),2),\"\"))),\"\")=0,\"\",IFERROR(INDIRECT(CONCATENATE(\"'UNITCOST ITEMS (Data Entry)'!H\",IFERROR(SUM(MATCH(A275,'UNITCOST ITEMS (Data Entry)'!$A$3:$A$504,0),2),\"\"))),\"\"))","v":""},{"$f":"IF(IFERROR(INDIRECT(CONCATENATE(\"'UNITCOST ITEMS (Data Entry)'!I\",IFERROR(SUM(MATCH(A275,'UNITCOST ITEMS (Data Entry)'!$A$3:$A$504,0),2),\"\"))),\"\")=0,\"\",IFERROR(INDIRECT(CONCATENATE(\"'UNITCOST ITEMS (Data Entry)'!I\",IFERROR(SUM(MATCH(A275,'UNITCOST ITEMS (Data Entry)'!$A$3:$A$504,0),2),\"\"))),\"\"))","v":""},{"$f":"IF(K275=2,\"\",IF(IFERROR(INDIRECT(CONCATENATE(\"'UNITCOST ITEMS (Data Entry)'!J\",IFERROR(SUM(MATCH(A275,'UNITCOST ITEMS (Data Entry)'!$A$3:$A$504,0),2),\"\"))),\"\")=0,\"\",IFERROR(INDIRECT(CONCATENATE(\"'UNITCOST ITEMS (Data Entry)'!J\",IFERROR(SUM(MATCH(A275,'UNITCOST ITEMS (Data Entry)'!$A$3:$A$504,0),2),\"\"))),\"\")))","v":""},null,{"$f":"IF(IFERROR(INDIRECT(CONCATENATE(\"'UNITCOST ITEMS (Data Entry)'!C\",IFERROR(SUM(MATCH(A275,'UNITCOST ITEMS (Data Entry)'!$A$3:$A$504,0),2),\"\"))),\"\")=0,\"\",IFERROR(INDIRECT(CONCATENATE(\"'UNITCOST ITEMS (Data Entry)'!C\",IFERROR(SUM(MATCH(A275,'UNITCOST ITEMS (Data Entry)'!$A$3:$A$504,0),2),\"\"))),\"\"))","v":""},""]
[268,{"$f":"IF(IFERROR(INDIRECT(CONCATENATE(\"'UNITCOST ITEMS (Data Entry)'!D\",IFERROR(SUM(MATCH(A276,'UNITCOST ITEMS (Data Entry)'!$A$3:$A$504,0),2),\"\"))),\"\")=0,\"\",IFERROR(INDIRECT(CONCATENATE(\"'UNITCOST ITEMS (Data Entry)'!D\",IFERROR(SUM(MATCH(A276,'UNITCOST ITEMS (Data Entry)'!$A$3:$A$504,0),2),\"\"))),\"\"))","v":""},{"$f":"IF(IFERROR(INDIRECT(CONCATENATE(\"'UNITCOST ITEMS (Data Entry)'!E\",IFERROR(SUM(MATCH(A276,'UNITCOST ITEMS (Data Entry)'!$A$3:$A$504,0),2),\"\"))),\"\")=0,\"\",IFERROR(INDIRECT(CONCATENATE(\"'UNITCOST ITEMS (Data Entry)'!E\",IFERROR(SUM(MATCH(A276,'UNITCOST ITEMS (Data Entry)'!$A$3:$A$504,0),2),\"\"))),\"\"))","v":""},null,{"$f":"IF(IFERROR(INDIRECT(CONCATENATE(\"'UNITCOST ITEMS (Data Entry)'!F\",IFERROR(SUM(MATCH(A276,'UNITCOST ITEMS (Data Entry)'!$A$3:$A$504,0),2),\"\"))),\"\")=0,\"\",IFERROR(INDIRECT(CONCATENATE(\"'UNITCOST ITEMS (Data Entry)'!F\",IFERROR(SUM(MATCH(A276,'UNITCOST ITEMS (Data Entry)'!$A$3:$A$504,0),2),\"\"))),\"\"))","v":""},{"$f":"IF(IFERROR(INDIRECT(CONCATENATE(\"'UNITCOST ITEMS (Data Entry)'!G\",IFERROR(SUM(MATCH(A276,'UNITCOST ITEMS (Data Entry)'!$A$3:$A$504,0),2),\"\"))),\"\")=0,\"\",IFERROR(INDIRECT(CONCATENATE(\"'UNITCOST ITEMS (Data Entry)'!G\",IFERROR(SUM(MATCH(A276,'UNITCOST ITEMS (Data Entry)'!$A$3:$A$504,0),2),\"\"))),\"\"))","v":""},{"$f":"IF(IFERROR(INDIRECT(CONCATENATE(\"'UNITCOST ITEMS (Data Entry)'!H\",IFERROR(SUM(MATCH(A276,'UNITCOST ITEMS (Data Entry)'!$A$3:$A$504,0),2),\"\"))),\"\")=0,\"\",IFERROR(INDIRECT(CONCATENATE(\"'UNITCOST ITEMS (Data Entry)'!H\",IFERROR(SUM(MATCH(A276,'UNITCOST ITEMS (Data Entry)'!$A$3:$A$504,0),2),\"\"))),\"\"))","v":""},{"$f":"IF(IFERROR(INDIRECT(CONCATENATE(\"'UNITCOST ITEMS (Data Entry)'!I\",IFERROR(SUM(MATCH(A276,'UNITCOST ITEMS (Data Entry)'!$A$3:$A$504,0),2),\"\"))),\"\")=0,\"\",IFERROR(INDIRECT(CONCATENATE(\"'UNITCOST ITEMS (Data Entry)'!I\",IFERROR(SUM(MATCH(A276,'UNITCOST ITEMS (Data Entry)'!$A$3:$A$504,0),2),\"\"))),\"\"))","v":""},{"$f":"IF(K276=2,\"\",IF(IFERROR(INDIRECT(CONCATENATE(\"'UNITCOST ITEMS (Data Entry)'!J\",IFERROR(SUM(MATCH(A276,'UNITCOST ITEMS (Data Entry)'!$A$3:$A$504,0),2),\"\"))),\"\")=0,\"\",IFERROR(INDIRECT(CONCATENATE(\"'UNITCOST ITEMS (Data Entry)'!J\",IFERROR(SUM(MATCH(A276,'UNITCOST ITEMS (Data Entry)'!$A$3:$A$504,0),2),\"\"))),\"\")))","v":""},null,{"$f":"IF(IFERROR(INDIRECT(CONCATENATE(\"'UNITCOST ITEMS (Data Entry)'!C\",IFERROR(SUM(MATCH(A276,'UNITCOST ITEMS (Data Entry)'!$A$3:$A$504,0),2),\"\"))),\"\")=0,\"\",IFERROR(INDIRECT(CONCATENATE(\"'UNITCOST ITEMS (Data Entry)'!C\",IFERROR(SUM(MATCH(A276,'UNITCOST ITEMS (Data Entry)'!$A$3:$A$504,0),2),\"\"))),\"\"))","v":""},""]
[269,{"$f":"IF(IFERROR(INDIRECT(CONCATENATE(\"'UNITCOST ITEMS (Data Entry)'!D\",IFERROR(SUM(MATCH(A277,'UNITCOST ITEMS (Data Entry)'!$A$3:$A$504,0),2),\"\"))),\"\")=0,\"\",IFERROR(INDIRECT(CONCATENATE(\"'UNITCOST ITEMS (Data Entry)'!D\",IFERROR(SUM(MATCH(A277,'UNITCOST ITEMS (Data Entry)'!$A$3:$A$504,0),2),\"\"))),\"\"))","v":""},{"$f":"IF(IFERROR(INDIRECT(CONCATENATE(\"'UNITCOST ITEMS (Data Entry)'!E\",IFERROR(SUM(MATCH(A277,'UNITCOST ITEMS (Data Entry)'!$A$3:$A$504,0),2),\"\"))),\"\")=0,\"\",IFERROR(INDIRECT(CONCATENATE(\"'UNITCOST ITEMS (Data Entry)'!E\",IFERROR(SUM(MATCH(A277,'UNITCOST ITEMS (Data Entry)'!$A$3:$A$504,0),2),\"\"))),\"\"))","v":""},null,{"$f":"IF(IFERROR(INDIRECT(CONCATENATE(\"'UNITCOST ITEMS (Data Entry)'!F\",IFERROR(SUM(MATCH(A277,'UNITCOST ITEMS (Data Entry)'!$A$3:$A$504,0),2),\"\"))),\"\")=0,\"\",IFERROR(INDIRECT(CONCATENATE(\"'UNITCOST ITEMS (Data Entry)'!F\",IFERROR(SUM(MATCH(A277,'UNITCOST ITEMS (Data Entry)'!$A$3:$A$504,0),2),\"\"))),\"\"))","v":""},{"$f":"IF(IFERROR(INDIRECT(CONCATENATE(\"'UNITCOST ITEMS (Data Entry)'!G\",IFERROR(SUM(MATCH(A277,'UNITCOST ITEMS (Data Entry)'!$A$3:$A$504,0),2),\"\"))),\"\")=0,\"\",IFERROR(INDIRECT(CONCATENATE(\"'UNITCOST ITEMS (Data Entry)'!G\",IFERROR(SUM(MATCH(A277,'UNITCOST ITEMS (Data Entry)'!$A$3:$A$504,0),2),\"\"))),\"\"))","v":""},{"$f":"IF(IFERROR(INDIRECT(CONCATENATE(\"'UNITCOST ITEMS (Data Entry)'!H\",IFERROR(SUM(MATCH(A277,'UNITCOST ITEMS (Data Entry)'!$A$3:$A$504,0),2),\"\"))),\"\")=0,\"\",IFERROR(INDIRECT(CONCATENATE(\"'UNITCOST ITEMS (Data Entry)'!H\",IFERROR(SUM(MATCH(A277,'UNITCOST ITEMS (Data Entry)'!$A$3:$A$504,0),2),\"\"))),\"\"))","v":""},{"$f":"IF(IFERROR(INDIRECT(CONCATENATE(\"'UNITCOST ITEMS (Data Entry)'!I\",IFERROR(SUM(MATCH(A277,'UNITCOST ITEMS (Data Entry)'!$A$3:$A$504,0),2),\"\"))),\"\")=0,\"\",IFERROR(INDIRECT(CONCATENATE(\"'UNITCOST ITEMS (Data Entry)'!I\",IFERROR(SUM(MATCH(A277,'UNITCOST ITEMS (Data Entry)'!$A$3:$A$504,0),2),\"\"))),\"\"))","v":""},{"$f":"IF(K277=2,\"\",IF(IFERROR(INDIRECT(CONCATENATE(\"'UNITCOST ITEMS (Data Entry)'!J\",IFERROR(SUM(MATCH(A277,'UNITCOST ITEMS (Data Entry)'!$A$3:$A$504,0),2),\"\"))),\"\")=0,\"\",IFERROR(INDIRECT(CONCATENATE(\"'UNITCOST ITEMS (Data Entry)'!J\",IFERROR(SUM(MATCH(A277,'UNITCOST ITEMS (Data Entry)'!$A$3:$A$504,0),2),\"\"))),\"\")))","v":""},null,{"$f":"IF(IFERROR(INDIRECT(CONCATENATE(\"'UNITCOST ITEMS (Data Entry)'!C\",IFERROR(SUM(MATCH(A277,'UNITCOST ITEMS (Data Entry)'!$A$3:$A$504,0),2),\"\"))),\"\")=0,\"\",IFERROR(INDIRECT(CONCATENATE(\"'UNITCOST ITEMS (Data Entry)'!C\",IFERROR(SUM(MATCH(A277,'UNITCOST ITEMS (Data Entry)'!$A$3:$A$504,0),2),\"\"))),\"\"))","v":""},""]
[270,{"$f":"IF(IFERROR(INDIRECT(CONCATENATE(\"'UNITCOST ITEMS (Data Entry)'!D\",IFERROR(SUM(MATCH(A278,'UNITCOST ITEMS (Data Entry)'!$A$3:$A$504,0),2),\"\"))),\"\")=0,\"\",IFERROR(INDIRECT(CONCATENATE(\"'UNITCOST ITEMS (Data Entry)'!D\",IFERROR(SUM(MATCH(A278,'UNITCOST ITEMS (Data Entry)'!$A$3:$A$504,0),2),\"\"))),\"\"))","v":""},{"$f":"IF(IFERROR(INDIRECT(CONCATENATE(\"'UNITCOST ITEMS (Data Entry)'!E\",IFERROR(SUM(MATCH(A278,'UNITCOST ITEMS (Data Entry)'!$A$3:$A$504,0),2),\"\"))),\"\")=0,\"\",IFERROR(INDIRECT(CONCATENATE(\"'UNITCOST ITEMS (Data Entry)'!E\",IFERROR(SUM(MATCH(A278,'UNITCOST ITEMS (Data Entry)'!$A$3:$A$504,0),2),\"\"))),\"\"))","v":""},null,{"$f":"IF(IFERROR(INDIRECT(CONCATENATE(\"'UNITCOST ITEMS (Data Entry)'!F\",IFERROR(SUM(MATCH(A278,'UNITCOST ITEMS (Data Entry)'!$A$3:$A$504,0),2),\"\"))),\"\")=0,\"\",IFERROR(INDIRECT(CONCATENATE(\"'UNITCOST ITEMS (Data Entry)'!F\",IFERROR(SUM(MATCH(A278,'UNITCOST ITEMS (Data Entry)'!$A$3:$A$504,0),2),\"\"))),\"\"))","v":""},{"$f":"IF(IFERROR(INDIRECT(CONCATENATE(\"'UNITCOST ITEMS (Data Entry)'!G\",IFERROR(SUM(MATCH(A278,'UNITCOST ITEMS (Data Entry)'!$A$3:$A$504,0),2),\"\"))),\"\")=0,\"\",IFERROR(INDIRECT(CONCATENATE(\"'UNITCOST ITEMS (Data Entry)'!G\",IFERROR(SUM(MATCH(A278,'UNITCOST ITEMS (Data Entry)'!$A$3:$A$504,0),2),\"\"))),\"\"))","v":""},{"$f":"IF(IFERROR(INDIRECT(CONCATENATE(\"'UNITCOST ITEMS (Data Entry)'!H\",IFERROR(SUM(MATCH(A278,'UNITCOST ITEMS (Data Entry)'!$A$3:$A$504,0),2),\"\"))),\"\")=0,\"\",IFERROR(INDIRECT(CONCATENATE(\"'UNITCOST ITEMS (Data Entry)'!H\",IFERROR(SUM(MATCH(A278,'UNITCOST ITEMS (Data Entry)'!$A$3:$A$504,0),2),\"\"))),\"\"))","v":""},{"$f":"IF(IFERROR(INDIRECT(CONCATENATE(\"'UNITCOST ITEMS (Data Entry)'!I\",IFERROR(SUM(MATCH(A278,'UNITCOST ITEMS (Data Entry)'!$A$3:$A$504,0),2),\"\"))),\"\")=0,\"\",IFERROR(INDIRECT(CONCATENATE(\"'UNITCOST ITEMS (Data Entry)'!I\",IFERROR(SUM(MATCH(A278,'UNITCOST ITEMS (Data Entry)'!$A$3:$A$504,0),2),\"\"))),\"\"))","v":""},{"$f":"IF(K278=2,\"\",IF(IFERROR(INDIRECT(CONCATENATE(\"'UNITCOST ITEMS (Data Entry)'!J\",IFERROR(SUM(MATCH(A278,'UNITCOST ITEMS (Data Entry)'!$A$3:$A$504,0),2),\"\"))),\"\")=0,\"\",IFERROR(INDIRECT(CONCATENATE(\"'UNITCOST ITEMS (Data Entry)'!J\",IFERROR(SUM(MATCH(A278,'UNITCOST ITEMS (Data Entry)'!$A$3:$A$504,0),2),\"\"))),\"\")))","v":""},null,{"$f":"IF(IFERROR(INDIRECT(CONCATENATE(\"'UNITCOST ITEMS (Data Entry)'!C\",IFERROR(SUM(MATCH(A278,'UNITCOST ITEMS (Data Entry)'!$A$3:$A$504,0),2),\"\"))),\"\")=0,\"\",IFERROR(INDIRECT(CONCATENATE(\"'UNITCOST ITEMS (Data Entry)'!C\",IFERROR(SUM(MATCH(A278,'UNITCOST ITEMS (Data Entry)'!$A$3:$A$504,0),2),\"\"))),\"\"))","v":""},""]
[271,{"$f":"IF(IFERROR(INDIRECT(CONCATENATE(\"'UNITCOST ITEMS (Data Entry)'!D\",IFERROR(SUM(MATCH(A279,'UNITCOST ITEMS (Data Entry)'!$A$3:$A$504,0),2),\"\"))),\"\")=0,\"\",IFERROR(INDIRECT(CONCATENATE(\"'UNITCOST ITEMS (Data Entry)'!D\",IFERROR(SUM(MATCH(A279,'UNITCOST ITEMS (Data Entry)'!$A$3:$A$504,0),2),\"\"))),\"\"))","v":""},{"$f":"IF(IFERROR(INDIRECT(CONCATENATE(\"'UNITCOST ITEMS (Data Entry)'!E\",IFERROR(SUM(MATCH(A279,'UNITCOST ITEMS (Data Entry)'!$A$3:$A$504,0),2),\"\"))),\"\")=0,\"\",IFERROR(INDIRECT(CONCATENATE(\"'UNITCOST ITEMS (Data Entry)'!E\",IFERROR(SUM(MATCH(A279,'UNITCOST ITEMS (Data Entry)'!$A$3:$A$504,0),2),\"\"))),\"\"))","v":""},null,{"$f":"IF(IFERROR(INDIRECT(CONCATENATE(\"'UNITCOST ITEMS (Data Entry)'!F\",IFERROR(SUM(MATCH(A279,'UNITCOST ITEMS (Data Entry)'!$A$3:$A$504,0),2),\"\"))),\"\")=0,\"\",IFERROR(INDIRECT(CONCATENATE(\"'UNITCOST ITEMS (Data Entry)'!F\",IFERROR(SUM(MATCH(A279,'UNITCOST ITEMS (Data Entry)'!$A$3:$A$504,0),2),\"\"))),\"\"))","v":""},{"$f":"IF(IFERROR(INDIRECT(CONCATENATE(\"'UNITCOST ITEMS (Data Entry)'!G\",IFERROR(SUM(MATCH(A279,'UNITCOST ITEMS (Data Entry)'!$A$3:$A$504,0),2),\"\"))),\"\")=0,\"\",IFERROR(INDIRECT(CONCATENATE(\"'UNITCOST ITEMS (Data Entry)'!G\",IFERROR(SUM(MATCH(A279,'UNITCOST ITEMS (Data Entry)'!$A$3:$A$504,0),2),\"\"))),\"\"))","v":""},{"$f":"IF(IFERROR(INDIRECT(CONCATENATE(\"'UNITCOST ITEMS (Data Entry)'!H\",IFERROR(SUM(MATCH(A279,'UNITCOST ITEMS (Data Entry)'!$A$3:$A$504,0),2),\"\"))),\"\")=0,\"\",IFERROR(INDIRECT(CONCATENATE(\"'UNITCOST ITEMS (Data Entry)'!H\",IFERROR(SUM(MATCH(A279,'UNITCOST ITEMS (Data Entry)'!$A$3:$A$504,0),2),\"\"))),\"\"))","v":""},{"$f":"IF(IFERROR(INDIRECT(CONCATENATE(\"'UNITCOST ITEMS (Data Entry)'!I\",IFERROR(SUM(MATCH(A279,'UNITCOST ITEMS (Data Entry)'!$A$3:$A$504,0),2),\"\"))),\"\")=0,\"\",IFERROR(INDIRECT(CONCATENATE(\"'UNITCOST ITEMS (Data Entry)'!I\",IFERROR(SUM(MATCH(A279,'UNITCOST ITEMS (Data Entry)'!$A$3:$A$504,0),2),\"\"))),\"\"))","v":""},{"$f":"IF(K279=2,\"\",IF(IFERROR(INDIRECT(CONCATENATE(\"'UNITCOST ITEMS (Data Entry)'!J\",IFERROR(SUM(MATCH(A279,'UNITCOST ITEMS (Data Entry)'!$A$3:$A$504,0),2),\"\"))),\"\")=0,\"\",IFERROR(INDIRECT(CONCATENATE(\"'UNITCOST ITEMS (Data Entry)'!J\",IFERROR(SUM(MATCH(A279,'UNITCOST ITEMS (Data Entry)'!$A$3:$A$504,0),2),\"\"))),\"\")))","v":""},null,{"$f":"IF(IFERROR(INDIRECT(CONCATENATE(\"'UNITCOST ITEMS (Data Entry)'!C\",IFERROR(SUM(MATCH(A279,'UNITCOST ITEMS (Data Entry)'!$A$3:$A$504,0),2),\"\"))),\"\")=0,\"\",IFERROR(INDIRECT(CONCATENATE(\"'UNITCOST ITEMS (Data Entry)'!C\",IFERROR(SUM(MATCH(A279,'UNITCOST ITEMS (Data Entry)'!$A$3:$A$504,0),2),\"\"))),\"\"))","v":""},""]
[272,{"$f":"IF(IFERROR(INDIRECT(CONCATENATE(\"'UNITCOST ITEMS (Data Entry)'!D\",IFERROR(SUM(MATCH(A280,'UNITCOST ITEMS (Data Entry)'!$A$3:$A$504,0),2),\"\"))),\"\")=0,\"\",IFERROR(INDIRECT(CONCATENATE(\"'UNITCOST ITEMS (Data Entry)'!D\",IFERROR(SUM(MATCH(A280,'UNITCOST ITEMS (Data Entry)'!$A$3:$A$504,0),2),\"\"))),\"\"))","v":""},{"$f":"IF(IFERROR(INDIRECT(CONCATENATE(\"'UNITCOST ITEMS (Data Entry)'!E\",IFERROR(SUM(MATCH(A280,'UNITCOST ITEMS (Data Entry)'!$A$3:$A$504,0),2),\"\"))),\"\")=0,\"\",IFERROR(INDIRECT(CONCATENATE(\"'UNITCOST ITEMS (Data Entry)'!E\",IFERROR(SUM(MATCH(A280,'UNITCOST ITEMS (Data Entry)'!$A$3:$A$504,0),2),\"\"))),\"\"))","v":""},null,{"$f":"IF(IFERROR(INDIRECT(CONCATENATE(\"'UNITCOST ITEMS (Data Entry)'!F\",IFERROR(SUM(MATCH(A280,'UNITCOST ITEMS (Data Entry)'!$A$3:$A$504,0),2),\"\"))),\"\")=0,\"\",IFERROR(INDIRECT(CONCATENATE(\"'UNITCOST ITEMS (Data Entry)'!F\",IFERROR(SUM(MATCH(A280,'UNITCOST ITEMS (Data Entry)'!$A$3:$A$504,0),2),\"\"))),\"\"))","v":""},{"$f":"IF(IFERROR(INDIRECT(CONCATENATE(\"'UNITCOST ITEMS (Data Entry)'!G\",IFERROR(SUM(MATCH(A280,'UNITCOST ITEMS (Data Entry)'!$A$3:$A$504,0),2),\"\"))),\"\")=0,\"\",IFERROR(INDIRECT(CONCATENATE(\"'UNITCOST ITEMS (Data Entry)'!G\",IFERROR(SUM(MATCH(A280,'UNITCOST ITEMS (Data Entry)'!$A$3:$A$504,0),2),\"\"))),\"\"))","v":""},{"$f":"IF(IFERROR(INDIRECT(CONCATENATE(\"'UNITCOST ITEMS (Data Entry)'!H\",IFERROR(SUM(MATCH(A280,'UNITCOST ITEMS (Data Entry)'!$A$3:$A$504,0),2),\"\"))),\"\")=0,\"\",IFERROR(INDIRECT(CONCATENATE(\"'UNITCOST ITEMS (Data Entry)'!H\",IFERROR(SUM(MATCH(A280,'UNITCOST ITEMS (Data Entry)'!$A$3:$A$504,0),2),\"\"))),\"\"))","v":""},{"$f":"IF(IFERROR(INDIRECT(CONCATENATE(\"'UNITCOST ITEMS (Data Entry)'!I\",IFERROR(SUM(MATCH(A280,'UNITCOST ITEMS (Data Entry)'!$A$3:$A$504,0),2),\"\"))),\"\")=0,\"\",IFERROR(INDIRECT(CONCATENATE(\"'UNITCOST ITEMS (Data Entry)'!I\",IFERROR(SUM(MATCH(A280,'UNITCOST ITEMS (Data Entry)'!$A$3:$A$504,0),2),\"\"))),\"\"))","v":""},{"$f":"IF(K280=2,\"\",IF(IFERROR(INDIRECT(CONCATENATE(\"'UNITCOST ITEMS (Data Entry)'!J\",IFERROR(SUM(MATCH(A280,'UNITCOST ITEMS (Data Entry)'!$A$3:$A$504,0),2),\"\"))),\"\")=0,\"\",IFERROR(INDIRECT(CONCATENATE(\"'UNITCOST ITEMS (Data Entry)'!J\",IFERROR(SUM(MATCH(A280,'UNITCOST ITEMS (Data Entry)'!$A$3:$A$504,0),2),\"\"))),\"\")))","v":""},null,{"$f":"IF(IFERROR(INDIRECT(CONCATENATE(\"'UNITCOST ITEMS (Data Entry)'!C\",IFERROR(SUM(MATCH(A280,'UNITCOST ITEMS (Data Entry)'!$A$3:$A$504,0),2),\"\"))),\"\")=0,\"\",IFERROR(INDIRECT(CONCATENATE(\"'UNITCOST ITEMS (Data Entry)'!C\",IFERROR(SUM(MATCH(A280,'UNITCOST ITEMS (Data Entry)'!$A$3:$A$504,0),2),\"\"))),\"\"))","v":""},""]
[273,{"$f":"IF(IFERROR(INDIRECT(CONCATENATE(\"'UNITCOST ITEMS (Data Entry)'!D\",IFERROR(SUM(MATCH(A281,'UNITCOST ITEMS (Data Entry)'!$A$3:$A$504,0),2),\"\"))),\"\")=0,\"\",IFERROR(INDIRECT(CONCATENATE(\"'UNITCOST ITEMS (Data Entry)'!D\",IFERROR(SUM(MATCH(A281,'UNITCOST ITEMS (Data Entry)'!$A$3:$A$504,0),2),\"\"))),\"\"))","v":""},{"$f":"IF(IFERROR(INDIRECT(CONCATENATE(\"'UNITCOST ITEMS (Data Entry)'!E\",IFERROR(SUM(MATCH(A281,'UNITCOST ITEMS (Data Entry)'!$A$3:$A$504,0),2),\"\"))),\"\")=0,\"\",IFERROR(INDIRECT(CONCATENATE(\"'UNITCOST ITEMS (Data Entry)'!E\",IFERROR(SUM(MATCH(A281,'UNITCOST ITEMS (Data Entry)'!$A$3:$A$504,0),2),\"\"))),\"\"))","v":""},null,{"$f":"IF(IFERROR(INDIRECT(CONCATENATE(\"'UNITCOST ITEMS (Data Entry)'!F\",IFERROR(SUM(MATCH(A281,'UNITCOST ITEMS (Data Entry)'!$A$3:$A$504,0),2),\"\"))),\"\")=0,\"\",IFERROR(INDIRECT(CONCATENATE(\"'UNITCOST ITEMS (Data Entry)'!F\",IFERROR(SUM(MATCH(A281,'UNITCOST ITEMS (Data Entry)'!$A$3:$A$504,0),2),\"\"))),\"\"))","v":""},{"$f":"IF(IFERROR(INDIRECT(CONCATENATE(\"'UNITCOST ITEMS (Data Entry)'!G\",IFERROR(SUM(MATCH(A281,'UNITCOST ITEMS (Data Entry)'!$A$3:$A$504,0),2),\"\"))),\"\")=0,\"\",IFERROR(INDIRECT(CONCATENATE(\"'UNITCOST ITEMS (Data Entry)'!G\",IFERROR(SUM(MATCH(A281,'UNITCOST ITEMS (Data Entry)'!$A$3:$A$504,0),2),\"\"))),\"\"))","v":""},{"$f":"IF(IFERROR(INDIRECT(CONCATENATE(\"'UNITCOST ITEMS (Data Entry)'!H\",IFERROR(SUM(MATCH(A281,'UNITCOST ITEMS (Data Entry)'!$A$3:$A$504,0),2),\"\"))),\"\")=0,\"\",IFERROR(INDIRECT(CONCATENATE(\"'UNITCOST ITEMS (Data Entry)'!H\",IFERROR(SUM(MATCH(A281,'UNITCOST ITEMS (Data Entry)'!$A$3:$A$504,0),2),\"\"))),\"\"))","v":""},{"$f":"IF(IFERROR(INDIRECT(CONCATENATE(\"'UNITCOST ITEMS (Data Entry)'!I\",IFERROR(SUM(MATCH(A281,'UNITCOST ITEMS (Data Entry)'!$A$3:$A$504,0),2),\"\"))),\"\")=0,\"\",IFERROR(INDIRECT(CONCATENATE(\"'UNITCOST ITEMS (Data Entry)'!I\",IFERROR(SUM(MATCH(A281,'UNITCOST ITEMS (Data Entry)'!$A$3:$A$504,0),2),\"\"))),\"\"))","v":""},{"$f":"IF(K281=2,\"\",IF(IFERROR(INDIRECT(CONCATENATE(\"'UNITCOST ITEMS (Data Entry)'!J\",IFERROR(SUM(MATCH(A281,'UNITCOST ITEMS (Data Entry)'!$A$3:$A$504,0),2),\"\"))),\"\")=0,\"\",IFERROR(INDIRECT(CONCATENATE(\"'UNITCOST ITEMS (Data Entry)'!J\",IFERROR(SUM(MATCH(A281,'UNITCOST ITEMS (Data Entry)'!$A$3:$A$504,0),2),\"\"))),\"\")))","v":""},null,{"$f":"IF(IFERROR(INDIRECT(CONCATENATE(\"'UNITCOST ITEMS (Data Entry)'!C\",IFERROR(SUM(MATCH(A281,'UNITCOST ITEMS (Data Entry)'!$A$3:$A$504,0),2),\"\"))),\"\")=0,\"\",IFERROR(INDIRECT(CONCATENATE(\"'UNITCOST ITEMS (Data Entry)'!C\",IFERROR(SUM(MATCH(A281,'UNITCOST ITEMS (Data Entry)'!$A$3:$A$504,0),2),\"\"))),\"\"))","v":""},""]
[274,{"$f":"IF(IFERROR(INDIRECT(CONCATENATE(\"'UNITCOST ITEMS (Data Entry)'!D\",IFERROR(SUM(MATCH(A282,'UNITCOST ITEMS (Data Entry)'!$A$3:$A$504,0),2),\"\"))),\"\")=0,\"\",IFERROR(INDIRECT(CONCATENATE(\"'UNITCOST ITEMS (Data Entry)'!D\",IFERROR(SUM(MATCH(A282,'UNITCOST ITEMS (Data Entry)'!$A$3:$A$504,0),2),\"\"))),\"\"))","v":""},{"$f":"IF(IFERROR(INDIRECT(CONCATENATE(\"'UNITCOST ITEMS (Data Entry)'!E\",IFERROR(SUM(MATCH(A282,'UNITCOST ITEMS (Data Entry)'!$A$3:$A$504,0),2),\"\"))),\"\")=0,\"\",IFERROR(INDIRECT(CONCATENATE(\"'UNITCOST ITEMS (Data Entry)'!E\",IFERROR(SUM(MATCH(A282,'UNITCOST ITEMS (Data Entry)'!$A$3:$A$504,0),2),\"\"))),\"\"))","v":""},null,{"$f":"IF(IFERROR(INDIRECT(CONCATENATE(\"'UNITCOST ITEMS (Data Entry)'!F\",IFERROR(SUM(MATCH(A282,'UNITCOST ITEMS (Data Entry)'!$A$3:$A$504,0),2),\"\"))),\"\")=0,\"\",IFERROR(INDIRECT(CONCATENATE(\"'UNITCOST ITEMS (Data Entry)'!F\",IFERROR(SUM(MATCH(A282,'UNITCOST ITEMS (Data Entry)'!$A$3:$A$504,0),2),\"\"))),\"\"))","v":""},{"$f":"IF(IFERROR(INDIRECT(CONCATENATE(\"'UNITCOST ITEMS (Data Entry)'!G\",IFERROR(SUM(MATCH(A282,'UNITCOST ITEMS (Data Entry)'!$A$3:$A$504,0),2),\"\"))),\"\")=0,\"\",IFERROR(INDIRECT(CONCATENATE(\"'UNITCOST ITEMS (Data Entry)'!G\",IFERROR(SUM(MATCH(A282,'UNITCOST ITEMS (Data Entry)'!$A$3:$A$504,0),2),\"\"))),\"\"))","v":""},{"$f":"IF(IFERROR(INDIRECT(CONCATENATE(\"'UNITCOST ITEMS (Data Entry)'!H\",IFERROR(SUM(MATCH(A282,'UNITCOST ITEMS (Data Entry)'!$A$3:$A$504,0),2),\"\"))),\"\")=0,\"\",IFERROR(INDIRECT(CONCATENATE(\"'UNITCOST ITEMS (Data Entry)'!H\",IFERROR(SUM(MATCH(A282,'UNITCOST ITEMS (Data Entry)'!$A$3:$A$504,0),2),\"\"))),\"\"))","v":""},{"$f":"IF(IFERROR(INDIRECT(CONCATENATE(\"'UNITCOST ITEMS (Data Entry)'!I\",IFERROR(SUM(MATCH(A282,'UNITCOST ITEMS (Data Entry)'!$A$3:$A$504,0),2),\"\"))),\"\")=0,\"\",IFERROR(INDIRECT(CONCATENATE(\"'UNITCOST ITEMS (Data Entry)'!I\",IFERROR(SUM(MATCH(A282,'UNITCOST ITEMS (Data Entry)'!$A$3:$A$504,0),2),\"\"))),\"\"))","v":""},{"$f":"IF(K282=2,\"\",IF(IFERROR(INDIRECT(CONCATENATE(\"'UNITCOST ITEMS (Data Entry)'!J\",IFERROR(SUM(MATCH(A282,'UNITCOST ITEMS (Data Entry)'!$A$3:$A$504,0),2),\"\"))),\"\")=0,\"\",IFERROR(INDIRECT(CONCATENATE(\"'UNITCOST ITEMS (Data Entry)'!J\",IFERROR(SUM(MATCH(A282,'UNITCOST ITEMS (Data Entry)'!$A$3:$A$504,0),2),\"\"))),\"\")))","v":""},null,{"$f":"IF(IFERROR(INDIRECT(CONCATENATE(\"'UNITCOST ITEMS (Data Entry)'!C\",IFERROR(SUM(MATCH(A282,'UNITCOST ITEMS (Data Entry)'!$A$3:$A$504,0),2),\"\"))),\"\")=0,\"\",IFERROR(INDIRECT(CONCATENATE(\"'UNITCOST ITEMS (Data Entry)'!C\",IFERROR(SUM(MATCH(A282,'UNITCOST ITEMS (Data Entry)'!$A$3:$A$504,0),2),\"\"))),\"\"))","v":""},""]
[275,{"$f":"IF(IFERROR(INDIRECT(CONCATENATE(\"'UNITCOST ITEMS (Data Entry)'!D\",IFERROR(SUM(MATCH(A283,'UNITCOST ITEMS (Data Entry)'!$A$3:$A$504,0),2),\"\"))),\"\")=0,\"\",IFERROR(INDIRECT(CONCATENATE(\"'UNITCOST ITEMS (Data Entry)'!D\",IFERROR(SUM(MATCH(A283,'UNITCOST ITEMS (Data Entry)'!$A$3:$A$504,0),2),\"\"))),\"\"))","v":""},{"$f":"IF(IFERROR(INDIRECT(CONCATENATE(\"'UNITCOST ITEMS (Data Entry)'!E\",IFERROR(SUM(MATCH(A283,'UNITCOST ITEMS (Data Entry)'!$A$3:$A$504,0),2),\"\"))),\"\")=0,\"\",IFERROR(INDIRECT(CONCATENATE(\"'UNITCOST ITEMS (Data Entry)'!E\",IFERROR(SUM(MATCH(A283,'UNITCOST ITEMS (Data Entry)'!$A$3:$A$504,0),2),\"\"))),\"\"))","v":""},null,{"$f":"IF(IFERROR(INDIRECT(CONCATENATE(\"'UNITCOST ITEMS (Data Entry)'!F\",IFERROR(SUM(MATCH(A283,'UNITCOST ITEMS (Data Entry)'!$A$3:$A$504,0),2),\"\"))),\"\")=0,\"\",IFERROR(INDIRECT(CONCATENATE(\"'UNITCOST ITEMS (Data Entry)'!F\",IFERROR(SUM(MATCH(A283,'UNITCOST ITEMS (Data Entry)'!$A$3:$A$504,0),2),\"\"))),\"\"))","v":""},{"$f":"IF(IFERROR(INDIRECT(CONCATENATE(\"'UNITCOST ITEMS (Data Entry)'!G\",IFERROR(SUM(MATCH(A283,'UNITCOST ITEMS (Data Entry)'!$A$3:$A$504,0),2),\"\"))),\"\")=0,\"\",IFERROR(INDIRECT(CONCATENATE(\"'UNITCOST ITEMS (Data Entry)'!G\",IFERROR(SUM(MATCH(A283,'UNITCOST ITEMS (Data Entry)'!$A$3:$A$504,0),2),\"\"))),\"\"))","v":""},{"$f":"IF(IFERROR(INDIRECT(CONCATENATE(\"'UNITCOST ITEMS (Data Entry)'!H\",IFERROR(SUM(MATCH(A283,'UNITCOST ITEMS (Data Entry)'!$A$3:$A$504,0),2),\"\"))),\"\")=0,\"\",IFERROR(INDIRECT(CONCATENATE(\"'UNITCOST ITEMS (Data Entry)'!H\",IFERROR(SUM(MATCH(A283,'UNITCOST ITEMS (Data Entry)'!$A$3:$A$504,0),2),\"\"))),\"\"))","v":""},{"$f":"IF(IFERROR(INDIRECT(CONCATENATE(\"'UNITCOST ITEMS (Data Entry)'!I\",IFERROR(SUM(MATCH(A283,'UNITCOST ITEMS (Data Entry)'!$A$3:$A$504,0),2),\"\"))),\"\")=0,\"\",IFERROR(INDIRECT(CONCATENATE(\"'UNITCOST ITEMS (Data Entry)'!I\",IFERROR(SUM(MATCH(A283,'UNITCOST ITEMS (Data Entry)'!$A$3:$A$504,0),2),\"\"))),\"\"))","v":""},{"$f":"IF(K283=2,\"\",IF(IFERROR(INDIRECT(CONCATENATE(\"'UNITCOST ITEMS (Data Entry)'!J\",IFERROR(SUM(MATCH(A283,'UNITCOST ITEMS (Data Entry)'!$A$3:$A$504,0),2),\"\"))),\"\")=0,\"\",IFERROR(INDIRECT(CONCATENATE(\"'UNITCOST ITEMS (Data Entry)'!J\",IFERROR(SUM(MATCH(A283,'UNITCOST ITEMS (Data Entry)'!$A$3:$A$504,0),2),\"\"))),\"\")))","v":""},null,{"$f":"IF(IFERROR(INDIRECT(CONCATENATE(\"'UNITCOST ITEMS (Data Entry)'!C\",IFERROR(SUM(MATCH(A283,'UNITCOST ITEMS (Data Entry)'!$A$3:$A$504,0),2),\"\"))),\"\")=0,\"\",IFERROR(INDIRECT(CONCATENATE(\"'UNITCOST ITEMS (Data Entry)'!C\",IFERROR(SUM(MATCH(A283,'UNITCOST ITEMS (Data Entry)'!$A$3:$A$504,0),2),\"\"))),\"\"))","v":""},""]
[276,{"$f":"IF(IFERROR(INDIRECT(CONCATENATE(\"'UNITCOST ITEMS (Data Entry)'!D\",IFERROR(SUM(MATCH(A284,'UNITCOST ITEMS (Data Entry)'!$A$3:$A$504,0),2),\"\"))),\"\")=0,\"\",IFERROR(INDIRECT(CONCATENATE(\"'UNITCOST ITEMS (Data Entry)'!D\",IFERROR(SUM(MATCH(A284,'UNITCOST ITEMS (Data Entry)'!$A$3:$A$504,0),2),\"\"))),\"\"))","v":""},{"$f":"IF(IFERROR(INDIRECT(CONCATENATE(\"'UNITCOST ITEMS (Data Entry)'!E\",IFERROR(SUM(MATCH(A284,'UNITCOST ITEMS (Data Entry)'!$A$3:$A$504,0),2),\"\"))),\"\")=0,\"\",IFERROR(INDIRECT(CONCATENATE(\"'UNITCOST ITEMS (Data Entry)'!E\",IFERROR(SUM(MATCH(A284,'UNITCOST ITEMS (Data Entry)'!$A$3:$A$504,0),2),\"\"))),\"\"))","v":""},null,{"$f":"IF(IFERROR(INDIRECT(CONCATENATE(\"'UNITCOST ITEMS (Data Entry)'!F\",IFERROR(SUM(MATCH(A284,'UNITCOST ITEMS (Data Entry)'!$A$3:$A$504,0),2),\"\"))),\"\")=0,\"\",IFERROR(INDIRECT(CONCATENATE(\"'UNITCOST ITEMS (Data Entry)'!F\",IFERROR(SUM(MATCH(A284,'UNITCOST ITEMS (Data Entry)'!$A$3:$A$504,0),2),\"\"))),\"\"))","v":""},{"$f":"IF(IFERROR(INDIRECT(CONCATENATE(\"'UNITCOST ITEMS (Data Entry)'!G\",IFERROR(SUM(MATCH(A284,'UNITCOST ITEMS (Data Entry)'!$A$3:$A$504,0),2),\"\"))),\"\")=0,\"\",IFERROR(INDIRECT(CONCATENATE(\"'UNITCOST ITEMS (Data Entry)'!G\",IFERROR(SUM(MATCH(A284,'UNITCOST ITEMS (Data Entry)'!$A$3:$A$504,0),2),\"\"))),\"\"))","v":""},{"$f":"IF(IFERROR(INDIRECT(CONCATENATE(\"'UNITCOST ITEMS (Data Entry)'!H\",IFERROR(SUM(MATCH(A284,'UNITCOST ITEMS (Data Entry)'!$A$3:$A$504,0),2),\"\"))),\"\")=0,\"\",IFERROR(INDIRECT(CONCATENATE(\"'UNITCOST ITEMS (Data Entry)'!H\",IFERROR(SUM(MATCH(A284,'UNITCOST ITEMS (Data Entry)'!$A$3:$A$504,0),2),\"\"))),\"\"))","v":""},{"$f":"IF(IFERROR(INDIRECT(CONCATENATE(\"'UNITCOST ITEMS (Data Entry)'!I\",IFERROR(SUM(MATCH(A284,'UNITCOST ITEMS (Data Entry)'!$A$3:$A$504,0),2),\"\"))),\"\")=0,\"\",IFERROR(INDIRECT(CONCATENATE(\"'UNITCOST ITEMS (Data Entry)'!I\",IFERROR(SUM(MATCH(A284,'UNITCOST ITEMS (Data Entry)'!$A$3:$A$504,0),2),\"\"))),\"\"))","v":""},{"$f":"IF(K284=2,\"\",IF(IFERROR(INDIRECT(CONCATENATE(\"'UNITCOST ITEMS (Data Entry)'!J\",IFERROR(SUM(MATCH(A284,'UNITCOST ITEMS (Data Entry)'!$A$3:$A$504,0),2),\"\"))),\"\")=0,\"\",IFERROR(INDIRECT(CONCATENATE(\"'UNITCOST ITEMS (Data Entry)'!J\",IFERROR(SUM(MATCH(A284,'UNITCOST ITEMS (Data Entry)'!$A$3:$A$504,0),2),\"\"))),\"\")))","v":""},null,{"$f":"IF(IFERROR(INDIRECT(CONCATENATE(\"'UNITCOST ITEMS (Data Entry)'!C\",IFERROR(SUM(MATCH(A284,'UNITCOST ITEMS (Data Entry)'!$A$3:$A$504,0),2),\"\"))),\"\")=0,\"\",IFERROR(INDIRECT(CONCATENATE(\"'UNITCOST ITEMS (Data Entry)'!C\",IFERROR(SUM(MATCH(A284,'UNITCOST ITEMS (Data Entry)'!$A$3:$A$504,0),2),\"\"))),\"\"))","v":""},""]
[277,{"$f":"IF(IFERROR(INDIRECT(CONCATENATE(\"'UNITCOST ITEMS (Data Entry)'!D\",IFERROR(SUM(MATCH(A285,'UNITCOST ITEMS (Data Entry)'!$A$3:$A$504,0),2),\"\"))),\"\")=0,\"\",IFERROR(INDIRECT(CONCATENATE(\"'UNITCOST ITEMS (Data Entry)'!D\",IFERROR(SUM(MATCH(A285,'UNITCOST ITEMS (Data Entry)'!$A$3:$A$504,0),2),\"\"))),\"\"))","v":""},{"$f":"IF(IFERROR(INDIRECT(CONCATENATE(\"'UNITCOST ITEMS (Data Entry)'!E\",IFERROR(SUM(MATCH(A285,'UNITCOST ITEMS (Data Entry)'!$A$3:$A$504,0),2),\"\"))),\"\")=0,\"\",IFERROR(INDIRECT(CONCATENATE(\"'UNITCOST ITEMS (Data Entry)'!E\",IFERROR(SUM(MATCH(A285,'UNITCOST ITEMS (Data Entry)'!$A$3:$A$504,0),2),\"\"))),\"\"))","v":""},null,{"$f":"IF(IFERROR(INDIRECT(CONCATENATE(\"'UNITCOST ITEMS (Data Entry)'!F\",IFERROR(SUM(MATCH(A285,'UNITCOST ITEMS (Data Entry)'!$A$3:$A$504,0),2),\"\"))),\"\")=0,\"\",IFERROR(INDIRECT(CONCATENATE(\"'UNITCOST ITEMS (Data Entry)'!F\",IFERROR(SUM(MATCH(A285,'UNITCOST ITEMS (Data Entry)'!$A$3:$A$504,0),2),\"\"))),\"\"))","v":""},{"$f":"IF(IFERROR(INDIRECT(CONCATENATE(\"'UNITCOST ITEMS (Data Entry)'!G\",IFERROR(SUM(MATCH(A285,'UNITCOST ITEMS (Data Entry)'!$A$3:$A$504,0),2),\"\"))),\"\")=0,\"\",IFERROR(INDIRECT(CONCATENATE(\"'UNITCOST ITEMS (Data Entry)'!G\",IFERROR(SUM(MATCH(A285,'UNITCOST ITEMS (Data Entry)'!$A$3:$A$504,0),2),\"\"))),\"\"))","v":""},{"$f":"IF(IFERROR(INDIRECT(CONCATENATE(\"'UNITCOST ITEMS (Data Entry)'!H\",IFERROR(SUM(MATCH(A285,'UNITCOST ITEMS (Data Entry)'!$A$3:$A$504,0),2),\"\"))),\"\")=0,\"\",IFERROR(INDIRECT(CONCATENATE(\"'UNITCOST ITEMS (Data Entry)'!H\",IFERROR(SUM(MATCH(A285,'UNITCOST ITEMS (Data Entry)'!$A$3:$A$504,0),2),\"\"))),\"\"))","v":""},{"$f":"IF(IFERROR(INDIRECT(CONCATENATE(\"'UNITCOST ITEMS (Data Entry)'!I\",IFERROR(SUM(MATCH(A285,'UNITCOST ITEMS (Data Entry)'!$A$3:$A$504,0),2),\"\"))),\"\")=0,\"\",IFERROR(INDIRECT(CONCATENATE(\"'UNITCOST ITEMS (Data Entry)'!I\",IFERROR(SUM(MATCH(A285,'UNITCOST ITEMS (Data Entry)'!$A$3:$A$504,0),2),\"\"))),\"\"))","v":""},{"$f":"IF(K285=2,\"\",IF(IFERROR(INDIRECT(CONCATENATE(\"'UNITCOST ITEMS (Data Entry)'!J\",IFERROR(SUM(MATCH(A285,'UNITCOST ITEMS (Data Entry)'!$A$3:$A$504,0),2),\"\"))),\"\")=0,\"\",IFERROR(INDIRECT(CONCATENATE(\"'UNITCOST ITEMS (Data Entry)'!J\",IFERROR(SUM(MATCH(A285,'UNITCOST ITEMS (Data Entry)'!$A$3:$A$504,0),2),\"\"))),\"\")))","v":""},null,{"$f":"IF(IFERROR(INDIRECT(CONCATENATE(\"'UNITCOST ITEMS (Data Entry)'!C\",IFERROR(SUM(MATCH(A285,'UNITCOST ITEMS (Data Entry)'!$A$3:$A$504,0),2),\"\"))),\"\")=0,\"\",IFERROR(INDIRECT(CONCATENATE(\"'UNITCOST ITEMS (Data Entry)'!C\",IFERROR(SUM(MATCH(A285,'UNITCOST ITEMS (Data Entry)'!$A$3:$A$504,0),2),\"\"))),\"\"))","v":""},""]
[278,{"$f":"IF(IFERROR(INDIRECT(CONCATENATE(\"'UNITCOST ITEMS (Data Entry)'!D\",IFERROR(SUM(MATCH(A286,'UNITCOST ITEMS (Data Entry)'!$A$3:$A$504,0),2),\"\"))),\"\")=0,\"\",IFERROR(INDIRECT(CONCATENATE(\"'UNITCOST ITEMS (Data Entry)'!D\",IFERROR(SUM(MATCH(A286,'UNITCOST ITEMS (Data Entry)'!$A$3:$A$504,0),2),\"\"))),\"\"))","v":""},{"$f":"IF(IFERROR(INDIRECT(CONCATENATE(\"'UNITCOST ITEMS (Data Entry)'!E\",IFERROR(SUM(MATCH(A286,'UNITCOST ITEMS (Data Entry)'!$A$3:$A$504,0),2),\"\"))),\"\")=0,\"\",IFERROR(INDIRECT(CONCATENATE(\"'UNITCOST ITEMS (Data Entry)'!E\",IFERROR(SUM(MATCH(A286,'UNITCOST ITEMS (Data Entry)'!$A$3:$A$504,0),2),\"\"))),\"\"))","v":""},null,{"$f":"IF(IFERROR(INDIRECT(CONCATENATE(\"'UNITCOST ITEMS (Data Entry)'!F\",IFERROR(SUM(MATCH(A286,'UNITCOST ITEMS (Data Entry)'!$A$3:$A$504,0),2),\"\"))),\"\")=0,\"\",IFERROR(INDIRECT(CONCATENATE(\"'UNITCOST ITEMS (Data Entry)'!F\",IFERROR(SUM(MATCH(A286,'UNITCOST ITEMS (Data Entry)'!$A$3:$A$504,0),2),\"\"))),\"\"))","v":""},{"$f":"IF(IFERROR(INDIRECT(CONCATENATE(\"'UNITCOST ITEMS (Data Entry)'!G\",IFERROR(SUM(MATCH(A286,'UNITCOST ITEMS (Data Entry)'!$A$3:$A$504,0),2),\"\"))),\"\")=0,\"\",IFERROR(INDIRECT(CONCATENATE(\"'UNITCOST ITEMS (Data Entry)'!G\",IFERROR(SUM(MATCH(A286,'UNITCOST ITEMS (Data Entry)'!$A$3:$A$504,0),2),\"\"))),\"\"))","v":""},{"$f":"IF(IFERROR(INDIRECT(CONCATENATE(\"'UNITCOST ITEMS (Data Entry)'!H\",IFERROR(SUM(MATCH(A286,'UNITCOST ITEMS (Data Entry)'!$A$3:$A$504,0),2),\"\"))),\"\")=0,\"\",IFERROR(INDIRECT(CONCATENATE(\"'UNITCOST ITEMS (Data Entry)'!H\",IFERROR(SUM(MATCH(A286,'UNITCOST ITEMS (Data Entry)'!$A$3:$A$504,0),2),\"\"))),\"\"))","v":""},{"$f":"IF(IFERROR(INDIRECT(CONCATENATE(\"'UNITCOST ITEMS (Data Entry)'!I\",IFERROR(SUM(MATCH(A286,'UNITCOST ITEMS (Data Entry)'!$A$3:$A$504,0),2),\"\"))),\"\")=0,\"\",IFERROR(INDIRECT(CONCATENATE(\"'UNITCOST ITEMS (Data Entry)'!I\",IFERROR(SUM(MATCH(A286,'UNITCOST ITEMS (Data Entry)'!$A$3:$A$504,0),2),\"\"))),\"\"))","v":""},{"$f":"IF(K286=2,\"\",IF(IFERROR(INDIRECT(CONCATENATE(\"'UNITCOST ITEMS (Data Entry)'!J\",IFERROR(SUM(MATCH(A286,'UNITCOST ITEMS (Data Entry)'!$A$3:$A$504,0),2),\"\"))),\"\")=0,\"\",IFERROR(INDIRECT(CONCATENATE(\"'UNITCOST ITEMS (Data Entry)'!J\",IFERROR(SUM(MATCH(A286,'UNITCOST ITEMS (Data Entry)'!$A$3:$A$504,0),2),\"\"))),\"\")))","v":""},null,{"$f":"IF(IFERROR(INDIRECT(CONCATENATE(\"'UNITCOST ITEMS (Data Entry)'!C\",IFERROR(SUM(MATCH(A286,'UNITCOST ITEMS (Data Entry)'!$A$3:$A$504,0),2),\"\"))),\"\")=0,\"\",IFERROR(INDIRECT(CONCATENATE(\"'UNITCOST ITEMS (Data Entry)'!C\",IFERROR(SUM(MATCH(A286,'UNITCOST ITEMS (Data Entry)'!$A$3:$A$504,0),2),\"\"))),\"\"))","v":""},""]
[279,{"$f":"IF(IFERROR(INDIRECT(CONCATENATE(\"'UNITCOST ITEMS (Data Entry)'!D\",IFERROR(SUM(MATCH(A287,'UNITCOST ITEMS (Data Entry)'!$A$3:$A$504,0),2),\"\"))),\"\")=0,\"\",IFERROR(INDIRECT(CONCATENATE(\"'UNITCOST ITEMS (Data Entry)'!D\",IFERROR(SUM(MATCH(A287,'UNITCOST ITEMS (Data Entry)'!$A$3:$A$504,0),2),\"\"))),\"\"))","v":""},{"$f":"IF(IFERROR(INDIRECT(CONCATENATE(\"'UNITCOST ITEMS (Data Entry)'!E\",IFERROR(SUM(MATCH(A287,'UNITCOST ITEMS (Data Entry)'!$A$3:$A$504,0),2),\"\"))),\"\")=0,\"\",IFERROR(INDIRECT(CONCATENATE(\"'UNITCOST ITEMS (Data Entry)'!E\",IFERROR(SUM(MATCH(A287,'UNITCOST ITEMS (Data Entry)'!$A$3:$A$504,0),2),\"\"))),\"\"))","v":""},null,{"$f":"IF(IFERROR(INDIRECT(CONCATENATE(\"'UNITCOST ITEMS (Data Entry)'!F\",IFERROR(SUM(MATCH(A287,'UNITCOST ITEMS (Data Entry)'!$A$3:$A$504,0),2),\"\"))),\"\")=0,\"\",IFERROR(INDIRECT(CONCATENATE(\"'UNITCOST ITEMS (Data Entry)'!F\",IFERROR(SUM(MATCH(A287,'UNITCOST ITEMS (Data Entry)'!$A$3:$A$504,0),2),\"\"))),\"\"))","v":""},{"$f":"IF(IFERROR(INDIRECT(CONCATENATE(\"'UNITCOST ITEMS (Data Entry)'!G\",IFERROR(SUM(MATCH(A287,'UNITCOST ITEMS (Data Entry)'!$A$3:$A$504,0),2),\"\"))),\"\")=0,\"\",IFERROR(INDIRECT(CONCATENATE(\"'UNITCOST ITEMS (Data Entry)'!G\",IFERROR(SUM(MATCH(A287,'UNITCOST ITEMS (Data Entry)'!$A$3:$A$504,0),2),\"\"))),\"\"))","v":""},{"$f":"IF(IFERROR(INDIRECT(CONCATENATE(\"'UNITCOST ITEMS (Data Entry)'!H\",IFERROR(SUM(MATCH(A287,'UNITCOST ITEMS (Data Entry)'!$A$3:$A$504,0),2),\"\"))),\"\")=0,\"\",IFERROR(INDIRECT(CONCATENATE(\"'UNITCOST ITEMS (Data Entry)'!H\",IFERROR(SUM(MATCH(A287,'UNITCOST ITEMS (Data Entry)'!$A$3:$A$504,0),2),\"\"))),\"\"))","v":""},{"$f":"IF(IFERROR(INDIRECT(CONCATENATE(\"'UNITCOST ITEMS (Data Entry)'!I\",IFERROR(SUM(MATCH(A287,'UNITCOST ITEMS (Data Entry)'!$A$3:$A$504,0),2),\"\"))),\"\")=0,\"\",IFERROR(INDIRECT(CONCATENATE(\"'UNITCOST ITEMS (Data Entry)'!I\",IFERROR(SUM(MATCH(A287,'UNITCOST ITEMS (Data Entry)'!$A$3:$A$504,0),2),\"\"))),\"\"))","v":""},{"$f":"IF(K287=2,\"\",IF(IFERROR(INDIRECT(CONCATENATE(\"'UNITCOST ITEMS (Data Entry)'!J\",IFERROR(SUM(MATCH(A287,'UNITCOST ITEMS (Data Entry)'!$A$3:$A$504,0),2),\"\"))),\"\")=0,\"\",IFERROR(INDIRECT(CONCATENATE(\"'UNITCOST ITEMS (Data Entry)'!J\",IFERROR(SUM(MATCH(A287,'UNITCOST ITEMS (Data Entry)'!$A$3:$A$504,0),2),\"\"))),\"\")))","v":""},null,{"$f":"IF(IFERROR(INDIRECT(CONCATENATE(\"'UNITCOST ITEMS (Data Entry)'!C\",IFERROR(SUM(MATCH(A287,'UNITCOST ITEMS (Data Entry)'!$A$3:$A$504,0),2),\"\"))),\"\")=0,\"\",IFERROR(INDIRECT(CONCATENATE(\"'UNITCOST ITEMS (Data Entry)'!C\",IFERROR(SUM(MATCH(A287,'UNITCOST ITEMS (Data Entry)'!$A$3:$A$504,0),2),\"\"))),\"\"))","v":""},""]
[280,{"$f":"IF(IFERROR(INDIRECT(CONCATENATE(\"'UNITCOST ITEMS (Data Entry)'!D\",IFERROR(SUM(MATCH(A288,'UNITCOST ITEMS (Data Entry)'!$A$3:$A$504,0),2),\"\"))),\"\")=0,\"\",IFERROR(INDIRECT(CONCATENATE(\"'UNITCOST ITEMS (Data Entry)'!D\",IFERROR(SUM(MATCH(A288,'UNITCOST ITEMS (Data Entry)'!$A$3:$A$504,0),2),\"\"))),\"\"))","v":""},{"$f":"IF(IFERROR(INDIRECT(CONCATENATE(\"'UNITCOST ITEMS (Data Entry)'!E\",IFERROR(SUM(MATCH(A288,'UNITCOST ITEMS (Data Entry)'!$A$3:$A$504,0),2),\"\"))),\"\")=0,\"\",IFERROR(INDIRECT(CONCATENATE(\"'UNITCOST ITEMS (Data Entry)'!E\",IFERROR(SUM(MATCH(A288,'UNITCOST ITEMS (Data Entry)'!$A$3:$A$504,0),2),\"\"))),\"\"))","v":""},null,{"$f":"IF(IFERROR(INDIRECT(CONCATENATE(\"'UNITCOST ITEMS (Data Entry)'!F\",IFERROR(SUM(MATCH(A288,'UNITCOST ITEMS (Data Entry)'!$A$3:$A$504,0),2),\"\"))),\"\")=0,\"\",IFERROR(INDIRECT(CONCATENATE(\"'UNITCOST ITEMS (Data Entry)'!F\",IFERROR(SUM(MATCH(A288,'UNITCOST ITEMS (Data Entry)'!$A$3:$A$504,0),2),\"\"))),\"\"))","v":""},{"$f":"IF(IFERROR(INDIRECT(CONCATENATE(\"'UNITCOST ITEMS (Data Entry)'!G\",IFERROR(SUM(MATCH(A288,'UNITCOST ITEMS (Data Entry)'!$A$3:$A$504,0),2),\"\"))),\"\")=0,\"\",IFERROR(INDIRECT(CONCATENATE(\"'UNITCOST ITEMS (Data Entry)'!G\",IFERROR(SUM(MATCH(A288,'UNITCOST ITEMS (Data Entry)'!$A$3:$A$504,0),2),\"\"))),\"\"))","v":""},{"$f":"IF(IFERROR(INDIRECT(CONCATENATE(\"'UNITCOST ITEMS (Data Entry)'!H\",IFERROR(SUM(MATCH(A288,'UNITCOST ITEMS (Data Entry)'!$A$3:$A$504,0),2),\"\"))),\"\")=0,\"\",IFERROR(INDIRECT(CONCATENATE(\"'UNITCOST ITEMS (Data Entry)'!H\",IFERROR(SUM(MATCH(A288,'UNITCOST ITEMS (Data Entry)'!$A$3:$A$504,0),2),\"\"))),\"\"))","v":""},{"$f":"IF(IFERROR(INDIRECT(CONCATENATE(\"'UNITCOST ITEMS (Data Entry)'!I\",IFERROR(SUM(MATCH(A288,'UNITCOST ITEMS (Data Entry)'!$A$3:$A$504,0),2),\"\"))),\"\")=0,\"\",IFERROR(INDIRECT(CONCATENATE(\"'UNITCOST ITEMS (Data Entry)'!I\",IFERROR(SUM(MATCH(A288,'UNITCOST ITEMS (Data Entry)'!$A$3:$A$504,0),2),\"\"))),\"\"))","v":""},{"$f":"IF(K288=2,\"\",IF(IFERROR(INDIRECT(CONCATENATE(\"'UNITCOST ITEMS (Data Entry)'!J\",IFERROR(SUM(MATCH(A288,'UNITCOST ITEMS (Data Entry)'!$A$3:$A$504,0),2),\"\"))),\"\")=0,\"\",IFERROR(INDIRECT(CONCATENATE(\"'UNITCOST ITEMS (Data Entry)'!J\",IFERROR(SUM(MATCH(A288,'UNITCOST ITEMS (Data Entry)'!$A$3:$A$504,0),2),\"\"))),\"\")))","v":""},null,{"$f":"IF(IFERROR(INDIRECT(CONCATENATE(\"'UNITCOST ITEMS (Data Entry)'!C\",IFERROR(SUM(MATCH(A288,'UNITCOST ITEMS (Data Entry)'!$A$3:$A$504,0),2),\"\"))),\"\")=0,\"\",IFERROR(INDIRECT(CONCATENATE(\"'UNITCOST ITEMS (Data Entry)'!C\",IFERROR(SUM(MATCH(A288,'UNITCOST ITEMS (Data Entry)'!$A$3:$A$504,0),2),\"\"))),\"\"))","v":""},""]
[281,{"$f":"IF(IFERROR(INDIRECT(CONCATENATE(\"'UNITCOST ITEMS (Data Entry)'!D\",IFERROR(SUM(MATCH(A289,'UNITCOST ITEMS (Data Entry)'!$A$3:$A$504,0),2),\"\"))),\"\")=0,\"\",IFERROR(INDIRECT(CONCATENATE(\"'UNITCOST ITEMS (Data Entry)'!D\",IFERROR(SUM(MATCH(A289,'UNITCOST ITEMS (Data Entry)'!$A$3:$A$504,0),2),\"\"))),\"\"))","v":""},{"$f":"IF(IFERROR(INDIRECT(CONCATENATE(\"'UNITCOST ITEMS (Data Entry)'!E\",IFERROR(SUM(MATCH(A289,'UNITCOST ITEMS (Data Entry)'!$A$3:$A$504,0),2),\"\"))),\"\")=0,\"\",IFERROR(INDIRECT(CONCATENATE(\"'UNITCOST ITEMS (Data Entry)'!E\",IFERROR(SUM(MATCH(A289,'UNITCOST ITEMS (Data Entry)'!$A$3:$A$504,0),2),\"\"))),\"\"))","v":""},null,{"$f":"IF(IFERROR(INDIRECT(CONCATENATE(\"'UNITCOST ITEMS (Data Entry)'!F\",IFERROR(SUM(MATCH(A289,'UNITCOST ITEMS (Data Entry)'!$A$3:$A$504,0),2),\"\"))),\"\")=0,\"\",IFERROR(INDIRECT(CONCATENATE(\"'UNITCOST ITEMS (Data Entry)'!F\",IFERROR(SUM(MATCH(A289,'UNITCOST ITEMS (Data Entry)'!$A$3:$A$504,0),2),\"\"))),\"\"))","v":""},{"$f":"IF(IFERROR(INDIRECT(CONCATENATE(\"'UNITCOST ITEMS (Data Entry)'!G\",IFERROR(SUM(MATCH(A289,'UNITCOST ITEMS (Data Entry)'!$A$3:$A$504,0),2),\"\"))),\"\")=0,\"\",IFERROR(INDIRECT(CONCATENATE(\"'UNITCOST ITEMS (Data Entry)'!G\",IFERROR(SUM(MATCH(A289,'UNITCOST ITEMS (Data Entry)'!$A$3:$A$504,0),2),\"\"))),\"\"))","v":""},{"$f":"IF(IFERROR(INDIRECT(CONCATENATE(\"'UNITCOST ITEMS (Data Entry)'!H\",IFERROR(SUM(MATCH(A289,'UNITCOST ITEMS (Data Entry)'!$A$3:$A$504,0),2),\"\"))),\"\")=0,\"\",IFERROR(INDIRECT(CONCATENATE(\"'UNITCOST ITEMS (Data Entry)'!H\",IFERROR(SUM(MATCH(A289,'UNITCOST ITEMS (Data Entry)'!$A$3:$A$504,0),2),\"\"))),\"\"))","v":""},{"$f":"IF(IFERROR(INDIRECT(CONCATENATE(\"'UNITCOST ITEMS (Data Entry)'!I\",IFERROR(SUM(MATCH(A289,'UNITCOST ITEMS (Data Entry)'!$A$3:$A$504,0),2),\"\"))),\"\")=0,\"\",IFERROR(INDIRECT(CONCATENATE(\"'UNITCOST ITEMS (Data Entry)'!I\",IFERROR(SUM(MATCH(A289,'UNITCOST ITEMS (Data Entry)'!$A$3:$A$504,0),2),\"\"))),\"\"))","v":""},{"$f":"IF(K289=2,\"\",IF(IFERROR(INDIRECT(CONCATENATE(\"'UNITCOST ITEMS (Data Entry)'!J\",IFERROR(SUM(MATCH(A289,'UNITCOST ITEMS (Data Entry)'!$A$3:$A$504,0),2),\"\"))),\"\")=0,\"\",IFERROR(INDIRECT(CONCATENATE(\"'UNITCOST ITEMS (Data Entry)'!J\",IFERROR(SUM(MATCH(A289,'UNITCOST ITEMS (Data Entry)'!$A$3:$A$504,0),2),\"\"))),\"\")))","v":""},null,{"$f":"IF(IFERROR(INDIRECT(CONCATENATE(\"'UNITCOST ITEMS (Data Entry)'!C\",IFERROR(SUM(MATCH(A289,'UNITCOST ITEMS (Data Entry)'!$A$3:$A$504,0),2),\"\"))),\"\")=0,\"\",IFERROR(INDIRECT(CONCATENATE(\"'UNITCOST ITEMS (Data Entry)'!C\",IFERROR(SUM(MATCH(A289,'UNITCOST ITEMS (Data Entry)'!$A$3:$A$504,0),2),\"\"))),\"\"))","v":""},""]
[282,{"$f":"IF(IFERROR(INDIRECT(CONCATENATE(\"'UNITCOST ITEMS (Data Entry)'!D\",IFERROR(SUM(MATCH(A290,'UNITCOST ITEMS (Data Entry)'!$A$3:$A$504,0),2),\"\"))),\"\")=0,\"\",IFERROR(INDIRECT(CONCATENATE(\"'UNITCOST ITEMS (Data Entry)'!D\",IFERROR(SUM(MATCH(A290,'UNITCOST ITEMS (Data Entry)'!$A$3:$A$504,0),2),\"\"))),\"\"))","v":""},{"$f":"IF(IFERROR(INDIRECT(CONCATENATE(\"'UNITCOST ITEMS (Data Entry)'!E\",IFERROR(SUM(MATCH(A290,'UNITCOST ITEMS (Data Entry)'!$A$3:$A$504,0),2),\"\"))),\"\")=0,\"\",IFERROR(INDIRECT(CONCATENATE(\"'UNITCOST ITEMS (Data Entry)'!E\",IFERROR(SUM(MATCH(A290,'UNITCOST ITEMS (Data Entry)'!$A$3:$A$504,0),2),\"\"))),\"\"))","v":""},null,{"$f":"IF(IFERROR(INDIRECT(CONCATENATE(\"'UNITCOST ITEMS (Data Entry)'!F\",IFERROR(SUM(MATCH(A290,'UNITCOST ITEMS (Data Entry)'!$A$3:$A$504,0),2),\"\"))),\"\")=0,\"\",IFERROR(INDIRECT(CONCATENATE(\"'UNITCOST ITEMS (Data Entry)'!F\",IFERROR(SUM(MATCH(A290,'UNITCOST ITEMS (Data Entry)'!$A$3:$A$504,0),2),\"\"))),\"\"))","v":""},{"$f":"IF(IFERROR(INDIRECT(CONCATENATE(\"'UNITCOST ITEMS (Data Entry)'!G\",IFERROR(SUM(MATCH(A290,'UNITCOST ITEMS (Data Entry)'!$A$3:$A$504,0),2),\"\"))),\"\")=0,\"\",IFERROR(INDIRECT(CONCATENATE(\"'UNITCOST ITEMS (Data Entry)'!G\",IFERROR(SUM(MATCH(A290,'UNITCOST ITEMS (Data Entry)'!$A$3:$A$504,0),2),\"\"))),\"\"))","v":""},{"$f":"IF(IFERROR(INDIRECT(CONCATENATE(\"'UNITCOST ITEMS (Data Entry)'!H\",IFERROR(SUM(MATCH(A290,'UNITCOST ITEMS (Data Entry)'!$A$3:$A$504,0),2),\"\"))),\"\")=0,\"\",IFERROR(INDIRECT(CONCATENATE(\"'UNITCOST ITEMS (Data Entry)'!H\",IFERROR(SUM(MATCH(A290,'UNITCOST ITEMS (Data Entry)'!$A$3:$A$504,0),2),\"\"))),\"\"))","v":""},{"$f":"IF(IFERROR(INDIRECT(CONCATENATE(\"'UNITCOST ITEMS (Data Entry)'!I\",IFERROR(SUM(MATCH(A290,'UNITCOST ITEMS (Data Entry)'!$A$3:$A$504,0),2),\"\"))),\"\")=0,\"\",IFERROR(INDIRECT(CONCATENATE(\"'UNITCOST ITEMS (Data Entry)'!I\",IFERROR(SUM(MATCH(A290,'UNITCOST ITEMS (Data Entry)'!$A$3:$A$504,0),2),\"\"))),\"\"))","v":""},{"$f":"IF(K290=2,\"\",IF(IFERROR(INDIRECT(CONCATENATE(\"'UNITCOST ITEMS (Data Entry)'!J\",IFERROR(SUM(MATCH(A290,'UNITCOST ITEMS (Data Entry)'!$A$3:$A$504,0),2),\"\"))),\"\")=0,\"\",IFERROR(INDIRECT(CONCATENATE(\"'UNITCOST ITEMS (Data Entry)'!J\",IFERROR(SUM(MATCH(A290,'UNITCOST ITEMS (Data Entry)'!$A$3:$A$504,0),2),\"\"))),\"\")))","v":""},null,{"$f":"IF(IFERROR(INDIRECT(CONCATENATE(\"'UNITCOST ITEMS (Data Entry)'!C\",IFERROR(SUM(MATCH(A290,'UNITCOST ITEMS (Data Entry)'!$A$3:$A$504,0),2),\"\"))),\"\")=0,\"\",IFERROR(INDIRECT(CONCATENATE(\"'UNITCOST ITEMS (Data Entry)'!C\",IFERROR(SUM(MATCH(A290,'UNITCOST ITEMS (Data Entry)'!$A$3:$A$504,0),2),\"\"))),\"\"))","v":""},""]
[283,{"$f":"IF(IFERROR(INDIRECT(CONCATENATE(\"'UNITCOST ITEMS (Data Entry)'!D\",IFERROR(SUM(MATCH(A291,'UNITCOST ITEMS (Data Entry)'!$A$3:$A$504,0),2),\"\"))),\"\")=0,\"\",IFERROR(INDIRECT(CONCATENATE(\"'UNITCOST ITEMS (Data Entry)'!D\",IFERROR(SUM(MATCH(A291,'UNITCOST ITEMS (Data Entry)'!$A$3:$A$504,0),2),\"\"))),\"\"))","v":""},{"$f":"IF(IFERROR(INDIRECT(CONCATENATE(\"'UNITCOST ITEMS (Data Entry)'!E\",IFERROR(SUM(MATCH(A291,'UNITCOST ITEMS (Data Entry)'!$A$3:$A$504,0),2),\"\"))),\"\")=0,\"\",IFERROR(INDIRECT(CONCATENATE(\"'UNITCOST ITEMS (Data Entry)'!E\",IFERROR(SUM(MATCH(A291,'UNITCOST ITEMS (Data Entry)'!$A$3:$A$504,0),2),\"\"))),\"\"))","v":""},null,{"$f":"IF(IFERROR(INDIRECT(CONCATENATE(\"'UNITCOST ITEMS (Data Entry)'!F\",IFERROR(SUM(MATCH(A291,'UNITCOST ITEMS (Data Entry)'!$A$3:$A$504,0),2),\"\"))),\"\")=0,\"\",IFERROR(INDIRECT(CONCATENATE(\"'UNITCOST ITEMS (Data Entry)'!F\",IFERROR(SUM(MATCH(A291,'UNITCOST ITEMS (Data Entry)'!$A$3:$A$504,0),2),\"\"))),\"\"))","v":""},{"$f":"IF(IFERROR(INDIRECT(CONCATENATE(\"'UNITCOST ITEMS (Data Entry)'!G\",IFERROR(SUM(MATCH(A291,'UNITCOST ITEMS (Data Entry)'!$A$3:$A$504,0),2),\"\"))),\"\")=0,\"\",IFERROR(INDIRECT(CONCATENATE(\"'UNITCOST ITEMS (Data Entry)'!G\",IFERROR(SUM(MATCH(A291,'UNITCOST ITEMS (Data Entry)'!$A$3:$A$504,0),2),\"\"))),\"\"))","v":""},{"$f":"IF(IFERROR(INDIRECT(CONCATENATE(\"'UNITCOST ITEMS (Data Entry)'!H\",IFERROR(SUM(MATCH(A291,'UNITCOST ITEMS (Data Entry)'!$A$3:$A$504,0),2),\"\"))),\"\")=0,\"\",IFERROR(INDIRECT(CONCATENATE(\"'UNITCOST ITEMS (Data Entry)'!H\",IFERROR(SUM(MATCH(A291,'UNITCOST ITEMS (Data Entry)'!$A$3:$A$504,0),2),\"\"))),\"\"))","v":""},{"$f":"IF(IFERROR(INDIRECT(CONCATENATE(\"'UNITCOST ITEMS (Data Entry)'!I\",IFERROR(SUM(MATCH(A291,'UNITCOST ITEMS (Data Entry)'!$A$3:$A$504,0),2),\"\"))),\"\")=0,\"\",IFERROR(INDIRECT(CONCATENATE(\"'UNITCOST ITEMS (Data Entry)'!I\",IFERROR(SUM(MATCH(A291,'UNITCOST ITEMS (Data Entry)'!$A$3:$A$504,0),2),\"\"))),\"\"))","v":""},{"$f":"IF(K291=2,\"\",IF(IFERROR(INDIRECT(CONCATENATE(\"'UNITCOST ITEMS (Data Entry)'!J\",IFERROR(SUM(MATCH(A291,'UNITCOST ITEMS (Data Entry)'!$A$3:$A$504,0),2),\"\"))),\"\")=0,\"\",IFERROR(INDIRECT(CONCATENATE(\"'UNITCOST ITEMS (Data Entry)'!J\",IFERROR(SUM(MATCH(A291,'UNITCOST ITEMS (Data Entry)'!$A$3:$A$504,0),2),\"\"))),\"\")))","v":""},null,{"$f":"IF(IFERROR(INDIRECT(CONCATENATE(\"'UNITCOST ITEMS (Data Entry)'!C\",IFERROR(SUM(MATCH(A291,'UNITCOST ITEMS (Data Entry)'!$A$3:$A$504,0),2),\"\"))),\"\")=0,\"\",IFERROR(INDIRECT(CONCATENATE(\"'UNITCOST ITEMS (Data Entry)'!C\",IFERROR(SUM(MATCH(A291,'UNITCOST ITEMS (Data Entry)'!$A$3:$A$504,0),2),\"\"))),\"\"))","v":""},""]
[284,{"$f":"IF(IFERROR(INDIRECT(CONCATENATE(\"'UNITCOST ITEMS (Data Entry)'!D\",IFERROR(SUM(MATCH(A292,'UNITCOST ITEMS (Data Entry)'!$A$3:$A$504,0),2),\"\"))),\"\")=0,\"\",IFERROR(INDIRECT(CONCATENATE(\"'UNITCOST ITEMS (Data Entry)'!D\",IFERROR(SUM(MATCH(A292,'UNITCOST ITEMS (Data Entry)'!$A$3:$A$504,0),2),\"\"))),\"\"))","v":""},{"$f":"IF(IFERROR(INDIRECT(CONCATENATE(\"'UNITCOST ITEMS (Data Entry)'!E\",IFERROR(SUM(MATCH(A292,'UNITCOST ITEMS (Data Entry)'!$A$3:$A$504,0),2),\"\"))),\"\")=0,\"\",IFERROR(INDIRECT(CONCATENATE(\"'UNITCOST ITEMS (Data Entry)'!E\",IFERROR(SUM(MATCH(A292,'UNITCOST ITEMS (Data Entry)'!$A$3:$A$504,0),2),\"\"))),\"\"))","v":""},null,{"$f":"IF(IFERROR(INDIRECT(CONCATENATE(\"'UNITCOST ITEMS (Data Entry)'!F\",IFERROR(SUM(MATCH(A292,'UNITCOST ITEMS (Data Entry)'!$A$3:$A$504,0),2),\"\"))),\"\")=0,\"\",IFERROR(INDIRECT(CONCATENATE(\"'UNITCOST ITEMS (Data Entry)'!F\",IFERROR(SUM(MATCH(A292,'UNITCOST ITEMS (Data Entry)'!$A$3:$A$504,0),2),\"\"))),\"\"))","v":""},{"$f":"IF(IFERROR(INDIRECT(CONCATENATE(\"'UNITCOST ITEMS (Data Entry)'!G\",IFERROR(SUM(MATCH(A292,'UNITCOST ITEMS (Data Entry)'!$A$3:$A$504,0),2),\"\"))),\"\")=0,\"\",IFERROR(INDIRECT(CONCATENATE(\"'UNITCOST ITEMS (Data Entry)'!G\",IFERROR(SUM(MATCH(A292,'UNITCOST ITEMS (Data Entry)'!$A$3:$A$504,0),2),\"\"))),\"\"))","v":""},{"$f":"IF(IFERROR(INDIRECT(CONCATENATE(\"'UNITCOST ITEMS (Data Entry)'!H\",IFERROR(SUM(MATCH(A292,'UNITCOST ITEMS (Data Entry)'!$A$3:$A$504,0),2),\"\"))),\"\")=0,\"\",IFERROR(INDIRECT(CONCATENATE(\"'UNITCOST ITEMS (Data Entry)'!H\",IFERROR(SUM(MATCH(A292,'UNITCOST ITEMS (Data Entry)'!$A$3:$A$504,0),2),\"\"))),\"\"))","v":""},{"$f":"IF(IFERROR(INDIRECT(CONCATENATE(\"'UNITCOST ITEMS (Data Entry)'!I\",IFERROR(SUM(MATCH(A292,'UNITCOST ITEMS (Data Entry)'!$A$3:$A$504,0),2),\"\"))),\"\")=0,\"\",IFERROR(INDIRECT(CONCATENATE(\"'UNITCOST ITEMS (Data Entry)'!I\",IFERROR(SUM(MATCH(A292,'UNITCOST ITEMS (Data Entry)'!$A$3:$A$504,0),2),\"\"))),\"\"))","v":""},{"$f":"IF(K292=2,\"\",IF(IFERROR(INDIRECT(CONCATENATE(\"'UNITCOST ITEMS (Data Entry)'!J\",IFERROR(SUM(MATCH(A292,'UNITCOST ITEMS (Data Entry)'!$A$3:$A$504,0),2),\"\"))),\"\")=0,\"\",IFERROR(INDIRECT(CONCATENATE(\"'UNITCOST ITEMS (Data Entry)'!J\",IFERROR(SUM(MATCH(A292,'UNITCOST ITEMS (Data Entry)'!$A$3:$A$504,0),2),\"\"))),\"\")))","v":""},null,{"$f":"IF(IFERROR(INDIRECT(CONCATENATE(\"'UNITCOST ITEMS (Data Entry)'!C\",IFERROR(SUM(MATCH(A292,'UNITCOST ITEMS (Data Entry)'!$A$3:$A$504,0),2),\"\"))),\"\")=0,\"\",IFERROR(INDIRECT(CONCATENATE(\"'UNITCOST ITEMS (Data Entry)'!C\",IFERROR(SUM(MATCH(A292,'UNITCOST ITEMS (Data Entry)'!$A$3:$A$504,0),2),\"\"))),\"\"))","v":""},""]
[285,{"$f":"IF(IFERROR(INDIRECT(CONCATENATE(\"'UNITCOST ITEMS (Data Entry)'!D\",IFERROR(SUM(MATCH(A293,'UNITCOST ITEMS (Data Entry)'!$A$3:$A$504,0),2),\"\"))),\"\")=0,\"\",IFERROR(INDIRECT(CONCATENATE(\"'UNITCOST ITEMS (Data Entry)'!D\",IFERROR(SUM(MATCH(A293,'UNITCOST ITEMS (Data Entry)'!$A$3:$A$504,0),2),\"\"))),\"\"))","v":""},{"$f":"IF(IFERROR(INDIRECT(CONCATENATE(\"'UNITCOST ITEMS (Data Entry)'!E\",IFERROR(SUM(MATCH(A293,'UNITCOST ITEMS (Data Entry)'!$A$3:$A$504,0),2),\"\"))),\"\")=0,\"\",IFERROR(INDIRECT(CONCATENATE(\"'UNITCOST ITEMS (Data Entry)'!E\",IFERROR(SUM(MATCH(A293,'UNITCOST ITEMS (Data Entry)'!$A$3:$A$504,0),2),\"\"))),\"\"))","v":""},null,{"$f":"IF(IFERROR(INDIRECT(CONCATENATE(\"'UNITCOST ITEMS (Data Entry)'!F\",IFERROR(SUM(MATCH(A293,'UNITCOST ITEMS (Data Entry)'!$A$3:$A$504,0),2),\"\"))),\"\")=0,\"\",IFERROR(INDIRECT(CONCATENATE(\"'UNITCOST ITEMS (Data Entry)'!F\",IFERROR(SUM(MATCH(A293,'UNITCOST ITEMS (Data Entry)'!$A$3:$A$504,0),2),\"\"))),\"\"))","v":""},{"$f":"IF(IFERROR(INDIRECT(CONCATENATE(\"'UNITCOST ITEMS (Data Entry)'!G\",IFERROR(SUM(MATCH(A293,'UNITCOST ITEMS (Data Entry)'!$A$3:$A$504,0),2),\"\"))),\"\")=0,\"\",IFERROR(INDIRECT(CONCATENATE(\"'UNITCOST ITEMS (Data Entry)'!G\",IFERROR(SUM(MATCH(A293,'UNITCOST ITEMS (Data Entry)'!$A$3:$A$504,0),2),\"\"))),\"\"))","v":""},{"$f":"IF(IFERROR(INDIRECT(CONCATENATE(\"'UNITCOST ITEMS (Data Entry)'!H\",IFERROR(SUM(MATCH(A293,'UNITCOST ITEMS (Data Entry)'!$A$3:$A$504,0),2),\"\"))),\"\")=0,\"\",IFERROR(INDIRECT(CONCATENATE(\"'UNITCOST ITEMS (Data Entry)'!H\",IFERROR(SUM(MATCH(A293,'UNITCOST ITEMS (Data Entry)'!$A$3:$A$504,0),2),\"\"))),\"\"))","v":""},{"$f":"IF(IFERROR(INDIRECT(CONCATENATE(\"'UNITCOST ITEMS (Data Entry)'!I\",IFERROR(SUM(MATCH(A293,'UNITCOST ITEMS (Data Entry)'!$A$3:$A$504,0),2),\"\"))),\"\")=0,\"\",IFERROR(INDIRECT(CONCATENATE(\"'UNITCOST ITEMS (Data Entry)'!I\",IFERROR(SUM(MATCH(A293,'UNITCOST ITEMS (Data Entry)'!$A$3:$A$504,0),2),\"\"))),\"\"))","v":""},{"$f":"IF(K293=2,\"\",IF(IFERROR(INDIRECT(CONCATENATE(\"'UNITCOST ITEMS (Data Entry)'!J\",IFERROR(SUM(MATCH(A293,'UNITCOST ITEMS (Data Entry)'!$A$3:$A$504,0),2),\"\"))),\"\")=0,\"\",IFERROR(INDIRECT(CONCATENATE(\"'UNITCOST ITEMS (Data Entry)'!J\",IFERROR(SUM(MATCH(A293,'UNITCOST ITEMS (Data Entry)'!$A$3:$A$504,0),2),\"\"))),\"\")))","v":""},null,{"$f":"IF(IFERROR(INDIRECT(CONCATENATE(\"'UNITCOST ITEMS (Data Entry)'!C\",IFERROR(SUM(MATCH(A293,'UNITCOST ITEMS (Data Entry)'!$A$3:$A$504,0),2),\"\"))),\"\")=0,\"\",IFERROR(INDIRECT(CONCATENATE(\"'UNITCOST ITEMS (Data Entry)'!C\",IFERROR(SUM(MATCH(A293,'UNITCOST ITEMS (Data Entry)'!$A$3:$A$504,0),2),\"\"))),\"\"))","v":""},""]
[286,{"$f":"IF(IFERROR(INDIRECT(CONCATENATE(\"'UNITCOST ITEMS (Data Entry)'!D\",IFERROR(SUM(MATCH(A294,'UNITCOST ITEMS (Data Entry)'!$A$3:$A$504,0),2),\"\"))),\"\")=0,\"\",IFERROR(INDIRECT(CONCATENATE(\"'UNITCOST ITEMS (Data Entry)'!D\",IFERROR(SUM(MATCH(A294,'UNITCOST ITEMS (Data Entry)'!$A$3:$A$504,0),2),\"\"))),\"\"))","v":""},{"$f":"IF(IFERROR(INDIRECT(CONCATENATE(\"'UNITCOST ITEMS (Data Entry)'!E\",IFERROR(SUM(MATCH(A294,'UNITCOST ITEMS (Data Entry)'!$A$3:$A$504,0),2),\"\"))),\"\")=0,\"\",IFERROR(INDIRECT(CONCATENATE(\"'UNITCOST ITEMS (Data Entry)'!E\",IFERROR(SUM(MATCH(A294,'UNITCOST ITEMS (Data Entry)'!$A$3:$A$504,0),2),\"\"))),\"\"))","v":""},null,{"$f":"IF(IFERROR(INDIRECT(CONCATENATE(\"'UNITCOST ITEMS (Data Entry)'!F\",IFERROR(SUM(MATCH(A294,'UNITCOST ITEMS (Data Entry)'!$A$3:$A$504,0),2),\"\"))),\"\")=0,\"\",IFERROR(INDIRECT(CONCATENATE(\"'UNITCOST ITEMS (Data Entry)'!F\",IFERROR(SUM(MATCH(A294,'UNITCOST ITEMS (Data Entry)'!$A$3:$A$504,0),2),\"\"))),\"\"))","v":""},{"$f":"IF(IFERROR(INDIRECT(CONCATENATE(\"'UNITCOST ITEMS (Data Entry)'!G\",IFERROR(SUM(MATCH(A294,'UNITCOST ITEMS (Data Entry)'!$A$3:$A$504,0),2),\"\"))),\"\")=0,\"\",IFERROR(INDIRECT(CONCATENATE(\"'UNITCOST ITEMS (Data Entry)'!G\",IFERROR(SUM(MATCH(A294,'UNITCOST ITEMS (Data Entry)'!$A$3:$A$504,0),2),\"\"))),\"\"))","v":""},{"$f":"IF(IFERROR(INDIRECT(CONCATENATE(\"'UNITCOST ITEMS (Data Entry)'!H\",IFERROR(SUM(MATCH(A294,'UNITCOST ITEMS (Data Entry)'!$A$3:$A$504,0),2),\"\"))),\"\")=0,\"\",IFERROR(INDIRECT(CONCATENATE(\"'UNITCOST ITEMS (Data Entry)'!H\",IFERROR(SUM(MATCH(A294,'UNITCOST ITEMS (Data Entry)'!$A$3:$A$504,0),2),\"\"))),\"\"))","v":""},{"$f":"IF(IFERROR(INDIRECT(CONCATENATE(\"'UNITCOST ITEMS (Data Entry)'!I\",IFERROR(SUM(MATCH(A294,'UNITCOST ITEMS (Data Entry)'!$A$3:$A$504,0),2),\"\"))),\"\")=0,\"\",IFERROR(INDIRECT(CONCATENATE(\"'UNITCOST ITEMS (Data Entry)'!I\",IFERROR(SUM(MATCH(A294,'UNITCOST ITEMS (Data Entry)'!$A$3:$A$504,0),2),\"\"))),\"\"))","v":""},{"$f":"IF(K294=2,\"\",IF(IFERROR(INDIRECT(CONCATENATE(\"'UNITCOST ITEMS (Data Entry)'!J\",IFERROR(SUM(MATCH(A294,'UNITCOST ITEMS (Data Entry)'!$A$3:$A$504,0),2),\"\"))),\"\")=0,\"\",IFERROR(INDIRECT(CONCATENATE(\"'UNITCOST ITEMS (Data Entry)'!J\",IFERROR(SUM(MATCH(A294,'UNITCOST ITEMS (Data Entry)'!$A$3:$A$504,0),2),\"\"))),\"\")))","v":""},null,{"$f":"IF(IFERROR(INDIRECT(CONCATENATE(\"'UNITCOST ITEMS (Data Entry)'!C\",IFERROR(SUM(MATCH(A294,'UNITCOST ITEMS (Data Entry)'!$A$3:$A$504,0),2),\"\"))),\"\")=0,\"\",IFERROR(INDIRECT(CONCATENATE(\"'UNITCOST ITEMS (Data Entry)'!C\",IFERROR(SUM(MATCH(A294,'UNITCOST ITEMS (Data Entry)'!$A$3:$A$504,0),2),\"\"))),\"\"))","v":""},""]
[287,{"$f":"IF(IFERROR(INDIRECT(CONCATENATE(\"'UNITCOST ITEMS (Data Entry)'!D\",IFERROR(SUM(MATCH(A295,'UNITCOST ITEMS (Data Entry)'!$A$3:$A$504,0),2),\"\"))),\"\")=0,\"\",IFERROR(INDIRECT(CONCATENATE(\"'UNITCOST ITEMS (Data Entry)'!D\",IFERROR(SUM(MATCH(A295,'UNITCOST ITEMS (Data Entry)'!$A$3:$A$504,0),2),\"\"))),\"\"))","v":""},{"$f":"IF(IFERROR(INDIRECT(CONCATENATE(\"'UNITCOST ITEMS (Data Entry)'!E\",IFERROR(SUM(MATCH(A295,'UNITCOST ITEMS (Data Entry)'!$A$3:$A$504,0),2),\"\"))),\"\")=0,\"\",IFERROR(INDIRECT(CONCATENATE(\"'UNITCOST ITEMS (Data Entry)'!E\",IFERROR(SUM(MATCH(A295,'UNITCOST ITEMS (Data Entry)'!$A$3:$A$504,0),2),\"\"))),\"\"))","v":""},null,{"$f":"IF(IFERROR(INDIRECT(CONCATENATE(\"'UNITCOST ITEMS (Data Entry)'!F\",IFERROR(SUM(MATCH(A295,'UNITCOST ITEMS (Data Entry)'!$A$3:$A$504,0),2),\"\"))),\"\")=0,\"\",IFERROR(INDIRECT(CONCATENATE(\"'UNITCOST ITEMS (Data Entry)'!F\",IFERROR(SUM(MATCH(A295,'UNITCOST ITEMS (Data Entry)'!$A$3:$A$504,0),2),\"\"))),\"\"))","v":""},{"$f":"IF(IFERROR(INDIRECT(CONCATENATE(\"'UNITCOST ITEMS (Data Entry)'!G\",IFERROR(SUM(MATCH(A295,'UNITCOST ITEMS (Data Entry)'!$A$3:$A$504,0),2),\"\"))),\"\")=0,\"\",IFERROR(INDIRECT(CONCATENATE(\"'UNITCOST ITEMS (Data Entry)'!G\",IFERROR(SUM(MATCH(A295,'UNITCOST ITEMS (Data Entry)'!$A$3:$A$504,0),2),\"\"))),\"\"))","v":""},{"$f":"IF(IFERROR(INDIRECT(CONCATENATE(\"'UNITCOST ITEMS (Data Entry)'!H\",IFERROR(SUM(MATCH(A295,'UNITCOST ITEMS (Data Entry)'!$A$3:$A$504,0),2),\"\"))),\"\")=0,\"\",IFERROR(INDIRECT(CONCATENATE(\"'UNITCOST ITEMS (Data Entry)'!H\",IFERROR(SUM(MATCH(A295,'UNITCOST ITEMS (Data Entry)'!$A$3:$A$504,0),2),\"\"))),\"\"))","v":""},{"$f":"IF(IFERROR(INDIRECT(CONCATENATE(\"'UNITCOST ITEMS (Data Entry)'!I\",IFERROR(SUM(MATCH(A295,'UNITCOST ITEMS (Data Entry)'!$A$3:$A$504,0),2),\"\"))),\"\")=0,\"\",IFERROR(INDIRECT(CONCATENATE(\"'UNITCOST ITEMS (Data Entry)'!I\",IFERROR(SUM(MATCH(A295,'UNITCOST ITEMS (Data Entry)'!$A$3:$A$504,0),2),\"\"))),\"\"))","v":""},{"$f":"IF(K295=2,\"\",IF(IFERROR(INDIRECT(CONCATENATE(\"'UNITCOST ITEMS (Data Entry)'!J\",IFERROR(SUM(MATCH(A295,'UNITCOST ITEMS (Data Entry)'!$A$3:$A$504,0),2),\"\"))),\"\")=0,\"\",IFERROR(INDIRECT(CONCATENATE(\"'UNITCOST ITEMS (Data Entry)'!J\",IFERROR(SUM(MATCH(A295,'UNITCOST ITEMS (Data Entry)'!$A$3:$A$504,0),2),\"\"))),\"\")))","v":""},null,{"$f":"IF(IFERROR(INDIRECT(CONCATENATE(\"'UNITCOST ITEMS (Data Entry)'!C\",IFERROR(SUM(MATCH(A295,'UNITCOST ITEMS (Data Entry)'!$A$3:$A$504,0),2),\"\"))),\"\")=0,\"\",IFERROR(INDIRECT(CONCATENATE(\"'UNITCOST ITEMS (Data Entry)'!C\",IFERROR(SUM(MATCH(A295,'UNITCOST ITEMS (Data Entry)'!$A$3:$A$504,0),2),\"\"))),\"\"))","v":""},""]
[288,{"$f":"IF(IFERROR(INDIRECT(CONCATENATE(\"'UNITCOST ITEMS (Data Entry)'!D\",IFERROR(SUM(MATCH(A296,'UNITCOST ITEMS (Data Entry)'!$A$3:$A$504,0),2),\"\"))),\"\")=0,\"\",IFERROR(INDIRECT(CONCATENATE(\"'UNITCOST ITEMS (Data Entry)'!D\",IFERROR(SUM(MATCH(A296,'UNITCOST ITEMS (Data Entry)'!$A$3:$A$504,0),2),\"\"))),\"\"))","v":""},{"$f":"IF(IFERROR(INDIRECT(CONCATENATE(\"'UNITCOST ITEMS (Data Entry)'!E\",IFERROR(SUM(MATCH(A296,'UNITCOST ITEMS (Data Entry)'!$A$3:$A$504,0),2),\"\"))),\"\")=0,\"\",IFERROR(INDIRECT(CONCATENATE(\"'UNITCOST ITEMS (Data Entry)'!E\",IFERROR(SUM(MATCH(A296,'UNITCOST ITEMS (Data Entry)'!$A$3:$A$504,0),2),\"\"))),\"\"))","v":""},null,{"$f":"IF(IFERROR(INDIRECT(CONCATENATE(\"'UNITCOST ITEMS (Data Entry)'!F\",IFERROR(SUM(MATCH(A296,'UNITCOST ITEMS (Data Entry)'!$A$3:$A$504,0),2),\"\"))),\"\")=0,\"\",IFERROR(INDIRECT(CONCATENATE(\"'UNITCOST ITEMS (Data Entry)'!F\",IFERROR(SUM(MATCH(A296,'UNITCOST ITEMS (Data Entry)'!$A$3:$A$504,0),2),\"\"))),\"\"))","v":""},{"$f":"IF(IFERROR(INDIRECT(CONCATENATE(\"'UNITCOST ITEMS (Data Entry)'!G\",IFERROR(SUM(MATCH(A296,'UNITCOST ITEMS (Data Entry)'!$A$3:$A$504,0),2),\"\"))),\"\")=0,\"\",IFERROR(INDIRECT(CONCATENATE(\"'UNITCOST ITEMS (Data Entry)'!G\",IFERROR(SUM(MATCH(A296,'UNITCOST ITEMS (Data Entry)'!$A$3:$A$504,0),2),\"\"))),\"\"))","v":""},{"$f":"IF(IFERROR(INDIRECT(CONCATENATE(\"'UNITCOST ITEMS (Data Entry)'!H\",IFERROR(SUM(MATCH(A296,'UNITCOST ITEMS (Data Entry)'!$A$3:$A$504,0),2),\"\"))),\"\")=0,\"\",IFERROR(INDIRECT(CONCATENATE(\"'UNITCOST ITEMS (Data Entry)'!H\",IFERROR(SUM(MATCH(A296,'UNITCOST ITEMS (Data Entry)'!$A$3:$A$504,0),2),\"\"))),\"\"))","v":""},{"$f":"IF(IFERROR(INDIRECT(CONCATENATE(\"'UNITCOST ITEMS (Data Entry)'!I\",IFERROR(SUM(MATCH(A296,'UNITCOST ITEMS (Data Entry)'!$A$3:$A$504,0),2),\"\"))),\"\")=0,\"\",IFERROR(INDIRECT(CONCATENATE(\"'UNITCOST ITEMS (Data Entry)'!I\",IFERROR(SUM(MATCH(A296,'UNITCOST ITEMS (Data Entry)'!$A$3:$A$504,0),2),\"\"))),\"\"))","v":""},{"$f":"IF(K296=2,\"\",IF(IFERROR(INDIRECT(CONCATENATE(\"'UNITCOST ITEMS (Data Entry)'!J\",IFERROR(SUM(MATCH(A296,'UNITCOST ITEMS (Data Entry)'!$A$3:$A$504,0),2),\"\"))),\"\")=0,\"\",IFERROR(INDIRECT(CONCATENATE(\"'UNITCOST ITEMS (Data Entry)'!J\",IFERROR(SUM(MATCH(A296,'UNITCOST ITEMS (Data Entry)'!$A$3:$A$504,0),2),\"\"))),\"\")))","v":""},null,{"$f":"IF(IFERROR(INDIRECT(CONCATENATE(\"'UNITCOST ITEMS (Data Entry)'!C\",IFERROR(SUM(MATCH(A296,'UNITCOST ITEMS (Data Entry)'!$A$3:$A$504,0),2),\"\"))),\"\")=0,\"\",IFERROR(INDIRECT(CONCATENATE(\"'UNITCOST ITEMS (Data Entry)'!C\",IFERROR(SUM(MATCH(A296,'UNITCOST ITEMS (Data Entry)'!$A$3:$A$504,0),2),\"\"))),\"\"))","v":""},""]
[289,{"$f":"IF(IFERROR(INDIRECT(CONCATENATE(\"'UNITCOST ITEMS (Data Entry)'!D\",IFERROR(SUM(MATCH(A297,'UNITCOST ITEMS (Data Entry)'!$A$3:$A$504,0),2),\"\"))),\"\")=0,\"\",IFERROR(INDIRECT(CONCATENATE(\"'UNITCOST ITEMS (Data Entry)'!D\",IFERROR(SUM(MATCH(A297,'UNITCOST ITEMS (Data Entry)'!$A$3:$A$504,0),2),\"\"))),\"\"))","v":""},{"$f":"IF(IFERROR(INDIRECT(CONCATENATE(\"'UNITCOST ITEMS (Data Entry)'!E\",IFERROR(SUM(MATCH(A297,'UNITCOST ITEMS (Data Entry)'!$A$3:$A$504,0),2),\"\"))),\"\")=0,\"\",IFERROR(INDIRECT(CONCATENATE(\"'UNITCOST ITEMS (Data Entry)'!E\",IFERROR(SUM(MATCH(A297,'UNITCOST ITEMS (Data Entry)'!$A$3:$A$504,0),2),\"\"))),\"\"))","v":""},null,{"$f":"IF(IFERROR(INDIRECT(CONCATENATE(\"'UNITCOST ITEMS (Data Entry)'!F\",IFERROR(SUM(MATCH(A297,'UNITCOST ITEMS (Data Entry)'!$A$3:$A$504,0),2),\"\"))),\"\")=0,\"\",IFERROR(INDIRECT(CONCATENATE(\"'UNITCOST ITEMS (Data Entry)'!F\",IFERROR(SUM(MATCH(A297,'UNITCOST ITEMS (Data Entry)'!$A$3:$A$504,0),2),\"\"))),\"\"))","v":""},{"$f":"IF(IFERROR(INDIRECT(CONCATENATE(\"'UNITCOST ITEMS (Data Entry)'!G\",IFERROR(SUM(MATCH(A297,'UNITCOST ITEMS (Data Entry)'!$A$3:$A$504,0),2),\"\"))),\"\")=0,\"\",IFERROR(INDIRECT(CONCATENATE(\"'UNITCOST ITEMS (Data Entry)'!G\",IFERROR(SUM(MATCH(A297,'UNITCOST ITEMS (Data Entry)'!$A$3:$A$504,0),2),\"\"))),\"\"))","v":""},{"$f":"IF(IFERROR(INDIRECT(CONCATENATE(\"'UNITCOST ITEMS (Data Entry)'!H\",IFERROR(SUM(MATCH(A297,'UNITCOST ITEMS (Data Entry)'!$A$3:$A$504,0),2),\"\"))),\"\")=0,\"\",IFERROR(INDIRECT(CONCATENATE(\"'UNITCOST ITEMS (Data Entry)'!H\",IFERROR(SUM(MATCH(A297,'UNITCOST ITEMS (Data Entry)'!$A$3:$A$504,0),2),\"\"))),\"\"))","v":""},{"$f":"IF(IFERROR(INDIRECT(CONCATENATE(\"'UNITCOST ITEMS (Data Entry)'!I\",IFERROR(SUM(MATCH(A297,'UNITCOST ITEMS (Data Entry)'!$A$3:$A$504,0),2),\"\"))),\"\")=0,\"\",IFERROR(INDIRECT(CONCATENATE(\"'UNITCOST ITEMS (Data Entry)'!I\",IFERROR(SUM(MATCH(A297,'UNITCOST ITEMS (Data Entry)'!$A$3:$A$504,0),2),\"\"))),\"\"))","v":""},{"$f":"IF(K297=2,\"\",IF(IFERROR(INDIRECT(CONCATENATE(\"'UNITCOST ITEMS (Data Entry)'!J\",IFERROR(SUM(MATCH(A297,'UNITCOST ITEMS (Data Entry)'!$A$3:$A$504,0),2),\"\"))),\"\")=0,\"\",IFERROR(INDIRECT(CONCATENATE(\"'UNITCOST ITEMS (Data Entry)'!J\",IFERROR(SUM(MATCH(A297,'UNITCOST ITEMS (Data Entry)'!$A$3:$A$504,0),2),\"\"))),\"\")))","v":""},null,{"$f":"IF(IFERROR(INDIRECT(CONCATENATE(\"'UNITCOST ITEMS (Data Entry)'!C\",IFERROR(SUM(MATCH(A297,'UNITCOST ITEMS (Data Entry)'!$A$3:$A$504,0),2),\"\"))),\"\")=0,\"\",IFERROR(INDIRECT(CONCATENATE(\"'UNITCOST ITEMS (Data Entry)'!C\",IFERROR(SUM(MATCH(A297,'UNITCOST ITEMS (Data Entry)'!$A$3:$A$504,0),2),\"\"))),\"\"))","v":""},""]
[290,{"$f":"IF(IFERROR(INDIRECT(CONCATENATE(\"'UNITCOST ITEMS (Data Entry)'!D\",IFERROR(SUM(MATCH(A298,'UNITCOST ITEMS (Data Entry)'!$A$3:$A$504,0),2),\"\"))),\"\")=0,\"\",IFERROR(INDIRECT(CONCATENATE(\"'UNITCOST ITEMS (Data Entry)'!D\",IFERROR(SUM(MATCH(A298,'UNITCOST ITEMS (Data Entry)'!$A$3:$A$504,0),2),\"\"))),\"\"))","v":""},{"$f":"IF(IFERROR(INDIRECT(CONCATENATE(\"'UNITCOST ITEMS (Data Entry)'!E\",IFERROR(SUM(MATCH(A298,'UNITCOST ITEMS (Data Entry)'!$A$3:$A$504,0),2),\"\"))),\"\")=0,\"\",IFERROR(INDIRECT(CONCATENATE(\"'UNITCOST ITEMS (Data Entry)'!E\",IFERROR(SUM(MATCH(A298,'UNITCOST ITEMS (Data Entry)'!$A$3:$A$504,0),2),\"\"))),\"\"))","v":""},null,{"$f":"IF(IFERROR(INDIRECT(CONCATENATE(\"'UNITCOST ITEMS (Data Entry)'!F\",IFERROR(SUM(MATCH(A298,'UNITCOST ITEMS (Data Entry)'!$A$3:$A$504,0),2),\"\"))),\"\")=0,\"\",IFERROR(INDIRECT(CONCATENATE(\"'UNITCOST ITEMS (Data Entry)'!F\",IFERROR(SUM(MATCH(A298,'UNITCOST ITEMS (Data Entry)'!$A$3:$A$504,0),2),\"\"))),\"\"))","v":""},{"$f":"IF(IFERROR(INDIRECT(CONCATENATE(\"'UNITCOST ITEMS (Data Entry)'!G\",IFERROR(SUM(MATCH(A298,'UNITCOST ITEMS (Data Entry)'!$A$3:$A$504,0),2),\"\"))),\"\")=0,\"\",IFERROR(INDIRECT(CONCATENATE(\"'UNITCOST ITEMS (Data Entry)'!G\",IFERROR(SUM(MATCH(A298,'UNITCOST ITEMS (Data Entry)'!$A$3:$A$504,0),2),\"\"))),\"\"))","v":""},{"$f":"IF(IFERROR(INDIRECT(CONCATENATE(\"'UNITCOST ITEMS (Data Entry)'!H\",IFERROR(SUM(MATCH(A298,'UNITCOST ITEMS (Data Entry)'!$A$3:$A$504,0),2),\"\"))),\"\")=0,\"\",IFERROR(INDIRECT(CONCATENATE(\"'UNITCOST ITEMS (Data Entry)'!H\",IFERROR(SUM(MATCH(A298,'UNITCOST ITEMS (Data Entry)'!$A$3:$A$504,0),2),\"\"))),\"\"))","v":""},{"$f":"IF(IFERROR(INDIRECT(CONCATENATE(\"'UNITCOST ITEMS (Data Entry)'!I\",IFERROR(SUM(MATCH(A298,'UNITCOST ITEMS (Data Entry)'!$A$3:$A$504,0),2),\"\"))),\"\")=0,\"\",IFERROR(INDIRECT(CONCATENATE(\"'UNITCOST ITEMS (Data Entry)'!I\",IFERROR(SUM(MATCH(A298,'UNITCOST ITEMS (Data Entry)'!$A$3:$A$504,0),2),\"\"))),\"\"))","v":""},{"$f":"IF(K298=2,\"\",IF(IFERROR(INDIRECT(CONCATENATE(\"'UNITCOST ITEMS (Data Entry)'!J\",IFERROR(SUM(MATCH(A298,'UNITCOST ITEMS (Data Entry)'!$A$3:$A$504,0),2),\"\"))),\"\")=0,\"\",IFERROR(INDIRECT(CONCATENATE(\"'UNITCOST ITEMS (Data Entry)'!J\",IFERROR(SUM(MATCH(A298,'UNITCOST ITEMS (Data Entry)'!$A$3:$A$504,0),2),\"\"))),\"\")))","v":""},null,{"$f":"IF(IFERROR(INDIRECT(CONCATENATE(\"'UNITCOST ITEMS (Data Entry)'!C\",IFERROR(SUM(MATCH(A298,'UNITCOST ITEMS (Data Entry)'!$A$3:$A$504,0),2),\"\"))),\"\")=0,\"\",IFERROR(INDIRECT(CONCATENATE(\"'UNITCOST ITEMS (Data Entry)'!C\",IFERROR(SUM(MATCH(A298,'UNITCOST ITEMS (Data Entry)'!$A$3:$A$504,0),2),\"\"))),\"\"))","v":""},""]
[291,{"$f":"IF(IFERROR(INDIRECT(CONCATENATE(\"'UNITCOST ITEMS (Data Entry)'!D\",IFERROR(SUM(MATCH(A299,'UNITCOST ITEMS (Data Entry)'!$A$3:$A$504,0),2),\"\"))),\"\")=0,\"\",IFERROR(INDIRECT(CONCATENATE(\"'UNITCOST ITEMS (Data Entry)'!D\",IFERROR(SUM(MATCH(A299,'UNITCOST ITEMS (Data Entry)'!$A$3:$A$504,0),2),\"\"))),\"\"))","v":""},{"$f":"IF(IFERROR(INDIRECT(CONCATENATE(\"'UNITCOST ITEMS (Data Entry)'!E\",IFERROR(SUM(MATCH(A299,'UNITCOST ITEMS (Data Entry)'!$A$3:$A$504,0),2),\"\"))),\"\")=0,\"\",IFERROR(INDIRECT(CONCATENATE(\"'UNITCOST ITEMS (Data Entry)'!E\",IFERROR(SUM(MATCH(A299,'UNITCOST ITEMS (Data Entry)'!$A$3:$A$504,0),2),\"\"))),\"\"))","v":""},null,{"$f":"IF(IFERROR(INDIRECT(CONCATENATE(\"'UNITCOST ITEMS (Data Entry)'!F\",IFERROR(SUM(MATCH(A299,'UNITCOST ITEMS (Data Entry)'!$A$3:$A$504,0),2),\"\"))),\"\")=0,\"\",IFERROR(INDIRECT(CONCATENATE(\"'UNITCOST ITEMS (Data Entry)'!F\",IFERROR(SUM(MATCH(A299,'UNITCOST ITEMS (Data Entry)'!$A$3:$A$504,0),2),\"\"))),\"\"))","v":""},{"$f":"IF(IFERROR(INDIRECT(CONCATENATE(\"'UNITCOST ITEMS (Data Entry)'!G\",IFERROR(SUM(MATCH(A299,'UNITCOST ITEMS (Data Entry)'!$A$3:$A$504,0),2),\"\"))),\"\")=0,\"\",IFERROR(INDIRECT(CONCATENATE(\"'UNITCOST ITEMS (Data Entry)'!G\",IFERROR(SUM(MATCH(A299,'UNITCOST ITEMS (Data Entry)'!$A$3:$A$504,0),2),\"\"))),\"\"))","v":""},{"$f":"IF(IFERROR(INDIRECT(CONCATENATE(\"'UNITCOST ITEMS (Data Entry)'!H\",IFERROR(SUM(MATCH(A299,'UNITCOST ITEMS (Data Entry)'!$A$3:$A$504,0),2),\"\"))),\"\")=0,\"\",IFERROR(INDIRECT(CONCATENATE(\"'UNITCOST ITEMS (Data Entry)'!H\",IFERROR(SUM(MATCH(A299,'UNITCOST ITEMS (Data Entry)'!$A$3:$A$504,0),2),\"\"))),\"\"))","v":""},{"$f":"IF(IFERROR(INDIRECT(CONCATENATE(\"'UNITCOST ITEMS (Data Entry)'!I\",IFERROR(SUM(MATCH(A299,'UNITCOST ITEMS (Data Entry)'!$A$3:$A$504,0),2),\"\"))),\"\")=0,\"\",IFERROR(INDIRECT(CONCATENATE(\"'UNITCOST ITEMS (Data Entry)'!I\",IFERROR(SUM(MATCH(A299,'UNITCOST ITEMS (Data Entry)'!$A$3:$A$504,0),2),\"\"))),\"\"))","v":""},{"$f":"IF(K299=2,\"\",IF(IFERROR(INDIRECT(CONCATENATE(\"'UNITCOST ITEMS (Data Entry)'!J\",IFERROR(SUM(MATCH(A299,'UNITCOST ITEMS (Data Entry)'!$A$3:$A$504,0),2),\"\"))),\"\")=0,\"\",IFERROR(INDIRECT(CONCATENATE(\"'UNITCOST ITEMS (Data Entry)'!J\",IFERROR(SUM(MATCH(A299,'UNITCOST ITEMS (Data Entry)'!$A$3:$A$504,0),2),\"\"))),\"\")))","v":""},null,{"$f":"IF(IFERROR(INDIRECT(CONCATENATE(\"'UNITCOST ITEMS (Data Entry)'!C\",IFERROR(SUM(MATCH(A299,'UNITCOST ITEMS (Data Entry)'!$A$3:$A$504,0),2),\"\"))),\"\")=0,\"\",IFERROR(INDIRECT(CONCATENATE(\"'UNITCOST ITEMS (Data Entry)'!C\",IFERROR(SUM(MATCH(A299,'UNITCOST ITEMS (Data Entry)'!$A$3:$A$504,0),2),\"\"))),\"\"))","v":""},""]
[292,{"$f":"IF(IFERROR(INDIRECT(CONCATENATE(\"'UNITCOST ITEMS (Data Entry)'!D\",IFERROR(SUM(MATCH(A300,'UNITCOST ITEMS (Data Entry)'!$A$3:$A$504,0),2),\"\"))),\"\")=0,\"\",IFERROR(INDIRECT(CONCATENATE(\"'UNITCOST ITEMS (Data Entry)'!D\",IFERROR(SUM(MATCH(A300,'UNITCOST ITEMS (Data Entry)'!$A$3:$A$504,0),2),\"\"))),\"\"))","v":""},{"$f":"IF(IFERROR(INDIRECT(CONCATENATE(\"'UNITCOST ITEMS (Data Entry)'!E\",IFERROR(SUM(MATCH(A300,'UNITCOST ITEMS (Data Entry)'!$A$3:$A$504,0),2),\"\"))),\"\")=0,\"\",IFERROR(INDIRECT(CONCATENATE(\"'UNITCOST ITEMS (Data Entry)'!E\",IFERROR(SUM(MATCH(A300,'UNITCOST ITEMS (Data Entry)'!$A$3:$A$504,0),2),\"\"))),\"\"))","v":""},null,{"$f":"IF(IFERROR(INDIRECT(CONCATENATE(\"'UNITCOST ITEMS (Data Entry)'!F\",IFERROR(SUM(MATCH(A300,'UNITCOST ITEMS (Data Entry)'!$A$3:$A$504,0),2),\"\"))),\"\")=0,\"\",IFERROR(INDIRECT(CONCATENATE(\"'UNITCOST ITEMS (Data Entry)'!F\",IFERROR(SUM(MATCH(A300,'UNITCOST ITEMS (Data Entry)'!$A$3:$A$504,0),2),\"\"))),\"\"))","v":""},{"$f":"IF(IFERROR(INDIRECT(CONCATENATE(\"'UNITCOST ITEMS (Data Entry)'!G\",IFERROR(SUM(MATCH(A300,'UNITCOST ITEMS (Data Entry)'!$A$3:$A$504,0),2),\"\"))),\"\")=0,\"\",IFERROR(INDIRECT(CONCATENATE(\"'UNITCOST ITEMS (Data Entry)'!G\",IFERROR(SUM(MATCH(A300,'UNITCOST ITEMS (Data Entry)'!$A$3:$A$504,0),2),\"\"))),\"\"))","v":""},{"$f":"IF(IFERROR(INDIRECT(CONCATENATE(\"'UNITCOST ITEMS (Data Entry)'!H\",IFERROR(SUM(MATCH(A300,'UNITCOST ITEMS (Data Entry)'!$A$3:$A$504,0),2),\"\"))),\"\")=0,\"\",IFERROR(INDIRECT(CONCATENATE(\"'UNITCOST ITEMS (Data Entry)'!H\",IFERROR(SUM(MATCH(A300,'UNITCOST ITEMS (Data Entry)'!$A$3:$A$504,0),2),\"\"))),\"\"))","v":""},{"$f":"IF(IFERROR(INDIRECT(CONCATENATE(\"'UNITCOST ITEMS (Data Entry)'!I\",IFERROR(SUM(MATCH(A300,'UNITCOST ITEMS (Data Entry)'!$A$3:$A$504,0),2),\"\"))),\"\")=0,\"\",IFERROR(INDIRECT(CONCATENATE(\"'UNITCOST ITEMS (Data Entry)'!I\",IFERROR(SUM(MATCH(A300,'UNITCOST ITEMS (Data Entry)'!$A$3:$A$504,0),2),\"\"))),\"\"))","v":""},{"$f":"IF(K300=2,\"\",IF(IFERROR(INDIRECT(CONCATENATE(\"'UNITCOST ITEMS (Data Entry)'!J\",IFERROR(SUM(MATCH(A300,'UNITCOST ITEMS (Data Entry)'!$A$3:$A$504,0),2),\"\"))),\"\")=0,\"\",IFERROR(INDIRECT(CONCATENATE(\"'UNITCOST ITEMS (Data Entry)'!J\",IFERROR(SUM(MATCH(A300,'UNITCOST ITEMS (Data Entry)'!$A$3:$A$504,0),2),\"\"))),\"\")))","v":""},null,{"$f":"IF(IFERROR(INDIRECT(CONCATENATE(\"'UNITCOST ITEMS (Data Entry)'!C\",IFERROR(SUM(MATCH(A300,'UNITCOST ITEMS (Data Entry)'!$A$3:$A$504,0),2),\"\"))),\"\")=0,\"\",IFERROR(INDIRECT(CONCATENATE(\"'UNITCOST ITEMS (Data Entry)'!C\",IFERROR(SUM(MATCH(A300,'UNITCOST ITEMS (Data Entry)'!$A$3:$A$504,0),2),\"\"))),\"\"))","v":""},""]
[293,{"$f":"IF(IFERROR(INDIRECT(CONCATENATE(\"'UNITCOST ITEMS (Data Entry)'!D\",IFERROR(SUM(MATCH(A301,'UNITCOST ITEMS (Data Entry)'!$A$3:$A$504,0),2),\"\"))),\"\")=0,\"\",IFERROR(INDIRECT(CONCATENATE(\"'UNITCOST ITEMS (Data Entry)'!D\",IFERROR(SUM(MATCH(A301,'UNITCOST ITEMS (Data Entry)'!$A$3:$A$504,0),2),\"\"))),\"\"))","v":""},{"$f":"IF(IFERROR(INDIRECT(CONCATENATE(\"'UNITCOST ITEMS (Data Entry)'!E\",IFERROR(SUM(MATCH(A301,'UNITCOST ITEMS (Data Entry)'!$A$3:$A$504,0),2),\"\"))),\"\")=0,\"\",IFERROR(INDIRECT(CONCATENATE(\"'UNITCOST ITEMS (Data Entry)'!E\",IFERROR(SUM(MATCH(A301,'UNITCOST ITEMS (Data Entry)'!$A$3:$A$504,0),2),\"\"))),\"\"))","v":""},null,{"$f":"IF(IFERROR(INDIRECT(CONCATENATE(\"'UNITCOST ITEMS (Data Entry)'!F\",IFERROR(SUM(MATCH(A301,'UNITCOST ITEMS (Data Entry)'!$A$3:$A$504,0),2),\"\"))),\"\")=0,\"\",IFERROR(INDIRECT(CONCATENATE(\"'UNITCOST ITEMS (Data Entry)'!F\",IFERROR(SUM(MATCH(A301,'UNITCOST ITEMS (Data Entry)'!$A$3:$A$504,0),2),\"\"))),\"\"))","v":""},{"$f":"IF(IFERROR(INDIRECT(CONCATENATE(\"'UNITCOST ITEMS (Data Entry)'!G\",IFERROR(SUM(MATCH(A301,'UNITCOST ITEMS (Data Entry)'!$A$3:$A$504,0),2),\"\"))),\"\")=0,\"\",IFERROR(INDIRECT(CONCATENATE(\"'UNITCOST ITEMS (Data Entry)'!G\",IFERROR(SUM(MATCH(A301,'UNITCOST ITEMS (Data Entry)'!$A$3:$A$504,0),2),\"\"))),\"\"))","v":""},{"$f":"IF(IFERROR(INDIRECT(CONCATENATE(\"'UNITCOST ITEMS (Data Entry)'!H\",IFERROR(SUM(MATCH(A301,'UNITCOST ITEMS (Data Entry)'!$A$3:$A$504,0),2),\"\"))),\"\")=0,\"\",IFERROR(INDIRECT(CONCATENATE(\"'UNITCOST ITEMS (Data Entry)'!H\",IFERROR(SUM(MATCH(A301,'UNITCOST ITEMS (Data Entry)'!$A$3:$A$504,0),2),\"\"))),\"\"))","v":""},{"$f":"IF(IFERROR(INDIRECT(CONCATENATE(\"'UNITCOST ITEMS (Data Entry)'!I\",IFERROR(SUM(MATCH(A301,'UNITCOST ITEMS (Data Entry)'!$A$3:$A$504,0),2),\"\"))),\"\")=0,\"\",IFERROR(INDIRECT(CONCATENATE(\"'UNITCOST ITEMS (Data Entry)'!I\",IFERROR(SUM(MATCH(A301,'UNITCOST ITEMS (Data Entry)'!$A$3:$A$504,0),2),\"\"))),\"\"))","v":""},{"$f":"IF(K301=2,\"\",IF(IFERROR(INDIRECT(CONCATENATE(\"'UNITCOST ITEMS (Data Entry)'!J\",IFERROR(SUM(MATCH(A301,'UNITCOST ITEMS (Data Entry)'!$A$3:$A$504,0),2),\"\"))),\"\")=0,\"\",IFERROR(INDIRECT(CONCATENATE(\"'UNITCOST ITEMS (Data Entry)'!J\",IFERROR(SUM(MATCH(A301,'UNITCOST ITEMS (Data Entry)'!$A$3:$A$504,0),2),\"\"))),\"\")))","v":""},null,{"$f":"IF(IFERROR(INDIRECT(CONCATENATE(\"'UNITCOST ITEMS (Data Entry)'!C\",IFERROR(SUM(MATCH(A301,'UNITCOST ITEMS (Data Entry)'!$A$3:$A$504,0),2),\"\"))),\"\")=0,\"\",IFERROR(INDIRECT(CONCATENATE(\"'UNITCOST ITEMS (Data Entry)'!C\",IFERROR(SUM(MATCH(A301,'UNITCOST ITEMS (Data Entry)'!$A$3:$A$504,0),2),\"\"))),\"\"))","v":""},""]
[294,{"$f":"IF(IFERROR(INDIRECT(CONCATENATE(\"'UNITCOST ITEMS (Data Entry)'!D\",IFERROR(SUM(MATCH(A302,'UNITCOST ITEMS (Data Entry)'!$A$3:$A$504,0),2),\"\"))),\"\")=0,\"\",IFERROR(INDIRECT(CONCATENATE(\"'UNITCOST ITEMS (Data Entry)'!D\",IFERROR(SUM(MATCH(A302,'UNITCOST ITEMS (Data Entry)'!$A$3:$A$504,0),2),\"\"))),\"\"))","v":""},{"$f":"IF(IFERROR(INDIRECT(CONCATENATE(\"'UNITCOST ITEMS (Data Entry)'!E\",IFERROR(SUM(MATCH(A302,'UNITCOST ITEMS (Data Entry)'!$A$3:$A$504,0),2),\"\"))),\"\")=0,\"\",IFERROR(INDIRECT(CONCATENATE(\"'UNITCOST ITEMS (Data Entry)'!E\",IFERROR(SUM(MATCH(A302,'UNITCOST ITEMS (Data Entry)'!$A$3:$A$504,0),2),\"\"))),\"\"))","v":""},null,{"$f":"IF(IFERROR(INDIRECT(CONCATENATE(\"'UNITCOST ITEMS (Data Entry)'!F\",IFERROR(SUM(MATCH(A302,'UNITCOST ITEMS (Data Entry)'!$A$3:$A$504,0),2),\"\"))),\"\")=0,\"\",IFERROR(INDIRECT(CONCATENATE(\"'UNITCOST ITEMS (Data Entry)'!F\",IFERROR(SUM(MATCH(A302,'UNITCOST ITEMS (Data Entry)'!$A$3:$A$504,0),2),\"\"))),\"\"))","v":""},{"$f":"IF(IFERROR(INDIRECT(CONCATENATE(\"'UNITCOST ITEMS (Data Entry)'!G\",IFERROR(SUM(MATCH(A302,'UNITCOST ITEMS (Data Entry)'!$A$3:$A$504,0),2),\"\"))),\"\")=0,\"\",IFERROR(INDIRECT(CONCATENATE(\"'UNITCOST ITEMS (Data Entry)'!G\",IFERROR(SUM(MATCH(A302,'UNITCOST ITEMS (Data Entry)'!$A$3:$A$504,0),2),\"\"))),\"\"))","v":""},{"$f":"IF(IFERROR(INDIRECT(CONCATENATE(\"'UNITCOST ITEMS (Data Entry)'!H\",IFERROR(SUM(MATCH(A302,'UNITCOST ITEMS (Data Entry)'!$A$3:$A$504,0),2),\"\"))),\"\")=0,\"\",IFERROR(INDIRECT(CONCATENATE(\"'UNITCOST ITEMS (Data Entry)'!H\",IFERROR(SUM(MATCH(A302,'UNITCOST ITEMS (Data Entry)'!$A$3:$A$504,0),2),\"\"))),\"\"))","v":""},{"$f":"IF(IFERROR(INDIRECT(CONCATENATE(\"'UNITCOST ITEMS (Data Entry)'!I\",IFERROR(SUM(MATCH(A302,'UNITCOST ITEMS (Data Entry)'!$A$3:$A$504,0),2),\"\"))),\"\")=0,\"\",IFERROR(INDIRECT(CONCATENATE(\"'UNITCOST ITEMS (Data Entry)'!I\",IFERROR(SUM(MATCH(A302,'UNITCOST ITEMS (Data Entry)'!$A$3:$A$504,0),2),\"\"))),\"\"))","v":""},{"$f":"IF(K302=2,\"\",IF(IFERROR(INDIRECT(CONCATENATE(\"'UNITCOST ITEMS (Data Entry)'!J\",IFERROR(SUM(MATCH(A302,'UNITCOST ITEMS (Data Entry)'!$A$3:$A$504,0),2),\"\"))),\"\")=0,\"\",IFERROR(INDIRECT(CONCATENATE(\"'UNITCOST ITEMS (Data Entry)'!J\",IFERROR(SUM(MATCH(A302,'UNITCOST ITEMS (Data Entry)'!$A$3:$A$504,0),2),\"\"))),\"\")))","v":""},null,{"$f":"IF(IFERROR(INDIRECT(CONCATENATE(\"'UNITCOST ITEMS (Data Entry)'!C\",IFERROR(SUM(MATCH(A302,'UNITCOST ITEMS (Data Entry)'!$A$3:$A$504,0),2),\"\"))),\"\")=0,\"\",IFERROR(INDIRECT(CONCATENATE(\"'UNITCOST ITEMS (Data Entry)'!C\",IFERROR(SUM(MATCH(A302,'UNITCOST ITEMS (Data Entry)'!$A$3:$A$504,0),2),\"\"))),\"\"))","v":""},""]
[295,{"$f":"IF(IFERROR(INDIRECT(CONCATENATE(\"'UNITCOST ITEMS (Data Entry)'!D\",IFERROR(SUM(MATCH(A303,'UNITCOST ITEMS (Data Entry)'!$A$3:$A$504,0),2),\"\"))),\"\")=0,\"\",IFERROR(INDIRECT(CONCATENATE(\"'UNITCOST ITEMS (Data Entry)'!D\",IFERROR(SUM(MATCH(A303,'UNITCOST ITEMS (Data Entry)'!$A$3:$A$504,0),2),\"\"))),\"\"))","v":""},{"$f":"IF(IFERROR(INDIRECT(CONCATENATE(\"'UNITCOST ITEMS (Data Entry)'!E\",IFERROR(SUM(MATCH(A303,'UNITCOST ITEMS (Data Entry)'!$A$3:$A$504,0),2),\"\"))),\"\")=0,\"\",IFERROR(INDIRECT(CONCATENATE(\"'UNITCOST ITEMS (Data Entry)'!E\",IFERROR(SUM(MATCH(A303,'UNITCOST ITEMS (Data Entry)'!$A$3:$A$504,0),2),\"\"))),\"\"))","v":""},null,{"$f":"IF(IFERROR(INDIRECT(CONCATENATE(\"'UNITCOST ITEMS (Data Entry)'!F\",IFERROR(SUM(MATCH(A303,'UNITCOST ITEMS (Data Entry)'!$A$3:$A$504,0),2),\"\"))),\"\")=0,\"\",IFERROR(INDIRECT(CONCATENATE(\"'UNITCOST ITEMS (Data Entry)'!F\",IFERROR(SUM(MATCH(A303,'UNITCOST ITEMS (Data Entry)'!$A$3:$A$504,0),2),\"\"))),\"\"))","v":""},{"$f":"IF(IFERROR(INDIRECT(CONCATENATE(\"'UNITCOST ITEMS (Data Entry)'!G\",IFERROR(SUM(MATCH(A303,'UNITCOST ITEMS (Data Entry)'!$A$3:$A$504,0),2),\"\"))),\"\")=0,\"\",IFERROR(INDIRECT(CONCATENATE(\"'UNITCOST ITEMS (Data Entry)'!G\",IFERROR(SUM(MATCH(A303,'UNITCOST ITEMS (Data Entry)'!$A$3:$A$504,0),2),\"\"))),\"\"))","v":""},{"$f":"IF(IFERROR(INDIRECT(CONCATENATE(\"'UNITCOST ITEMS (Data Entry)'!H\",IFERROR(SUM(MATCH(A303,'UNITCOST ITEMS (Data Entry)'!$A$3:$A$504,0),2),\"\"))),\"\")=0,\"\",IFERROR(INDIRECT(CONCATENATE(\"'UNITCOST ITEMS (Data Entry)'!H\",IFERROR(SUM(MATCH(A303,'UNITCOST ITEMS (Data Entry)'!$A$3:$A$504,0),2),\"\"))),\"\"))","v":""},{"$f":"IF(IFERROR(INDIRECT(CONCATENATE(\"'UNITCOST ITEMS (Data Entry)'!I\",IFERROR(SUM(MATCH(A303,'UNITCOST ITEMS (Data Entry)'!$A$3:$A$504,0),2),\"\"))),\"\")=0,\"\",IFERROR(INDIRECT(CONCATENATE(\"'UNITCOST ITEMS (Data Entry)'!I\",IFERROR(SUM(MATCH(A303,'UNITCOST ITEMS (Data Entry)'!$A$3:$A$504,0),2),\"\"))),\"\"))","v":""},{"$f":"IF(K303=2,\"\",IF(IFERROR(INDIRECT(CONCATENATE(\"'UNITCOST ITEMS (Data Entry)'!J\",IFERROR(SUM(MATCH(A303,'UNITCOST ITEMS (Data Entry)'!$A$3:$A$504,0),2),\"\"))),\"\")=0,\"\",IFERROR(INDIRECT(CONCATENATE(\"'UNITCOST ITEMS (Data Entry)'!J\",IFERROR(SUM(MATCH(A303,'UNITCOST ITEMS (Data Entry)'!$A$3:$A$504,0),2),\"\"))),\"\")))","v":""},null,{"$f":"IF(IFERROR(INDIRECT(CONCATENATE(\"'UNITCOST ITEMS (Data Entry)'!C\",IFERROR(SUM(MATCH(A303,'UNITCOST ITEMS (Data Entry)'!$A$3:$A$504,0),2),\"\"))),\"\")=0,\"\",IFERROR(INDIRECT(CONCATENATE(\"'UNITCOST ITEMS (Data Entry)'!C\",IFERROR(SUM(MATCH(A303,'UNITCOST ITEMS (Data Entry)'!$A$3:$A$504,0),2),\"\"))),\"\"))","v":""},""]
[296,{"$f":"IF(IFERROR(INDIRECT(CONCATENATE(\"'UNITCOST ITEMS (Data Entry)'!D\",IFERROR(SUM(MATCH(A304,'UNITCOST ITEMS (Data Entry)'!$A$3:$A$504,0),2),\"\"))),\"\")=0,\"\",IFERROR(INDIRECT(CONCATENATE(\"'UNITCOST ITEMS (Data Entry)'!D\",IFERROR(SUM(MATCH(A304,'UNITCOST ITEMS (Data Entry)'!$A$3:$A$504,0),2),\"\"))),\"\"))","v":""},{"$f":"IF(IFERROR(INDIRECT(CONCATENATE(\"'UNITCOST ITEMS (Data Entry)'!E\",IFERROR(SUM(MATCH(A304,'UNITCOST ITEMS (Data Entry)'!$A$3:$A$504,0),2),\"\"))),\"\")=0,\"\",IFERROR(INDIRECT(CONCATENATE(\"'UNITCOST ITEMS (Data Entry)'!E\",IFERROR(SUM(MATCH(A304,'UNITCOST ITEMS (Data Entry)'!$A$3:$A$504,0),2),\"\"))),\"\"))","v":""},null,{"$f":"IF(IFERROR(INDIRECT(CONCATENATE(\"'UNITCOST ITEMS (Data Entry)'!F\",IFERROR(SUM(MATCH(A304,'UNITCOST ITEMS (Data Entry)'!$A$3:$A$504,0),2),\"\"))),\"\")=0,\"\",IFERROR(INDIRECT(CONCATENATE(\"'UNITCOST ITEMS (Data Entry)'!F\",IFERROR(SUM(MATCH(A304,'UNITCOST ITEMS (Data Entry)'!$A$3:$A$504,0),2),\"\"))),\"\"))","v":""},{"$f":"IF(IFERROR(INDIRECT(CONCATENATE(\"'UNITCOST ITEMS (Data Entry)'!G\",IFERROR(SUM(MATCH(A304,'UNITCOST ITEMS (Data Entry)'!$A$3:$A$504,0),2),\"\"))),\"\")=0,\"\",IFERROR(INDIRECT(CONCATENATE(\"'UNITCOST ITEMS (Data Entry)'!G\",IFERROR(SUM(MATCH(A304,'UNITCOST ITEMS (Data Entry)'!$A$3:$A$504,0),2),\"\"))),\"\"))","v":""},{"$f":"IF(IFERROR(INDIRECT(CONCATENATE(\"'UNITCOST ITEMS (Data Entry)'!H\",IFERROR(SUM(MATCH(A304,'UNITCOST ITEMS (Data Entry)'!$A$3:$A$504,0),2),\"\"))),\"\")=0,\"\",IFERROR(INDIRECT(CONCATENATE(\"'UNITCOST ITEMS (Data Entry)'!H\",IFERROR(SUM(MATCH(A304,'UNITCOST ITEMS (Data Entry)'!$A$3:$A$504,0),2),\"\"))),\"\"))","v":""},{"$f":"IF(IFERROR(INDIRECT(CONCATENATE(\"'UNITCOST ITEMS (Data Entry)'!I\",IFERROR(SUM(MATCH(A304,'UNITCOST ITEMS (Data Entry)'!$A$3:$A$504,0),2),\"\"))),\"\")=0,\"\",IFERROR(INDIRECT(CONCATENATE(\"'UNITCOST ITEMS (Data Entry)'!I\",IFERROR(SUM(MATCH(A304,'UNITCOST ITEMS (Data Entry)'!$A$3:$A$504,0),2),\"\"))),\"\"))","v":""},{"$f":"IF(K304=2,\"\",IF(IFERROR(INDIRECT(CONCATENATE(\"'UNITCOST ITEMS (Data Entry)'!J\",IFERROR(SUM(MATCH(A304,'UNITCOST ITEMS (Data Entry)'!$A$3:$A$504,0),2),\"\"))),\"\")=0,\"\",IFERROR(INDIRECT(CONCATENATE(\"'UNITCOST ITEMS (Data Entry)'!J\",IFERROR(SUM(MATCH(A304,'UNITCOST ITEMS (Data Entry)'!$A$3:$A$504,0),2),\"\"))),\"\")))","v":""},null,{"$f":"IF(IFERROR(INDIRECT(CONCATENATE(\"'UNITCOST ITEMS (Data Entry)'!C\",IFERROR(SUM(MATCH(A304,'UNITCOST ITEMS (Data Entry)'!$A$3:$A$504,0),2),\"\"))),\"\")=0,\"\",IFERROR(INDIRECT(CONCATENATE(\"'UNITCOST ITEMS (Data Entry)'!C\",IFERROR(SUM(MATCH(A304,'UNITCOST ITEMS (Data Entry)'!$A$3:$A$504,0),2),\"\"))),\"\"))","v":""},""]
[297,{"$f":"IF(IFERROR(INDIRECT(CONCATENATE(\"'UNITCOST ITEMS (Data Entry)'!D\",IFERROR(SUM(MATCH(A305,'UNITCOST ITEMS (Data Entry)'!$A$3:$A$504,0),2),\"\"))),\"\")=0,\"\",IFERROR(INDIRECT(CONCATENATE(\"'UNITCOST ITEMS (Data Entry)'!D\",IFERROR(SUM(MATCH(A305,'UNITCOST ITEMS (Data Entry)'!$A$3:$A$504,0),2),\"\"))),\"\"))","v":""},{"$f":"IF(IFERROR(INDIRECT(CONCATENATE(\"'UNITCOST ITEMS (Data Entry)'!E\",IFERROR(SUM(MATCH(A305,'UNITCOST ITEMS (Data Entry)'!$A$3:$A$504,0),2),\"\"))),\"\")=0,\"\",IFERROR(INDIRECT(CONCATENATE(\"'UNITCOST ITEMS (Data Entry)'!E\",IFERROR(SUM(MATCH(A305,'UNITCOST ITEMS (Data Entry)'!$A$3:$A$504,0),2),\"\"))),\"\"))","v":""},null,{"$f":"IF(IFERROR(INDIRECT(CONCATENATE(\"'UNITCOST ITEMS (Data Entry)'!F\",IFERROR(SUM(MATCH(A305,'UNITCOST ITEMS (Data Entry)'!$A$3:$A$504,0),2),\"\"))),\"\")=0,\"\",IFERROR(INDIRECT(CONCATENATE(\"'UNITCOST ITEMS (Data Entry)'!F\",IFERROR(SUM(MATCH(A305,'UNITCOST ITEMS (Data Entry)'!$A$3:$A$504,0),2),\"\"))),\"\"))","v":""},{"$f":"IF(IFERROR(INDIRECT(CONCATENATE(\"'UNITCOST ITEMS (Data Entry)'!G\",IFERROR(SUM(MATCH(A305,'UNITCOST ITEMS (Data Entry)'!$A$3:$A$504,0),2),\"\"))),\"\")=0,\"\",IFERROR(INDIRECT(CONCATENATE(\"'UNITCOST ITEMS (Data Entry)'!G\",IFERROR(SUM(MATCH(A305,'UNITCOST ITEMS (Data Entry)'!$A$3:$A$504,0),2),\"\"))),\"\"))","v":""},{"$f":"IF(IFERROR(INDIRECT(CONCATENATE(\"'UNITCOST ITEMS (Data Entry)'!H\",IFERROR(SUM(MATCH(A305,'UNITCOST ITEMS (Data Entry)'!$A$3:$A$504,0),2),\"\"))),\"\")=0,\"\",IFERROR(INDIRECT(CONCATENATE(\"'UNITCOST ITEMS (Data Entry)'!H\",IFERROR(SUM(MATCH(A305,'UNITCOST ITEMS (Data Entry)'!$A$3:$A$504,0),2),\"\"))),\"\"))","v":""},{"$f":"IF(IFERROR(INDIRECT(CONCATENATE(\"'UNITCOST ITEMS (Data Entry)'!I\",IFERROR(SUM(MATCH(A305,'UNITCOST ITEMS (Data Entry)'!$A$3:$A$504,0),2),\"\"))),\"\")=0,\"\",IFERROR(INDIRECT(CONCATENATE(\"'UNITCOST ITEMS (Data Entry)'!I\",IFERROR(SUM(MATCH(A305,'UNITCOST ITEMS (Data Entry)'!$A$3:$A$504,0),2),\"\"))),\"\"))","v":""},{"$f":"IF(K305=2,\"\",IF(IFERROR(INDIRECT(CONCATENATE(\"'UNITCOST ITEMS (Data Entry)'!J\",IFERROR(SUM(MATCH(A305,'UNITCOST ITEMS (Data Entry)'!$A$3:$A$504,0),2),\"\"))),\"\")=0,\"\",IFERROR(INDIRECT(CONCATENATE(\"'UNITCOST ITEMS (Data Entry)'!J\",IFERROR(SUM(MATCH(A305,'UNITCOST ITEMS (Data Entry)'!$A$3:$A$504,0),2),\"\"))),\"\")))","v":""},null,{"$f":"IF(IFERROR(INDIRECT(CONCATENATE(\"'UNITCOST ITEMS (Data Entry)'!C\",IFERROR(SUM(MATCH(A305,'UNITCOST ITEMS (Data Entry)'!$A$3:$A$504,0),2),\"\"))),\"\")=0,\"\",IFERROR(INDIRECT(CONCATENATE(\"'UNITCOST ITEMS (Data Entry)'!C\",IFERROR(SUM(MATCH(A305,'UNITCOST ITEMS (Data Entry)'!$A$3:$A$504,0),2),\"\"))),\"\"))","v":""},""]
[298,{"$f":"IF(IFERROR(INDIRECT(CONCATENATE(\"'UNITCOST ITEMS (Data Entry)'!D\",IFERROR(SUM(MATCH(A306,'UNITCOST ITEMS (Data Entry)'!$A$3:$A$504,0),2),\"\"))),\"\")=0,\"\",IFERROR(INDIRECT(CONCATENATE(\"'UNITCOST ITEMS (Data Entry)'!D\",IFERROR(SUM(MATCH(A306,'UNITCOST ITEMS (Data Entry)'!$A$3:$A$504,0),2),\"\"))),\"\"))","v":""},{"$f":"IF(IFERROR(INDIRECT(CONCATENATE(\"'UNITCOST ITEMS (Data Entry)'!E\",IFERROR(SUM(MATCH(A306,'UNITCOST ITEMS (Data Entry)'!$A$3:$A$504,0),2),\"\"))),\"\")=0,\"\",IFERROR(INDIRECT(CONCATENATE(\"'UNITCOST ITEMS (Data Entry)'!E\",IFERROR(SUM(MATCH(A306,'UNITCOST ITEMS (Data Entry)'!$A$3:$A$504,0),2),\"\"))),\"\"))","v":""},null,{"$f":"IF(IFERROR(INDIRECT(CONCATENATE(\"'UNITCOST ITEMS (Data Entry)'!F\",IFERROR(SUM(MATCH(A306,'UNITCOST ITEMS (Data Entry)'!$A$3:$A$504,0),2),\"\"))),\"\")=0,\"\",IFERROR(INDIRECT(CONCATENATE(\"'UNITCOST ITEMS (Data Entry)'!F\",IFERROR(SUM(MATCH(A306,'UNITCOST ITEMS (Data Entry)'!$A$3:$A$504,0),2),\"\"))),\"\"))","v":""},{"$f":"IF(IFERROR(INDIRECT(CONCATENATE(\"'UNITCOST ITEMS (Data Entry)'!G\",IFERROR(SUM(MATCH(A306,'UNITCOST ITEMS (Data Entry)'!$A$3:$A$504,0),2),\"\"))),\"\")=0,\"\",IFERROR(INDIRECT(CONCATENATE(\"'UNITCOST ITEMS (Data Entry)'!G\",IFERROR(SUM(MATCH(A306,'UNITCOST ITEMS (Data Entry)'!$A$3:$A$504,0),2),\"\"))),\"\"))","v":""},{"$f":"IF(IFERROR(INDIRECT(CONCATENATE(\"'UNITCOST ITEMS (Data Entry)'!H\",IFERROR(SUM(MATCH(A306,'UNITCOST ITEMS (Data Entry)'!$A$3:$A$504,0),2),\"\"))),\"\")=0,\"\",IFERROR(INDIRECT(CONCATENATE(\"'UNITCOST ITEMS (Data Entry)'!H\",IFERROR(SUM(MATCH(A306,'UNITCOST ITEMS (Data Entry)'!$A$3:$A$504,0),2),\"\"))),\"\"))","v":""},{"$f":"IF(IFERROR(INDIRECT(CONCATENATE(\"'UNITCOST ITEMS (Data Entry)'!I\",IFERROR(SUM(MATCH(A306,'UNITCOST ITEMS (Data Entry)'!$A$3:$A$504,0),2),\"\"))),\"\")=0,\"\",IFERROR(INDIRECT(CONCATENATE(\"'UNITCOST ITEMS (Data Entry)'!I\",IFERROR(SUM(MATCH(A306,'UNITCOST ITEMS (Data Entry)'!$A$3:$A$504,0),2),\"\"))),\"\"))","v":""},{"$f":"IF(K306=2,\"\",IF(IFERROR(INDIRECT(CONCATENATE(\"'UNITCOST ITEMS (Data Entry)'!J\",IFERROR(SUM(MATCH(A306,'UNITCOST ITEMS (Data Entry)'!$A$3:$A$504,0),2),\"\"))),\"\")=0,\"\",IFERROR(INDIRECT(CONCATENATE(\"'UNITCOST ITEMS (Data Entry)'!J\",IFERROR(SUM(MATCH(A306,'UNITCOST ITEMS (Data Entry)'!$A$3:$A$504,0),2),\"\"))),\"\")))","v":""},null,{"$f":"IF(IFERROR(INDIRECT(CONCATENATE(\"'UNITCOST ITEMS (Data Entry)'!C\",IFERROR(SUM(MATCH(A306,'UNITCOST ITEMS (Data Entry)'!$A$3:$A$504,0),2),\"\"))),\"\")=0,\"\",IFERROR(INDIRECT(CONCATENATE(\"'UNITCOST ITEMS (Data Entry)'!C\",IFERROR(SUM(MATCH(A306,'UNITCOST ITEMS (Data Entry)'!$A$3:$A$504,0),2),\"\"))),\"\"))","v":""},""]
[299,{"$f":"IF(IFERROR(INDIRECT(CONCATENATE(\"'UNITCOST ITEMS (Data Entry)'!D\",IFERROR(SUM(MATCH(A307,'UNITCOST ITEMS (Data Entry)'!$A$3:$A$504,0),2),\"\"))),\"\")=0,\"\",IFERROR(INDIRECT(CONCATENATE(\"'UNITCOST ITEMS (Data Entry)'!D\",IFERROR(SUM(MATCH(A307,'UNITCOST ITEMS (Data Entry)'!$A$3:$A$504,0),2),\"\"))),\"\"))","v":""},{"$f":"IF(IFERROR(INDIRECT(CONCATENATE(\"'UNITCOST ITEMS (Data Entry)'!E\",IFERROR(SUM(MATCH(A307,'UNITCOST ITEMS (Data Entry)'!$A$3:$A$504,0),2),\"\"))),\"\")=0,\"\",IFERROR(INDIRECT(CONCATENATE(\"'UNITCOST ITEMS (Data Entry)'!E\",IFERROR(SUM(MATCH(A307,'UNITCOST ITEMS (Data Entry)'!$A$3:$A$504,0),2),\"\"))),\"\"))","v":""},null,{"$f":"IF(IFERROR(INDIRECT(CONCATENATE(\"'UNITCOST ITEMS (Data Entry)'!F\",IFERROR(SUM(MATCH(A307,'UNITCOST ITEMS (Data Entry)'!$A$3:$A$504,0),2),\"\"))),\"\")=0,\"\",IFERROR(INDIRECT(CONCATENATE(\"'UNITCOST ITEMS (Data Entry)'!F\",IFERROR(SUM(MATCH(A307,'UNITCOST ITEMS (Data Entry)'!$A$3:$A$504,0),2),\"\"))),\"\"))","v":""},{"$f":"IF(IFERROR(INDIRECT(CONCATENATE(\"'UNITCOST ITEMS (Data Entry)'!G\",IFERROR(SUM(MATCH(A307,'UNITCOST ITEMS (Data Entry)'!$A$3:$A$504,0),2),\"\"))),\"\")=0,\"\",IFERROR(INDIRECT(CONCATENATE(\"'UNITCOST ITEMS (Data Entry)'!G\",IFERROR(SUM(MATCH(A307,'UNITCOST ITEMS (Data Entry)'!$A$3:$A$504,0),2),\"\"))),\"\"))","v":""},{"$f":"IF(IFERROR(INDIRECT(CONCATENATE(\"'UNITCOST ITEMS (Data Entry)'!H\",IFERROR(SUM(MATCH(A307,'UNITCOST ITEMS (Data Entry)'!$A$3:$A$504,0),2),\"\"))),\"\")=0,\"\",IFERROR(INDIRECT(CONCATENATE(\"'UNITCOST ITEMS (Data Entry)'!H\",IFERROR(SUM(MATCH(A307,'UNITCOST ITEMS (Data Entry)'!$A$3:$A$504,0),2),\"\"))),\"\"))","v":""},{"$f":"IF(IFERROR(INDIRECT(CONCATENATE(\"'UNITCOST ITEMS (Data Entry)'!I\",IFERROR(SUM(MATCH(A307,'UNITCOST ITEMS (Data Entry)'!$A$3:$A$504,0),2),\"\"))),\"\")=0,\"\",IFERROR(INDIRECT(CONCATENATE(\"'UNITCOST ITEMS (Data Entry)'!I\",IFERROR(SUM(MATCH(A307,'UNITCOST ITEMS (Data Entry)'!$A$3:$A$504,0),2),\"\"))),\"\"))","v":""},{"$f":"IF(K307=2,\"\",IF(IFERROR(INDIRECT(CONCATENATE(\"'UNITCOST ITEMS (Data Entry)'!J\",IFERROR(SUM(MATCH(A307,'UNITCOST ITEMS (Data Entry)'!$A$3:$A$504,0),2),\"\"))),\"\")=0,\"\",IFERROR(INDIRECT(CONCATENATE(\"'UNITCOST ITEMS (Data Entry)'!J\",IFERROR(SUM(MATCH(A307,'UNITCOST ITEMS (Data Entry)'!$A$3:$A$504,0),2),\"\"))),\"\")))","v":""},null,{"$f":"IF(IFERROR(INDIRECT(CONCATENATE(\"'UNITCOST ITEMS (Data Entry)'!C\",IFERROR(SUM(MATCH(A307,'UNITCOST ITEMS (Data Entry)'!$A$3:$A$504,0),2),\"\"))),\"\")=0,\"\",IFERROR(INDIRECT(CONCATENATE(\"'UNITCOST ITEMS (Data Entry)'!C\",IFERROR(SUM(MATCH(A307,'UNITCOST ITEMS (Data Entry)'!$A$3:$A$504,0),2),\"\"))),\"\"))","v":""},""]
[300,{"$f":"IF(IFERROR(INDIRECT(CONCATENATE(\"'UNITCOST ITEMS (Data Entry)'!D\",IFERROR(SUM(MATCH(A308,'UNITCOST ITEMS (Data Entry)'!$A$3:$A$504,0),2),\"\"))),\"\")=0,\"\",IFERROR(INDIRECT(CONCATENATE(\"'UNITCOST ITEMS (Data Entry)'!D\",IFERROR(SUM(MATCH(A308,'UNITCOST ITEMS (Data Entry)'!$A$3:$A$504,0),2),\"\"))),\"\"))","v":""},{"$f":"IF(IFERROR(INDIRECT(CONCATENATE(\"'UNITCOST ITEMS (Data Entry)'!E\",IFERROR(SUM(MATCH(A308,'UNITCOST ITEMS (Data Entry)'!$A$3:$A$504,0),2),\"\"))),\"\")=0,\"\",IFERROR(INDIRECT(CONCATENATE(\"'UNITCOST ITEMS (Data Entry)'!E\",IFERROR(SUM(MATCH(A308,'UNITCOST ITEMS (Data Entry)'!$A$3:$A$504,0),2),\"\"))),\"\"))","v":""},null,{"$f":"IF(IFERROR(INDIRECT(CONCATENATE(\"'UNITCOST ITEMS (Data Entry)'!F\",IFERROR(SUM(MATCH(A308,'UNITCOST ITEMS (Data Entry)'!$A$3:$A$504,0),2),\"\"))),\"\")=0,\"\",IFERROR(INDIRECT(CONCATENATE(\"'UNITCOST ITEMS (Data Entry)'!F\",IFERROR(SUM(MATCH(A308,'UNITCOST ITEMS (Data Entry)'!$A$3:$A$504,0),2),\"\"))),\"\"))","v":""},{"$f":"IF(IFERROR(INDIRECT(CONCATENATE(\"'UNITCOST ITEMS (Data Entry)'!G\",IFERROR(SUM(MATCH(A308,'UNITCOST ITEMS (Data Entry)'!$A$3:$A$504,0),2),\"\"))),\"\")=0,\"\",IFERROR(INDIRECT(CONCATENATE(\"'UNITCOST ITEMS (Data Entry)'!G\",IFERROR(SUM(MATCH(A308,'UNITCOST ITEMS (Data Entry)'!$A$3:$A$504,0),2),\"\"))),\"\"))","v":""},{"$f":"IF(IFERROR(INDIRECT(CONCATENATE(\"'UNITCOST ITEMS (Data Entry)'!H\",IFERROR(SUM(MATCH(A308,'UNITCOST ITEMS (Data Entry)'!$A$3:$A$504,0),2),\"\"))),\"\")=0,\"\",IFERROR(INDIRECT(CONCATENATE(\"'UNITCOST ITEMS (Data Entry)'!H\",IFERROR(SUM(MATCH(A308,'UNITCOST ITEMS (Data Entry)'!$A$3:$A$504,0),2),\"\"))),\"\"))","v":""},{"$f":"IF(IFERROR(INDIRECT(CONCATENATE(\"'UNITCOST ITEMS (Data Entry)'!I\",IFERROR(SUM(MATCH(A308,'UNITCOST ITEMS (Data Entry)'!$A$3:$A$504,0),2),\"\"))),\"\")=0,\"\",IFERROR(INDIRECT(CONCATENATE(\"'UNITCOST ITEMS (Data Entry)'!I\",IFERROR(SUM(MATCH(A308,'UNITCOST ITEMS (Data Entry)'!$A$3:$A$504,0),2),\"\"))),\"\"))","v":""},{"$f":"IF(K308=2,\"\",IF(IFERROR(INDIRECT(CONCATENATE(\"'UNITCOST ITEMS (Data Entry)'!J\",IFERROR(SUM(MATCH(A308,'UNITCOST ITEMS (Data Entry)'!$A$3:$A$504,0),2),\"\"))),\"\")=0,\"\",IFERROR(INDIRECT(CONCATENATE(\"'UNITCOST ITEMS (Data Entry)'!J\",IFERROR(SUM(MATCH(A308,'UNITCOST ITEMS (Data Entry)'!$A$3:$A$504,0),2),\"\"))),\"\")))","v":""},null,{"$f":"IF(IFERROR(INDIRECT(CONCATENATE(\"'UNITCOST ITEMS (Data Entry)'!C\",IFERROR(SUM(MATCH(A308,'UNITCOST ITEMS (Data Entry)'!$A$3:$A$504,0),2),\"\"))),\"\")=0,\"\",IFERROR(INDIRECT(CONCATENATE(\"'UNITCOST ITEMS (Data Entry)'!C\",IFERROR(SUM(MATCH(A308,'UNITCOST ITEMS (Data Entry)'!$A$3:$A$504,0),2),\"\"))),\"\"))","v":""},""]
[301,{"$f":"IF(IFERROR(INDIRECT(CONCATENATE(\"'UNITCOST ITEMS (Data Entry)'!D\",IFERROR(SUM(MATCH(A309,'UNITCOST ITEMS (Data Entry)'!$A$3:$A$504,0),2),\"\"))),\"\")=0,\"\",IFERROR(INDIRECT(CONCATENATE(\"'UNITCOST ITEMS (Data Entry)'!D\",IFERROR(SUM(MATCH(A309,'UNITCOST ITEMS (Data Entry)'!$A$3:$A$504,0),2),\"\"))),\"\"))","v":""},{"$f":"IF(IFERROR(INDIRECT(CONCATENATE(\"'UNITCOST ITEMS (Data Entry)'!E\",IFERROR(SUM(MATCH(A309,'UNITCOST ITEMS (Data Entry)'!$A$3:$A$504,0),2),\"\"))),\"\")=0,\"\",IFERROR(INDIRECT(CONCATENATE(\"'UNITCOST ITEMS (Data Entry)'!E\",IFERROR(SUM(MATCH(A309,'UNITCOST ITEMS (Data Entry)'!$A$3:$A$504,0),2),\"\"))),\"\"))","v":""},null,{"$f":"IF(IFERROR(INDIRECT(CONCATENATE(\"'UNITCOST ITEMS (Data Entry)'!F\",IFERROR(SUM(MATCH(A309,'UNITCOST ITEMS (Data Entry)'!$A$3:$A$504,0),2),\"\"))),\"\")=0,\"\",IFERROR(INDIRECT(CONCATENATE(\"'UNITCOST ITEMS (Data Entry)'!F\",IFERROR(SUM(MATCH(A309,'UNITCOST ITEMS (Data Entry)'!$A$3:$A$504,0),2),\"\"))),\"\"))","v":""},{"$f":"IF(IFERROR(INDIRECT(CONCATENATE(\"'UNITCOST ITEMS (Data Entry)'!G\",IFERROR(SUM(MATCH(A309,'UNITCOST ITEMS (Data Entry)'!$A$3:$A$504,0),2),\"\"))),\"\")=0,\"\",IFERROR(INDIRECT(CONCATENATE(\"'UNITCOST ITEMS (Data Entry)'!G\",IFERROR(SUM(MATCH(A309,'UNITCOST ITEMS (Data Entry)'!$A$3:$A$504,0),2),\"\"))),\"\"))","v":""},{"$f":"IF(IFERROR(INDIRECT(CONCATENATE(\"'UNITCOST ITEMS (Data Entry)'!H\",IFERROR(SUM(MATCH(A309,'UNITCOST ITEMS (Data Entry)'!$A$3:$A$504,0),2),\"\"))),\"\")=0,\"\",IFERROR(INDIRECT(CONCATENATE(\"'UNITCOST ITEMS (Data Entry)'!H\",IFERROR(SUM(MATCH(A309,'UNITCOST ITEMS (Data Entry)'!$A$3:$A$504,0),2),\"\"))),\"\"))","v":""},{"$f":"IF(IFERROR(INDIRECT(CONCATENATE(\"'UNITCOST ITEMS (Data Entry)'!I\",IFERROR(SUM(MATCH(A309,'UNITCOST ITEMS (Data Entry)'!$A$3:$A$504,0),2),\"\"))),\"\")=0,\"\",IFERROR(INDIRECT(CONCATENATE(\"'UNITCOST ITEMS (Data Entry)'!I\",IFERROR(SUM(MATCH(A309,'UNITCOST ITEMS (Data Entry)'!$A$3:$A$504,0),2),\"\"))),\"\"))","v":""},{"$f":"IF(K309=2,\"\",IF(IFERROR(INDIRECT(CONCATENATE(\"'UNITCOST ITEMS (Data Entry)'!J\",IFERROR(SUM(MATCH(A309,'UNITCOST ITEMS (Data Entry)'!$A$3:$A$504,0),2),\"\"))),\"\")=0,\"\",IFERROR(INDIRECT(CONCATENATE(\"'UNITCOST ITEMS (Data Entry)'!J\",IFERROR(SUM(MATCH(A309,'UNITCOST ITEMS (Data Entry)'!$A$3:$A$504,0),2),\"\"))),\"\")))","v":""},null,{"$f":"IF(IFERROR(INDIRECT(CONCATENATE(\"'UNITCOST ITEMS (Data Entry)'!C\",IFERROR(SUM(MATCH(A309,'UNITCOST ITEMS (Data Entry)'!$A$3:$A$504,0),2),\"\"))),\"\")=0,\"\",IFERROR(INDIRECT(CONCATENATE(\"'UNITCOST ITEMS (Data Entry)'!C\",IFERROR(SUM(MATCH(A309,'UNITCOST ITEMS (Data Entry)'!$A$3:$A$504,0),2),\"\"))),\"\"))","v":""},""]
[302,{"$f":"IF(IFERROR(INDIRECT(CONCATENATE(\"'UNITCOST ITEMS (Data Entry)'!D\",IFERROR(SUM(MATCH(A310,'UNITCOST ITEMS (Data Entry)'!$A$3:$A$504,0),2),\"\"))),\"\")=0,\"\",IFERROR(INDIRECT(CONCATENATE(\"'UNITCOST ITEMS (Data Entry)'!D\",IFERROR(SUM(MATCH(A310,'UNITCOST ITEMS (Data Entry)'!$A$3:$A$504,0),2),\"\"))),\"\"))","v":""},{"$f":"IF(IFERROR(INDIRECT(CONCATENATE(\"'UNITCOST ITEMS (Data Entry)'!E\",IFERROR(SUM(MATCH(A310,'UNITCOST ITEMS (Data Entry)'!$A$3:$A$504,0),2),\"\"))),\"\")=0,\"\",IFERROR(INDIRECT(CONCATENATE(\"'UNITCOST ITEMS (Data Entry)'!E\",IFERROR(SUM(MATCH(A310,'UNITCOST ITEMS (Data Entry)'!$A$3:$A$504,0),2),\"\"))),\"\"))","v":""},null,{"$f":"IF(IFERROR(INDIRECT(CONCATENATE(\"'UNITCOST ITEMS (Data Entry)'!F\",IFERROR(SUM(MATCH(A310,'UNITCOST ITEMS (Data Entry)'!$A$3:$A$504,0),2),\"\"))),\"\")=0,\"\",IFERROR(INDIRECT(CONCATENATE(\"'UNITCOST ITEMS (Data Entry)'!F\",IFERROR(SUM(MATCH(A310,'UNITCOST ITEMS (Data Entry)'!$A$3:$A$504,0),2),\"\"))),\"\"))","v":""},{"$f":"IF(IFERROR(INDIRECT(CONCATENATE(\"'UNITCOST ITEMS (Data Entry)'!G\",IFERROR(SUM(MATCH(A310,'UNITCOST ITEMS (Data Entry)'!$A$3:$A$504,0),2),\"\"))),\"\")=0,\"\",IFERROR(INDIRECT(CONCATENATE(\"'UNITCOST ITEMS (Data Entry)'!G\",IFERROR(SUM(MATCH(A310,'UNITCOST ITEMS (Data Entry)'!$A$3:$A$504,0),2),\"\"))),\"\"))","v":""},{"$f":"IF(IFERROR(INDIRECT(CONCATENATE(\"'UNITCOST ITEMS (Data Entry)'!H\",IFERROR(SUM(MATCH(A310,'UNITCOST ITEMS (Data Entry)'!$A$3:$A$504,0),2),\"\"))),\"\")=0,\"\",IFERROR(INDIRECT(CONCATENATE(\"'UNITCOST ITEMS (Data Entry)'!H\",IFERROR(SUM(MATCH(A310,'UNITCOST ITEMS (Data Entry)'!$A$3:$A$504,0),2),\"\"))),\"\"))","v":""},{"$f":"IF(IFERROR(INDIRECT(CONCATENATE(\"'UNITCOST ITEMS (Data Entry)'!I\",IFERROR(SUM(MATCH(A310,'UNITCOST ITEMS (Data Entry)'!$A$3:$A$504,0),2),\"\"))),\"\")=0,\"\",IFERROR(INDIRECT(CONCATENATE(\"'UNITCOST ITEMS (Data Entry)'!I\",IFERROR(SUM(MATCH(A310,'UNITCOST ITEMS (Data Entry)'!$A$3:$A$504,0),2),\"\"))),\"\"))","v":""},{"$f":"IF(K310=2,\"\",IF(IFERROR(INDIRECT(CONCATENATE(\"'UNITCOST ITEMS (Data Entry)'!J\",IFERROR(SUM(MATCH(A310,'UNITCOST ITEMS (Data Entry)'!$A$3:$A$504,0),2),\"\"))),\"\")=0,\"\",IFERROR(INDIRECT(CONCATENATE(\"'UNITCOST ITEMS (Data Entry)'!J\",IFERROR(SUM(MATCH(A310,'UNITCOST ITEMS (Data Entry)'!$A$3:$A$504,0),2),\"\"))),\"\")))","v":""},null,{"$f":"IF(IFERROR(INDIRECT(CONCATENATE(\"'UNITCOST ITEMS (Data Entry)'!C\",IFERROR(SUM(MATCH(A310,'UNITCOST ITEMS (Data Entry)'!$A$3:$A$504,0),2),\"\"))),\"\")=0,\"\",IFERROR(INDIRECT(CONCATENATE(\"'UNITCOST ITEMS (Data Entry)'!C\",IFERROR(SUM(MATCH(A310,'UNITCOST ITEMS (Data Entry)'!$A$3:$A$504,0),2),\"\"))),\"\"))","v":""},""]
[303,{"$f":"IF(IFERROR(INDIRECT(CONCATENATE(\"'UNITCOST ITEMS (Data Entry)'!D\",IFERROR(SUM(MATCH(A311,'UNITCOST ITEMS (Data Entry)'!$A$3:$A$504,0),2),\"\"))),\"\")=0,\"\",IFERROR(INDIRECT(CONCATENATE(\"'UNITCOST ITEMS (Data Entry)'!D\",IFERROR(SUM(MATCH(A311,'UNITCOST ITEMS (Data Entry)'!$A$3:$A$504,0),2),\"\"))),\"\"))","v":""},{"$f":"IF(IFERROR(INDIRECT(CONCATENATE(\"'UNITCOST ITEMS (Data Entry)'!E\",IFERROR(SUM(MATCH(A311,'UNITCOST ITEMS (Data Entry)'!$A$3:$A$504,0),2),\"\"))),\"\")=0,\"\",IFERROR(INDIRECT(CONCATENATE(\"'UNITCOST ITEMS (Data Entry)'!E\",IFERROR(SUM(MATCH(A311,'UNITCOST ITEMS (Data Entry)'!$A$3:$A$504,0),2),\"\"))),\"\"))","v":""},null,{"$f":"IF(IFERROR(INDIRECT(CONCATENATE(\"'UNITCOST ITEMS (Data Entry)'!F\",IFERROR(SUM(MATCH(A311,'UNITCOST ITEMS (Data Entry)'!$A$3:$A$504,0),2),\"\"))),\"\")=0,\"\",IFERROR(INDIRECT(CONCATENATE(\"'UNITCOST ITEMS (Data Entry)'!F\",IFERROR(SUM(MATCH(A311,'UNITCOST ITEMS (Data Entry)'!$A$3:$A$504,0),2),\"\"))),\"\"))","v":""},{"$f":"IF(IFERROR(INDIRECT(CONCATENATE(\"'UNITCOST ITEMS (Data Entry)'!G\",IFERROR(SUM(MATCH(A311,'UNITCOST ITEMS (Data Entry)'!$A$3:$A$504,0),2),\"\"))),\"\")=0,\"\",IFERROR(INDIRECT(CONCATENATE(\"'UNITCOST ITEMS (Data Entry)'!G\",IFERROR(SUM(MATCH(A311,'UNITCOST ITEMS (Data Entry)'!$A$3:$A$504,0),2),\"\"))),\"\"))","v":""},{"$f":"IF(IFERROR(INDIRECT(CONCATENATE(\"'UNITCOST ITEMS (Data Entry)'!H\",IFERROR(SUM(MATCH(A311,'UNITCOST ITEMS (Data Entry)'!$A$3:$A$504,0),2),\"\"))),\"\")=0,\"\",IFERROR(INDIRECT(CONCATENATE(\"'UNITCOST ITEMS (Data Entry)'!H\",IFERROR(SUM(MATCH(A311,'UNITCOST ITEMS (Data Entry)'!$A$3:$A$504,0),2),\"\"))),\"\"))","v":""},{"$f":"IF(IFERROR(INDIRECT(CONCATENATE(\"'UNITCOST ITEMS (Data Entry)'!I\",IFERROR(SUM(MATCH(A311,'UNITCOST ITEMS (Data Entry)'!$A$3:$A$504,0),2),\"\"))),\"\")=0,\"\",IFERROR(INDIRECT(CONCATENATE(\"'UNITCOST ITEMS (Data Entry)'!I\",IFERROR(SUM(MATCH(A311,'UNITCOST ITEMS (Data Entry)'!$A$3:$A$504,0),2),\"\"))),\"\"))","v":""},{"$f":"IF(K311=2,\"\",IF(IFERROR(INDIRECT(CONCATENATE(\"'UNITCOST ITEMS (Data Entry)'!J\",IFERROR(SUM(MATCH(A311,'UNITCOST ITEMS (Data Entry)'!$A$3:$A$504,0),2),\"\"))),\"\")=0,\"\",IFERROR(INDIRECT(CONCATENATE(\"'UNITCOST ITEMS (Data Entry)'!J\",IFERROR(SUM(MATCH(A311,'UNITCOST ITEMS (Data Entry)'!$A$3:$A$504,0),2),\"\"))),\"\")))","v":""},null,{"$f":"IF(IFERROR(INDIRECT(CONCATENATE(\"'UNITCOST ITEMS (Data Entry)'!C\",IFERROR(SUM(MATCH(A311,'UNITCOST ITEMS (Data Entry)'!$A$3:$A$504,0),2),\"\"))),\"\")=0,\"\",IFERROR(INDIRECT(CONCATENATE(\"'UNITCOST ITEMS (Data Entry)'!C\",IFERROR(SUM(MATCH(A311,'UNITCOST ITEMS (Data Entry)'!$A$3:$A$504,0),2),\"\"))),\"\"))","v":""},""]
[304,{"$f":"IF(IFERROR(INDIRECT(CONCATENATE(\"'UNITCOST ITEMS (Data Entry)'!D\",IFERROR(SUM(MATCH(A312,'UNITCOST ITEMS (Data Entry)'!$A$3:$A$504,0),2),\"\"))),\"\")=0,\"\",IFERROR(INDIRECT(CONCATENATE(\"'UNITCOST ITEMS (Data Entry)'!D\",IFERROR(SUM(MATCH(A312,'UNITCOST ITEMS (Data Entry)'!$A$3:$A$504,0),2),\"\"))),\"\"))","v":""},{"$f":"IF(IFERROR(INDIRECT(CONCATENATE(\"'UNITCOST ITEMS (Data Entry)'!E\",IFERROR(SUM(MATCH(A312,'UNITCOST ITEMS (Data Entry)'!$A$3:$A$504,0),2),\"\"))),\"\")=0,\"\",IFERROR(INDIRECT(CONCATENATE(\"'UNITCOST ITEMS (Data Entry)'!E\",IFERROR(SUM(MATCH(A312,'UNITCOST ITEMS (Data Entry)'!$A$3:$A$504,0),2),\"\"))),\"\"))","v":""},null,{"$f":"IF(IFERROR(INDIRECT(CONCATENATE(\"'UNITCOST ITEMS (Data Entry)'!F\",IFERROR(SUM(MATCH(A312,'UNITCOST ITEMS (Data Entry)'!$A$3:$A$504,0),2),\"\"))),\"\")=0,\"\",IFERROR(INDIRECT(CONCATENATE(\"'UNITCOST ITEMS (Data Entry)'!F\",IFERROR(SUM(MATCH(A312,'UNITCOST ITEMS (Data Entry)'!$A$3:$A$504,0),2),\"\"))),\"\"))","v":""},{"$f":"IF(IFERROR(INDIRECT(CONCATENATE(\"'UNITCOST ITEMS (Data Entry)'!G\",IFERROR(SUM(MATCH(A312,'UNITCOST ITEMS (Data Entry)'!$A$3:$A$504,0),2),\"\"))),\"\")=0,\"\",IFERROR(INDIRECT(CONCATENATE(\"'UNITCOST ITEMS (Data Entry)'!G\",IFERROR(SUM(MATCH(A312,'UNITCOST ITEMS (Data Entry)'!$A$3:$A$504,0),2),\"\"))),\"\"))","v":""},{"$f":"IF(IFERROR(INDIRECT(CONCATENATE(\"'UNITCOST ITEMS (Data Entry)'!H\",IFERROR(SUM(MATCH(A312,'UNITCOST ITEMS (Data Entry)'!$A$3:$A$504,0),2),\"\"))),\"\")=0,\"\",IFERROR(INDIRECT(CONCATENATE(\"'UNITCOST ITEMS (Data Entry)'!H\",IFERROR(SUM(MATCH(A312,'UNITCOST ITEMS (Data Entry)'!$A$3:$A$504,0),2),\"\"))),\"\"))","v":""},{"$f":"IF(IFERROR(INDIRECT(CONCATENATE(\"'UNITCOST ITEMS (Data Entry)'!I\",IFERROR(SUM(MATCH(A312,'UNITCOST ITEMS (Data Entry)'!$A$3:$A$504,0),2),\"\"))),\"\")=0,\"\",IFERROR(INDIRECT(CONCATENATE(\"'UNITCOST ITEMS (Data Entry)'!I\",IFERROR(SUM(MATCH(A312,'UNITCOST ITEMS (Data Entry)'!$A$3:$A$504,0),2),\"\"))),\"\"))","v":""},{"$f":"IF(K312=2,\"\",IF(IFERROR(INDIRECT(CONCATENATE(\"'UNITCOST ITEMS (Data Entry)'!J\",IFERROR(SUM(MATCH(A312,'UNITCOST ITEMS (Data Entry)'!$A$3:$A$504,0),2),\"\"))),\"\")=0,\"\",IFERROR(INDIRECT(CONCATENATE(\"'UNITCOST ITEMS (Data Entry)'!J\",IFERROR(SUM(MATCH(A312,'UNITCOST ITEMS (Data Entry)'!$A$3:$A$504,0),2),\"\"))),\"\")))","v":""},null,{"$f":"IF(IFERROR(INDIRECT(CONCATENATE(\"'UNITCOST ITEMS (Data Entry)'!C\",IFERROR(SUM(MATCH(A312,'UNITCOST ITEMS (Data Entry)'!$A$3:$A$504,0),2),\"\"))),\"\")=0,\"\",IFERROR(INDIRECT(CONCATENATE(\"'UNITCOST ITEMS (Data Entry)'!C\",IFERROR(SUM(MATCH(A312,'UNITCOST ITEMS (Data Entry)'!$A$3:$A$504,0),2),\"\"))),\"\"))","v":""},""]
[305,{"$f":"IF(IFERROR(INDIRECT(CONCATENATE(\"'UNITCOST ITEMS (Data Entry)'!D\",IFERROR(SUM(MATCH(A313,'UNITCOST ITEMS (Data Entry)'!$A$3:$A$504,0),2),\"\"))),\"\")=0,\"\",IFERROR(INDIRECT(CONCATENATE(\"'UNITCOST ITEMS (Data Entry)'!D\",IFERROR(SUM(MATCH(A313,'UNITCOST ITEMS (Data Entry)'!$A$3:$A$504,0),2),\"\"))),\"\"))","v":""},{"$f":"IF(IFERROR(INDIRECT(CONCATENATE(\"'UNITCOST ITEMS (Data Entry)'!E\",IFERROR(SUM(MATCH(A313,'UNITCOST ITEMS (Data Entry)'!$A$3:$A$504,0),2),\"\"))),\"\")=0,\"\",IFERROR(INDIRECT(CONCATENATE(\"'UNITCOST ITEMS (Data Entry)'!E\",IFERROR(SUM(MATCH(A313,'UNITCOST ITEMS (Data Entry)'!$A$3:$A$504,0),2),\"\"))),\"\"))","v":""},null,{"$f":"IF(IFERROR(INDIRECT(CONCATENATE(\"'UNITCOST ITEMS (Data Entry)'!F\",IFERROR(SUM(MATCH(A313,'UNITCOST ITEMS (Data Entry)'!$A$3:$A$504,0),2),\"\"))),\"\")=0,\"\",IFERROR(INDIRECT(CONCATENATE(\"'UNITCOST ITEMS (Data Entry)'!F\",IFERROR(SUM(MATCH(A313,'UNITCOST ITEMS (Data Entry)'!$A$3:$A$504,0),2),\"\"))),\"\"))","v":""},{"$f":"IF(IFERROR(INDIRECT(CONCATENATE(\"'UNITCOST ITEMS (Data Entry)'!G\",IFERROR(SUM(MATCH(A313,'UNITCOST ITEMS (Data Entry)'!$A$3:$A$504,0),2),\"\"))),\"\")=0,\"\",IFERROR(INDIRECT(CONCATENATE(\"'UNITCOST ITEMS (Data Entry)'!G\",IFERROR(SUM(MATCH(A313,'UNITCOST ITEMS (Data Entry)'!$A$3:$A$504,0),2),\"\"))),\"\"))","v":""},{"$f":"IF(IFERROR(INDIRECT(CONCATENATE(\"'UNITCOST ITEMS (Data Entry)'!H\",IFERROR(SUM(MATCH(A313,'UNITCOST ITEMS (Data Entry)'!$A$3:$A$504,0),2),\"\"))),\"\")=0,\"\",IFERROR(INDIRECT(CONCATENATE(\"'UNITCOST ITEMS (Data Entry)'!H\",IFERROR(SUM(MATCH(A313,'UNITCOST ITEMS (Data Entry)'!$A$3:$A$504,0),2),\"\"))),\"\"))","v":""},{"$f":"IF(IFERROR(INDIRECT(CONCATENATE(\"'UNITCOST ITEMS (Data Entry)'!I\",IFERROR(SUM(MATCH(A313,'UNITCOST ITEMS (Data Entry)'!$A$3:$A$504,0),2),\"\"))),\"\")=0,\"\",IFERROR(INDIRECT(CONCATENATE(\"'UNITCOST ITEMS (Data Entry)'!I\",IFERROR(SUM(MATCH(A313,'UNITCOST ITEMS (Data Entry)'!$A$3:$A$504,0),2),\"\"))),\"\"))","v":""},{"$f":"IF(K313=2,\"\",IF(IFERROR(INDIRECT(CONCATENATE(\"'UNITCOST ITEMS (Data Entry)'!J\",IFERROR(SUM(MATCH(A313,'UNITCOST ITEMS (Data Entry)'!$A$3:$A$504,0),2),\"\"))),\"\")=0,\"\",IFERROR(INDIRECT(CONCATENATE(\"'UNITCOST ITEMS (Data Entry)'!J\",IFERROR(SUM(MATCH(A313,'UNITCOST ITEMS (Data Entry)'!$A$3:$A$504,0),2),\"\"))),\"\")))","v":""},null,{"$f":"IF(IFERROR(INDIRECT(CONCATENATE(\"'UNITCOST ITEMS (Data Entry)'!C\",IFERROR(SUM(MATCH(A313,'UNITCOST ITEMS (Data Entry)'!$A$3:$A$504,0),2),\"\"))),\"\")=0,\"\",IFERROR(INDIRECT(CONCATENATE(\"'UNITCOST ITEMS (Data Entry)'!C\",IFERROR(SUM(MATCH(A313,'UNITCOST ITEMS (Data Entry)'!$A$3:$A$504,0),2),\"\"))),\"\"))","v":""},""]
[306,{"$f":"IF(IFERROR(INDIRECT(CONCATENATE(\"'UNITCOST ITEMS (Data Entry)'!D\",IFERROR(SUM(MATCH(A314,'UNITCOST ITEMS (Data Entry)'!$A$3:$A$504,0),2),\"\"))),\"\")=0,\"\",IFERROR(INDIRECT(CONCATENATE(\"'UNITCOST ITEMS (Data Entry)'!D\",IFERROR(SUM(MATCH(A314,'UNITCOST ITEMS (Data Entry)'!$A$3:$A$504,0),2),\"\"))),\"\"))","v":""},{"$f":"IF(IFERROR(INDIRECT(CONCATENATE(\"'UNITCOST ITEMS (Data Entry)'!E\",IFERROR(SUM(MATCH(A314,'UNITCOST ITEMS (Data Entry)'!$A$3:$A$504,0),2),\"\"))),\"\")=0,\"\",IFERROR(INDIRECT(CONCATENATE(\"'UNITCOST ITEMS (Data Entry)'!E\",IFERROR(SUM(MATCH(A314,'UNITCOST ITEMS (Data Entry)'!$A$3:$A$504,0),2),\"\"))),\"\"))","v":""},null,{"$f":"IF(IFERROR(INDIRECT(CONCATENATE(\"'UNITCOST ITEMS (Data Entry)'!F\",IFERROR(SUM(MATCH(A314,'UNITCOST ITEMS (Data Entry)'!$A$3:$A$504,0),2),\"\"))),\"\")=0,\"\",IFERROR(INDIRECT(CONCATENATE(\"'UNITCOST ITEMS (Data Entry)'!F\",IFERROR(SUM(MATCH(A314,'UNITCOST ITEMS (Data Entry)'!$A$3:$A$504,0),2),\"\"))),\"\"))","v":""},{"$f":"IF(IFERROR(INDIRECT(CONCATENATE(\"'UNITCOST ITEMS (Data Entry)'!G\",IFERROR(SUM(MATCH(A314,'UNITCOST ITEMS (Data Entry)'!$A$3:$A$504,0),2),\"\"))),\"\")=0,\"\",IFERROR(INDIRECT(CONCATENATE(\"'UNITCOST ITEMS (Data Entry)'!G\",IFERROR(SUM(MATCH(A314,'UNITCOST ITEMS (Data Entry)'!$A$3:$A$504,0),2),\"\"))),\"\"))","v":""},{"$f":"IF(IFERROR(INDIRECT(CONCATENATE(\"'UNITCOST ITEMS (Data Entry)'!H\",IFERROR(SUM(MATCH(A314,'UNITCOST ITEMS (Data Entry)'!$A$3:$A$504,0),2),\"\"))),\"\")=0,\"\",IFERROR(INDIRECT(CONCATENATE(\"'UNITCOST ITEMS (Data Entry)'!H\",IFERROR(SUM(MATCH(A314,'UNITCOST ITEMS (Data Entry)'!$A$3:$A$504,0),2),\"\"))),\"\"))","v":""},{"$f":"IF(IFERROR(INDIRECT(CONCATENATE(\"'UNITCOST ITEMS (Data Entry)'!I\",IFERROR(SUM(MATCH(A314,'UNITCOST ITEMS (Data Entry)'!$A$3:$A$504,0),2),\"\"))),\"\")=0,\"\",IFERROR(INDIRECT(CONCATENATE(\"'UNITCOST ITEMS (Data Entry)'!I\",IFERROR(SUM(MATCH(A314,'UNITCOST ITEMS (Data Entry)'!$A$3:$A$504,0),2),\"\"))),\"\"))","v":""},{"$f":"IF(K314=2,\"\",IF(IFERROR(INDIRECT(CONCATENATE(\"'UNITCOST ITEMS (Data Entry)'!J\",IFERROR(SUM(MATCH(A314,'UNITCOST ITEMS (Data Entry)'!$A$3:$A$504,0),2),\"\"))),\"\")=0,\"\",IFERROR(INDIRECT(CONCATENATE(\"'UNITCOST ITEMS (Data Entry)'!J\",IFERROR(SUM(MATCH(A314,'UNITCOST ITEMS (Data Entry)'!$A$3:$A$504,0),2),\"\"))),\"\")))","v":""},null,{"$f":"IF(IFERROR(INDIRECT(CONCATENATE(\"'UNITCOST ITEMS (Data Entry)'!C\",IFERROR(SUM(MATCH(A314,'UNITCOST ITEMS (Data Entry)'!$A$3:$A$504,0),2),\"\"))),\"\")=0,\"\",IFERROR(INDIRECT(CONCATENATE(\"'UNITCOST ITEMS (Data Entry)'!C\",IFERROR(SUM(MATCH(A314,'UNITCOST ITEMS (Data Entry)'!$A$3:$A$504,0),2),\"\"))),\"\"))","v":""},""]
[307,{"$f":"IF(IFERROR(INDIRECT(CONCATENATE(\"'UNITCOST ITEMS (Data Entry)'!D\",IFERROR(SUM(MATCH(A315,'UNITCOST ITEMS (Data Entry)'!$A$3:$A$504,0),2),\"\"))),\"\")=0,\"\",IFERROR(INDIRECT(CONCATENATE(\"'UNITCOST ITEMS (Data Entry)'!D\",IFERROR(SUM(MATCH(A315,'UNITCOST ITEMS (Data Entry)'!$A$3:$A$504,0),2),\"\"))),\"\"))","v":""},{"$f":"IF(IFERROR(INDIRECT(CONCATENATE(\"'UNITCOST ITEMS (Data Entry)'!E\",IFERROR(SUM(MATCH(A315,'UNITCOST ITEMS (Data Entry)'!$A$3:$A$504,0),2),\"\"))),\"\")=0,\"\",IFERROR(INDIRECT(CONCATENATE(\"'UNITCOST ITEMS (Data Entry)'!E\",IFERROR(SUM(MATCH(A315,'UNITCOST ITEMS (Data Entry)'!$A$3:$A$504,0),2),\"\"))),\"\"))","v":""},null,{"$f":"IF(IFERROR(INDIRECT(CONCATENATE(\"'UNITCOST ITEMS (Data Entry)'!F\",IFERROR(SUM(MATCH(A315,'UNITCOST ITEMS (Data Entry)'!$A$3:$A$504,0),2),\"\"))),\"\")=0,\"\",IFERROR(INDIRECT(CONCATENATE(\"'UNITCOST ITEMS (Data Entry)'!F\",IFERROR(SUM(MATCH(A315,'UNITCOST ITEMS (Data Entry)'!$A$3:$A$504,0),2),\"\"))),\"\"))","v":""},{"$f":"IF(IFERROR(INDIRECT(CONCATENATE(\"'UNITCOST ITEMS (Data Entry)'!G\",IFERROR(SUM(MATCH(A315,'UNITCOST ITEMS (Data Entry)'!$A$3:$A$504,0),2),\"\"))),\"\")=0,\"\",IFERROR(INDIRECT(CONCATENATE(\"'UNITCOST ITEMS (Data Entry)'!G\",IFERROR(SUM(MATCH(A315,'UNITCOST ITEMS (Data Entry)'!$A$3:$A$504,0),2),\"\"))),\"\"))","v":""},{"$f":"IF(IFERROR(INDIRECT(CONCATENATE(\"'UNITCOST ITEMS (Data Entry)'!H\",IFERROR(SUM(MATCH(A315,'UNITCOST ITEMS (Data Entry)'!$A$3:$A$504,0),2),\"\"))),\"\")=0,\"\",IFERROR(INDIRECT(CONCATENATE(\"'UNITCOST ITEMS (Data Entry)'!H\",IFERROR(SUM(MATCH(A315,'UNITCOST ITEMS (Data Entry)'!$A$3:$A$504,0),2),\"\"))),\"\"))","v":""},{"$f":"IF(IFERROR(INDIRECT(CONCATENATE(\"'UNITCOST ITEMS (Data Entry)'!I\",IFERROR(SUM(MATCH(A315,'UNITCOST ITEMS (Data Entry)'!$A$3:$A$504,0),2),\"\"))),\"\")=0,\"\",IFERROR(INDIRECT(CONCATENATE(\"'UNITCOST ITEMS (Data Entry)'!I\",IFERROR(SUM(MATCH(A315,'UNITCOST ITEMS (Data Entry)'!$A$3:$A$504,0),2),\"\"))),\"\"))","v":""},{"$f":"IF(K315=2,\"\",IF(IFERROR(INDIRECT(CONCATENATE(\"'UNITCOST ITEMS (Data Entry)'!J\",IFERROR(SUM(MATCH(A315,'UNITCOST ITEMS (Data Entry)'!$A$3:$A$504,0),2),\"\"))),\"\")=0,\"\",IFERROR(INDIRECT(CONCATENATE(\"'UNITCOST ITEMS (Data Entry)'!J\",IFERROR(SUM(MATCH(A315,'UNITCOST ITEMS (Data Entry)'!$A$3:$A$504,0),2),\"\"))),\"\")))","v":""},null,{"$f":"IF(IFERROR(INDIRECT(CONCATENATE(\"'UNITCOST ITEMS (Data Entry)'!C\",IFERROR(SUM(MATCH(A315,'UNITCOST ITEMS (Data Entry)'!$A$3:$A$504,0),2),\"\"))),\"\")=0,\"\",IFERROR(INDIRECT(CONCATENATE(\"'UNITCOST ITEMS (Data Entry)'!C\",IFERROR(SUM(MATCH(A315,'UNITCOST ITEMS (Data Entry)'!$A$3:$A$504,0),2),\"\"))),\"\"))","v":""},""]
[308,{"$f":"IF(IFERROR(INDIRECT(CONCATENATE(\"'UNITCOST ITEMS (Data Entry)'!D\",IFERROR(SUM(MATCH(A316,'UNITCOST ITEMS (Data Entry)'!$A$3:$A$504,0),2),\"\"))),\"\")=0,\"\",IFERROR(INDIRECT(CONCATENATE(\"'UNITCOST ITEMS (Data Entry)'!D\",IFERROR(SUM(MATCH(A316,'UNITCOST ITEMS (Data Entry)'!$A$3:$A$504,0),2),\"\"))),\"\"))","v":""},{"$f":"IF(IFERROR(INDIRECT(CONCATENATE(\"'UNITCOST ITEMS (Data Entry)'!E\",IFERROR(SUM(MATCH(A316,'UNITCOST ITEMS (Data Entry)'!$A$3:$A$504,0),2),\"\"))),\"\")=0,\"\",IFERROR(INDIRECT(CONCATENATE(\"'UNITCOST ITEMS (Data Entry)'!E\",IFERROR(SUM(MATCH(A316,'UNITCOST ITEMS (Data Entry)'!$A$3:$A$504,0),2),\"\"))),\"\"))","v":""},null,{"$f":"IF(IFERROR(INDIRECT(CONCATENATE(\"'UNITCOST ITEMS (Data Entry)'!F\",IFERROR(SUM(MATCH(A316,'UNITCOST ITEMS (Data Entry)'!$A$3:$A$504,0),2),\"\"))),\"\")=0,\"\",IFERROR(INDIRECT(CONCATENATE(\"'UNITCOST ITEMS (Data Entry)'!F\",IFERROR(SUM(MATCH(A316,'UNITCOST ITEMS (Data Entry)'!$A$3:$A$504,0),2),\"\"))),\"\"))","v":""},{"$f":"IF(IFERROR(INDIRECT(CONCATENATE(\"'UNITCOST ITEMS (Data Entry)'!G\",IFERROR(SUM(MATCH(A316,'UNITCOST ITEMS (Data Entry)'!$A$3:$A$504,0),2),\"\"))),\"\")=0,\"\",IFERROR(INDIRECT(CONCATENATE(\"'UNITCOST ITEMS (Data Entry)'!G\",IFERROR(SUM(MATCH(A316,'UNITCOST ITEMS (Data Entry)'!$A$3:$A$504,0),2),\"\"))),\"\"))","v":""},{"$f":"IF(IFERROR(INDIRECT(CONCATENATE(\"'UNITCOST ITEMS (Data Entry)'!H\",IFERROR(SUM(MATCH(A316,'UNITCOST ITEMS (Data Entry)'!$A$3:$A$504,0),2),\"\"))),\"\")=0,\"\",IFERROR(INDIRECT(CONCATENATE(\"'UNITCOST ITEMS (Data Entry)'!H\",IFERROR(SUM(MATCH(A316,'UNITCOST ITEMS (Data Entry)'!$A$3:$A$504,0),2),\"\"))),\"\"))","v":""},{"$f":"IF(IFERROR(INDIRECT(CONCATENATE(\"'UNITCOST ITEMS (Data Entry)'!I\",IFERROR(SUM(MATCH(A316,'UNITCOST ITEMS (Data Entry)'!$A$3:$A$504,0),2),\"\"))),\"\")=0,\"\",IFERROR(INDIRECT(CONCATENATE(\"'UNITCOST ITEMS (Data Entry)'!I\",IFERROR(SUM(MATCH(A316,'UNITCOST ITEMS (Data Entry)'!$A$3:$A$504,0),2),\"\"))),\"\"))","v":""},{"$f":"IF(K316=2,\"\",IF(IFERROR(INDIRECT(CONCATENATE(\"'UNITCOST ITEMS (Data Entry)'!J\",IFERROR(SUM(MATCH(A316,'UNITCOST ITEMS (Data Entry)'!$A$3:$A$504,0),2),\"\"))),\"\")=0,\"\",IFERROR(INDIRECT(CONCATENATE(\"'UNITCOST ITEMS (Data Entry)'!J\",IFERROR(SUM(MATCH(A316,'UNITCOST ITEMS (Data Entry)'!$A$3:$A$504,0),2),\"\"))),\"\")))","v":""},null,{"$f":"IF(IFERROR(INDIRECT(CONCATENATE(\"'UNITCOST ITEMS (Data Entry)'!C\",IFERROR(SUM(MATCH(A316,'UNITCOST ITEMS (Data Entry)'!$A$3:$A$504,0),2),\"\"))),\"\")=0,\"\",IFERROR(INDIRECT(CONCATENATE(\"'UNITCOST ITEMS (Data Entry)'!C\",IFERROR(SUM(MATCH(A316,'UNITCOST ITEMS (Data Entry)'!$A$3:$A$504,0),2),\"\"))),\"\"))","v":""},""]
[309,{"$f":"IF(IFERROR(INDIRECT(CONCATENATE(\"'UNITCOST ITEMS (Data Entry)'!D\",IFERROR(SUM(MATCH(A317,'UNITCOST ITEMS (Data Entry)'!$A$3:$A$504,0),2),\"\"))),\"\")=0,\"\",IFERROR(INDIRECT(CONCATENATE(\"'UNITCOST ITEMS (Data Entry)'!D\",IFERROR(SUM(MATCH(A317,'UNITCOST ITEMS (Data Entry)'!$A$3:$A$504,0),2),\"\"))),\"\"))","v":""},{"$f":"IF(IFERROR(INDIRECT(CONCATENATE(\"'UNITCOST ITEMS (Data Entry)'!E\",IFERROR(SUM(MATCH(A317,'UNITCOST ITEMS (Data Entry)'!$A$3:$A$504,0),2),\"\"))),\"\")=0,\"\",IFERROR(INDIRECT(CONCATENATE(\"'UNITCOST ITEMS (Data Entry)'!E\",IFERROR(SUM(MATCH(A317,'UNITCOST ITEMS (Data Entry)'!$A$3:$A$504,0),2),\"\"))),\"\"))","v":""},null,{"$f":"IF(IFERROR(INDIRECT(CONCATENATE(\"'UNITCOST ITEMS (Data Entry)'!F\",IFERROR(SUM(MATCH(A317,'UNITCOST ITEMS (Data Entry)'!$A$3:$A$504,0),2),\"\"))),\"\")=0,\"\",IFERROR(INDIRECT(CONCATENATE(\"'UNITCOST ITEMS (Data Entry)'!F\",IFERROR(SUM(MATCH(A317,'UNITCOST ITEMS (Data Entry)'!$A$3:$A$504,0),2),\"\"))),\"\"))","v":""},{"$f":"IF(IFERROR(INDIRECT(CONCATENATE(\"'UNITCOST ITEMS (Data Entry)'!G\",IFERROR(SUM(MATCH(A317,'UNITCOST ITEMS (Data Entry)'!$A$3:$A$504,0),2),\"\"))),\"\")=0,\"\",IFERROR(INDIRECT(CONCATENATE(\"'UNITCOST ITEMS (Data Entry)'!G\",IFERROR(SUM(MATCH(A317,'UNITCOST ITEMS (Data Entry)'!$A$3:$A$504,0),2),\"\"))),\"\"))","v":""},{"$f":"IF(IFERROR(INDIRECT(CONCATENATE(\"'UNITCOST ITEMS (Data Entry)'!H\",IFERROR(SUM(MATCH(A317,'UNITCOST ITEMS (Data Entry)'!$A$3:$A$504,0),2),\"\"))),\"\")=0,\"\",IFERROR(INDIRECT(CONCATENATE(\"'UNITCOST ITEMS (Data Entry)'!H\",IFERROR(SUM(MATCH(A317,'UNITCOST ITEMS (Data Entry)'!$A$3:$A$504,0),2),\"\"))),\"\"))","v":""},{"$f":"IF(IFERROR(INDIRECT(CONCATENATE(\"'UNITCOST ITEMS (Data Entry)'!I\",IFERROR(SUM(MATCH(A317,'UNITCOST ITEMS (Data Entry)'!$A$3:$A$504,0),2),\"\"))),\"\")=0,\"\",IFERROR(INDIRECT(CONCATENATE(\"'UNITCOST ITEMS (Data Entry)'!I\",IFERROR(SUM(MATCH(A317,'UNITCOST ITEMS (Data Entry)'!$A$3:$A$504,0),2),\"\"))),\"\"))","v":""},{"$f":"IF(K317=2,\"\",IF(IFERROR(INDIRECT(CONCATENATE(\"'UNITCOST ITEMS (Data Entry)'!J\",IFERROR(SUM(MATCH(A317,'UNITCOST ITEMS (Data Entry)'!$A$3:$A$504,0),2),\"\"))),\"\")=0,\"\",IFERROR(INDIRECT(CONCATENATE(\"'UNITCOST ITEMS (Data Entry)'!J\",IFERROR(SUM(MATCH(A317,'UNITCOST ITEMS (Data Entry)'!$A$3:$A$504,0),2),\"\"))),\"\")))","v":""},null,{"$f":"IF(IFERROR(INDIRECT(CONCATENATE(\"'UNITCOST ITEMS (Data Entry)'!C\",IFERROR(SUM(MATCH(A317,'UNITCOST ITEMS (Data Entry)'!$A$3:$A$504,0),2),\"\"))),\"\")=0,\"\",IFERROR(INDIRECT(CONCATENATE(\"'UNITCOST ITEMS (Data Entry)'!C\",IFERROR(SUM(MATCH(A317,'UNITCOST ITEMS (Data Entry)'!$A$3:$A$504,0),2),\"\"))),\"\"))","v":""},""]
[310,{"$f":"IF(IFERROR(INDIRECT(CONCATENATE(\"'UNITCOST ITEMS (Data Entry)'!D\",IFERROR(SUM(MATCH(A318,'UNITCOST ITEMS (Data Entry)'!$A$3:$A$504,0),2),\"\"))),\"\")=0,\"\",IFERROR(INDIRECT(CONCATENATE(\"'UNITCOST ITEMS (Data Entry)'!D\",IFERROR(SUM(MATCH(A318,'UNITCOST ITEMS (Data Entry)'!$A$3:$A$504,0),2),\"\"))),\"\"))","v":""},{"$f":"IF(IFERROR(INDIRECT(CONCATENATE(\"'UNITCOST ITEMS (Data Entry)'!E\",IFERROR(SUM(MATCH(A318,'UNITCOST ITEMS (Data Entry)'!$A$3:$A$504,0),2),\"\"))),\"\")=0,\"\",IFERROR(INDIRECT(CONCATENATE(\"'UNITCOST ITEMS (Data Entry)'!E\",IFERROR(SUM(MATCH(A318,'UNITCOST ITEMS (Data Entry)'!$A$3:$A$504,0),2),\"\"))),\"\"))","v":""},null,{"$f":"IF(IFERROR(INDIRECT(CONCATENATE(\"'UNITCOST ITEMS (Data Entry)'!F\",IFERROR(SUM(MATCH(A318,'UNITCOST ITEMS (Data Entry)'!$A$3:$A$504,0),2),\"\"))),\"\")=0,\"\",IFERROR(INDIRECT(CONCATENATE(\"'UNITCOST ITEMS (Data Entry)'!F\",IFERROR(SUM(MATCH(A318,'UNITCOST ITEMS (Data Entry)'!$A$3:$A$504,0),2),\"\"))),\"\"))","v":""},{"$f":"IF(IFERROR(INDIRECT(CONCATENATE(\"'UNITCOST ITEMS (Data Entry)'!G\",IFERROR(SUM(MATCH(A318,'UNITCOST ITEMS (Data Entry)'!$A$3:$A$504,0),2),\"\"))),\"\")=0,\"\",IFERROR(INDIRECT(CONCATENATE(\"'UNITCOST ITEMS (Data Entry)'!G\",IFERROR(SUM(MATCH(A318,'UNITCOST ITEMS (Data Entry)'!$A$3:$A$504,0),2),\"\"))),\"\"))","v":""},{"$f":"IF(IFERROR(INDIRECT(CONCATENATE(\"'UNITCOST ITEMS (Data Entry)'!H\",IFERROR(SUM(MATCH(A318,'UNITCOST ITEMS (Data Entry)'!$A$3:$A$504,0),2),\"\"))),\"\")=0,\"\",IFERROR(INDIRECT(CONCATENATE(\"'UNITCOST ITEMS (Data Entry)'!H\",IFERROR(SUM(MATCH(A318,'UNITCOST ITEMS (Data Entry)'!$A$3:$A$504,0),2),\"\"))),\"\"))","v":""},{"$f":"IF(IFERROR(INDIRECT(CONCATENATE(\"'UNITCOST ITEMS (Data Entry)'!I\",IFERROR(SUM(MATCH(A318,'UNITCOST ITEMS (Data Entry)'!$A$3:$A$504,0),2),\"\"))),\"\")=0,\"\",IFERROR(INDIRECT(CONCATENATE(\"'UNITCOST ITEMS (Data Entry)'!I\",IFERROR(SUM(MATCH(A318,'UNITCOST ITEMS (Data Entry)'!$A$3:$A$504,0),2),\"\"))),\"\"))","v":""},{"$f":"IF(K318=2,\"\",IF(IFERROR(INDIRECT(CONCATENATE(\"'UNITCOST ITEMS (Data Entry)'!J\",IFERROR(SUM(MATCH(A318,'UNITCOST ITEMS (Data Entry)'!$A$3:$A$504,0),2),\"\"))),\"\")=0,\"\",IFERROR(INDIRECT(CONCATENATE(\"'UNITCOST ITEMS (Data Entry)'!J\",IFERROR(SUM(MATCH(A318,'UNITCOST ITEMS (Data Entry)'!$A$3:$A$504,0),2),\"\"))),\"\")))","v":""},null,{"$f":"IF(IFERROR(INDIRECT(CONCATENATE(\"'UNITCOST ITEMS (Data Entry)'!C\",IFERROR(SUM(MATCH(A318,'UNITCOST ITEMS (Data Entry)'!$A$3:$A$504,0),2),\"\"))),\"\")=0,\"\",IFERROR(INDIRECT(CONCATENATE(\"'UNITCOST ITEMS (Data Entry)'!C\",IFERROR(SUM(MATCH(A318,'UNITCOST ITEMS (Data Entry)'!$A$3:$A$504,0),2),\"\"))),\"\"))","v":""},""]
[311,{"$f":"IF(IFERROR(INDIRECT(CONCATENATE(\"'UNITCOST ITEMS (Data Entry)'!D\",IFERROR(SUM(MATCH(A319,'UNITCOST ITEMS (Data Entry)'!$A$3:$A$504,0),2),\"\"))),\"\")=0,\"\",IFERROR(INDIRECT(CONCATENATE(\"'UNITCOST ITEMS (Data Entry)'!D\",IFERROR(SUM(MATCH(A319,'UNITCOST ITEMS (Data Entry)'!$A$3:$A$504,0),2),\"\"))),\"\"))","v":""},{"$f":"IF(IFERROR(INDIRECT(CONCATENATE(\"'UNITCOST ITEMS (Data Entry)'!E\",IFERROR(SUM(MATCH(A319,'UNITCOST ITEMS (Data Entry)'!$A$3:$A$504,0),2),\"\"))),\"\")=0,\"\",IFERROR(INDIRECT(CONCATENATE(\"'UNITCOST ITEMS (Data Entry)'!E\",IFERROR(SUM(MATCH(A319,'UNITCOST ITEMS (Data Entry)'!$A$3:$A$504,0),2),\"\"))),\"\"))","v":""},null,{"$f":"IF(IFERROR(INDIRECT(CONCATENATE(\"'UNITCOST ITEMS (Data Entry)'!F\",IFERROR(SUM(MATCH(A319,'UNITCOST ITEMS (Data Entry)'!$A$3:$A$504,0),2),\"\"))),\"\")=0,\"\",IFERROR(INDIRECT(CONCATENATE(\"'UNITCOST ITEMS (Data Entry)'!F\",IFERROR(SUM(MATCH(A319,'UNITCOST ITEMS (Data Entry)'!$A$3:$A$504,0),2),\"\"))),\"\"))","v":""},{"$f":"IF(IFERROR(INDIRECT(CONCATENATE(\"'UNITCOST ITEMS (Data Entry)'!G\",IFERROR(SUM(MATCH(A319,'UNITCOST ITEMS (Data Entry)'!$A$3:$A$504,0),2),\"\"))),\"\")=0,\"\",IFERROR(INDIRECT(CONCATENATE(\"'UNITCOST ITEMS (Data Entry)'!G\",IFERROR(SUM(MATCH(A319,'UNITCOST ITEMS (Data Entry)'!$A$3:$A$504,0),2),\"\"))),\"\"))","v":""},{"$f":"IF(IFERROR(INDIRECT(CONCATENATE(\"'UNITCOST ITEMS (Data Entry)'!H\",IFERROR(SUM(MATCH(A319,'UNITCOST ITEMS (Data Entry)'!$A$3:$A$504,0),2),\"\"))),\"\")=0,\"\",IFERROR(INDIRECT(CONCATENATE(\"'UNITCOST ITEMS (Data Entry)'!H\",IFERROR(SUM(MATCH(A319,'UNITCOST ITEMS (Data Entry)'!$A$3:$A$504,0),2),\"\"))),\"\"))","v":""},{"$f":"IF(IFERROR(INDIRECT(CONCATENATE(\"'UNITCOST ITEMS (Data Entry)'!I\",IFERROR(SUM(MATCH(A319,'UNITCOST ITEMS (Data Entry)'!$A$3:$A$504,0),2),\"\"))),\"\")=0,\"\",IFERROR(INDIRECT(CONCATENATE(\"'UNITCOST ITEMS (Data Entry)'!I\",IFERROR(SUM(MATCH(A319,'UNITCOST ITEMS (Data Entry)'!$A$3:$A$504,0),2),\"\"))),\"\"))","v":""},{"$f":"IF(K319=2,\"\",IF(IFERROR(INDIRECT(CONCATENATE(\"'UNITCOST ITEMS (Data Entry)'!J\",IFERROR(SUM(MATCH(A319,'UNITCOST ITEMS (Data Entry)'!$A$3:$A$504,0),2),\"\"))),\"\")=0,\"\",IFERROR(INDIRECT(CONCATENATE(\"'UNITCOST ITEMS (Data Entry)'!J\",IFERROR(SUM(MATCH(A319,'UNITCOST ITEMS (Data Entry)'!$A$3:$A$504,0),2),\"\"))),\"\")))","v":""},null,{"$f":"IF(IFERROR(INDIRECT(CONCATENATE(\"'UNITCOST ITEMS (Data Entry)'!C\",IFERROR(SUM(MATCH(A319,'UNITCOST ITEMS (Data Entry)'!$A$3:$A$504,0),2),\"\"))),\"\")=0,\"\",IFERROR(INDIRECT(CONCATENATE(\"'UNITCOST ITEMS (Data Entry)'!C\",IFERROR(SUM(MATCH(A319,'UNITCOST ITEMS (Data Entry)'!$A$3:$A$504,0),2),\"\"))),\"\"))","v":""},""]
[312,{"$f":"IF(IFERROR(INDIRECT(CONCATENATE(\"'UNITCOST ITEMS (Data Entry)'!D\",IFERROR(SUM(MATCH(A320,'UNITCOST ITEMS (Data Entry)'!$A$3:$A$504,0),2),\"\"))),\"\")=0,\"\",IFERROR(INDIRECT(CONCATENATE(\"'UNITCOST ITEMS (Data Entry)'!D\",IFERROR(SUM(MATCH(A320,'UNITCOST ITEMS (Data Entry)'!$A$3:$A$504,0),2),\"\"))),\"\"))","v":""},{"$f":"IF(IFERROR(INDIRECT(CONCATENATE(\"'UNITCOST ITEMS (Data Entry)'!E\",IFERROR(SUM(MATCH(A320,'UNITCOST ITEMS (Data Entry)'!$A$3:$A$504,0),2),\"\"))),\"\")=0,\"\",IFERROR(INDIRECT(CONCATENATE(\"'UNITCOST ITEMS (Data Entry)'!E\",IFERROR(SUM(MATCH(A320,'UNITCOST ITEMS (Data Entry)'!$A$3:$A$504,0),2),\"\"))),\"\"))","v":""},null,{"$f":"IF(IFERROR(INDIRECT(CONCATENATE(\"'UNITCOST ITEMS (Data Entry)'!F\",IFERROR(SUM(MATCH(A320,'UNITCOST ITEMS (Data Entry)'!$A$3:$A$504,0),2),\"\"))),\"\")=0,\"\",IFERROR(INDIRECT(CONCATENATE(\"'UNITCOST ITEMS (Data Entry)'!F\",IFERROR(SUM(MATCH(A320,'UNITCOST ITEMS (Data Entry)'!$A$3:$A$504,0),2),\"\"))),\"\"))","v":""},{"$f":"IF(IFERROR(INDIRECT(CONCATENATE(\"'UNITCOST ITEMS (Data Entry)'!G\",IFERROR(SUM(MATCH(A320,'UNITCOST ITEMS (Data Entry)'!$A$3:$A$504,0),2),\"\"))),\"\")=0,\"\",IFERROR(INDIRECT(CONCATENATE(\"'UNITCOST ITEMS (Data Entry)'!G\",IFERROR(SUM(MATCH(A320,'UNITCOST ITEMS (Data Entry)'!$A$3:$A$504,0),2),\"\"))),\"\"))","v":""},{"$f":"IF(IFERROR(INDIRECT(CONCATENATE(\"'UNITCOST ITEMS (Data Entry)'!H\",IFERROR(SUM(MATCH(A320,'UNITCOST ITEMS (Data Entry)'!$A$3:$A$504,0),2),\"\"))),\"\")=0,\"\",IFERROR(INDIRECT(CONCATENATE(\"'UNITCOST ITEMS (Data Entry)'!H\",IFERROR(SUM(MATCH(A320,'UNITCOST ITEMS (Data Entry)'!$A$3:$A$504,0),2),\"\"))),\"\"))","v":""},{"$f":"IF(IFERROR(INDIRECT(CONCATENATE(\"'UNITCOST ITEMS (Data Entry)'!I\",IFERROR(SUM(MATCH(A320,'UNITCOST ITEMS (Data Entry)'!$A$3:$A$504,0),2),\"\"))),\"\")=0,\"\",IFERROR(INDIRECT(CONCATENATE(\"'UNITCOST ITEMS (Data Entry)'!I\",IFERROR(SUM(MATCH(A320,'UNITCOST ITEMS (Data Entry)'!$A$3:$A$504,0),2),\"\"))),\"\"))","v":""},{"$f":"IF(K320=2,\"\",IF(IFERROR(INDIRECT(CONCATENATE(\"'UNITCOST ITEMS (Data Entry)'!J\",IFERROR(SUM(MATCH(A320,'UNITCOST ITEMS (Data Entry)'!$A$3:$A$504,0),2),\"\"))),\"\")=0,\"\",IFERROR(INDIRECT(CONCATENATE(\"'UNITCOST ITEMS (Data Entry)'!J\",IFERROR(SUM(MATCH(A320,'UNITCOST ITEMS (Data Entry)'!$A$3:$A$504,0),2),\"\"))),\"\")))","v":""},null,{"$f":"IF(IFERROR(INDIRECT(CONCATENATE(\"'UNITCOST ITEMS (Data Entry)'!C\",IFERROR(SUM(MATCH(A320,'UNITCOST ITEMS (Data Entry)'!$A$3:$A$504,0),2),\"\"))),\"\")=0,\"\",IFERROR(INDIRECT(CONCATENATE(\"'UNITCOST ITEMS (Data Entry)'!C\",IFERROR(SUM(MATCH(A320,'UNITCOST ITEMS (Data Entry)'!$A$3:$A$504,0),2),\"\"))),\"\"))","v":""},""]
[313,{"$f":"IF(IFERROR(INDIRECT(CONCATENATE(\"'UNITCOST ITEMS (Data Entry)'!D\",IFERROR(SUM(MATCH(A321,'UNITCOST ITEMS (Data Entry)'!$A$3:$A$504,0),2),\"\"))),\"\")=0,\"\",IFERROR(INDIRECT(CONCATENATE(\"'UNITCOST ITEMS (Data Entry)'!D\",IFERROR(SUM(MATCH(A321,'UNITCOST ITEMS (Data Entry)'!$A$3:$A$504,0),2),\"\"))),\"\"))","v":""},{"$f":"IF(IFERROR(INDIRECT(CONCATENATE(\"'UNITCOST ITEMS (Data Entry)'!E\",IFERROR(SUM(MATCH(A321,'UNITCOST ITEMS (Data Entry)'!$A$3:$A$504,0),2),\"\"))),\"\")=0,\"\",IFERROR(INDIRECT(CONCATENATE(\"'UNITCOST ITEMS (Data Entry)'!E\",IFERROR(SUM(MATCH(A321,'UNITCOST ITEMS (Data Entry)'!$A$3:$A$504,0),2),\"\"))),\"\"))","v":""},null,{"$f":"IF(IFERROR(INDIRECT(CONCATENATE(\"'UNITCOST ITEMS (Data Entry)'!F\",IFERROR(SUM(MATCH(A321,'UNITCOST ITEMS (Data Entry)'!$A$3:$A$504,0),2),\"\"))),\"\")=0,\"\",IFERROR(INDIRECT(CONCATENATE(\"'UNITCOST ITEMS (Data Entry)'!F\",IFERROR(SUM(MATCH(A321,'UNITCOST ITEMS (Data Entry)'!$A$3:$A$504,0),2),\"\"))),\"\"))","v":""},{"$f":"IF(IFERROR(INDIRECT(CONCATENATE(\"'UNITCOST ITEMS (Data Entry)'!G\",IFERROR(SUM(MATCH(A321,'UNITCOST ITEMS (Data Entry)'!$A$3:$A$504,0),2),\"\"))),\"\")=0,\"\",IFERROR(INDIRECT(CONCATENATE(\"'UNITCOST ITEMS (Data Entry)'!G\",IFERROR(SUM(MATCH(A321,'UNITCOST ITEMS (Data Entry)'!$A$3:$A$504,0),2),\"\"))),\"\"))","v":""},{"$f":"IF(IFERROR(INDIRECT(CONCATENATE(\"'UNITCOST ITEMS (Data Entry)'!H\",IFERROR(SUM(MATCH(A321,'UNITCOST ITEMS (Data Entry)'!$A$3:$A$504,0),2),\"\"))),\"\")=0,\"\",IFERROR(INDIRECT(CONCATENATE(\"'UNITCOST ITEMS (Data Entry)'!H\",IFERROR(SUM(MATCH(A321,'UNITCOST ITEMS (Data Entry)'!$A$3:$A$504,0),2),\"\"))),\"\"))","v":""},{"$f":"IF(IFERROR(INDIRECT(CONCATENATE(\"'UNITCOST ITEMS (Data Entry)'!I\",IFERROR(SUM(MATCH(A321,'UNITCOST ITEMS (Data Entry)'!$A$3:$A$504,0),2),\"\"))),\"\")=0,\"\",IFERROR(INDIRECT(CONCATENATE(\"'UNITCOST ITEMS (Data Entry)'!I\",IFERROR(SUM(MATCH(A321,'UNITCOST ITEMS (Data Entry)'!$A$3:$A$504,0),2),\"\"))),\"\"))","v":""},{"$f":"IF(K321=2,\"\",IF(IFERROR(INDIRECT(CONCATENATE(\"'UNITCOST ITEMS (Data Entry)'!J\",IFERROR(SUM(MATCH(A321,'UNITCOST ITEMS (Data Entry)'!$A$3:$A$504,0),2),\"\"))),\"\")=0,\"\",IFERROR(INDIRECT(CONCATENATE(\"'UNITCOST ITEMS (Data Entry)'!J\",IFERROR(SUM(MATCH(A321,'UNITCOST ITEMS (Data Entry)'!$A$3:$A$504,0),2),\"\"))),\"\")))","v":""},null,{"$f":"IF(IFERROR(INDIRECT(CONCATENATE(\"'UNITCOST ITEMS (Data Entry)'!C\",IFERROR(SUM(MATCH(A321,'UNITCOST ITEMS (Data Entry)'!$A$3:$A$504,0),2),\"\"))),\"\")=0,\"\",IFERROR(INDIRECT(CONCATENATE(\"'UNITCOST ITEMS (Data Entry)'!C\",IFERROR(SUM(MATCH(A321,'UNITCOST ITEMS (Data Entry)'!$A$3:$A$504,0),2),\"\"))),\"\"))","v":""},""]
[314,{"$f":"IF(IFERROR(INDIRECT(CONCATENATE(\"'UNITCOST ITEMS (Data Entry)'!D\",IFERROR(SUM(MATCH(A322,'UNITCOST ITEMS (Data Entry)'!$A$3:$A$504,0),2),\"\"))),\"\")=0,\"\",IFERROR(INDIRECT(CONCATENATE(\"'UNITCOST ITEMS (Data Entry)'!D\",IFERROR(SUM(MATCH(A322,'UNITCOST ITEMS (Data Entry)'!$A$3:$A$504,0),2),\"\"))),\"\"))","v":""},{"$f":"IF(IFERROR(INDIRECT(CONCATENATE(\"'UNITCOST ITEMS (Data Entry)'!E\",IFERROR(SUM(MATCH(A322,'UNITCOST ITEMS (Data Entry)'!$A$3:$A$504,0),2),\"\"))),\"\")=0,\"\",IFERROR(INDIRECT(CONCATENATE(\"'UNITCOST ITEMS (Data Entry)'!E\",IFERROR(SUM(MATCH(A322,'UNITCOST ITEMS (Data Entry)'!$A$3:$A$504,0),2),\"\"))),\"\"))","v":""},null,{"$f":"IF(IFERROR(INDIRECT(CONCATENATE(\"'UNITCOST ITEMS (Data Entry)'!F\",IFERROR(SUM(MATCH(A322,'UNITCOST ITEMS (Data Entry)'!$A$3:$A$504,0),2),\"\"))),\"\")=0,\"\",IFERROR(INDIRECT(CONCATENATE(\"'UNITCOST ITEMS (Data Entry)'!F\",IFERROR(SUM(MATCH(A322,'UNITCOST ITEMS (Data Entry)'!$A$3:$A$504,0),2),\"\"))),\"\"))","v":""},{"$f":"IF(IFERROR(INDIRECT(CONCATENATE(\"'UNITCOST ITEMS (Data Entry)'!G\",IFERROR(SUM(MATCH(A322,'UNITCOST ITEMS (Data Entry)'!$A$3:$A$504,0),2),\"\"))),\"\")=0,\"\",IFERROR(INDIRECT(CONCATENATE(\"'UNITCOST ITEMS (Data Entry)'!G\",IFERROR(SUM(MATCH(A322,'UNITCOST ITEMS (Data Entry)'!$A$3:$A$504,0),2),\"\"))),\"\"))","v":""},{"$f":"IF(IFERROR(INDIRECT(CONCATENATE(\"'UNITCOST ITEMS (Data Entry)'!H\",IFERROR(SUM(MATCH(A322,'UNITCOST ITEMS (Data Entry)'!$A$3:$A$504,0),2),\"\"))),\"\")=0,\"\",IFERROR(INDIRECT(CONCATENATE(\"'UNITCOST ITEMS (Data Entry)'!H\",IFERROR(SUM(MATCH(A322,'UNITCOST ITEMS (Data Entry)'!$A$3:$A$504,0),2),\"\"))),\"\"))","v":""},{"$f":"IF(IFERROR(INDIRECT(CONCATENATE(\"'UNITCOST ITEMS (Data Entry)'!I\",IFERROR(SUM(MATCH(A322,'UNITCOST ITEMS (Data Entry)'!$A$3:$A$504,0),2),\"\"))),\"\")=0,\"\",IFERROR(INDIRECT(CONCATENATE(\"'UNITCOST ITEMS (Data Entry)'!I\",IFERROR(SUM(MATCH(A322,'UNITCOST ITEMS (Data Entry)'!$A$3:$A$504,0),2),\"\"))),\"\"))","v":""},{"$f":"IF(K322=2,\"\",IF(IFERROR(INDIRECT(CONCATENATE(\"'UNITCOST ITEMS (Data Entry)'!J\",IFERROR(SUM(MATCH(A322,'UNITCOST ITEMS (Data Entry)'!$A$3:$A$504,0),2),\"\"))),\"\")=0,\"\",IFERROR(INDIRECT(CONCATENATE(\"'UNITCOST ITEMS (Data Entry)'!J\",IFERROR(SUM(MATCH(A322,'UNITCOST ITEMS (Data Entry)'!$A$3:$A$504,0),2),\"\"))),\"\")))","v":""},null,{"$f":"IF(IFERROR(INDIRECT(CONCATENATE(\"'UNITCOST ITEMS (Data Entry)'!C\",IFERROR(SUM(MATCH(A322,'UNITCOST ITEMS (Data Entry)'!$A$3:$A$504,0),2),\"\"))),\"\")=0,\"\",IFERROR(INDIRECT(CONCATENATE(\"'UNITCOST ITEMS (Data Entry)'!C\",IFERROR(SUM(MATCH(A322,'UNITCOST ITEMS (Data Entry)'!$A$3:$A$504,0),2),\"\"))),\"\"))","v":""},""]
[315,{"$f":"IF(IFERROR(INDIRECT(CONCATENATE(\"'UNITCOST ITEMS (Data Entry)'!D\",IFERROR(SUM(MATCH(A323,'UNITCOST ITEMS (Data Entry)'!$A$3:$A$504,0),2),\"\"))),\"\")=0,\"\",IFERROR(INDIRECT(CONCATENATE(\"'UNITCOST ITEMS (Data Entry)'!D\",IFERROR(SUM(MATCH(A323,'UNITCOST ITEMS (Data Entry)'!$A$3:$A$504,0),2),\"\"))),\"\"))","v":""},{"$f":"IF(IFERROR(INDIRECT(CONCATENATE(\"'UNITCOST ITEMS (Data Entry)'!E\",IFERROR(SUM(MATCH(A323,'UNITCOST ITEMS (Data Entry)'!$A$3:$A$504,0),2),\"\"))),\"\")=0,\"\",IFERROR(INDIRECT(CONCATENATE(\"'UNITCOST ITEMS (Data Entry)'!E\",IFERROR(SUM(MATCH(A323,'UNITCOST ITEMS (Data Entry)'!$A$3:$A$504,0),2),\"\"))),\"\"))","v":""},null,{"$f":"IF(IFERROR(INDIRECT(CONCATENATE(\"'UNITCOST ITEMS (Data Entry)'!F\",IFERROR(SUM(MATCH(A323,'UNITCOST ITEMS (Data Entry)'!$A$3:$A$504,0),2),\"\"))),\"\")=0,\"\",IFERROR(INDIRECT(CONCATENATE(\"'UNITCOST ITEMS (Data Entry)'!F\",IFERROR(SUM(MATCH(A323,'UNITCOST ITEMS (Data Entry)'!$A$3:$A$504,0),2),\"\"))),\"\"))","v":""},{"$f":"IF(IFERROR(INDIRECT(CONCATENATE(\"'UNITCOST ITEMS (Data Entry)'!G\",IFERROR(SUM(MATCH(A323,'UNITCOST ITEMS (Data Entry)'!$A$3:$A$504,0),2),\"\"))),\"\")=0,\"\",IFERROR(INDIRECT(CONCATENATE(\"'UNITCOST ITEMS (Data Entry)'!G\",IFERROR(SUM(MATCH(A323,'UNITCOST ITEMS (Data Entry)'!$A$3:$A$504,0),2),\"\"))),\"\"))","v":""},{"$f":"IF(IFERROR(INDIRECT(CONCATENATE(\"'UNITCOST ITEMS (Data Entry)'!H\",IFERROR(SUM(MATCH(A323,'UNITCOST ITEMS (Data Entry)'!$A$3:$A$504,0),2),\"\"))),\"\")=0,\"\",IFERROR(INDIRECT(CONCATENATE(\"'UNITCOST ITEMS (Data Entry)'!H\",IFERROR(SUM(MATCH(A323,'UNITCOST ITEMS (Data Entry)'!$A$3:$A$504,0),2),\"\"))),\"\"))","v":""},{"$f":"IF(IFERROR(INDIRECT(CONCATENATE(\"'UNITCOST ITEMS (Data Entry)'!I\",IFERROR(SUM(MATCH(A323,'UNITCOST ITEMS (Data Entry)'!$A$3:$A$504,0),2),\"\"))),\"\")=0,\"\",IFERROR(INDIRECT(CONCATENATE(\"'UNITCOST ITEMS (Data Entry)'!I\",IFERROR(SUM(MATCH(A323,'UNITCOST ITEMS (Data Entry)'!$A$3:$A$504,0),2),\"\"))),\"\"))","v":""},{"$f":"IF(K323=2,\"\",IF(IFERROR(INDIRECT(CONCATENATE(\"'UNITCOST ITEMS (Data Entry)'!J\",IFERROR(SUM(MATCH(A323,'UNITCOST ITEMS (Data Entry)'!$A$3:$A$504,0),2),\"\"))),\"\")=0,\"\",IFERROR(INDIRECT(CONCATENATE(\"'UNITCOST ITEMS (Data Entry)'!J\",IFERROR(SUM(MATCH(A323,'UNITCOST ITEMS (Data Entry)'!$A$3:$A$504,0),2),\"\"))),\"\")))","v":""},null,{"$f":"IF(IFERROR(INDIRECT(CONCATENATE(\"'UNITCOST ITEMS (Data Entry)'!C\",IFERROR(SUM(MATCH(A323,'UNITCOST ITEMS (Data Entry)'!$A$3:$A$504,0),2),\"\"))),\"\")=0,\"\",IFERROR(INDIRECT(CONCATENATE(\"'UNITCOST ITEMS (Data Entry)'!C\",IFERROR(SUM(MATCH(A323,'UNITCOST ITEMS (Data Entry)'!$A$3:$A$504,0),2),\"\"))),\"\"))","v":""},""]
[316,{"$f":"IF(IFERROR(INDIRECT(CONCATENATE(\"'UNITCOST ITEMS (Data Entry)'!D\",IFERROR(SUM(MATCH(A324,'UNITCOST ITEMS (Data Entry)'!$A$3:$A$504,0),2),\"\"))),\"\")=0,\"\",IFERROR(INDIRECT(CONCATENATE(\"'UNITCOST ITEMS (Data Entry)'!D\",IFERROR(SUM(MATCH(A324,'UNITCOST ITEMS (Data Entry)'!$A$3:$A$504,0),2),\"\"))),\"\"))","v":""},{"$f":"IF(IFERROR(INDIRECT(CONCATENATE(\"'UNITCOST ITEMS (Data Entry)'!E\",IFERROR(SUM(MATCH(A324,'UNITCOST ITEMS (Data Entry)'!$A$3:$A$504,0),2),\"\"))),\"\")=0,\"\",IFERROR(INDIRECT(CONCATENATE(\"'UNITCOST ITEMS (Data Entry)'!E\",IFERROR(SUM(MATCH(A324,'UNITCOST ITEMS (Data Entry)'!$A$3:$A$504,0),2),\"\"))),\"\"))","v":""},null,{"$f":"IF(IFERROR(INDIRECT(CONCATENATE(\"'UNITCOST ITEMS (Data Entry)'!F\",IFERROR(SUM(MATCH(A324,'UNITCOST ITEMS (Data Entry)'!$A$3:$A$504,0),2),\"\"))),\"\")=0,\"\",IFERROR(INDIRECT(CONCATENATE(\"'UNITCOST ITEMS (Data Entry)'!F\",IFERROR(SUM(MATCH(A324,'UNITCOST ITEMS (Data Entry)'!$A$3:$A$504,0),2),\"\"))),\"\"))","v":""},{"$f":"IF(IFERROR(INDIRECT(CONCATENATE(\"'UNITCOST ITEMS (Data Entry)'!G\",IFERROR(SUM(MATCH(A324,'UNITCOST ITEMS (Data Entry)'!$A$3:$A$504,0),2),\"\"))),\"\")=0,\"\",IFERROR(INDIRECT(CONCATENATE(\"'UNITCOST ITEMS (Data Entry)'!G\",IFERROR(SUM(MATCH(A324,'UNITCOST ITEMS (Data Entry)'!$A$3:$A$504,0),2),\"\"))),\"\"))","v":""},{"$f":"IF(IFERROR(INDIRECT(CONCATENATE(\"'UNITCOST ITEMS (Data Entry)'!H\",IFERROR(SUM(MATCH(A324,'UNITCOST ITEMS (Data Entry)'!$A$3:$A$504,0),2),\"\"))),\"\")=0,\"\",IFERROR(INDIRECT(CONCATENATE(\"'UNITCOST ITEMS (Data Entry)'!H\",IFERROR(SUM(MATCH(A324,'UNITCOST ITEMS (Data Entry)'!$A$3:$A$504,0),2),\"\"))),\"\"))","v":""},{"$f":"IF(IFERROR(INDIRECT(CONCATENATE(\"'UNITCOST ITEMS (Data Entry)'!I\",IFERROR(SUM(MATCH(A324,'UNITCOST ITEMS (Data Entry)'!$A$3:$A$504,0),2),\"\"))),\"\")=0,\"\",IFERROR(INDIRECT(CONCATENATE(\"'UNITCOST ITEMS (Data Entry)'!I\",IFERROR(SUM(MATCH(A324,'UNITCOST ITEMS (Data Entry)'!$A$3:$A$504,0),2),\"\"))),\"\"))","v":""},{"$f":"IF(K324=2,\"\",IF(IFERROR(INDIRECT(CONCATENATE(\"'UNITCOST ITEMS (Data Entry)'!J\",IFERROR(SUM(MATCH(A324,'UNITCOST ITEMS (Data Entry)'!$A$3:$A$504,0),2),\"\"))),\"\")=0,\"\",IFERROR(INDIRECT(CONCATENATE(\"'UNITCOST ITEMS (Data Entry)'!J\",IFERROR(SUM(MATCH(A324,'UNITCOST ITEMS (Data Entry)'!$A$3:$A$504,0),2),\"\"))),\"\")))","v":""},null,{"$f":"IF(IFERROR(INDIRECT(CONCATENATE(\"'UNITCOST ITEMS (Data Entry)'!C\",IFERROR(SUM(MATCH(A324,'UNITCOST ITEMS (Data Entry)'!$A$3:$A$504,0),2),\"\"))),\"\")=0,\"\",IFERROR(INDIRECT(CONCATENATE(\"'UNITCOST ITEMS (Data Entry)'!C\",IFERROR(SUM(MATCH(A324,'UNITCOST ITEMS (Data Entry)'!$A$3:$A$504,0),2),\"\"))),\"\"))","v":""},""]
[317,{"$f":"IF(IFERROR(INDIRECT(CONCATENATE(\"'UNITCOST ITEMS (Data Entry)'!D\",IFERROR(SUM(MATCH(A325,'UNITCOST ITEMS (Data Entry)'!$A$3:$A$504,0),2),\"\"))),\"\")=0,\"\",IFERROR(INDIRECT(CONCATENATE(\"'UNITCOST ITEMS (Data Entry)'!D\",IFERROR(SUM(MATCH(A325,'UNITCOST ITEMS (Data Entry)'!$A$3:$A$504,0),2),\"\"))),\"\"))","v":""},{"$f":"IF(IFERROR(INDIRECT(CONCATENATE(\"'UNITCOST ITEMS (Data Entry)'!E\",IFERROR(SUM(MATCH(A325,'UNITCOST ITEMS (Data Entry)'!$A$3:$A$504,0),2),\"\"))),\"\")=0,\"\",IFERROR(INDIRECT(CONCATENATE(\"'UNITCOST ITEMS (Data Entry)'!E\",IFERROR(SUM(MATCH(A325,'UNITCOST ITEMS (Data Entry)'!$A$3:$A$504,0),2),\"\"))),\"\"))","v":""},null,{"$f":"IF(IFERROR(INDIRECT(CONCATENATE(\"'UNITCOST ITEMS (Data Entry)'!F\",IFERROR(SUM(MATCH(A325,'UNITCOST ITEMS (Data Entry)'!$A$3:$A$504,0),2),\"\"))),\"\")=0,\"\",IFERROR(INDIRECT(CONCATENATE(\"'UNITCOST ITEMS (Data Entry)'!F\",IFERROR(SUM(MATCH(A325,'UNITCOST ITEMS (Data Entry)'!$A$3:$A$504,0),2),\"\"))),\"\"))","v":""},{"$f":"IF(IFERROR(INDIRECT(CONCATENATE(\"'UNITCOST ITEMS (Data Entry)'!G\",IFERROR(SUM(MATCH(A325,'UNITCOST ITEMS (Data Entry)'!$A$3:$A$504,0),2),\"\"))),\"\")=0,\"\",IFERROR(INDIRECT(CONCATENATE(\"'UNITCOST ITEMS (Data Entry)'!G\",IFERROR(SUM(MATCH(A325,'UNITCOST ITEMS (Data Entry)'!$A$3:$A$504,0),2),\"\"))),\"\"))","v":""},{"$f":"IF(IFERROR(INDIRECT(CONCATENATE(\"'UNITCOST ITEMS (Data Entry)'!H\",IFERROR(SUM(MATCH(A325,'UNITCOST ITEMS (Data Entry)'!$A$3:$A$504,0),2),\"\"))),\"\")=0,\"\",IFERROR(INDIRECT(CONCATENATE(\"'UNITCOST ITEMS (Data Entry)'!H\",IFERROR(SUM(MATCH(A325,'UNITCOST ITEMS (Data Entry)'!$A$3:$A$504,0),2),\"\"))),\"\"))","v":""},{"$f":"IF(IFERROR(INDIRECT(CONCATENATE(\"'UNITCOST ITEMS (Data Entry)'!I\",IFERROR(SUM(MATCH(A325,'UNITCOST ITEMS (Data Entry)'!$A$3:$A$504,0),2),\"\"))),\"\")=0,\"\",IFERROR(INDIRECT(CONCATENATE(\"'UNITCOST ITEMS (Data Entry)'!I\",IFERROR(SUM(MATCH(A325,'UNITCOST ITEMS (Data Entry)'!$A$3:$A$504,0),2),\"\"))),\"\"))","v":""},{"$f":"IF(K325=2,\"\",IF(IFERROR(INDIRECT(CONCATENATE(\"'UNITCOST ITEMS (Data Entry)'!J\",IFERROR(SUM(MATCH(A325,'UNITCOST ITEMS (Data Entry)'!$A$3:$A$504,0),2),\"\"))),\"\")=0,\"\",IFERROR(INDIRECT(CONCATENATE(\"'UNITCOST ITEMS (Data Entry)'!J\",IFERROR(SUM(MATCH(A325,'UNITCOST ITEMS (Data Entry)'!$A$3:$A$504,0),2),\"\"))),\"\")))","v":""},null,{"$f":"IF(IFERROR(INDIRECT(CONCATENATE(\"'UNITCOST ITEMS (Data Entry)'!C\",IFERROR(SUM(MATCH(A325,'UNITCOST ITEMS (Data Entry)'!$A$3:$A$504,0),2),\"\"))),\"\")=0,\"\",IFERROR(INDIRECT(CONCATENATE(\"'UNITCOST ITEMS (Data Entry)'!C\",IFERROR(SUM(MATCH(A325,'UNITCOST ITEMS (Data Entry)'!$A$3:$A$504,0),2),\"\"))),\"\"))","v":""},""]
[318,{"$f":"IF(IFERROR(INDIRECT(CONCATENATE(\"'UNITCOST ITEMS (Data Entry)'!D\",IFERROR(SUM(MATCH(A326,'UNITCOST ITEMS (Data Entry)'!$A$3:$A$504,0),2),\"\"))),\"\")=0,\"\",IFERROR(INDIRECT(CONCATENATE(\"'UNITCOST ITEMS (Data Entry)'!D\",IFERROR(SUM(MATCH(A326,'UNITCOST ITEMS (Data Entry)'!$A$3:$A$504,0),2),\"\"))),\"\"))","v":""},{"$f":"IF(IFERROR(INDIRECT(CONCATENATE(\"'UNITCOST ITEMS (Data Entry)'!E\",IFERROR(SUM(MATCH(A326,'UNITCOST ITEMS (Data Entry)'!$A$3:$A$504,0),2),\"\"))),\"\")=0,\"\",IFERROR(INDIRECT(CONCATENATE(\"'UNITCOST ITEMS (Data Entry)'!E\",IFERROR(SUM(MATCH(A326,'UNITCOST ITEMS (Data Entry)'!$A$3:$A$504,0),2),\"\"))),\"\"))","v":""},null,{"$f":"IF(IFERROR(INDIRECT(CONCATENATE(\"'UNITCOST ITEMS (Data Entry)'!F\",IFERROR(SUM(MATCH(A326,'UNITCOST ITEMS (Data Entry)'!$A$3:$A$504,0),2),\"\"))),\"\")=0,\"\",IFERROR(INDIRECT(CONCATENATE(\"'UNITCOST ITEMS (Data Entry)'!F\",IFERROR(SUM(MATCH(A326,'UNITCOST ITEMS (Data Entry)'!$A$3:$A$504,0),2),\"\"))),\"\"))","v":""},{"$f":"IF(IFERROR(INDIRECT(CONCATENATE(\"'UNITCOST ITEMS (Data Entry)'!G\",IFERROR(SUM(MATCH(A326,'UNITCOST ITEMS (Data Entry)'!$A$3:$A$504,0),2),\"\"))),\"\")=0,\"\",IFERROR(INDIRECT(CONCATENATE(\"'UNITCOST ITEMS (Data Entry)'!G\",IFERROR(SUM(MATCH(A326,'UNITCOST ITEMS (Data Entry)'!$A$3:$A$504,0),2),\"\"))),\"\"))","v":""},{"$f":"IF(IFERROR(INDIRECT(CONCATENATE(\"'UNITCOST ITEMS (Data Entry)'!H\",IFERROR(SUM(MATCH(A326,'UNITCOST ITEMS (Data Entry)'!$A$3:$A$504,0),2),\"\"))),\"\")=0,\"\",IFERROR(INDIRECT(CONCATENATE(\"'UNITCOST ITEMS (Data Entry)'!H\",IFERROR(SUM(MATCH(A326,'UNITCOST ITEMS (Data Entry)'!$A$3:$A$504,0),2),\"\"))),\"\"))","v":""},{"$f":"IF(IFERROR(INDIRECT(CONCATENATE(\"'UNITCOST ITEMS (Data Entry)'!I\",IFERROR(SUM(MATCH(A326,'UNITCOST ITEMS (Data Entry)'!$A$3:$A$504,0),2),\"\"))),\"\")=0,\"\",IFERROR(INDIRECT(CONCATENATE(\"'UNITCOST ITEMS (Data Entry)'!I\",IFERROR(SUM(MATCH(A326,'UNITCOST ITEMS (Data Entry)'!$A$3:$A$504,0),2),\"\"))),\"\"))","v":""},{"$f":"IF(K326=2,\"\",IF(IFERROR(INDIRECT(CONCATENATE(\"'UNITCOST ITEMS (Data Entry)'!J\",IFERROR(SUM(MATCH(A326,'UNITCOST ITEMS (Data Entry)'!$A$3:$A$504,0),2),\"\"))),\"\")=0,\"\",IFERROR(INDIRECT(CONCATENATE(\"'UNITCOST ITEMS (Data Entry)'!J\",IFERROR(SUM(MATCH(A326,'UNITCOST ITEMS (Data Entry)'!$A$3:$A$504,0),2),\"\"))),\"\")))","v":""},null,{"$f":"IF(IFERROR(INDIRECT(CONCATENATE(\"'UNITCOST ITEMS (Data Entry)'!C\",IFERROR(SUM(MATCH(A326,'UNITCOST ITEMS (Data Entry)'!$A$3:$A$504,0),2),\"\"))),\"\")=0,\"\",IFERROR(INDIRECT(CONCATENATE(\"'UNITCOST ITEMS (Data Entry)'!C\",IFERROR(SUM(MATCH(A326,'UNITCOST ITEMS (Data Entry)'!$A$3:$A$504,0),2),\"\"))),\"\"))","v":""},""]
[319,{"$f":"IF(IFERROR(INDIRECT(CONCATENATE(\"'UNITCOST ITEMS (Data Entry)'!D\",IFERROR(SUM(MATCH(A327,'UNITCOST ITEMS (Data Entry)'!$A$3:$A$504,0),2),\"\"))),\"\")=0,\"\",IFERROR(INDIRECT(CONCATENATE(\"'UNITCOST ITEMS (Data Entry)'!D\",IFERROR(SUM(MATCH(A327,'UNITCOST ITEMS (Data Entry)'!$A$3:$A$504,0),2),\"\"))),\"\"))","v":""},{"$f":"IF(IFERROR(INDIRECT(CONCATENATE(\"'UNITCOST ITEMS (Data Entry)'!E\",IFERROR(SUM(MATCH(A327,'UNITCOST ITEMS (Data Entry)'!$A$3:$A$504,0),2),\"\"))),\"\")=0,\"\",IFERROR(INDIRECT(CONCATENATE(\"'UNITCOST ITEMS (Data Entry)'!E\",IFERROR(SUM(MATCH(A327,'UNITCOST ITEMS (Data Entry)'!$A$3:$A$504,0),2),\"\"))),\"\"))","v":""},null,{"$f":"IF(IFERROR(INDIRECT(CONCATENATE(\"'UNITCOST ITEMS (Data Entry)'!F\",IFERROR(SUM(MATCH(A327,'UNITCOST ITEMS (Data Entry)'!$A$3:$A$504,0),2),\"\"))),\"\")=0,\"\",IFERROR(INDIRECT(CONCATENATE(\"'UNITCOST ITEMS (Data Entry)'!F\",IFERROR(SUM(MATCH(A327,'UNITCOST ITEMS (Data Entry)'!$A$3:$A$504,0),2),\"\"))),\"\"))","v":""},{"$f":"IF(IFERROR(INDIRECT(CONCATENATE(\"'UNITCOST ITEMS (Data Entry)'!G\",IFERROR(SUM(MATCH(A327,'UNITCOST ITEMS (Data Entry)'!$A$3:$A$504,0),2),\"\"))),\"\")=0,\"\",IFERROR(INDIRECT(CONCATENATE(\"'UNITCOST ITEMS (Data Entry)'!G\",IFERROR(SUM(MATCH(A327,'UNITCOST ITEMS (Data Entry)'!$A$3:$A$504,0),2),\"\"))),\"\"))","v":""},{"$f":"IF(IFERROR(INDIRECT(CONCATENATE(\"'UNITCOST ITEMS (Data Entry)'!H\",IFERROR(SUM(MATCH(A327,'UNITCOST ITEMS (Data Entry)'!$A$3:$A$504,0),2),\"\"))),\"\")=0,\"\",IFERROR(INDIRECT(CONCATENATE(\"'UNITCOST ITEMS (Data Entry)'!H\",IFERROR(SUM(MATCH(A327,'UNITCOST ITEMS (Data Entry)'!$A$3:$A$504,0),2),\"\"))),\"\"))","v":""},{"$f":"IF(IFERROR(INDIRECT(CONCATENATE(\"'UNITCOST ITEMS (Data Entry)'!I\",IFERROR(SUM(MATCH(A327,'UNITCOST ITEMS (Data Entry)'!$A$3:$A$504,0),2),\"\"))),\"\")=0,\"\",IFERROR(INDIRECT(CONCATENATE(\"'UNITCOST ITEMS (Data Entry)'!I\",IFERROR(SUM(MATCH(A327,'UNITCOST ITEMS (Data Entry)'!$A$3:$A$504,0),2),\"\"))),\"\"))","v":""},{"$f":"IF(K327=2,\"\",IF(IFERROR(INDIRECT(CONCATENATE(\"'UNITCOST ITEMS (Data Entry)'!J\",IFERROR(SUM(MATCH(A327,'UNITCOST ITEMS (Data Entry)'!$A$3:$A$504,0),2),\"\"))),\"\")=0,\"\",IFERROR(INDIRECT(CONCATENATE(\"'UNITCOST ITEMS (Data Entry)'!J\",IFERROR(SUM(MATCH(A327,'UNITCOST ITEMS (Data Entry)'!$A$3:$A$504,0),2),\"\"))),\"\")))","v":""},null,{"$f":"IF(IFERROR(INDIRECT(CONCATENATE(\"'UNITCOST ITEMS (Data Entry)'!C\",IFERROR(SUM(MATCH(A327,'UNITCOST ITEMS (Data Entry)'!$A$3:$A$504,0),2),\"\"))),\"\")=0,\"\",IFERROR(INDIRECT(CONCATENATE(\"'UNITCOST ITEMS (Data Entry)'!C\",IFERROR(SUM(MATCH(A327,'UNITCOST ITEMS (Data Entry)'!$A$3:$A$504,0),2),\"\"))),\"\"))","v":""},""]
[320,{"$f":"IF(IFERROR(INDIRECT(CONCATENATE(\"'UNITCOST ITEMS (Data Entry)'!D\",IFERROR(SUM(MATCH(A328,'UNITCOST ITEMS (Data Entry)'!$A$3:$A$504,0),2),\"\"))),\"\")=0,\"\",IFERROR(INDIRECT(CONCATENATE(\"'UNITCOST ITEMS (Data Entry)'!D\",IFERROR(SUM(MATCH(A328,'UNITCOST ITEMS (Data Entry)'!$A$3:$A$504,0),2),\"\"))),\"\"))","v":""},{"$f":"IF(IFERROR(INDIRECT(CONCATENATE(\"'UNITCOST ITEMS (Data Entry)'!E\",IFERROR(SUM(MATCH(A328,'UNITCOST ITEMS (Data Entry)'!$A$3:$A$504,0),2),\"\"))),\"\")=0,\"\",IFERROR(INDIRECT(CONCATENATE(\"'UNITCOST ITEMS (Data Entry)'!E\",IFERROR(SUM(MATCH(A328,'UNITCOST ITEMS (Data Entry)'!$A$3:$A$504,0),2),\"\"))),\"\"))","v":""},null,{"$f":"IF(IFERROR(INDIRECT(CONCATENATE(\"'UNITCOST ITEMS (Data Entry)'!F\",IFERROR(SUM(MATCH(A328,'UNITCOST ITEMS (Data Entry)'!$A$3:$A$504,0),2),\"\"))),\"\")=0,\"\",IFERROR(INDIRECT(CONCATENATE(\"'UNITCOST ITEMS (Data Entry)'!F\",IFERROR(SUM(MATCH(A328,'UNITCOST ITEMS (Data Entry)'!$A$3:$A$504,0),2),\"\"))),\"\"))","v":""},{"$f":"IF(IFERROR(INDIRECT(CONCATENATE(\"'UNITCOST ITEMS (Data Entry)'!G\",IFERROR(SUM(MATCH(A328,'UNITCOST ITEMS (Data Entry)'!$A$3:$A$504,0),2),\"\"))),\"\")=0,\"\",IFERROR(INDIRECT(CONCATENATE(\"'UNITCOST ITEMS (Data Entry)'!G\",IFERROR(SUM(MATCH(A328,'UNITCOST ITEMS (Data Entry)'!$A$3:$A$504,0),2),\"\"))),\"\"))","v":""},{"$f":"IF(IFERROR(INDIRECT(CONCATENATE(\"'UNITCOST ITEMS (Data Entry)'!H\",IFERROR(SUM(MATCH(A328,'UNITCOST ITEMS (Data Entry)'!$A$3:$A$504,0),2),\"\"))),\"\")=0,\"\",IFERROR(INDIRECT(CONCATENATE(\"'UNITCOST ITEMS (Data Entry)'!H\",IFERROR(SUM(MATCH(A328,'UNITCOST ITEMS (Data Entry)'!$A$3:$A$504,0),2),\"\"))),\"\"))","v":""},{"$f":"IF(IFERROR(INDIRECT(CONCATENATE(\"'UNITCOST ITEMS (Data Entry)'!I\",IFERROR(SUM(MATCH(A328,'UNITCOST ITEMS (Data Entry)'!$A$3:$A$504,0),2),\"\"))),\"\")=0,\"\",IFERROR(INDIRECT(CONCATENATE(\"'UNITCOST ITEMS (Data Entry)'!I\",IFERROR(SUM(MATCH(A328,'UNITCOST ITEMS (Data Entry)'!$A$3:$A$504,0),2),\"\"))),\"\"))","v":""},{"$f":"IF(K328=2,\"\",IF(IFERROR(INDIRECT(CONCATENATE(\"'UNITCOST ITEMS (Data Entry)'!J\",IFERROR(SUM(MATCH(A328,'UNITCOST ITEMS (Data Entry)'!$A$3:$A$504,0),2),\"\"))),\"\")=0,\"\",IFERROR(INDIRECT(CONCATENATE(\"'UNITCOST ITEMS (Data Entry)'!J\",IFERROR(SUM(MATCH(A328,'UNITCOST ITEMS (Data Entry)'!$A$3:$A$504,0),2),\"\"))),\"\")))","v":""},null,{"$f":"IF(IFERROR(INDIRECT(CONCATENATE(\"'UNITCOST ITEMS (Data Entry)'!C\",IFERROR(SUM(MATCH(A328,'UNITCOST ITEMS (Data Entry)'!$A$3:$A$504,0),2),\"\"))),\"\")=0,\"\",IFERROR(INDIRECT(CONCATENATE(\"'UNITCOST ITEMS (Data Entry)'!C\",IFERROR(SUM(MATCH(A328,'UNITCOST ITEMS (Data Entry)'!$A$3:$A$504,0),2),\"\"))),\"\"))","v":""},""]
[321,{"$f":"IF(IFERROR(INDIRECT(CONCATENATE(\"'UNITCOST ITEMS (Data Entry)'!D\",IFERROR(SUM(MATCH(A329,'UNITCOST ITEMS (Data Entry)'!$A$3:$A$504,0),2),\"\"))),\"\")=0,\"\",IFERROR(INDIRECT(CONCATENATE(\"'UNITCOST ITEMS (Data Entry)'!D\",IFERROR(SUM(MATCH(A329,'UNITCOST ITEMS (Data Entry)'!$A$3:$A$504,0),2),\"\"))),\"\"))","v":""},{"$f":"IF(IFERROR(INDIRECT(CONCATENATE(\"'UNITCOST ITEMS (Data Entry)'!E\",IFERROR(SUM(MATCH(A329,'UNITCOST ITEMS (Data Entry)'!$A$3:$A$504,0),2),\"\"))),\"\")=0,\"\",IFERROR(INDIRECT(CONCATENATE(\"'UNITCOST ITEMS (Data Entry)'!E\",IFERROR(SUM(MATCH(A329,'UNITCOST ITEMS (Data Entry)'!$A$3:$A$504,0),2),\"\"))),\"\"))","v":""},null,{"$f":"IF(IFERROR(INDIRECT(CONCATENATE(\"'UNITCOST ITEMS (Data Entry)'!F\",IFERROR(SUM(MATCH(A329,'UNITCOST ITEMS (Data Entry)'!$A$3:$A$504,0),2),\"\"))),\"\")=0,\"\",IFERROR(INDIRECT(CONCATENATE(\"'UNITCOST ITEMS (Data Entry)'!F\",IFERROR(SUM(MATCH(A329,'UNITCOST ITEMS (Data Entry)'!$A$3:$A$504,0),2),\"\"))),\"\"))","v":""},{"$f":"IF(IFERROR(INDIRECT(CONCATENATE(\"'UNITCOST ITEMS (Data Entry)'!G\",IFERROR(SUM(MATCH(A329,'UNITCOST ITEMS (Data Entry)'!$A$3:$A$504,0),2),\"\"))),\"\")=0,\"\",IFERROR(INDIRECT(CONCATENATE(\"'UNITCOST ITEMS (Data Entry)'!G\",IFERROR(SUM(MATCH(A329,'UNITCOST ITEMS (Data Entry)'!$A$3:$A$504,0),2),\"\"))),\"\"))","v":""},{"$f":"IF(IFERROR(INDIRECT(CONCATENATE(\"'UNITCOST ITEMS (Data Entry)'!H\",IFERROR(SUM(MATCH(A329,'UNITCOST ITEMS (Data Entry)'!$A$3:$A$504,0),2),\"\"))),\"\")=0,\"\",IFERROR(INDIRECT(CONCATENATE(\"'UNITCOST ITEMS (Data Entry)'!H\",IFERROR(SUM(MATCH(A329,'UNITCOST ITEMS (Data Entry)'!$A$3:$A$504,0),2),\"\"))),\"\"))","v":""},{"$f":"IF(IFERROR(INDIRECT(CONCATENATE(\"'UNITCOST ITEMS (Data Entry)'!I\",IFERROR(SUM(MATCH(A329,'UNITCOST ITEMS (Data Entry)'!$A$3:$A$504,0),2),\"\"))),\"\")=0,\"\",IFERROR(INDIRECT(CONCATENATE(\"'UNITCOST ITEMS (Data Entry)'!I\",IFERROR(SUM(MATCH(A329,'UNITCOST ITEMS (Data Entry)'!$A$3:$A$504,0),2),\"\"))),\"\"))","v":""},{"$f":"IF(K329=2,\"\",IF(IFERROR(INDIRECT(CONCATENATE(\"'UNITCOST ITEMS (Data Entry)'!J\",IFERROR(SUM(MATCH(A329,'UNITCOST ITEMS (Data Entry)'!$A$3:$A$504,0),2),\"\"))),\"\")=0,\"\",IFERROR(INDIRECT(CONCATENATE(\"'UNITCOST ITEMS (Data Entry)'!J\",IFERROR(SUM(MATCH(A329,'UNITCOST ITEMS (Data Entry)'!$A$3:$A$504,0),2),\"\"))),\"\")))","v":""},null,{"$f":"IF(IFERROR(INDIRECT(CONCATENATE(\"'UNITCOST ITEMS (Data Entry)'!C\",IFERROR(SUM(MATCH(A329,'UNITCOST ITEMS (Data Entry)'!$A$3:$A$504,0),2),\"\"))),\"\")=0,\"\",IFERROR(INDIRECT(CONCATENATE(\"'UNITCOST ITEMS (Data Entry)'!C\",IFERROR(SUM(MATCH(A329,'UNITCOST ITEMS (Data Entry)'!$A$3:$A$504,0),2),\"\"))),\"\"))","v":""},""]
[322,{"$f":"IF(IFERROR(INDIRECT(CONCATENATE(\"'UNITCOST ITEMS (Data Entry)'!D\",IFERROR(SUM(MATCH(A330,'UNITCOST ITEMS (Data Entry)'!$A$3:$A$504,0),2),\"\"))),\"\")=0,\"\",IFERROR(INDIRECT(CONCATENATE(\"'UNITCOST ITEMS (Data Entry)'!D\",IFERROR(SUM(MATCH(A330,'UNITCOST ITEMS (Data Entry)'!$A$3:$A$504,0),2),\"\"))),\"\"))","v":""},{"$f":"IF(IFERROR(INDIRECT(CONCATENATE(\"'UNITCOST ITEMS (Data Entry)'!E\",IFERROR(SUM(MATCH(A330,'UNITCOST ITEMS (Data Entry)'!$A$3:$A$504,0),2),\"\"))),\"\")=0,\"\",IFERROR(INDIRECT(CONCATENATE(\"'UNITCOST ITEMS (Data Entry)'!E\",IFERROR(SUM(MATCH(A330,'UNITCOST ITEMS (Data Entry)'!$A$3:$A$504,0),2),\"\"))),\"\"))","v":""},null,{"$f":"IF(IFERROR(INDIRECT(CONCATENATE(\"'UNITCOST ITEMS (Data Entry)'!F\",IFERROR(SUM(MATCH(A330,'UNITCOST ITEMS (Data Entry)'!$A$3:$A$504,0),2),\"\"))),\"\")=0,\"\",IFERROR(INDIRECT(CONCATENATE(\"'UNITCOST ITEMS (Data Entry)'!F\",IFERROR(SUM(MATCH(A330,'UNITCOST ITEMS (Data Entry)'!$A$3:$A$504,0),2),\"\"))),\"\"))","v":""},{"$f":"IF(IFERROR(INDIRECT(CONCATENATE(\"'UNITCOST ITEMS (Data Entry)'!G\",IFERROR(SUM(MATCH(A330,'UNITCOST ITEMS (Data Entry)'!$A$3:$A$504,0),2),\"\"))),\"\")=0,\"\",IFERROR(INDIRECT(CONCATENATE(\"'UNITCOST ITEMS (Data Entry)'!G\",IFERROR(SUM(MATCH(A330,'UNITCOST ITEMS (Data Entry)'!$A$3:$A$504,0),2),\"\"))),\"\"))","v":""},{"$f":"IF(IFERROR(INDIRECT(CONCATENATE(\"'UNITCOST ITEMS (Data Entry)'!H\",IFERROR(SUM(MATCH(A330,'UNITCOST ITEMS (Data Entry)'!$A$3:$A$504,0),2),\"\"))),\"\")=0,\"\",IFERROR(INDIRECT(CONCATENATE(\"'UNITCOST ITEMS (Data Entry)'!H\",IFERROR(SUM(MATCH(A330,'UNITCOST ITEMS (Data Entry)'!$A$3:$A$504,0),2),\"\"))),\"\"))","v":""},{"$f":"IF(IFERROR(INDIRECT(CONCATENATE(\"'UNITCOST ITEMS (Data Entry)'!I\",IFERROR(SUM(MATCH(A330,'UNITCOST ITEMS (Data Entry)'!$A$3:$A$504,0),2),\"\"))),\"\")=0,\"\",IFERROR(INDIRECT(CONCATENATE(\"'UNITCOST ITEMS (Data Entry)'!I\",IFERROR(SUM(MATCH(A330,'UNITCOST ITEMS (Data Entry)'!$A$3:$A$504,0),2),\"\"))),\"\"))","v":""},{"$f":"IF(K330=2,\"\",IF(IFERROR(INDIRECT(CONCATENATE(\"'UNITCOST ITEMS (Data Entry)'!J\",IFERROR(SUM(MATCH(A330,'UNITCOST ITEMS (Data Entry)'!$A$3:$A$504,0),2),\"\"))),\"\")=0,\"\",IFERROR(INDIRECT(CONCATENATE(\"'UNITCOST ITEMS (Data Entry)'!J\",IFERROR(SUM(MATCH(A330,'UNITCOST ITEMS (Data Entry)'!$A$3:$A$504,0),2),\"\"))),\"\")))","v":""},null,{"$f":"IF(IFERROR(INDIRECT(CONCATENATE(\"'UNITCOST ITEMS (Data Entry)'!C\",IFERROR(SUM(MATCH(A330,'UNITCOST ITEMS (Data Entry)'!$A$3:$A$504,0),2),\"\"))),\"\")=0,\"\",IFERROR(INDIRECT(CONCATENATE(\"'UNITCOST ITEMS (Data Entry)'!C\",IFERROR(SUM(MATCH(A330,'UNITCOST ITEMS (Data Entry)'!$A$3:$A$504,0),2),\"\"))),\"\"))","v":""},{"$f":"IF(K330<>\"\",ROW(),\"\")","v":""}]
[{"$f":"A330+1","v":323},{"$f":"IF(IFERROR(INDIRECT(CONCATENATE(\"'UNITCOST ITEMS (Data Entry)'!D\",IFERROR(SUM(MATCH(A331,'UNITCOST ITEMS (Data Entry)'!$A$3:$A$504,0),2),\"\"))),\"\")=0,\"\",IFERROR(INDIRECT(CONCATENATE(\"'UNITCOST ITEMS (Data Entry)'!D\",IFERROR(SUM(MATCH(A331,'UNITCOST ITEMS (Data Entry)'!$A$3:$A$504,0),2),\"\"))),\"\"))","v":""},{"$f":"IF(IFERROR(INDIRECT(CONCATENATE(\"'UNITCOST ITEMS (Data Entry)'!E\",IFERROR(SUM(MATCH(A331,'UNITCOST ITEMS (Data Entry)'!$A$3:$A$504,0),2),\"\"))),\"\")=0,\"\",IFERROR(INDIRECT(CONCATENATE(\"'UNITCOST ITEMS (Data Entry)'!E\",IFERROR(SUM(MATCH(A331,'UNITCOST ITEMS (Data Entry)'!$A$3:$A$504,0),2),\"\"))),\"\"))","v":""},null,{"$f":"IF(IFERROR(INDIRECT(CONCATENATE(\"'UNITCOST ITEMS (Data Entry)'!F\",IFERROR(SUM(MATCH(A331,'UNITCOST ITEMS (Data Entry)'!$A$3:$A$504,0),2),\"\"))),\"\")=0,\"\",IFERROR(INDIRECT(CONCATENATE(\"'UNITCOST ITEMS (Data Entry)'!F\",IFERROR(SUM(MATCH(A331,'UNITCOST ITEMS (Data Entry)'!$A$3:$A$504,0),2),\"\"))),\"\"))","v":""},{"$f":"IF(IFERROR(INDIRECT(CONCATENATE(\"'UNITCOST ITEMS (Data Entry)'!G\",IFERROR(SUM(MATCH(A331,'UNITCOST ITEMS (Data Entry)'!$A$3:$A$504,0),2),\"\"))),\"\")=0,\"\",IFERROR(INDIRECT(CONCATENATE(\"'UNITCOST ITEMS (Data Entry)'!G\",IFERROR(SUM(MATCH(A331,'UNITCOST ITEMS (Data Entry)'!$A$3:$A$504,0),2),\"\"))),\"\"))","v":""},{"$f":"IF(IFERROR(INDIRECT(CONCATENATE(\"'UNITCOST ITEMS (Data Entry)'!H\",IFERROR(SUM(MATCH(A331,'UNITCOST ITEMS (Data Entry)'!$A$3:$A$504,0),2),\"\"))),\"\")=0,\"\",IFERROR(INDIRECT(CONCATENATE(\"'UNITCOST ITEMS (Data Entry)'!H\",IFERROR(SUM(MATCH(A331,'UNITCOST ITEMS (Data Entry)'!$A$3:$A$504,0),2),\"\"))),\"\"))","v":""},{"$f":"IF(IFERROR(INDIRECT(CONCATENATE(\"'UNITCOST ITEMS (Data Entry)'!I\",IFERROR(SUM(MATCH(A331,'UNITCOST ITEMS (Data Entry)'!$A$3:$A$504,0),2),\"\"))),\"\")=0,\"\",IFERROR(INDIRECT(CONCATENATE(\"'UNITCOST ITEMS (Data Entry)'!I\",IFERROR(SUM(MATCH(A331,'UNITCOST ITEMS (Data Entry)'!$A$3:$A$504,0),2),\"\"))),\"\"))","v":""},{"$f":"IF(K331=2,\"\",IF(IFERROR(INDIRECT(CONCATENATE(\"'UNITCOST ITEMS (Data Entry)'!J\",IFERROR(SUM(MATCH(A331,'UNITCOST ITEMS (Data Entry)'!$A$3:$A$504,0),2),\"\"))),\"\")=0,\"\",IFERROR(INDIRECT(CONCATENATE(\"'UNITCOST ITEMS (Data Entry)'!J\",IFERROR(SUM(MATCH(A331,'UNITCOST ITEMS (Data Entry)'!$A$3:$A$504,0),2),\"\"))),\"\")))","v":""},null,{"$f":"IF(IFERROR(INDIRECT(CONCATENATE(\"'UNITCOST ITEMS (Data Entry)'!C\",IFERROR(SUM(MATCH(A331,'UNITCOST ITEMS (Data Entry)'!$A$3:$A$504,0),2),\"\"))),\"\")=0,\"\",IFERROR(INDIRECT(CONCATENATE(\"'UNITCOST ITEMS (Data Entry)'!C\",IFERROR(SUM(MATCH(A331,'UNITCOST ITEMS (Data Entry)'!$A$3:$A$504,0),2),\"\"))),\"\"))","v":""},""]
[324,{"$f":"IF(IFERROR(INDIRECT(CONCATENATE(\"'UNITCOST ITEMS (Data Entry)'!D\",IFERROR(SUM(MATCH(A332,'UNITCOST ITEMS (Data Entry)'!$A$3:$A$504,0),2),\"\"))),\"\")=0,\"\",IFERROR(INDIRECT(CONCATENATE(\"'UNITCOST ITEMS (Data Entry)'!D\",IFERROR(SUM(MATCH(A332,'UNITCOST ITEMS (Data Entry)'!$A$3:$A$504,0),2),\"\"))),\"\"))","v":""},{"$f":"IF(IFERROR(INDIRECT(CONCATENATE(\"'UNITCOST ITEMS (Data Entry)'!E\",IFERROR(SUM(MATCH(A332,'UNITCOST ITEMS (Data Entry)'!$A$3:$A$504,0),2),\"\"))),\"\")=0,\"\",IFERROR(INDIRECT(CONCATENATE(\"'UNITCOST ITEMS (Data Entry)'!E\",IFERROR(SUM(MATCH(A332,'UNITCOST ITEMS (Data Entry)'!$A$3:$A$504,0),2),\"\"))),\"\"))","v":""},null,{"$f":"IF(IFERROR(INDIRECT(CONCATENATE(\"'UNITCOST ITEMS (Data Entry)'!F\",IFERROR(SUM(MATCH(A332,'UNITCOST ITEMS (Data Entry)'!$A$3:$A$504,0),2),\"\"))),\"\")=0,\"\",IFERROR(INDIRECT(CONCATENATE(\"'UNITCOST ITEMS (Data Entry)'!F\",IFERROR(SUM(MATCH(A332,'UNITCOST ITEMS (Data Entry)'!$A$3:$A$504,0),2),\"\"))),\"\"))","v":""},{"$f":"IF(IFERROR(INDIRECT(CONCATENATE(\"'UNITCOST ITEMS (Data Entry)'!G\",IFERROR(SUM(MATCH(A332,'UNITCOST ITEMS (Data Entry)'!$A$3:$A$504,0),2),\"\"))),\"\")=0,\"\",IFERROR(INDIRECT(CONCATENATE(\"'UNITCOST ITEMS (Data Entry)'!G\",IFERROR(SUM(MATCH(A332,'UNITCOST ITEMS (Data Entry)'!$A$3:$A$504,0),2),\"\"))),\"\"))","v":""},{"$f":"IF(IFERROR(INDIRECT(CONCATENATE(\"'UNITCOST ITEMS (Data Entry)'!H\",IFERROR(SUM(MATCH(A332,'UNITCOST ITEMS (Data Entry)'!$A$3:$A$504,0),2),\"\"))),\"\")=0,\"\",IFERROR(INDIRECT(CONCATENATE(\"'UNITCOST ITEMS (Data Entry)'!H\",IFERROR(SUM(MATCH(A332,'UNITCOST ITEMS (Data Entry)'!$A$3:$A$504,0),2),\"\"))),\"\"))","v":""},{"$f":"IF(IFERROR(INDIRECT(CONCATENATE(\"'UNITCOST ITEMS (Data Entry)'!I\",IFERROR(SUM(MATCH(A332,'UNITCOST ITEMS (Data Entry)'!$A$3:$A$504,0),2),\"\"))),\"\")=0,\"\",IFERROR(INDIRECT(CONCATENATE(\"'UNITCOST ITEMS (Data Entry)'!I\",IFERROR(SUM(MATCH(A332,'UNITCOST ITEMS (Data Entry)'!$A$3:$A$504,0),2),\"\"))),\"\"))","v":""},{"$f":"IF(K332=2,\"\",IF(IFERROR(INDIRECT(CONCATENATE(\"'UNITCOST ITEMS (Data Entry)'!J\",IFERROR(SUM(MATCH(A332,'UNITCOST ITEMS (Data Entry)'!$A$3:$A$504,0),2),\"\"))),\"\")=0,\"\",IFERROR(INDIRECT(CONCATENATE(\"'UNITCOST ITEMS (Data Entry)'!J\",IFERROR(SUM(MATCH(A332,'UNITCOST ITEMS (Data Entry)'!$A$3:$A$504,0),2),\"\"))),\"\")))","v":""},null,{"$f":"IF(IFERROR(INDIRECT(CONCATENATE(\"'UNITCOST ITEMS (Data Entry)'!C\",IFERROR(SUM(MATCH(A332,'UNITCOST ITEMS (Data Entry)'!$A$3:$A$504,0),2),\"\"))),\"\")=0,\"\",IFERROR(INDIRECT(CONCATENATE(\"'UNITCOST ITEMS (Data Entry)'!C\",IFERROR(SUM(MATCH(A332,'UNITCOST ITEMS (Data Entry)'!$A$3:$A$504,0),2),\"\"))),\"\"))","v":""},""]
[325,{"$f":"IF(IFERROR(INDIRECT(CONCATENATE(\"'UNITCOST ITEMS (Data Entry)'!D\",IFERROR(SUM(MATCH(A333,'UNITCOST ITEMS (Data Entry)'!$A$3:$A$504,0),2),\"\"))),\"\")=0,\"\",IFERROR(INDIRECT(CONCATENATE(\"'UNITCOST ITEMS (Data Entry)'!D\",IFERROR(SUM(MATCH(A333,'UNITCOST ITEMS (Data Entry)'!$A$3:$A$504,0),2),\"\"))),\"\"))","v":""},{"$f":"IF(IFERROR(INDIRECT(CONCATENATE(\"'UNITCOST ITEMS (Data Entry)'!E\",IFERROR(SUM(MATCH(A333,'UNITCOST ITEMS (Data Entry)'!$A$3:$A$504,0),2),\"\"))),\"\")=0,\"\",IFERROR(INDIRECT(CONCATENATE(\"'UNITCOST ITEMS (Data Entry)'!E\",IFERROR(SUM(MATCH(A333,'UNITCOST ITEMS (Data Entry)'!$A$3:$A$504,0),2),\"\"))),\"\"))","v":""},null,{"$f":"IF(IFERROR(INDIRECT(CONCATENATE(\"'UNITCOST ITEMS (Data Entry)'!F\",IFERROR(SUM(MATCH(A333,'UNITCOST ITEMS (Data Entry)'!$A$3:$A$504,0),2),\"\"))),\"\")=0,\"\",IFERROR(INDIRECT(CONCATENATE(\"'UNITCOST ITEMS (Data Entry)'!F\",IFERROR(SUM(MATCH(A333,'UNITCOST ITEMS (Data Entry)'!$A$3:$A$504,0),2),\"\"))),\"\"))","v":""},{"$f":"IF(IFERROR(INDIRECT(CONCATENATE(\"'UNITCOST ITEMS (Data Entry)'!G\",IFERROR(SUM(MATCH(A333,'UNITCOST ITEMS (Data Entry)'!$A$3:$A$504,0),2),\"\"))),\"\")=0,\"\",IFERROR(INDIRECT(CONCATENATE(\"'UNITCOST ITEMS (Data Entry)'!G\",IFERROR(SUM(MATCH(A333,'UNITCOST ITEMS (Data Entry)'!$A$3:$A$504,0),2),\"\"))),\"\"))","v":""},{"$f":"IF(IFERROR(INDIRECT(CONCATENATE(\"'UNITCOST ITEMS (Data Entry)'!H\",IFERROR(SUM(MATCH(A333,'UNITCOST ITEMS (Data Entry)'!$A$3:$A$504,0),2),\"\"))),\"\")=0,\"\",IFERROR(INDIRECT(CONCATENATE(\"'UNITCOST ITEMS (Data Entry)'!H\",IFERROR(SUM(MATCH(A333,'UNITCOST ITEMS (Data Entry)'!$A$3:$A$504,0),2),\"\"))),\"\"))","v":""},{"$f":"IF(IFERROR(INDIRECT(CONCATENATE(\"'UNITCOST ITEMS (Data Entry)'!I\",IFERROR(SUM(MATCH(A333,'UNITCOST ITEMS (Data Entry)'!$A$3:$A$504,0),2),\"\"))),\"\")=0,\"\",IFERROR(INDIRECT(CONCATENATE(\"'UNITCOST ITEMS (Data Entry)'!I\",IFERROR(SUM(MATCH(A333,'UNITCOST ITEMS (Data Entry)'!$A$3:$A$504,0),2),\"\"))),\"\"))","v":""},{"$f":"IF(K333=2,\"\",IF(IFERROR(INDIRECT(CONCATENATE(\"'UNITCOST ITEMS (Data Entry)'!J\",IFERROR(SUM(MATCH(A333,'UNITCOST ITEMS (Data Entry)'!$A$3:$A$504,0),2),\"\"))),\"\")=0,\"\",IFERROR(INDIRECT(CONCATENATE(\"'UNITCOST ITEMS (Data Entry)'!J\",IFERROR(SUM(MATCH(A333,'UNITCOST ITEMS (Data Entry)'!$A$3:$A$504,0),2),\"\"))),\"\")))","v":""},null,{"$f":"IF(IFERROR(INDIRECT(CONCATENATE(\"'UNITCOST ITEMS (Data Entry)'!C\",IFERROR(SUM(MATCH(A333,'UNITCOST ITEMS (Data Entry)'!$A$3:$A$504,0),2),\"\"))),\"\")=0,\"\",IFERROR(INDIRECT(CONCATENATE(\"'UNITCOST ITEMS (Data Entry)'!C\",IFERROR(SUM(MATCH(A333,'UNITCOST ITEMS (Data Entry)'!$A$3:$A$504,0),2),\"\"))),\"\"))","v":""},""]
[326,{"$f":"IF(IFERROR(INDIRECT(CONCATENATE(\"'UNITCOST ITEMS (Data Entry)'!D\",IFERROR(SUM(MATCH(A334,'UNITCOST ITEMS (Data Entry)'!$A$3:$A$504,0),2),\"\"))),\"\")=0,\"\",IFERROR(INDIRECT(CONCATENATE(\"'UNITCOST ITEMS (Data Entry)'!D\",IFERROR(SUM(MATCH(A334,'UNITCOST ITEMS (Data Entry)'!$A$3:$A$504,0),2),\"\"))),\"\"))","v":""},{"$f":"IF(IFERROR(INDIRECT(CONCATENATE(\"'UNITCOST ITEMS (Data Entry)'!E\",IFERROR(SUM(MATCH(A334,'UNITCOST ITEMS (Data Entry)'!$A$3:$A$504,0),2),\"\"))),\"\")=0,\"\",IFERROR(INDIRECT(CONCATENATE(\"'UNITCOST ITEMS (Data Entry)'!E\",IFERROR(SUM(MATCH(A334,'UNITCOST ITEMS (Data Entry)'!$A$3:$A$504,0),2),\"\"))),\"\"))","v":""},null,{"$f":"IF(IFERROR(INDIRECT(CONCATENATE(\"'UNITCOST ITEMS (Data Entry)'!F\",IFERROR(SUM(MATCH(A334,'UNITCOST ITEMS (Data Entry)'!$A$3:$A$504,0),2),\"\"))),\"\")=0,\"\",IFERROR(INDIRECT(CONCATENATE(\"'UNITCOST ITEMS (Data Entry)'!F\",IFERROR(SUM(MATCH(A334,'UNITCOST ITEMS (Data Entry)'!$A$3:$A$504,0),2),\"\"))),\"\"))","v":""},{"$f":"IF(IFERROR(INDIRECT(CONCATENATE(\"'UNITCOST ITEMS (Data Entry)'!G\",IFERROR(SUM(MATCH(A334,'UNITCOST ITEMS (Data Entry)'!$A$3:$A$504,0),2),\"\"))),\"\")=0,\"\",IFERROR(INDIRECT(CONCATENATE(\"'UNITCOST ITEMS (Data Entry)'!G\",IFERROR(SUM(MATCH(A334,'UNITCOST ITEMS (Data Entry)'!$A$3:$A$504,0),2),\"\"))),\"\"))","v":""},{"$f":"IF(IFERROR(INDIRECT(CONCATENATE(\"'UNITCOST ITEMS (Data Entry)'!H\",IFERROR(SUM(MATCH(A334,'UNITCOST ITEMS (Data Entry)'!$A$3:$A$504,0),2),\"\"))),\"\")=0,\"\",IFERROR(INDIRECT(CONCATENATE(\"'UNITCOST ITEMS (Data Entry)'!H\",IFERROR(SUM(MATCH(A334,'UNITCOST ITEMS (Data Entry)'!$A$3:$A$504,0),2),\"\"))),\"\"))","v":""},{"$f":"IF(IFERROR(INDIRECT(CONCATENATE(\"'UNITCOST ITEMS (Data Entry)'!I\",IFERROR(SUM(MATCH(A334,'UNITCOST ITEMS (Data Entry)'!$A$3:$A$504,0),2),\"\"))),\"\")=0,\"\",IFERROR(INDIRECT(CONCATENATE(\"'UNITCOST ITEMS (Data Entry)'!I\",IFERROR(SUM(MATCH(A334,'UNITCOST ITEMS (Data Entry)'!$A$3:$A$504,0),2),\"\"))),\"\"))","v":""},{"$f":"IF(K334=2,\"\",IF(IFERROR(INDIRECT(CONCATENATE(\"'UNITCOST ITEMS (Data Entry)'!J\",IFERROR(SUM(MATCH(A334,'UNITCOST ITEMS (Data Entry)'!$A$3:$A$504,0),2),\"\"))),\"\")=0,\"\",IFERROR(INDIRECT(CONCATENATE(\"'UNITCOST ITEMS (Data Entry)'!J\",IFERROR(SUM(MATCH(A334,'UNITCOST ITEMS (Data Entry)'!$A$3:$A$504,0),2),\"\"))),\"\")))","v":""},null,{"$f":"IF(IFERROR(INDIRECT(CONCATENATE(\"'UNITCOST ITEMS (Data Entry)'!C\",IFERROR(SUM(MATCH(A334,'UNITCOST ITEMS (Data Entry)'!$A$3:$A$504,0),2),\"\"))),\"\")=0,\"\",IFERROR(INDIRECT(CONCATENATE(\"'UNITCOST ITEMS (Data Entry)'!C\",IFERROR(SUM(MATCH(A334,'UNITCOST ITEMS (Data Entry)'!$A$3:$A$504,0),2),\"\"))),\"\"))","v":""},""]
[327,{"$f":"IF(IFERROR(INDIRECT(CONCATENATE(\"'UNITCOST ITEMS (Data Entry)'!D\",IFERROR(SUM(MATCH(A335,'UNITCOST ITEMS (Data Entry)'!$A$3:$A$504,0),2),\"\"))),\"\")=0,\"\",IFERROR(INDIRECT(CONCATENATE(\"'UNITCOST ITEMS (Data Entry)'!D\",IFERROR(SUM(MATCH(A335,'UNITCOST ITEMS (Data Entry)'!$A$3:$A$504,0),2),\"\"))),\"\"))","v":""},{"$f":"IF(IFERROR(INDIRECT(CONCATENATE(\"'UNITCOST ITEMS (Data Entry)'!E\",IFERROR(SUM(MATCH(A335,'UNITCOST ITEMS (Data Entry)'!$A$3:$A$504,0),2),\"\"))),\"\")=0,\"\",IFERROR(INDIRECT(CONCATENATE(\"'UNITCOST ITEMS (Data Entry)'!E\",IFERROR(SUM(MATCH(A335,'UNITCOST ITEMS (Data Entry)'!$A$3:$A$504,0),2),\"\"))),\"\"))","v":""},null,{"$f":"IF(IFERROR(INDIRECT(CONCATENATE(\"'UNITCOST ITEMS (Data Entry)'!F\",IFERROR(SUM(MATCH(A335,'UNITCOST ITEMS (Data Entry)'!$A$3:$A$504,0),2),\"\"))),\"\")=0,\"\",IFERROR(INDIRECT(CONCATENATE(\"'UNITCOST ITEMS (Data Entry)'!F\",IFERROR(SUM(MATCH(A335,'UNITCOST ITEMS (Data Entry)'!$A$3:$A$504,0),2),\"\"))),\"\"))","v":""},{"$f":"IF(IFERROR(INDIRECT(CONCATENATE(\"'UNITCOST ITEMS (Data Entry)'!G\",IFERROR(SUM(MATCH(A335,'UNITCOST ITEMS (Data Entry)'!$A$3:$A$504,0),2),\"\"))),\"\")=0,\"\",IFERROR(INDIRECT(CONCATENATE(\"'UNITCOST ITEMS (Data Entry)'!G\",IFERROR(SUM(MATCH(A335,'UNITCOST ITEMS (Data Entry)'!$A$3:$A$504,0),2),\"\"))),\"\"))","v":""},{"$f":"IF(IFERROR(INDIRECT(CONCATENATE(\"'UNITCOST ITEMS (Data Entry)'!H\",IFERROR(SUM(MATCH(A335,'UNITCOST ITEMS (Data Entry)'!$A$3:$A$504,0),2),\"\"))),\"\")=0,\"\",IFERROR(INDIRECT(CONCATENATE(\"'UNITCOST ITEMS (Data Entry)'!H\",IFERROR(SUM(MATCH(A335,'UNITCOST ITEMS (Data Entry)'!$A$3:$A$504,0),2),\"\"))),\"\"))","v":""},{"$f":"IF(IFERROR(INDIRECT(CONCATENATE(\"'UNITCOST ITEMS (Data Entry)'!I\",IFERROR(SUM(MATCH(A335,'UNITCOST ITEMS (Data Entry)'!$A$3:$A$504,0),2),\"\"))),\"\")=0,\"\",IFERROR(INDIRECT(CONCATENATE(\"'UNITCOST ITEMS (Data Entry)'!I\",IFERROR(SUM(MATCH(A335,'UNITCOST ITEMS (Data Entry)'!$A$3:$A$504,0),2),\"\"))),\"\"))","v":""},{"$f":"IF(K335=2,\"\",IF(IFERROR(INDIRECT(CONCATENATE(\"'UNITCOST ITEMS (Data Entry)'!J\",IFERROR(SUM(MATCH(A335,'UNITCOST ITEMS (Data Entry)'!$A$3:$A$504,0),2),\"\"))),\"\")=0,\"\",IFERROR(INDIRECT(CONCATENATE(\"'UNITCOST ITEMS (Data Entry)'!J\",IFERROR(SUM(MATCH(A335,'UNITCOST ITEMS (Data Entry)'!$A$3:$A$504,0),2),\"\"))),\"\")))","v":""},null,{"$f":"IF(IFERROR(INDIRECT(CONCATENATE(\"'UNITCOST ITEMS (Data Entry)'!C\",IFERROR(SUM(MATCH(A335,'UNITCOST ITEMS (Data Entry)'!$A$3:$A$504,0),2),\"\"))),\"\")=0,\"\",IFERROR(INDIRECT(CONCATENATE(\"'UNITCOST ITEMS (Data Entry)'!C\",IFERROR(SUM(MATCH(A335,'UNITCOST ITEMS (Data Entry)'!$A$3:$A$504,0),2),\"\"))),\"\"))","v":""},""]
[328,{"$f":"IF(IFERROR(INDIRECT(CONCATENATE(\"'UNITCOST ITEMS (Data Entry)'!D\",IFERROR(SUM(MATCH(A336,'UNITCOST ITEMS (Data Entry)'!$A$3:$A$504,0),2),\"\"))),\"\")=0,\"\",IFERROR(INDIRECT(CONCATENATE(\"'UNITCOST ITEMS (Data Entry)'!D\",IFERROR(SUM(MATCH(A336,'UNITCOST ITEMS (Data Entry)'!$A$3:$A$504,0),2),\"\"))),\"\"))","v":""},{"$f":"IF(IFERROR(INDIRECT(CONCATENATE(\"'UNITCOST ITEMS (Data Entry)'!E\",IFERROR(SUM(MATCH(A336,'UNITCOST ITEMS (Data Entry)'!$A$3:$A$504,0),2),\"\"))),\"\")=0,\"\",IFERROR(INDIRECT(CONCATENATE(\"'UNITCOST ITEMS (Data Entry)'!E\",IFERROR(SUM(MATCH(A336,'UNITCOST ITEMS (Data Entry)'!$A$3:$A$504,0),2),\"\"))),\"\"))","v":""},null,{"$f":"IF(IFERROR(INDIRECT(CONCATENATE(\"'UNITCOST ITEMS (Data Entry)'!F\",IFERROR(SUM(MATCH(A336,'UNITCOST ITEMS (Data Entry)'!$A$3:$A$504,0),2),\"\"))),\"\")=0,\"\",IFERROR(INDIRECT(CONCATENATE(\"'UNITCOST ITEMS (Data Entry)'!F\",IFERROR(SUM(MATCH(A336,'UNITCOST ITEMS (Data Entry)'!$A$3:$A$504,0),2),\"\"))),\"\"))","v":""},{"$f":"IF(IFERROR(INDIRECT(CONCATENATE(\"'UNITCOST ITEMS (Data Entry)'!G\",IFERROR(SUM(MATCH(A336,'UNITCOST ITEMS (Data Entry)'!$A$3:$A$504,0),2),\"\"))),\"\")=0,\"\",IFERROR(INDIRECT(CONCATENATE(\"'UNITCOST ITEMS (Data Entry)'!G\",IFERROR(SUM(MATCH(A336,'UNITCOST ITEMS (Data Entry)'!$A$3:$A$504,0),2),\"\"))),\"\"))","v":""},{"$f":"IF(IFERROR(INDIRECT(CONCATENATE(\"'UNITCOST ITEMS (Data Entry)'!H\",IFERROR(SUM(MATCH(A336,'UNITCOST ITEMS (Data Entry)'!$A$3:$A$504,0),2),\"\"))),\"\")=0,\"\",IFERROR(INDIRECT(CONCATENATE(\"'UNITCOST ITEMS (Data Entry)'!H\",IFERROR(SUM(MATCH(A336,'UNITCOST ITEMS (Data Entry)'!$A$3:$A$504,0),2),\"\"))),\"\"))","v":""},{"$f":"IF(IFERROR(INDIRECT(CONCATENATE(\"'UNITCOST ITEMS (Data Entry)'!I\",IFERROR(SUM(MATCH(A336,'UNITCOST ITEMS (Data Entry)'!$A$3:$A$504,0),2),\"\"))),\"\")=0,\"\",IFERROR(INDIRECT(CONCATENATE(\"'UNITCOST ITEMS (Data Entry)'!I\",IFERROR(SUM(MATCH(A336,'UNITCOST ITEMS (Data Entry)'!$A$3:$A$504,0),2),\"\"))),\"\"))","v":""},{"$f":"IF(K336=2,\"\",IF(IFERROR(INDIRECT(CONCATENATE(\"'UNITCOST ITEMS (Data Entry)'!J\",IFERROR(SUM(MATCH(A336,'UNITCOST ITEMS (Data Entry)'!$A$3:$A$504,0),2),\"\"))),\"\")=0,\"\",IFERROR(INDIRECT(CONCATENATE(\"'UNITCOST ITEMS (Data Entry)'!J\",IFERROR(SUM(MATCH(A336,'UNITCOST ITEMS (Data Entry)'!$A$3:$A$504,0),2),\"\"))),\"\")))","v":""},null,{"$f":"IF(IFERROR(INDIRECT(CONCATENATE(\"'UNITCOST ITEMS (Data Entry)'!C\",IFERROR(SUM(MATCH(A336,'UNITCOST ITEMS (Data Entry)'!$A$3:$A$504,0),2),\"\"))),\"\")=0,\"\",IFERROR(INDIRECT(CONCATENATE(\"'UNITCOST ITEMS (Data Entry)'!C\",IFERROR(SUM(MATCH(A336,'UNITCOST ITEMS (Data Entry)'!$A$3:$A$504,0),2),\"\"))),\"\"))","v":""},""]
[329,{"$f":"IF(IFERROR(INDIRECT(CONCATENATE(\"'UNITCOST ITEMS (Data Entry)'!D\",IFERROR(SUM(MATCH(A337,'UNITCOST ITEMS (Data Entry)'!$A$3:$A$504,0),2),\"\"))),\"\")=0,\"\",IFERROR(INDIRECT(CONCATENATE(\"'UNITCOST ITEMS (Data Entry)'!D\",IFERROR(SUM(MATCH(A337,'UNITCOST ITEMS (Data Entry)'!$A$3:$A$504,0),2),\"\"))),\"\"))","v":""},{"$f":"IF(IFERROR(INDIRECT(CONCATENATE(\"'UNITCOST ITEMS (Data Entry)'!E\",IFERROR(SUM(MATCH(A337,'UNITCOST ITEMS (Data Entry)'!$A$3:$A$504,0),2),\"\"))),\"\")=0,\"\",IFERROR(INDIRECT(CONCATENATE(\"'UNITCOST ITEMS (Data Entry)'!E\",IFERROR(SUM(MATCH(A337,'UNITCOST ITEMS (Data Entry)'!$A$3:$A$504,0),2),\"\"))),\"\"))","v":""},null,{"$f":"IF(IFERROR(INDIRECT(CONCATENATE(\"'UNITCOST ITEMS (Data Entry)'!F\",IFERROR(SUM(MATCH(A337,'UNITCOST ITEMS (Data Entry)'!$A$3:$A$504,0),2),\"\"))),\"\")=0,\"\",IFERROR(INDIRECT(CONCATENATE(\"'UNITCOST ITEMS (Data Entry)'!F\",IFERROR(SUM(MATCH(A337,'UNITCOST ITEMS (Data Entry)'!$A$3:$A$504,0),2),\"\"))),\"\"))","v":""},{"$f":"IF(IFERROR(INDIRECT(CONCATENATE(\"'UNITCOST ITEMS (Data Entry)'!G\",IFERROR(SUM(MATCH(A337,'UNITCOST ITEMS (Data Entry)'!$A$3:$A$504,0),2),\"\"))),\"\")=0,\"\",IFERROR(INDIRECT(CONCATENATE(\"'UNITCOST ITEMS (Data Entry)'!G\",IFERROR(SUM(MATCH(A337,'UNITCOST ITEMS (Data Entry)'!$A$3:$A$504,0),2),\"\"))),\"\"))","v":""},{"$f":"IF(IFERROR(INDIRECT(CONCATENATE(\"'UNITCOST ITEMS (Data Entry)'!H\",IFERROR(SUM(MATCH(A337,'UNITCOST ITEMS (Data Entry)'!$A$3:$A$504,0),2),\"\"))),\"\")=0,\"\",IFERROR(INDIRECT(CONCATENATE(\"'UNITCOST ITEMS (Data Entry)'!H\",IFERROR(SUM(MATCH(A337,'UNITCOST ITEMS (Data Entry)'!$A$3:$A$504,0),2),\"\"))),\"\"))","v":""},{"$f":"IF(IFERROR(INDIRECT(CONCATENATE(\"'UNITCOST ITEMS (Data Entry)'!I\",IFERROR(SUM(MATCH(A337,'UNITCOST ITEMS (Data Entry)'!$A$3:$A$504,0),2),\"\"))),\"\")=0,\"\",IFERROR(INDIRECT(CONCATENATE(\"'UNITCOST ITEMS (Data Entry)'!I\",IFERROR(SUM(MATCH(A337,'UNITCOST ITEMS (Data Entry)'!$A$3:$A$504,0),2),\"\"))),\"\"))","v":""},{"$f":"IF(K337=2,\"\",IF(IFERROR(INDIRECT(CONCATENATE(\"'UNITCOST ITEMS (Data Entry)'!J\",IFERROR(SUM(MATCH(A337,'UNITCOST ITEMS (Data Entry)'!$A$3:$A$504,0),2),\"\"))),\"\")=0,\"\",IFERROR(INDIRECT(CONCATENATE(\"'UNITCOST ITEMS (Data Entry)'!J\",IFERROR(SUM(MATCH(A337,'UNITCOST ITEMS (Data Entry)'!$A$3:$A$504,0),2),\"\"))),\"\")))","v":""},null,{"$f":"IF(IFERROR(INDIRECT(CONCATENATE(\"'UNITCOST ITEMS (Data Entry)'!C\",IFERROR(SUM(MATCH(A337,'UNITCOST ITEMS (Data Entry)'!$A$3:$A$504,0),2),\"\"))),\"\")=0,\"\",IFERROR(INDIRECT(CONCATENATE(\"'UNITCOST ITEMS (Data Entry)'!C\",IFERROR(SUM(MATCH(A337,'UNITCOST ITEMS (Data Entry)'!$A$3:$A$504,0),2),\"\"))),\"\"))","v":""},""]
[330,{"$f":"IF(IFERROR(INDIRECT(CONCATENATE(\"'UNITCOST ITEMS (Data Entry)'!D\",IFERROR(SUM(MATCH(A338,'UNITCOST ITEMS (Data Entry)'!$A$3:$A$504,0),2),\"\"))),\"\")=0,\"\",IFERROR(INDIRECT(CONCATENATE(\"'UNITCOST ITEMS (Data Entry)'!D\",IFERROR(SUM(MATCH(A338,'UNITCOST ITEMS (Data Entry)'!$A$3:$A$504,0),2),\"\"))),\"\"))","v":""},{"$f":"IF(IFERROR(INDIRECT(CONCATENATE(\"'UNITCOST ITEMS (Data Entry)'!E\",IFERROR(SUM(MATCH(A338,'UNITCOST ITEMS (Data Entry)'!$A$3:$A$504,0),2),\"\"))),\"\")=0,\"\",IFERROR(INDIRECT(CONCATENATE(\"'UNITCOST ITEMS (Data Entry)'!E\",IFERROR(SUM(MATCH(A338,'UNITCOST ITEMS (Data Entry)'!$A$3:$A$504,0),2),\"\"))),\"\"))","v":""},null,{"$f":"IF(IFERROR(INDIRECT(CONCATENATE(\"'UNITCOST ITEMS (Data Entry)'!F\",IFERROR(SUM(MATCH(A338,'UNITCOST ITEMS (Data Entry)'!$A$3:$A$504,0),2),\"\"))),\"\")=0,\"\",IFERROR(INDIRECT(CONCATENATE(\"'UNITCOST ITEMS (Data Entry)'!F\",IFERROR(SUM(MATCH(A338,'UNITCOST ITEMS (Data Entry)'!$A$3:$A$504,0),2),\"\"))),\"\"))","v":""},{"$f":"IF(IFERROR(INDIRECT(CONCATENATE(\"'UNITCOST ITEMS (Data Entry)'!G\",IFERROR(SUM(MATCH(A338,'UNITCOST ITEMS (Data Entry)'!$A$3:$A$504,0),2),\"\"))),\"\")=0,\"\",IFERROR(INDIRECT(CONCATENATE(\"'UNITCOST ITEMS (Data Entry)'!G\",IFERROR(SUM(MATCH(A338,'UNITCOST ITEMS (Data Entry)'!$A$3:$A$504,0),2),\"\"))),\"\"))","v":""},{"$f":"IF(IFERROR(INDIRECT(CONCATENATE(\"'UNITCOST ITEMS (Data Entry)'!H\",IFERROR(SUM(MATCH(A338,'UNITCOST ITEMS (Data Entry)'!$A$3:$A$504,0),2),\"\"))),\"\")=0,\"\",IFERROR(INDIRECT(CONCATENATE(\"'UNITCOST ITEMS (Data Entry)'!H\",IFERROR(SUM(MATCH(A338,'UNITCOST ITEMS (Data Entry)'!$A$3:$A$504,0),2),\"\"))),\"\"))","v":""},{"$f":"IF(IFERROR(INDIRECT(CONCATENATE(\"'UNITCOST ITEMS (Data Entry)'!I\",IFERROR(SUM(MATCH(A338,'UNITCOST ITEMS (Data Entry)'!$A$3:$A$504,0),2),\"\"))),\"\")=0,\"\",IFERROR(INDIRECT(CONCATENATE(\"'UNITCOST ITEMS (Data Entry)'!I\",IFERROR(SUM(MATCH(A338,'UNITCOST ITEMS (Data Entry)'!$A$3:$A$504,0),2),\"\"))),\"\"))","v":""},{"$f":"IF(K338=2,\"\",IF(IFERROR(INDIRECT(CONCATENATE(\"'UNITCOST ITEMS (Data Entry)'!J\",IFERROR(SUM(MATCH(A338,'UNITCOST ITEMS (Data Entry)'!$A$3:$A$504,0),2),\"\"))),\"\")=0,\"\",IFERROR(INDIRECT(CONCATENATE(\"'UNITCOST ITEMS (Data Entry)'!J\",IFERROR(SUM(MATCH(A338,'UNITCOST ITEMS (Data Entry)'!$A$3:$A$504,0),2),\"\"))),\"\")))","v":""},null,{"$f":"IF(IFERROR(INDIRECT(CONCATENATE(\"'UNITCOST ITEMS (Data Entry)'!C\",IFERROR(SUM(MATCH(A338,'UNITCOST ITEMS (Data Entry)'!$A$3:$A$504,0),2),\"\"))),\"\")=0,\"\",IFERROR(INDIRECT(CONCATENATE(\"'UNITCOST ITEMS (Data Entry)'!C\",IFERROR(SUM(MATCH(A338,'UNITCOST ITEMS (Data Entry)'!$A$3:$A$504,0),2),\"\"))),\"\"))","v":""},""]
[331,{"$f":"IF(IFERROR(INDIRECT(CONCATENATE(\"'UNITCOST ITEMS (Data Entry)'!D\",IFERROR(SUM(MATCH(A339,'UNITCOST ITEMS (Data Entry)'!$A$3:$A$504,0),2),\"\"))),\"\")=0,\"\",IFERROR(INDIRECT(CONCATENATE(\"'UNITCOST ITEMS (Data Entry)'!D\",IFERROR(SUM(MATCH(A339,'UNITCOST ITEMS (Data Entry)'!$A$3:$A$504,0),2),\"\"))),\"\"))","v":""},{"$f":"IF(IFERROR(INDIRECT(CONCATENATE(\"'UNITCOST ITEMS (Data Entry)'!E\",IFERROR(SUM(MATCH(A339,'UNITCOST ITEMS (Data Entry)'!$A$3:$A$504,0),2),\"\"))),\"\")=0,\"\",IFERROR(INDIRECT(CONCATENATE(\"'UNITCOST ITEMS (Data Entry)'!E\",IFERROR(SUM(MATCH(A339,'UNITCOST ITEMS (Data Entry)'!$A$3:$A$504,0),2),\"\"))),\"\"))","v":""},null,{"$f":"IF(IFERROR(INDIRECT(CONCATENATE(\"'UNITCOST ITEMS (Data Entry)'!F\",IFERROR(SUM(MATCH(A339,'UNITCOST ITEMS (Data Entry)'!$A$3:$A$504,0),2),\"\"))),\"\")=0,\"\",IFERROR(INDIRECT(CONCATENATE(\"'UNITCOST ITEMS (Data Entry)'!F\",IFERROR(SUM(MATCH(A339,'UNITCOST ITEMS (Data Entry)'!$A$3:$A$504,0),2),\"\"))),\"\"))","v":""},{"$f":"IF(IFERROR(INDIRECT(CONCATENATE(\"'UNITCOST ITEMS (Data Entry)'!G\",IFERROR(SUM(MATCH(A339,'UNITCOST ITEMS (Data Entry)'!$A$3:$A$504,0),2),\"\"))),\"\")=0,\"\",IFERROR(INDIRECT(CONCATENATE(\"'UNITCOST ITEMS (Data Entry)'!G\",IFERROR(SUM(MATCH(A339,'UNITCOST ITEMS (Data Entry)'!$A$3:$A$504,0),2),\"\"))),\"\"))","v":""},{"$f":"IF(IFERROR(INDIRECT(CONCATENATE(\"'UNITCOST ITEMS (Data Entry)'!H\",IFERROR(SUM(MATCH(A339,'UNITCOST ITEMS (Data Entry)'!$A$3:$A$504,0),2),\"\"))),\"\")=0,\"\",IFERROR(INDIRECT(CONCATENATE(\"'UNITCOST ITEMS (Data Entry)'!H\",IFERROR(SUM(MATCH(A339,'UNITCOST ITEMS (Data Entry)'!$A$3:$A$504,0),2),\"\"))),\"\"))","v":""},{"$f":"IF(IFERROR(INDIRECT(CONCATENATE(\"'UNITCOST ITEMS (Data Entry)'!I\",IFERROR(SUM(MATCH(A339,'UNITCOST ITEMS (Data Entry)'!$A$3:$A$504,0),2),\"\"))),\"\")=0,\"\",IFERROR(INDIRECT(CONCATENATE(\"'UNITCOST ITEMS (Data Entry)'!I\",IFERROR(SUM(MATCH(A339,'UNITCOST ITEMS (Data Entry)'!$A$3:$A$504,0),2),\"\"))),\"\"))","v":""},{"$f":"IF(K339=2,\"\",IF(IFERROR(INDIRECT(CONCATENATE(\"'UNITCOST ITEMS (Data Entry)'!J\",IFERROR(SUM(MATCH(A339,'UNITCOST ITEMS (Data Entry)'!$A$3:$A$504,0),2),\"\"))),\"\")=0,\"\",IFERROR(INDIRECT(CONCATENATE(\"'UNITCOST ITEMS (Data Entry)'!J\",IFERROR(SUM(MATCH(A339,'UNITCOST ITEMS (Data Entry)'!$A$3:$A$504,0),2),\"\"))),\"\")))","v":""},null,{"$f":"IF(IFERROR(INDIRECT(CONCATENATE(\"'UNITCOST ITEMS (Data Entry)'!C\",IFERROR(SUM(MATCH(A339,'UNITCOST ITEMS (Data Entry)'!$A$3:$A$504,0),2),\"\"))),\"\")=0,\"\",IFERROR(INDIRECT(CONCATENATE(\"'UNITCOST ITEMS (Data Entry)'!C\",IFERROR(SUM(MATCH(A339,'UNITCOST ITEMS (Data Entry)'!$A$3:$A$504,0),2),\"\"))),\"\"))","v":""},""]
[332,{"$f":"IF(IFERROR(INDIRECT(CONCATENATE(\"'UNITCOST ITEMS (Data Entry)'!D\",IFERROR(SUM(MATCH(A340,'UNITCOST ITEMS (Data Entry)'!$A$3:$A$504,0),2),\"\"))),\"\")=0,\"\",IFERROR(INDIRECT(CONCATENATE(\"'UNITCOST ITEMS (Data Entry)'!D\",IFERROR(SUM(MATCH(A340,'UNITCOST ITEMS (Data Entry)'!$A$3:$A$504,0),2),\"\"))),\"\"))","v":""},{"$f":"IF(IFERROR(INDIRECT(CONCATENATE(\"'UNITCOST ITEMS (Data Entry)'!E\",IFERROR(SUM(MATCH(A340,'UNITCOST ITEMS (Data Entry)'!$A$3:$A$504,0),2),\"\"))),\"\")=0,\"\",IFERROR(INDIRECT(CONCATENATE(\"'UNITCOST ITEMS (Data Entry)'!E\",IFERROR(SUM(MATCH(A340,'UNITCOST ITEMS (Data Entry)'!$A$3:$A$504,0),2),\"\"))),\"\"))","v":""},null,{"$f":"IF(IFERROR(INDIRECT(CONCATENATE(\"'UNITCOST ITEMS (Data Entry)'!F\",IFERROR(SUM(MATCH(A340,'UNITCOST ITEMS (Data Entry)'!$A$3:$A$504,0),2),\"\"))),\"\")=0,\"\",IFERROR(INDIRECT(CONCATENATE(\"'UNITCOST ITEMS (Data Entry)'!F\",IFERROR(SUM(MATCH(A340,'UNITCOST ITEMS (Data Entry)'!$A$3:$A$504,0),2),\"\"))),\"\"))","v":""},{"$f":"IF(IFERROR(INDIRECT(CONCATENATE(\"'UNITCOST ITEMS (Data Entry)'!G\",IFERROR(SUM(MATCH(A340,'UNITCOST ITEMS (Data Entry)'!$A$3:$A$504,0),2),\"\"))),\"\")=0,\"\",IFERROR(INDIRECT(CONCATENATE(\"'UNITCOST ITEMS (Data Entry)'!G\",IFERROR(SUM(MATCH(A340,'UNITCOST ITEMS (Data Entry)'!$A$3:$A$504,0),2),\"\"))),\"\"))","v":""},{"$f":"IF(IFERROR(INDIRECT(CONCATENATE(\"'UNITCOST ITEMS (Data Entry)'!H\",IFERROR(SUM(MATCH(A340,'UNITCOST ITEMS (Data Entry)'!$A$3:$A$504,0),2),\"\"))),\"\")=0,\"\",IFERROR(INDIRECT(CONCATENATE(\"'UNITCOST ITEMS (Data Entry)'!H\",IFERROR(SUM(MATCH(A340,'UNITCOST ITEMS (Data Entry)'!$A$3:$A$504,0),2),\"\"))),\"\"))","v":""},{"$f":"IF(IFERROR(INDIRECT(CONCATENATE(\"'UNITCOST ITEMS (Data Entry)'!I\",IFERROR(SUM(MATCH(A340,'UNITCOST ITEMS (Data Entry)'!$A$3:$A$504,0),2),\"\"))),\"\")=0,\"\",IFERROR(INDIRECT(CONCATENATE(\"'UNITCOST ITEMS (Data Entry)'!I\",IFERROR(SUM(MATCH(A340,'UNITCOST ITEMS (Data Entry)'!$A$3:$A$504,0),2),\"\"))),\"\"))","v":""},{"$f":"IF(K340=2,\"\",IF(IFERROR(INDIRECT(CONCATENATE(\"'UNITCOST ITEMS (Data Entry)'!J\",IFERROR(SUM(MATCH(A340,'UNITCOST ITEMS (Data Entry)'!$A$3:$A$504,0),2),\"\"))),\"\")=0,\"\",IFERROR(INDIRECT(CONCATENATE(\"'UNITCOST ITEMS (Data Entry)'!J\",IFERROR(SUM(MATCH(A340,'UNITCOST ITEMS (Data Entry)'!$A$3:$A$504,0),2),\"\"))),\"\")))","v":""},null,{"$f":"IF(IFERROR(INDIRECT(CONCATENATE(\"'UNITCOST ITEMS (Data Entry)'!C\",IFERROR(SUM(MATCH(A340,'UNITCOST ITEMS (Data Entry)'!$A$3:$A$504,0),2),\"\"))),\"\")=0,\"\",IFERROR(INDIRECT(CONCATENATE(\"'UNITCOST ITEMS (Data Entry)'!C\",IFERROR(SUM(MATCH(A340,'UNITCOST ITEMS (Data Entry)'!$A$3:$A$504,0),2),\"\"))),\"\"))","v":""},""]
[333,{"$f":"IF(IFERROR(INDIRECT(CONCATENATE(\"'UNITCOST ITEMS (Data Entry)'!D\",IFERROR(SUM(MATCH(A341,'UNITCOST ITEMS (Data Entry)'!$A$3:$A$504,0),2),\"\"))),\"\")=0,\"\",IFERROR(INDIRECT(CONCATENATE(\"'UNITCOST ITEMS (Data Entry)'!D\",IFERROR(SUM(MATCH(A341,'UNITCOST ITEMS (Data Entry)'!$A$3:$A$504,0),2),\"\"))),\"\"))","v":""},{"$f":"IF(IFERROR(INDIRECT(CONCATENATE(\"'UNITCOST ITEMS (Data Entry)'!E\",IFERROR(SUM(MATCH(A341,'UNITCOST ITEMS (Data Entry)'!$A$3:$A$504,0),2),\"\"))),\"\")=0,\"\",IFERROR(INDIRECT(CONCATENATE(\"'UNITCOST ITEMS (Data Entry)'!E\",IFERROR(SUM(MATCH(A341,'UNITCOST ITEMS (Data Entry)'!$A$3:$A$504,0),2),\"\"))),\"\"))","v":""},null,{"$f":"IF(IFERROR(INDIRECT(CONCATENATE(\"'UNITCOST ITEMS (Data Entry)'!F\",IFERROR(SUM(MATCH(A341,'UNITCOST ITEMS (Data Entry)'!$A$3:$A$504,0),2),\"\"))),\"\")=0,\"\",IFERROR(INDIRECT(CONCATENATE(\"'UNITCOST ITEMS (Data Entry)'!F\",IFERROR(SUM(MATCH(A341,'UNITCOST ITEMS (Data Entry)'!$A$3:$A$504,0),2),\"\"))),\"\"))","v":""},{"$f":"IF(IFERROR(INDIRECT(CONCATENATE(\"'UNITCOST ITEMS (Data Entry)'!G\",IFERROR(SUM(MATCH(A341,'UNITCOST ITEMS (Data Entry)'!$A$3:$A$504,0),2),\"\"))),\"\")=0,\"\",IFERROR(INDIRECT(CONCATENATE(\"'UNITCOST ITEMS (Data Entry)'!G\",IFERROR(SUM(MATCH(A341,'UNITCOST ITEMS (Data Entry)'!$A$3:$A$504,0),2),\"\"))),\"\"))","v":""},{"$f":"IF(IFERROR(INDIRECT(CONCATENATE(\"'UNITCOST ITEMS (Data Entry)'!H\",IFERROR(SUM(MATCH(A341,'UNITCOST ITEMS (Data Entry)'!$A$3:$A$504,0),2),\"\"))),\"\")=0,\"\",IFERROR(INDIRECT(CONCATENATE(\"'UNITCOST ITEMS (Data Entry)'!H\",IFERROR(SUM(MATCH(A341,'UNITCOST ITEMS (Data Entry)'!$A$3:$A$504,0),2),\"\"))),\"\"))","v":""},{"$f":"IF(IFERROR(INDIRECT(CONCATENATE(\"'UNITCOST ITEMS (Data Entry)'!I\",IFERROR(SUM(MATCH(A341,'UNITCOST ITEMS (Data Entry)'!$A$3:$A$504,0),2),\"\"))),\"\")=0,\"\",IFERROR(INDIRECT(CONCATENATE(\"'UNITCOST ITEMS (Data Entry)'!I\",IFERROR(SUM(MATCH(A341,'UNITCOST ITEMS (Data Entry)'!$A$3:$A$504,0),2),\"\"))),\"\"))","v":""},{"$f":"IF(K341=2,\"\",IF(IFERROR(INDIRECT(CONCATENATE(\"'UNITCOST ITEMS (Data Entry)'!J\",IFERROR(SUM(MATCH(A341,'UNITCOST ITEMS (Data Entry)'!$A$3:$A$504,0),2),\"\"))),\"\")=0,\"\",IFERROR(INDIRECT(CONCATENATE(\"'UNITCOST ITEMS (Data Entry)'!J\",IFERROR(SUM(MATCH(A341,'UNITCOST ITEMS (Data Entry)'!$A$3:$A$504,0),2),\"\"))),\"\")))","v":""},null,{"$f":"IF(IFERROR(INDIRECT(CONCATENATE(\"'UNITCOST ITEMS (Data Entry)'!C\",IFERROR(SUM(MATCH(A341,'UNITCOST ITEMS (Data Entry)'!$A$3:$A$504,0),2),\"\"))),\"\")=0,\"\",IFERROR(INDIRECT(CONCATENATE(\"'UNITCOST ITEMS (Data Entry)'!C\",IFERROR(SUM(MATCH(A341,'UNITCOST ITEMS (Data Entry)'!$A$3:$A$504,0),2),\"\"))),\"\"))","v":""},""]
[334,{"$f":"IF(IFERROR(INDIRECT(CONCATENATE(\"'UNITCOST ITEMS (Data Entry)'!D\",IFERROR(SUM(MATCH(A342,'UNITCOST ITEMS (Data Entry)'!$A$3:$A$504,0),2),\"\"))),\"\")=0,\"\",IFERROR(INDIRECT(CONCATENATE(\"'UNITCOST ITEMS (Data Entry)'!D\",IFERROR(SUM(MATCH(A342,'UNITCOST ITEMS (Data Entry)'!$A$3:$A$504,0),2),\"\"))),\"\"))","v":""},{"$f":"IF(IFERROR(INDIRECT(CONCATENATE(\"'UNITCOST ITEMS (Data Entry)'!E\",IFERROR(SUM(MATCH(A342,'UNITCOST ITEMS (Data Entry)'!$A$3:$A$504,0),2),\"\"))),\"\")=0,\"\",IFERROR(INDIRECT(CONCATENATE(\"'UNITCOST ITEMS (Data Entry)'!E\",IFERROR(SUM(MATCH(A342,'UNITCOST ITEMS (Data Entry)'!$A$3:$A$504,0),2),\"\"))),\"\"))","v":""},null,{"$f":"IF(IFERROR(INDIRECT(CONCATENATE(\"'UNITCOST ITEMS (Data Entry)'!F\",IFERROR(SUM(MATCH(A342,'UNITCOST ITEMS (Data Entry)'!$A$3:$A$504,0),2),\"\"))),\"\")=0,\"\",IFERROR(INDIRECT(CONCATENATE(\"'UNITCOST ITEMS (Data Entry)'!F\",IFERROR(SUM(MATCH(A342,'UNITCOST ITEMS (Data Entry)'!$A$3:$A$504,0),2),\"\"))),\"\"))","v":""},{"$f":"IF(IFERROR(INDIRECT(CONCATENATE(\"'UNITCOST ITEMS (Data Entry)'!G\",IFERROR(SUM(MATCH(A342,'UNITCOST ITEMS (Data Entry)'!$A$3:$A$504,0),2),\"\"))),\"\")=0,\"\",IFERROR(INDIRECT(CONCATENATE(\"'UNITCOST ITEMS (Data Entry)'!G\",IFERROR(SUM(MATCH(A342,'UNITCOST ITEMS (Data Entry)'!$A$3:$A$504,0),2),\"\"))),\"\"))","v":""},{"$f":"IF(IFERROR(INDIRECT(CONCATENATE(\"'UNITCOST ITEMS (Data Entry)'!H\",IFERROR(SUM(MATCH(A342,'UNITCOST ITEMS (Data Entry)'!$A$3:$A$504,0),2),\"\"))),\"\")=0,\"\",IFERROR(INDIRECT(CONCATENATE(\"'UNITCOST ITEMS (Data Entry)'!H\",IFERROR(SUM(MATCH(A342,'UNITCOST ITEMS (Data Entry)'!$A$3:$A$504,0),2),\"\"))),\"\"))","v":""},{"$f":"IF(IFERROR(INDIRECT(CONCATENATE(\"'UNITCOST ITEMS (Data Entry)'!I\",IFERROR(SUM(MATCH(A342,'UNITCOST ITEMS (Data Entry)'!$A$3:$A$504,0),2),\"\"))),\"\")=0,\"\",IFERROR(INDIRECT(CONCATENATE(\"'UNITCOST ITEMS (Data Entry)'!I\",IFERROR(SUM(MATCH(A342,'UNITCOST ITEMS (Data Entry)'!$A$3:$A$504,0),2),\"\"))),\"\"))","v":""},{"$f":"IF(K342=2,\"\",IF(IFERROR(INDIRECT(CONCATENATE(\"'UNITCOST ITEMS (Data Entry)'!J\",IFERROR(SUM(MATCH(A342,'UNITCOST ITEMS (Data Entry)'!$A$3:$A$504,0),2),\"\"))),\"\")=0,\"\",IFERROR(INDIRECT(CONCATENATE(\"'UNITCOST ITEMS (Data Entry)'!J\",IFERROR(SUM(MATCH(A342,'UNITCOST ITEMS (Data Entry)'!$A$3:$A$504,0),2),\"\"))),\"\")))","v":""},null,{"$f":"IF(IFERROR(INDIRECT(CONCATENATE(\"'UNITCOST ITEMS (Data Entry)'!C\",IFERROR(SUM(MATCH(A342,'UNITCOST ITEMS (Data Entry)'!$A$3:$A$504,0),2),\"\"))),\"\")=0,\"\",IFERROR(INDIRECT(CONCATENATE(\"'UNITCOST ITEMS (Data Entry)'!C\",IFERROR(SUM(MATCH(A342,'UNITCOST ITEMS (Data Entry)'!$A$3:$A$504,0),2),\"\"))),\"\"))","v":""},""]
[335,{"$f":"IF(IFERROR(INDIRECT(CONCATENATE(\"'UNITCOST ITEMS (Data Entry)'!D\",IFERROR(SUM(MATCH(A343,'UNITCOST ITEMS (Data Entry)'!$A$3:$A$504,0),2),\"\"))),\"\")=0,\"\",IFERROR(INDIRECT(CONCATENATE(\"'UNITCOST ITEMS (Data Entry)'!D\",IFERROR(SUM(MATCH(A343,'UNITCOST ITEMS (Data Entry)'!$A$3:$A$504,0),2),\"\"))),\"\"))","v":""},{"$f":"IF(IFERROR(INDIRECT(CONCATENATE(\"'UNITCOST ITEMS (Data Entry)'!E\",IFERROR(SUM(MATCH(A343,'UNITCOST ITEMS (Data Entry)'!$A$3:$A$504,0),2),\"\"))),\"\")=0,\"\",IFERROR(INDIRECT(CONCATENATE(\"'UNITCOST ITEMS (Data Entry)'!E\",IFERROR(SUM(MATCH(A343,'UNITCOST ITEMS (Data Entry)'!$A$3:$A$504,0),2),\"\"))),\"\"))","v":""},null,{"$f":"IF(IFERROR(INDIRECT(CONCATENATE(\"'UNITCOST ITEMS (Data Entry)'!F\",IFERROR(SUM(MATCH(A343,'UNITCOST ITEMS (Data Entry)'!$A$3:$A$504,0),2),\"\"))),\"\")=0,\"\",IFERROR(INDIRECT(CONCATENATE(\"'UNITCOST ITEMS (Data Entry)'!F\",IFERROR(SUM(MATCH(A343,'UNITCOST ITEMS (Data Entry)'!$A$3:$A$504,0),2),\"\"))),\"\"))","v":""},{"$f":"IF(IFERROR(INDIRECT(CONCATENATE(\"'UNITCOST ITEMS (Data Entry)'!G\",IFERROR(SUM(MATCH(A343,'UNITCOST ITEMS (Data Entry)'!$A$3:$A$504,0),2),\"\"))),\"\")=0,\"\",IFERROR(INDIRECT(CONCATENATE(\"'UNITCOST ITEMS (Data Entry)'!G\",IFERROR(SUM(MATCH(A343,'UNITCOST ITEMS (Data Entry)'!$A$3:$A$504,0),2),\"\"))),\"\"))","v":""},{"$f":"IF(IFERROR(INDIRECT(CONCATENATE(\"'UNITCOST ITEMS (Data Entry)'!H\",IFERROR(SUM(MATCH(A343,'UNITCOST ITEMS (Data Entry)'!$A$3:$A$504,0),2),\"\"))),\"\")=0,\"\",IFERROR(INDIRECT(CONCATENATE(\"'UNITCOST ITEMS (Data Entry)'!H\",IFERROR(SUM(MATCH(A343,'UNITCOST ITEMS (Data Entry)'!$A$3:$A$504,0),2),\"\"))),\"\"))","v":""},{"$f":"IF(IFERROR(INDIRECT(CONCATENATE(\"'UNITCOST ITEMS (Data Entry)'!I\",IFERROR(SUM(MATCH(A343,'UNITCOST ITEMS (Data Entry)'!$A$3:$A$504,0),2),\"\"))),\"\")=0,\"\",IFERROR(INDIRECT(CONCATENATE(\"'UNITCOST ITEMS (Data Entry)'!I\",IFERROR(SUM(MATCH(A343,'UNITCOST ITEMS (Data Entry)'!$A$3:$A$504,0),2),\"\"))),\"\"))","v":""},{"$f":"IF(K343=2,\"\",IF(IFERROR(INDIRECT(CONCATENATE(\"'UNITCOST ITEMS (Data Entry)'!J\",IFERROR(SUM(MATCH(A343,'UNITCOST ITEMS (Data Entry)'!$A$3:$A$504,0),2),\"\"))),\"\")=0,\"\",IFERROR(INDIRECT(CONCATENATE(\"'UNITCOST ITEMS (Data Entry)'!J\",IFERROR(SUM(MATCH(A343,'UNITCOST ITEMS (Data Entry)'!$A$3:$A$504,0),2),\"\"))),\"\")))","v":""},null,{"$f":"IF(IFERROR(INDIRECT(CONCATENATE(\"'UNITCOST ITEMS (Data Entry)'!C\",IFERROR(SUM(MATCH(A343,'UNITCOST ITEMS (Data Entry)'!$A$3:$A$504,0),2),\"\"))),\"\")=0,\"\",IFERROR(INDIRECT(CONCATENATE(\"'UNITCOST ITEMS (Data Entry)'!C\",IFERROR(SUM(MATCH(A343,'UNITCOST ITEMS (Data Entry)'!$A$3:$A$504,0),2),\"\"))),\"\"))","v":""},""]
[336,{"$f":"IF(IFERROR(INDIRECT(CONCATENATE(\"'UNITCOST ITEMS (Data Entry)'!D\",IFERROR(SUM(MATCH(A344,'UNITCOST ITEMS (Data Entry)'!$A$3:$A$504,0),2),\"\"))),\"\")=0,\"\",IFERROR(INDIRECT(CONCATENATE(\"'UNITCOST ITEMS (Data Entry)'!D\",IFERROR(SUM(MATCH(A344,'UNITCOST ITEMS (Data Entry)'!$A$3:$A$504,0),2),\"\"))),\"\"))","v":""},{"$f":"IF(IFERROR(INDIRECT(CONCATENATE(\"'UNITCOST ITEMS (Data Entry)'!E\",IFERROR(SUM(MATCH(A344,'UNITCOST ITEMS (Data Entry)'!$A$3:$A$504,0),2),\"\"))),\"\")=0,\"\",IFERROR(INDIRECT(CONCATENATE(\"'UNITCOST ITEMS (Data Entry)'!E\",IFERROR(SUM(MATCH(A344,'UNITCOST ITEMS (Data Entry)'!$A$3:$A$504,0),2),\"\"))),\"\"))","v":""},null,{"$f":"IF(IFERROR(INDIRECT(CONCATENATE(\"'UNITCOST ITEMS (Data Entry)'!F\",IFERROR(SUM(MATCH(A344,'UNITCOST ITEMS (Data Entry)'!$A$3:$A$504,0),2),\"\"))),\"\")=0,\"\",IFERROR(INDIRECT(CONCATENATE(\"'UNITCOST ITEMS (Data Entry)'!F\",IFERROR(SUM(MATCH(A344,'UNITCOST ITEMS (Data Entry)'!$A$3:$A$504,0),2),\"\"))),\"\"))","v":""},{"$f":"IF(IFERROR(INDIRECT(CONCATENATE(\"'UNITCOST ITEMS (Data Entry)'!G\",IFERROR(SUM(MATCH(A344,'UNITCOST ITEMS (Data Entry)'!$A$3:$A$504,0),2),\"\"))),\"\")=0,\"\",IFERROR(INDIRECT(CONCATENATE(\"'UNITCOST ITEMS (Data Entry)'!G\",IFERROR(SUM(MATCH(A344,'UNITCOST ITEMS (Data Entry)'!$A$3:$A$504,0),2),\"\"))),\"\"))","v":""},{"$f":"IF(IFERROR(INDIRECT(CONCATENATE(\"'UNITCOST ITEMS (Data Entry)'!H\",IFERROR(SUM(MATCH(A344,'UNITCOST ITEMS (Data Entry)'!$A$3:$A$504,0),2),\"\"))),\"\")=0,\"\",IFERROR(INDIRECT(CONCATENATE(\"'UNITCOST ITEMS (Data Entry)'!H\",IFERROR(SUM(MATCH(A344,'UNITCOST ITEMS (Data Entry)'!$A$3:$A$504,0),2),\"\"))),\"\"))","v":""},{"$f":"IF(IFERROR(INDIRECT(CONCATENATE(\"'UNITCOST ITEMS (Data Entry)'!I\",IFERROR(SUM(MATCH(A344,'UNITCOST ITEMS (Data Entry)'!$A$3:$A$504,0),2),\"\"))),\"\")=0,\"\",IFERROR(INDIRECT(CONCATENATE(\"'UNITCOST ITEMS (Data Entry)'!I\",IFERROR(SUM(MATCH(A344,'UNITCOST ITEMS (Data Entry)'!$A$3:$A$504,0),2),\"\"))),\"\"))","v":""},{"$f":"IF(K344=2,\"\",IF(IFERROR(INDIRECT(CONCATENATE(\"'UNITCOST ITEMS (Data Entry)'!J\",IFERROR(SUM(MATCH(A344,'UNITCOST ITEMS (Data Entry)'!$A$3:$A$504,0),2),\"\"))),\"\")=0,\"\",IFERROR(INDIRECT(CONCATENATE(\"'UNITCOST ITEMS (Data Entry)'!J\",IFERROR(SUM(MATCH(A344,'UNITCOST ITEMS (Data Entry)'!$A$3:$A$504,0),2),\"\"))),\"\")))","v":""},null,{"$f":"IF(IFERROR(INDIRECT(CONCATENATE(\"'UNITCOST ITEMS (Data Entry)'!C\",IFERROR(SUM(MATCH(A344,'UNITCOST ITEMS (Data Entry)'!$A$3:$A$504,0),2),\"\"))),\"\")=0,\"\",IFERROR(INDIRECT(CONCATENATE(\"'UNITCOST ITEMS (Data Entry)'!C\",IFERROR(SUM(MATCH(A344,'UNITCOST ITEMS (Data Entry)'!$A$3:$A$504,0),2),\"\"))),\"\"))","v":""},""]
[337,{"$f":"IF(IFERROR(INDIRECT(CONCATENATE(\"'UNITCOST ITEMS (Data Entry)'!D\",IFERROR(SUM(MATCH(A345,'UNITCOST ITEMS (Data Entry)'!$A$3:$A$504,0),2),\"\"))),\"\")=0,\"\",IFERROR(INDIRECT(CONCATENATE(\"'UNITCOST ITEMS (Data Entry)'!D\",IFERROR(SUM(MATCH(A345,'UNITCOST ITEMS (Data Entry)'!$A$3:$A$504,0),2),\"\"))),\"\"))","v":""},{"$f":"IF(IFERROR(INDIRECT(CONCATENATE(\"'UNITCOST ITEMS (Data Entry)'!E\",IFERROR(SUM(MATCH(A345,'UNITCOST ITEMS (Data Entry)'!$A$3:$A$504,0),2),\"\"))),\"\")=0,\"\",IFERROR(INDIRECT(CONCATENATE(\"'UNITCOST ITEMS (Data Entry)'!E\",IFERROR(SUM(MATCH(A345,'UNITCOST ITEMS (Data Entry)'!$A$3:$A$504,0),2),\"\"))),\"\"))","v":""},null,{"$f":"IF(IFERROR(INDIRECT(CONCATENATE(\"'UNITCOST ITEMS (Data Entry)'!F\",IFERROR(SUM(MATCH(A345,'UNITCOST ITEMS (Data Entry)'!$A$3:$A$504,0),2),\"\"))),\"\")=0,\"\",IFERROR(INDIRECT(CONCATENATE(\"'UNITCOST ITEMS (Data Entry)'!F\",IFERROR(SUM(MATCH(A345,'UNITCOST ITEMS (Data Entry)'!$A$3:$A$504,0),2),\"\"))),\"\"))","v":""},{"$f":"IF(IFERROR(INDIRECT(CONCATENATE(\"'UNITCOST ITEMS (Data Entry)'!G\",IFERROR(SUM(MATCH(A345,'UNITCOST ITEMS (Data Entry)'!$A$3:$A$504,0),2),\"\"))),\"\")=0,\"\",IFERROR(INDIRECT(CONCATENATE(\"'UNITCOST ITEMS (Data Entry)'!G\",IFERROR(SUM(MATCH(A345,'UNITCOST ITEMS (Data Entry)'!$A$3:$A$504,0),2),\"\"))),\"\"))","v":""},{"$f":"IF(IFERROR(INDIRECT(CONCATENATE(\"'UNITCOST ITEMS (Data Entry)'!H\",IFERROR(SUM(MATCH(A345,'UNITCOST ITEMS (Data Entry)'!$A$3:$A$504,0),2),\"\"))),\"\")=0,\"\",IFERROR(INDIRECT(CONCATENATE(\"'UNITCOST ITEMS (Data Entry)'!H\",IFERROR(SUM(MATCH(A345,'UNITCOST ITEMS (Data Entry)'!$A$3:$A$504,0),2),\"\"))),\"\"))","v":""},{"$f":"IF(IFERROR(INDIRECT(CONCATENATE(\"'UNITCOST ITEMS (Data Entry)'!I\",IFERROR(SUM(MATCH(A345,'UNITCOST ITEMS (Data Entry)'!$A$3:$A$504,0),2),\"\"))),\"\")=0,\"\",IFERROR(INDIRECT(CONCATENATE(\"'UNITCOST ITEMS (Data Entry)'!I\",IFERROR(SUM(MATCH(A345,'UNITCOST ITEMS (Data Entry)'!$A$3:$A$504,0),2),\"\"))),\"\"))","v":""},{"$f":"IF(K345=2,\"\",IF(IFERROR(INDIRECT(CONCATENATE(\"'UNITCOST ITEMS (Data Entry)'!J\",IFERROR(SUM(MATCH(A345,'UNITCOST ITEMS (Data Entry)'!$A$3:$A$504,0),2),\"\"))),\"\")=0,\"\",IFERROR(INDIRECT(CONCATENATE(\"'UNITCOST ITEMS (Data Entry)'!J\",IFERROR(SUM(MATCH(A345,'UNITCOST ITEMS (Data Entry)'!$A$3:$A$504,0),2),\"\"))),\"\")))","v":""},null,{"$f":"IF(IFERROR(INDIRECT(CONCATENATE(\"'UNITCOST ITEMS (Data Entry)'!C\",IFERROR(SUM(MATCH(A345,'UNITCOST ITEMS (Data Entry)'!$A$3:$A$504,0),2),\"\"))),\"\")=0,\"\",IFERROR(INDIRECT(CONCATENATE(\"'UNITCOST ITEMS (Data Entry)'!C\",IFERROR(SUM(MATCH(A345,'UNITCOST ITEMS (Data Entry)'!$A$3:$A$504,0),2),\"\"))),\"\"))","v":""},""]
[338,{"$f":"IF(IFERROR(INDIRECT(CONCATENATE(\"'UNITCOST ITEMS (Data Entry)'!D\",IFERROR(SUM(MATCH(A346,'UNITCOST ITEMS (Data Entry)'!$A$3:$A$504,0),2),\"\"))),\"\")=0,\"\",IFERROR(INDIRECT(CONCATENATE(\"'UNITCOST ITEMS (Data Entry)'!D\",IFERROR(SUM(MATCH(A346,'UNITCOST ITEMS (Data Entry)'!$A$3:$A$504,0),2),\"\"))),\"\"))","v":""},{"$f":"IF(IFERROR(INDIRECT(CONCATENATE(\"'UNITCOST ITEMS (Data Entry)'!E\",IFERROR(SUM(MATCH(A346,'UNITCOST ITEMS (Data Entry)'!$A$3:$A$504,0),2),\"\"))),\"\")=0,\"\",IFERROR(INDIRECT(CONCATENATE(\"'UNITCOST ITEMS (Data Entry)'!E\",IFERROR(SUM(MATCH(A346,'UNITCOST ITEMS (Data Entry)'!$A$3:$A$504,0),2),\"\"))),\"\"))","v":""},null,{"$f":"IF(IFERROR(INDIRECT(CONCATENATE(\"'UNITCOST ITEMS (Data Entry)'!F\",IFERROR(SUM(MATCH(A346,'UNITCOST ITEMS (Data Entry)'!$A$3:$A$504,0),2),\"\"))),\"\")=0,\"\",IFERROR(INDIRECT(CONCATENATE(\"'UNITCOST ITEMS (Data Entry)'!F\",IFERROR(SUM(MATCH(A346,'UNITCOST ITEMS (Data Entry)'!$A$3:$A$504,0),2),\"\"))),\"\"))","v":""},{"$f":"IF(IFERROR(INDIRECT(CONCATENATE(\"'UNITCOST ITEMS (Data Entry)'!G\",IFERROR(SUM(MATCH(A346,'UNITCOST ITEMS (Data Entry)'!$A$3:$A$504,0),2),\"\"))),\"\")=0,\"\",IFERROR(INDIRECT(CONCATENATE(\"'UNITCOST ITEMS (Data Entry)'!G\",IFERROR(SUM(MATCH(A346,'UNITCOST ITEMS (Data Entry)'!$A$3:$A$504,0),2),\"\"))),\"\"))","v":""},{"$f":"IF(IFERROR(INDIRECT(CONCATENATE(\"'UNITCOST ITEMS (Data Entry)'!H\",IFERROR(SUM(MATCH(A346,'UNITCOST ITEMS (Data Entry)'!$A$3:$A$504,0),2),\"\"))),\"\")=0,\"\",IFERROR(INDIRECT(CONCATENATE(\"'UNITCOST ITEMS (Data Entry)'!H\",IFERROR(SUM(MATCH(A346,'UNITCOST ITEMS (Data Entry)'!$A$3:$A$504,0),2),\"\"))),\"\"))","v":""},{"$f":"IF(IFERROR(INDIRECT(CONCATENATE(\"'UNITCOST ITEMS (Data Entry)'!I\",IFERROR(SUM(MATCH(A346,'UNITCOST ITEMS (Data Entry)'!$A$3:$A$504,0),2),\"\"))),\"\")=0,\"\",IFERROR(INDIRECT(CONCATENATE(\"'UNITCOST ITEMS (Data Entry)'!I\",IFERROR(SUM(MATCH(A346,'UNITCOST ITEMS (Data Entry)'!$A$3:$A$504,0),2),\"\"))),\"\"))","v":""},{"$f":"IF(K346=2,\"\",IF(IFERROR(INDIRECT(CONCATENATE(\"'UNITCOST ITEMS (Data Entry)'!J\",IFERROR(SUM(MATCH(A346,'UNITCOST ITEMS (Data Entry)'!$A$3:$A$504,0),2),\"\"))),\"\")=0,\"\",IFERROR(INDIRECT(CONCATENATE(\"'UNITCOST ITEMS (Data Entry)'!J\",IFERROR(SUM(MATCH(A346,'UNITCOST ITEMS (Data Entry)'!$A$3:$A$504,0),2),\"\"))),\"\")))","v":""},null,{"$f":"IF(IFERROR(INDIRECT(CONCATENATE(\"'UNITCOST ITEMS (Data Entry)'!C\",IFERROR(SUM(MATCH(A346,'UNITCOST ITEMS (Data Entry)'!$A$3:$A$504,0),2),\"\"))),\"\")=0,\"\",IFERROR(INDIRECT(CONCATENATE(\"'UNITCOST ITEMS (Data Entry)'!C\",IFERROR(SUM(MATCH(A346,'UNITCOST ITEMS (Data Entry)'!$A$3:$A$504,0),2),\"\"))),\"\"))","v":""},""]
[339,{"$f":"IF(IFERROR(INDIRECT(CONCATENATE(\"'UNITCOST ITEMS (Data Entry)'!D\",IFERROR(SUM(MATCH(A347,'UNITCOST ITEMS (Data Entry)'!$A$3:$A$504,0),2),\"\"))),\"\")=0,\"\",IFERROR(INDIRECT(CONCATENATE(\"'UNITCOST ITEMS (Data Entry)'!D\",IFERROR(SUM(MATCH(A347,'UNITCOST ITEMS (Data Entry)'!$A$3:$A$504,0),2),\"\"))),\"\"))","v":""},{"$f":"IF(IFERROR(INDIRECT(CONCATENATE(\"'UNITCOST ITEMS (Data Entry)'!E\",IFERROR(SUM(MATCH(A347,'UNITCOST ITEMS (Data Entry)'!$A$3:$A$504,0),2),\"\"))),\"\")=0,\"\",IFERROR(INDIRECT(CONCATENATE(\"'UNITCOST ITEMS (Data Entry)'!E\",IFERROR(SUM(MATCH(A347,'UNITCOST ITEMS (Data Entry)'!$A$3:$A$504,0),2),\"\"))),\"\"))","v":""},null,{"$f":"IF(IFERROR(INDIRECT(CONCATENATE(\"'UNITCOST ITEMS (Data Entry)'!F\",IFERROR(SUM(MATCH(A347,'UNITCOST ITEMS (Data Entry)'!$A$3:$A$504,0),2),\"\"))),\"\")=0,\"\",IFERROR(INDIRECT(CONCATENATE(\"'UNITCOST ITEMS (Data Entry)'!F\",IFERROR(SUM(MATCH(A347,'UNITCOST ITEMS (Data Entry)'!$A$3:$A$504,0),2),\"\"))),\"\"))","v":""},{"$f":"IF(IFERROR(INDIRECT(CONCATENATE(\"'UNITCOST ITEMS (Data Entry)'!G\",IFERROR(SUM(MATCH(A347,'UNITCOST ITEMS (Data Entry)'!$A$3:$A$504,0),2),\"\"))),\"\")=0,\"\",IFERROR(INDIRECT(CONCATENATE(\"'UNITCOST ITEMS (Data Entry)'!G\",IFERROR(SUM(MATCH(A347,'UNITCOST ITEMS (Data Entry)'!$A$3:$A$504,0),2),\"\"))),\"\"))","v":""},{"$f":"IF(IFERROR(INDIRECT(CONCATENATE(\"'UNITCOST ITEMS (Data Entry)'!H\",IFERROR(SUM(MATCH(A347,'UNITCOST ITEMS (Data Entry)'!$A$3:$A$504,0),2),\"\"))),\"\")=0,\"\",IFERROR(INDIRECT(CONCATENATE(\"'UNITCOST ITEMS (Data Entry)'!H\",IFERROR(SUM(MATCH(A347,'UNITCOST ITEMS (Data Entry)'!$A$3:$A$504,0),2),\"\"))),\"\"))","v":""},{"$f":"IF(IFERROR(INDIRECT(CONCATENATE(\"'UNITCOST ITEMS (Data Entry)'!I\",IFERROR(SUM(MATCH(A347,'UNITCOST ITEMS (Data Entry)'!$A$3:$A$504,0),2),\"\"))),\"\")=0,\"\",IFERROR(INDIRECT(CONCATENATE(\"'UNITCOST ITEMS (Data Entry)'!I\",IFERROR(SUM(MATCH(A347,'UNITCOST ITEMS (Data Entry)'!$A$3:$A$504,0),2),\"\"))),\"\"))","v":""},{"$f":"IF(K347=2,\"\",IF(IFERROR(INDIRECT(CONCATENATE(\"'UNITCOST ITEMS (Data Entry)'!J\",IFERROR(SUM(MATCH(A347,'UNITCOST ITEMS (Data Entry)'!$A$3:$A$504,0),2),\"\"))),\"\")=0,\"\",IFERROR(INDIRECT(CONCATENATE(\"'UNITCOST ITEMS (Data Entry)'!J\",IFERROR(SUM(MATCH(A347,'UNITCOST ITEMS (Data Entry)'!$A$3:$A$504,0),2),\"\"))),\"\")))","v":""},null,{"$f":"IF(IFERROR(INDIRECT(CONCATENATE(\"'UNITCOST ITEMS (Data Entry)'!C\",IFERROR(SUM(MATCH(A347,'UNITCOST ITEMS (Data Entry)'!$A$3:$A$504,0),2),\"\"))),\"\")=0,\"\",IFERROR(INDIRECT(CONCATENATE(\"'UNITCOST ITEMS (Data Entry)'!C\",IFERROR(SUM(MATCH(A347,'UNITCOST ITEMS (Data Entry)'!$A$3:$A$504,0),2),\"\"))),\"\"))","v":""},""]
[340,{"$f":"IF(IFERROR(INDIRECT(CONCATENATE(\"'UNITCOST ITEMS (Data Entry)'!D\",IFERROR(SUM(MATCH(A348,'UNITCOST ITEMS (Data Entry)'!$A$3:$A$504,0),2),\"\"))),\"\")=0,\"\",IFERROR(INDIRECT(CONCATENATE(\"'UNITCOST ITEMS (Data Entry)'!D\",IFERROR(SUM(MATCH(A348,'UNITCOST ITEMS (Data Entry)'!$A$3:$A$504,0),2),\"\"))),\"\"))","v":""},{"$f":"IF(IFERROR(INDIRECT(CONCATENATE(\"'UNITCOST ITEMS (Data Entry)'!E\",IFERROR(SUM(MATCH(A348,'UNITCOST ITEMS (Data Entry)'!$A$3:$A$504,0),2),\"\"))),\"\")=0,\"\",IFERROR(INDIRECT(CONCATENATE(\"'UNITCOST ITEMS (Data Entry)'!E\",IFERROR(SUM(MATCH(A348,'UNITCOST ITEMS (Data Entry)'!$A$3:$A$504,0),2),\"\"))),\"\"))","v":""},null,{"$f":"IF(IFERROR(INDIRECT(CONCATENATE(\"'UNITCOST ITEMS (Data Entry)'!F\",IFERROR(SUM(MATCH(A348,'UNITCOST ITEMS (Data Entry)'!$A$3:$A$504,0),2),\"\"))),\"\")=0,\"\",IFERROR(INDIRECT(CONCATENATE(\"'UNITCOST ITEMS (Data Entry)'!F\",IFERROR(SUM(MATCH(A348,'UNITCOST ITEMS (Data Entry)'!$A$3:$A$504,0),2),\"\"))),\"\"))","v":""},{"$f":"IF(IFERROR(INDIRECT(CONCATENATE(\"'UNITCOST ITEMS (Data Entry)'!G\",IFERROR(SUM(MATCH(A348,'UNITCOST ITEMS (Data Entry)'!$A$3:$A$504,0),2),\"\"))),\"\")=0,\"\",IFERROR(INDIRECT(CONCATENATE(\"'UNITCOST ITEMS (Data Entry)'!G\",IFERROR(SUM(MATCH(A348,'UNITCOST ITEMS (Data Entry)'!$A$3:$A$504,0),2),\"\"))),\"\"))","v":""},{"$f":"IF(IFERROR(INDIRECT(CONCATENATE(\"'UNITCOST ITEMS (Data Entry)'!H\",IFERROR(SUM(MATCH(A348,'UNITCOST ITEMS (Data Entry)'!$A$3:$A$504,0),2),\"\"))),\"\")=0,\"\",IFERROR(INDIRECT(CONCATENATE(\"'UNITCOST ITEMS (Data Entry)'!H\",IFERROR(SUM(MATCH(A348,'UNITCOST ITEMS (Data Entry)'!$A$3:$A$504,0),2),\"\"))),\"\"))","v":""},{"$f":"IF(IFERROR(INDIRECT(CONCATENATE(\"'UNITCOST ITEMS (Data Entry)'!I\",IFERROR(SUM(MATCH(A348,'UNITCOST ITEMS (Data Entry)'!$A$3:$A$504,0),2),\"\"))),\"\")=0,\"\",IFERROR(INDIRECT(CONCATENATE(\"'UNITCOST ITEMS (Data Entry)'!I\",IFERROR(SUM(MATCH(A348,'UNITCOST ITEMS (Data Entry)'!$A$3:$A$504,0),2),\"\"))),\"\"))","v":""},{"$f":"IF(K348=2,\"\",IF(IFERROR(INDIRECT(CONCATENATE(\"'UNITCOST ITEMS (Data Entry)'!J\",IFERROR(SUM(MATCH(A348,'UNITCOST ITEMS (Data Entry)'!$A$3:$A$504,0),2),\"\"))),\"\")=0,\"\",IFERROR(INDIRECT(CONCATENATE(\"'UNITCOST ITEMS (Data Entry)'!J\",IFERROR(SUM(MATCH(A348,'UNITCOST ITEMS (Data Entry)'!$A$3:$A$504,0),2),\"\"))),\"\")))","v":""},null,{"$f":"IF(IFERROR(INDIRECT(CONCATENATE(\"'UNITCOST ITEMS (Data Entry)'!C\",IFERROR(SUM(MATCH(A348,'UNITCOST ITEMS (Data Entry)'!$A$3:$A$504,0),2),\"\"))),\"\")=0,\"\",IFERROR(INDIRECT(CONCATENATE(\"'UNITCOST ITEMS (Data Entry)'!C\",IFERROR(SUM(MATCH(A348,'UNITCOST ITEMS (Data Entry)'!$A$3:$A$504,0),2),\"\"))),\"\"))","v":""},""]
[341,{"$f":"IF(IFERROR(INDIRECT(CONCATENATE(\"'UNITCOST ITEMS (Data Entry)'!D\",IFERROR(SUM(MATCH(A349,'UNITCOST ITEMS (Data Entry)'!$A$3:$A$504,0),2),\"\"))),\"\")=0,\"\",IFERROR(INDIRECT(CONCATENATE(\"'UNITCOST ITEMS (Data Entry)'!D\",IFERROR(SUM(MATCH(A349,'UNITCOST ITEMS (Data Entry)'!$A$3:$A$504,0),2),\"\"))),\"\"))","v":""},{"$f":"IF(IFERROR(INDIRECT(CONCATENATE(\"'UNITCOST ITEMS (Data Entry)'!E\",IFERROR(SUM(MATCH(A349,'UNITCOST ITEMS (Data Entry)'!$A$3:$A$504,0),2),\"\"))),\"\")=0,\"\",IFERROR(INDIRECT(CONCATENATE(\"'UNITCOST ITEMS (Data Entry)'!E\",IFERROR(SUM(MATCH(A349,'UNITCOST ITEMS (Data Entry)'!$A$3:$A$504,0),2),\"\"))),\"\"))","v":""},null,{"$f":"IF(IFERROR(INDIRECT(CONCATENATE(\"'UNITCOST ITEMS (Data Entry)'!F\",IFERROR(SUM(MATCH(A349,'UNITCOST ITEMS (Data Entry)'!$A$3:$A$504,0),2),\"\"))),\"\")=0,\"\",IFERROR(INDIRECT(CONCATENATE(\"'UNITCOST ITEMS (Data Entry)'!F\",IFERROR(SUM(MATCH(A349,'UNITCOST ITEMS (Data Entry)'!$A$3:$A$504,0),2),\"\"))),\"\"))","v":""},{"$f":"IF(IFERROR(INDIRECT(CONCATENATE(\"'UNITCOST ITEMS (Data Entry)'!G\",IFERROR(SUM(MATCH(A349,'UNITCOST ITEMS (Data Entry)'!$A$3:$A$504,0),2),\"\"))),\"\")=0,\"\",IFERROR(INDIRECT(CONCATENATE(\"'UNITCOST ITEMS (Data Entry)'!G\",IFERROR(SUM(MATCH(A349,'UNITCOST ITEMS (Data Entry)'!$A$3:$A$504,0),2),\"\"))),\"\"))","v":""},{"$f":"IF(IFERROR(INDIRECT(CONCATENATE(\"'UNITCOST ITEMS (Data Entry)'!H\",IFERROR(SUM(MATCH(A349,'UNITCOST ITEMS (Data Entry)'!$A$3:$A$504,0),2),\"\"))),\"\")=0,\"\",IFERROR(INDIRECT(CONCATENATE(\"'UNITCOST ITEMS (Data Entry)'!H\",IFERROR(SUM(MATCH(A349,'UNITCOST ITEMS (Data Entry)'!$A$3:$A$504,0),2),\"\"))),\"\"))","v":""},{"$f":"IF(IFERROR(INDIRECT(CONCATENATE(\"'UNITCOST ITEMS (Data Entry)'!I\",IFERROR(SUM(MATCH(A349,'UNITCOST ITEMS (Data Entry)'!$A$3:$A$504,0),2),\"\"))),\"\")=0,\"\",IFERROR(INDIRECT(CONCATENATE(\"'UNITCOST ITEMS (Data Entry)'!I\",IFERROR(SUM(MATCH(A349,'UNITCOST ITEMS (Data Entry)'!$A$3:$A$504,0),2),\"\"))),\"\"))","v":""},{"$f":"IF(K349=2,\"\",IF(IFERROR(INDIRECT(CONCATENATE(\"'UNITCOST ITEMS (Data Entry)'!J\",IFERROR(SUM(MATCH(A349,'UNITCOST ITEMS (Data Entry)'!$A$3:$A$504,0),2),\"\"))),\"\")=0,\"\",IFERROR(INDIRECT(CONCATENATE(\"'UNITCOST ITEMS (Data Entry)'!J\",IFERROR(SUM(MATCH(A349,'UNITCOST ITEMS (Data Entry)'!$A$3:$A$504,0),2),\"\"))),\"\")))","v":""},null,{"$f":"IF(IFERROR(INDIRECT(CONCATENATE(\"'UNITCOST ITEMS (Data Entry)'!C\",IFERROR(SUM(MATCH(A349,'UNITCOST ITEMS (Data Entry)'!$A$3:$A$504,0),2),\"\"))),\"\")=0,\"\",IFERROR(INDIRECT(CONCATENATE(\"'UNITCOST ITEMS (Data Entry)'!C\",IFERROR(SUM(MATCH(A349,'UNITCOST ITEMS (Data Entry)'!$A$3:$A$504,0),2),\"\"))),\"\"))","v":""},""]
[342,{"$f":"IF(IFERROR(INDIRECT(CONCATENATE(\"'UNITCOST ITEMS (Data Entry)'!D\",IFERROR(SUM(MATCH(A350,'UNITCOST ITEMS (Data Entry)'!$A$3:$A$504,0),2),\"\"))),\"\")=0,\"\",IFERROR(INDIRECT(CONCATENATE(\"'UNITCOST ITEMS (Data Entry)'!D\",IFERROR(SUM(MATCH(A350,'UNITCOST ITEMS (Data Entry)'!$A$3:$A$504,0),2),\"\"))),\"\"))","v":""},{"$f":"IF(IFERROR(INDIRECT(CONCATENATE(\"'UNITCOST ITEMS (Data Entry)'!E\",IFERROR(SUM(MATCH(A350,'UNITCOST ITEMS (Data Entry)'!$A$3:$A$504,0),2),\"\"))),\"\")=0,\"\",IFERROR(INDIRECT(CONCATENATE(\"'UNITCOST ITEMS (Data Entry)'!E\",IFERROR(SUM(MATCH(A350,'UNITCOST ITEMS (Data Entry)'!$A$3:$A$504,0),2),\"\"))),\"\"))","v":""},null,{"$f":"IF(IFERROR(INDIRECT(CONCATENATE(\"'UNITCOST ITEMS (Data Entry)'!F\",IFERROR(SUM(MATCH(A350,'UNITCOST ITEMS (Data Entry)'!$A$3:$A$504,0),2),\"\"))),\"\")=0,\"\",IFERROR(INDIRECT(CONCATENATE(\"'UNITCOST ITEMS (Data Entry)'!F\",IFERROR(SUM(MATCH(A350,'UNITCOST ITEMS (Data Entry)'!$A$3:$A$504,0),2),\"\"))),\"\"))","v":""},{"$f":"IF(IFERROR(INDIRECT(CONCATENATE(\"'UNITCOST ITEMS (Data Entry)'!G\",IFERROR(SUM(MATCH(A350,'UNITCOST ITEMS (Data Entry)'!$A$3:$A$504,0),2),\"\"))),\"\")=0,\"\",IFERROR(INDIRECT(CONCATENATE(\"'UNITCOST ITEMS (Data Entry)'!G\",IFERROR(SUM(MATCH(A350,'UNITCOST ITEMS (Data Entry)'!$A$3:$A$504,0),2),\"\"))),\"\"))","v":""},{"$f":"IF(IFERROR(INDIRECT(CONCATENATE(\"'UNITCOST ITEMS (Data Entry)'!H\",IFERROR(SUM(MATCH(A350,'UNITCOST ITEMS (Data Entry)'!$A$3:$A$504,0),2),\"\"))),\"\")=0,\"\",IFERROR(INDIRECT(CONCATENATE(\"'UNITCOST ITEMS (Data Entry)'!H\",IFERROR(SUM(MATCH(A350,'UNITCOST ITEMS (Data Entry)'!$A$3:$A$504,0),2),\"\"))),\"\"))","v":""},{"$f":"IF(IFERROR(INDIRECT(CONCATENATE(\"'UNITCOST ITEMS (Data Entry)'!I\",IFERROR(SUM(MATCH(A350,'UNITCOST ITEMS (Data Entry)'!$A$3:$A$504,0),2),\"\"))),\"\")=0,\"\",IFERROR(INDIRECT(CONCATENATE(\"'UNITCOST ITEMS (Data Entry)'!I\",IFERROR(SUM(MATCH(A350,'UNITCOST ITEMS (Data Entry)'!$A$3:$A$504,0),2),\"\"))),\"\"))","v":""},{"$f":"IF(K350=2,\"\",IF(IFERROR(INDIRECT(CONCATENATE(\"'UNITCOST ITEMS (Data Entry)'!J\",IFERROR(SUM(MATCH(A350,'UNITCOST ITEMS (Data Entry)'!$A$3:$A$504,0),2),\"\"))),\"\")=0,\"\",IFERROR(INDIRECT(CONCATENATE(\"'UNITCOST ITEMS (Data Entry)'!J\",IFERROR(SUM(MATCH(A350,'UNITCOST ITEMS (Data Entry)'!$A$3:$A$504,0),2),\"\"))),\"\")))","v":""},null,{"$f":"IF(IFERROR(INDIRECT(CONCATENATE(\"'UNITCOST ITEMS (Data Entry)'!C\",IFERROR(SUM(MATCH(A350,'UNITCOST ITEMS (Data Entry)'!$A$3:$A$504,0),2),\"\"))),\"\")=0,\"\",IFERROR(INDIRECT(CONCATENATE(\"'UNITCOST ITEMS (Data Entry)'!C\",IFERROR(SUM(MATCH(A350,'UNITCOST ITEMS (Data Entry)'!$A$3:$A$504,0),2),\"\"))),\"\"))","v":""},""]
[343,{"$f":"IF(IFERROR(INDIRECT(CONCATENATE(\"'UNITCOST ITEMS (Data Entry)'!D\",IFERROR(SUM(MATCH(A351,'UNITCOST ITEMS (Data Entry)'!$A$3:$A$504,0),2),\"\"))),\"\")=0,\"\",IFERROR(INDIRECT(CONCATENATE(\"'UNITCOST ITEMS (Data Entry)'!D\",IFERROR(SUM(MATCH(A351,'UNITCOST ITEMS (Data Entry)'!$A$3:$A$504,0),2),\"\"))),\"\"))","v":""},{"$f":"IF(IFERROR(INDIRECT(CONCATENATE(\"'UNITCOST ITEMS (Data Entry)'!E\",IFERROR(SUM(MATCH(A351,'UNITCOST ITEMS (Data Entry)'!$A$3:$A$504,0),2),\"\"))),\"\")=0,\"\",IFERROR(INDIRECT(CONCATENATE(\"'UNITCOST ITEMS (Data Entry)'!E\",IFERROR(SUM(MATCH(A351,'UNITCOST ITEMS (Data Entry)'!$A$3:$A$504,0),2),\"\"))),\"\"))","v":""},null,{"$f":"IF(IFERROR(INDIRECT(CONCATENATE(\"'UNITCOST ITEMS (Data Entry)'!F\",IFERROR(SUM(MATCH(A351,'UNITCOST ITEMS (Data Entry)'!$A$3:$A$504,0),2),\"\"))),\"\")=0,\"\",IFERROR(INDIRECT(CONCATENATE(\"'UNITCOST ITEMS (Data Entry)'!F\",IFERROR(SUM(MATCH(A351,'UNITCOST ITEMS (Data Entry)'!$A$3:$A$504,0),2),\"\"))),\"\"))","v":""},{"$f":"IF(IFERROR(INDIRECT(CONCATENATE(\"'UNITCOST ITEMS (Data Entry)'!G\",IFERROR(SUM(MATCH(A351,'UNITCOST ITEMS (Data Entry)'!$A$3:$A$504,0),2),\"\"))),\"\")=0,\"\",IFERROR(INDIRECT(CONCATENATE(\"'UNITCOST ITEMS (Data Entry)'!G\",IFERROR(SUM(MATCH(A351,'UNITCOST ITEMS (Data Entry)'!$A$3:$A$504,0),2),\"\"))),\"\"))","v":""},{"$f":"IF(IFERROR(INDIRECT(CONCATENATE(\"'UNITCOST ITEMS (Data Entry)'!H\",IFERROR(SUM(MATCH(A351,'UNITCOST ITEMS (Data Entry)'!$A$3:$A$504,0),2),\"\"))),\"\")=0,\"\",IFERROR(INDIRECT(CONCATENATE(\"'UNITCOST ITEMS (Data Entry)'!H\",IFERROR(SUM(MATCH(A351,'UNITCOST ITEMS (Data Entry)'!$A$3:$A$504,0),2),\"\"))),\"\"))","v":""},{"$f":"IF(IFERROR(INDIRECT(CONCATENATE(\"'UNITCOST ITEMS (Data Entry)'!I\",IFERROR(SUM(MATCH(A351,'UNITCOST ITEMS (Data Entry)'!$A$3:$A$504,0),2),\"\"))),\"\")=0,\"\",IFERROR(INDIRECT(CONCATENATE(\"'UNITCOST ITEMS (Data Entry)'!I\",IFERROR(SUM(MATCH(A351,'UNITCOST ITEMS (Data Entry)'!$A$3:$A$504,0),2),\"\"))),\"\"))","v":""},{"$f":"IF(K351=2,\"\",IF(IFERROR(INDIRECT(CONCATENATE(\"'UNITCOST ITEMS (Data Entry)'!J\",IFERROR(SUM(MATCH(A351,'UNITCOST ITEMS (Data Entry)'!$A$3:$A$504,0),2),\"\"))),\"\")=0,\"\",IFERROR(INDIRECT(CONCATENATE(\"'UNITCOST ITEMS (Data Entry)'!J\",IFERROR(SUM(MATCH(A351,'UNITCOST ITEMS (Data Entry)'!$A$3:$A$504,0),2),\"\"))),\"\")))","v":""},null,{"$f":"IF(IFERROR(INDIRECT(CONCATENATE(\"'UNITCOST ITEMS (Data Entry)'!C\",IFERROR(SUM(MATCH(A351,'UNITCOST ITEMS (Data Entry)'!$A$3:$A$504,0),2),\"\"))),\"\")=0,\"\",IFERROR(INDIRECT(CONCATENATE(\"'UNITCOST ITEMS (Data Entry)'!C\",IFERROR(SUM(MATCH(A351,'UNITCOST ITEMS (Data Entry)'!$A$3:$A$504,0),2),\"\"))),\"\"))","v":""},""]
[344,{"$f":"IF(IFERROR(INDIRECT(CONCATENATE(\"'UNITCOST ITEMS (Data Entry)'!D\",IFERROR(SUM(MATCH(A352,'UNITCOST ITEMS (Data Entry)'!$A$3:$A$504,0),2),\"\"))),\"\")=0,\"\",IFERROR(INDIRECT(CONCATENATE(\"'UNITCOST ITEMS (Data Entry)'!D\",IFERROR(SUM(MATCH(A352,'UNITCOST ITEMS (Data Entry)'!$A$3:$A$504,0),2),\"\"))),\"\"))","v":""},{"$f":"IF(IFERROR(INDIRECT(CONCATENATE(\"'UNITCOST ITEMS (Data Entry)'!E\",IFERROR(SUM(MATCH(A352,'UNITCOST ITEMS (Data Entry)'!$A$3:$A$504,0),2),\"\"))),\"\")=0,\"\",IFERROR(INDIRECT(CONCATENATE(\"'UNITCOST ITEMS (Data Entry)'!E\",IFERROR(SUM(MATCH(A352,'UNITCOST ITEMS (Data Entry)'!$A$3:$A$504,0),2),\"\"))),\"\"))","v":""},null,{"$f":"IF(IFERROR(INDIRECT(CONCATENATE(\"'UNITCOST ITEMS (Data Entry)'!F\",IFERROR(SUM(MATCH(A352,'UNITCOST ITEMS (Data Entry)'!$A$3:$A$504,0),2),\"\"))),\"\")=0,\"\",IFERROR(INDIRECT(CONCATENATE(\"'UNITCOST ITEMS (Data Entry)'!F\",IFERROR(SUM(MATCH(A352,'UNITCOST ITEMS (Data Entry)'!$A$3:$A$504,0),2),\"\"))),\"\"))","v":""},{"$f":"IF(IFERROR(INDIRECT(CONCATENATE(\"'UNITCOST ITEMS (Data Entry)'!G\",IFERROR(SUM(MATCH(A352,'UNITCOST ITEMS (Data Entry)'!$A$3:$A$504,0),2),\"\"))),\"\")=0,\"\",IFERROR(INDIRECT(CONCATENATE(\"'UNITCOST ITEMS (Data Entry)'!G\",IFERROR(SUM(MATCH(A352,'UNITCOST ITEMS (Data Entry)'!$A$3:$A$504,0),2),\"\"))),\"\"))","v":""},{"$f":"IF(IFERROR(INDIRECT(CONCATENATE(\"'UNITCOST ITEMS (Data Entry)'!H\",IFERROR(SUM(MATCH(A352,'UNITCOST ITEMS (Data Entry)'!$A$3:$A$504,0),2),\"\"))),\"\")=0,\"\",IFERROR(INDIRECT(CONCATENATE(\"'UNITCOST ITEMS (Data Entry)'!H\",IFERROR(SUM(MATCH(A352,'UNITCOST ITEMS (Data Entry)'!$A$3:$A$504,0),2),\"\"))),\"\"))","v":""},{"$f":"IF(IFERROR(INDIRECT(CONCATENATE(\"'UNITCOST ITEMS (Data Entry)'!I\",IFERROR(SUM(MATCH(A352,'UNITCOST ITEMS (Data Entry)'!$A$3:$A$504,0),2),\"\"))),\"\")=0,\"\",IFERROR(INDIRECT(CONCATENATE(\"'UNITCOST ITEMS (Data Entry)'!I\",IFERROR(SUM(MATCH(A352,'UNITCOST ITEMS (Data Entry)'!$A$3:$A$504,0),2),\"\"))),\"\"))","v":""},{"$f":"IF(K352=2,\"\",IF(IFERROR(INDIRECT(CONCATENATE(\"'UNITCOST ITEMS (Data Entry)'!J\",IFERROR(SUM(MATCH(A352,'UNITCOST ITEMS (Data Entry)'!$A$3:$A$504,0),2),\"\"))),\"\")=0,\"\",IFERROR(INDIRECT(CONCATENATE(\"'UNITCOST ITEMS (Data Entry)'!J\",IFERROR(SUM(MATCH(A352,'UNITCOST ITEMS (Data Entry)'!$A$3:$A$504,0),2),\"\"))),\"\")))","v":""},null,{"$f":"IF(IFERROR(INDIRECT(CONCATENATE(\"'UNITCOST ITEMS (Data Entry)'!C\",IFERROR(SUM(MATCH(A352,'UNITCOST ITEMS (Data Entry)'!$A$3:$A$504,0),2),\"\"))),\"\")=0,\"\",IFERROR(INDIRECT(CONCATENATE(\"'UNITCOST ITEMS (Data Entry)'!C\",IFERROR(SUM(MATCH(A352,'UNITCOST ITEMS (Data Entry)'!$A$3:$A$504,0),2),\"\"))),\"\"))","v":""},""]
[345,{"$f":"IF(IFERROR(INDIRECT(CONCATENATE(\"'UNITCOST ITEMS (Data Entry)'!D\",IFERROR(SUM(MATCH(A353,'UNITCOST ITEMS (Data Entry)'!$A$3:$A$504,0),2),\"\"))),\"\")=0,\"\",IFERROR(INDIRECT(CONCATENATE(\"'UNITCOST ITEMS (Data Entry)'!D\",IFERROR(SUM(MATCH(A353,'UNITCOST ITEMS (Data Entry)'!$A$3:$A$504,0),2),\"\"))),\"\"))","v":""},{"$f":"IF(IFERROR(INDIRECT(CONCATENATE(\"'UNITCOST ITEMS (Data Entry)'!E\",IFERROR(SUM(MATCH(A353,'UNITCOST ITEMS (Data Entry)'!$A$3:$A$504,0),2),\"\"))),\"\")=0,\"\",IFERROR(INDIRECT(CONCATENATE(\"'UNITCOST ITEMS (Data Entry)'!E\",IFERROR(SUM(MATCH(A353,'UNITCOST ITEMS (Data Entry)'!$A$3:$A$504,0),2),\"\"))),\"\"))","v":""},null,{"$f":"IF(IFERROR(INDIRECT(CONCATENATE(\"'UNITCOST ITEMS (Data Entry)'!F\",IFERROR(SUM(MATCH(A353,'UNITCOST ITEMS (Data Entry)'!$A$3:$A$504,0),2),\"\"))),\"\")=0,\"\",IFERROR(INDIRECT(CONCATENATE(\"'UNITCOST ITEMS (Data Entry)'!F\",IFERROR(SUM(MATCH(A353,'UNITCOST ITEMS (Data Entry)'!$A$3:$A$504,0),2),\"\"))),\"\"))","v":""},{"$f":"IF(IFERROR(INDIRECT(CONCATENATE(\"'UNITCOST ITEMS (Data Entry)'!G\",IFERROR(SUM(MATCH(A353,'UNITCOST ITEMS (Data Entry)'!$A$3:$A$504,0),2),\"\"))),\"\")=0,\"\",IFERROR(INDIRECT(CONCATENATE(\"'UNITCOST ITEMS (Data Entry)'!G\",IFERROR(SUM(MATCH(A353,'UNITCOST ITEMS (Data Entry)'!$A$3:$A$504,0),2),\"\"))),\"\"))","v":""},{"$f":"IF(IFERROR(INDIRECT(CONCATENATE(\"'UNITCOST ITEMS (Data Entry)'!H\",IFERROR(SUM(MATCH(A353,'UNITCOST ITEMS (Data Entry)'!$A$3:$A$504,0),2),\"\"))),\"\")=0,\"\",IFERROR(INDIRECT(CONCATENATE(\"'UNITCOST ITEMS (Data Entry)'!H\",IFERROR(SUM(MATCH(A353,'UNITCOST ITEMS (Data Entry)'!$A$3:$A$504,0),2),\"\"))),\"\"))","v":""},{"$f":"IF(IFERROR(INDIRECT(CONCATENATE(\"'UNITCOST ITEMS (Data Entry)'!I\",IFERROR(SUM(MATCH(A353,'UNITCOST ITEMS (Data Entry)'!$A$3:$A$504,0),2),\"\"))),\"\")=0,\"\",IFERROR(INDIRECT(CONCATENATE(\"'UNITCOST ITEMS (Data Entry)'!I\",IFERROR(SUM(MATCH(A353,'UNITCOST ITEMS (Data Entry)'!$A$3:$A$504,0),2),\"\"))),\"\"))","v":""},{"$f":"IF(K353=2,\"\",IF(IFERROR(INDIRECT(CONCATENATE(\"'UNITCOST ITEMS (Data Entry)'!J\",IFERROR(SUM(MATCH(A353,'UNITCOST ITEMS (Data Entry)'!$A$3:$A$504,0),2),\"\"))),\"\")=0,\"\",IFERROR(INDIRECT(CONCATENATE(\"'UNITCOST ITEMS (Data Entry)'!J\",IFERROR(SUM(MATCH(A353,'UNITCOST ITEMS (Data Entry)'!$A$3:$A$504,0),2),\"\"))),\"\")))","v":""},null,{"$f":"IF(IFERROR(INDIRECT(CONCATENATE(\"'UNITCOST ITEMS (Data Entry)'!C\",IFERROR(SUM(MATCH(A353,'UNITCOST ITEMS (Data Entry)'!$A$3:$A$504,0),2),\"\"))),\"\")=0,\"\",IFERROR(INDIRECT(CONCATENATE(\"'UNITCOST ITEMS (Data Entry)'!C\",IFERROR(SUM(MATCH(A353,'UNITCOST ITEMS (Data Entry)'!$A$3:$A$504,0),2),\"\"))),\"\"))","v":""},""]
[346,{"$f":"IF(IFERROR(INDIRECT(CONCATENATE(\"'UNITCOST ITEMS (Data Entry)'!D\",IFERROR(SUM(MATCH(A354,'UNITCOST ITEMS (Data Entry)'!$A$3:$A$504,0),2),\"\"))),\"\")=0,\"\",IFERROR(INDIRECT(CONCATENATE(\"'UNITCOST ITEMS (Data Entry)'!D\",IFERROR(SUM(MATCH(A354,'UNITCOST ITEMS (Data Entry)'!$A$3:$A$504,0),2),\"\"))),\"\"))","v":""},{"$f":"IF(IFERROR(INDIRECT(CONCATENATE(\"'UNITCOST ITEMS (Data Entry)'!E\",IFERROR(SUM(MATCH(A354,'UNITCOST ITEMS (Data Entry)'!$A$3:$A$504,0),2),\"\"))),\"\")=0,\"\",IFERROR(INDIRECT(CONCATENATE(\"'UNITCOST ITEMS (Data Entry)'!E\",IFERROR(SUM(MATCH(A354,'UNITCOST ITEMS (Data Entry)'!$A$3:$A$504,0),2),\"\"))),\"\"))","v":""},null,{"$f":"IF(IFERROR(INDIRECT(CONCATENATE(\"'UNITCOST ITEMS (Data Entry)'!F\",IFERROR(SUM(MATCH(A354,'UNITCOST ITEMS (Data Entry)'!$A$3:$A$504,0),2),\"\"))),\"\")=0,\"\",IFERROR(INDIRECT(CONCATENATE(\"'UNITCOST ITEMS (Data Entry)'!F\",IFERROR(SUM(MATCH(A354,'UNITCOST ITEMS (Data Entry)'!$A$3:$A$504,0),2),\"\"))),\"\"))","v":""},{"$f":"IF(IFERROR(INDIRECT(CONCATENATE(\"'UNITCOST ITEMS (Data Entry)'!G\",IFERROR(SUM(MATCH(A354,'UNITCOST ITEMS (Data Entry)'!$A$3:$A$504,0),2),\"\"))),\"\")=0,\"\",IFERROR(INDIRECT(CONCATENATE(\"'UNITCOST ITEMS (Data Entry)'!G\",IFERROR(SUM(MATCH(A354,'UNITCOST ITEMS (Data Entry)'!$A$3:$A$504,0),2),\"\"))),\"\"))","v":""},{"$f":"IF(IFERROR(INDIRECT(CONCATENATE(\"'UNITCOST ITEMS (Data Entry)'!H\",IFERROR(SUM(MATCH(A354,'UNITCOST ITEMS (Data Entry)'!$A$3:$A$504,0),2),\"\"))),\"\")=0,\"\",IFERROR(INDIRECT(CONCATENATE(\"'UNITCOST ITEMS (Data Entry)'!H\",IFERROR(SUM(MATCH(A354,'UNITCOST ITEMS (Data Entry)'!$A$3:$A$504,0),2),\"\"))),\"\"))","v":""},{"$f":"IF(IFERROR(INDIRECT(CONCATENATE(\"'UNITCOST ITEMS (Data Entry)'!I\",IFERROR(SUM(MATCH(A354,'UNITCOST ITEMS (Data Entry)'!$A$3:$A$504,0),2),\"\"))),\"\")=0,\"\",IFERROR(INDIRECT(CONCATENATE(\"'UNITCOST ITEMS (Data Entry)'!I\",IFERROR(SUM(MATCH(A354,'UNITCOST ITEMS (Data Entry)'!$A$3:$A$504,0),2),\"\"))),\"\"))","v":""},{"$f":"IF(K354=2,\"\",IF(IFERROR(INDIRECT(CONCATENATE(\"'UNITCOST ITEMS (Data Entry)'!J\",IFERROR(SUM(MATCH(A354,'UNITCOST ITEMS (Data Entry)'!$A$3:$A$504,0),2),\"\"))),\"\")=0,\"\",IFERROR(INDIRECT(CONCATENATE(\"'UNITCOST ITEMS (Data Entry)'!J\",IFERROR(SUM(MATCH(A354,'UNITCOST ITEMS (Data Entry)'!$A$3:$A$504,0),2),\"\"))),\"\")))","v":""},null,{"$f":"IF(IFERROR(INDIRECT(CONCATENATE(\"'UNITCOST ITEMS (Data Entry)'!C\",IFERROR(SUM(MATCH(A354,'UNITCOST ITEMS (Data Entry)'!$A$3:$A$504,0),2),\"\"))),\"\")=0,\"\",IFERROR(INDIRECT(CONCATENATE(\"'UNITCOST ITEMS (Data Entry)'!C\",IFERROR(SUM(MATCH(A354,'UNITCOST ITEMS (Data Entry)'!$A$3:$A$504,0),2),\"\"))),\"\"))","v":""},""]
[347,{"$f":"IF(IFERROR(INDIRECT(CONCATENATE(\"'UNITCOST ITEMS (Data Entry)'!D\",IFERROR(SUM(MATCH(A355,'UNITCOST ITEMS (Data Entry)'!$A$3:$A$504,0),2),\"\"))),\"\")=0,\"\",IFERROR(INDIRECT(CONCATENATE(\"'UNITCOST ITEMS (Data Entry)'!D\",IFERROR(SUM(MATCH(A355,'UNITCOST ITEMS (Data Entry)'!$A$3:$A$504,0),2),\"\"))),\"\"))","v":""},{"$f":"IF(IFERROR(INDIRECT(CONCATENATE(\"'UNITCOST ITEMS (Data Entry)'!E\",IFERROR(SUM(MATCH(A355,'UNITCOST ITEMS (Data Entry)'!$A$3:$A$504,0),2),\"\"))),\"\")=0,\"\",IFERROR(INDIRECT(CONCATENATE(\"'UNITCOST ITEMS (Data Entry)'!E\",IFERROR(SUM(MATCH(A355,'UNITCOST ITEMS (Data Entry)'!$A$3:$A$504,0),2),\"\"))),\"\"))","v":""},null,{"$f":"IF(IFERROR(INDIRECT(CONCATENATE(\"'UNITCOST ITEMS (Data Entry)'!F\",IFERROR(SUM(MATCH(A355,'UNITCOST ITEMS (Data Entry)'!$A$3:$A$504,0),2),\"\"))),\"\")=0,\"\",IFERROR(INDIRECT(CONCATENATE(\"'UNITCOST ITEMS (Data Entry)'!F\",IFERROR(SUM(MATCH(A355,'UNITCOST ITEMS (Data Entry)'!$A$3:$A$504,0),2),\"\"))),\"\"))","v":""},{"$f":"IF(IFERROR(INDIRECT(CONCATENATE(\"'UNITCOST ITEMS (Data Entry)'!G\",IFERROR(SUM(MATCH(A355,'UNITCOST ITEMS (Data Entry)'!$A$3:$A$504,0),2),\"\"))),\"\")=0,\"\",IFERROR(INDIRECT(CONCATENATE(\"'UNITCOST ITEMS (Data Entry)'!G\",IFERROR(SUM(MATCH(A355,'UNITCOST ITEMS (Data Entry)'!$A$3:$A$504,0),2),\"\"))),\"\"))","v":""},{"$f":"IF(IFERROR(INDIRECT(CONCATENATE(\"'UNITCOST ITEMS (Data Entry)'!H\",IFERROR(SUM(MATCH(A355,'UNITCOST ITEMS (Data Entry)'!$A$3:$A$504,0),2),\"\"))),\"\")=0,\"\",IFERROR(INDIRECT(CONCATENATE(\"'UNITCOST ITEMS (Data Entry)'!H\",IFERROR(SUM(MATCH(A355,'UNITCOST ITEMS (Data Entry)'!$A$3:$A$504,0),2),\"\"))),\"\"))","v":""},{"$f":"IF(IFERROR(INDIRECT(CONCATENATE(\"'UNITCOST ITEMS (Data Entry)'!I\",IFERROR(SUM(MATCH(A355,'UNITCOST ITEMS (Data Entry)'!$A$3:$A$504,0),2),\"\"))),\"\")=0,\"\",IFERROR(INDIRECT(CONCATENATE(\"'UNITCOST ITEMS (Data Entry)'!I\",IFERROR(SUM(MATCH(A355,'UNITCOST ITEMS (Data Entry)'!$A$3:$A$504,0),2),\"\"))),\"\"))","v":""},{"$f":"IF(K355=2,\"\",IF(IFERROR(INDIRECT(CONCATENATE(\"'UNITCOST ITEMS (Data Entry)'!J\",IFERROR(SUM(MATCH(A355,'UNITCOST ITEMS (Data Entry)'!$A$3:$A$504,0),2),\"\"))),\"\")=0,\"\",IFERROR(INDIRECT(CONCATENATE(\"'UNITCOST ITEMS (Data Entry)'!J\",IFERROR(SUM(MATCH(A355,'UNITCOST ITEMS (Data Entry)'!$A$3:$A$504,0),2),\"\"))),\"\")))","v":""},null,{"$f":"IF(IFERROR(INDIRECT(CONCATENATE(\"'UNITCOST ITEMS (Data Entry)'!C\",IFERROR(SUM(MATCH(A355,'UNITCOST ITEMS (Data Entry)'!$A$3:$A$504,0),2),\"\"))),\"\")=0,\"\",IFERROR(INDIRECT(CONCATENATE(\"'UNITCOST ITEMS (Data Entry)'!C\",IFERROR(SUM(MATCH(A355,'UNITCOST ITEMS (Data Entry)'!$A$3:$A$504,0),2),\"\"))),\"\"))","v":""},""]
[348,{"$f":"IF(IFERROR(INDIRECT(CONCATENATE(\"'UNITCOST ITEMS (Data Entry)'!D\",IFERROR(SUM(MATCH(A356,'UNITCOST ITEMS (Data Entry)'!$A$3:$A$504,0),2),\"\"))),\"\")=0,\"\",IFERROR(INDIRECT(CONCATENATE(\"'UNITCOST ITEMS (Data Entry)'!D\",IFERROR(SUM(MATCH(A356,'UNITCOST ITEMS (Data Entry)'!$A$3:$A$504,0),2),\"\"))),\"\"))","v":""},{"$f":"IF(IFERROR(INDIRECT(CONCATENATE(\"'UNITCOST ITEMS (Data Entry)'!E\",IFERROR(SUM(MATCH(A356,'UNITCOST ITEMS (Data Entry)'!$A$3:$A$504,0),2),\"\"))),\"\")=0,\"\",IFERROR(INDIRECT(CONCATENATE(\"'UNITCOST ITEMS (Data Entry)'!E\",IFERROR(SUM(MATCH(A356,'UNITCOST ITEMS (Data Entry)'!$A$3:$A$504,0),2),\"\"))),\"\"))","v":""},null,{"$f":"IF(IFERROR(INDIRECT(CONCATENATE(\"'UNITCOST ITEMS (Data Entry)'!F\",IFERROR(SUM(MATCH(A356,'UNITCOST ITEMS (Data Entry)'!$A$3:$A$504,0),2),\"\"))),\"\")=0,\"\",IFERROR(INDIRECT(CONCATENATE(\"'UNITCOST ITEMS (Data Entry)'!F\",IFERROR(SUM(MATCH(A356,'UNITCOST ITEMS (Data Entry)'!$A$3:$A$504,0),2),\"\"))),\"\"))","v":""},{"$f":"IF(IFERROR(INDIRECT(CONCATENATE(\"'UNITCOST ITEMS (Data Entry)'!G\",IFERROR(SUM(MATCH(A356,'UNITCOST ITEMS (Data Entry)'!$A$3:$A$504,0),2),\"\"))),\"\")=0,\"\",IFERROR(INDIRECT(CONCATENATE(\"'UNITCOST ITEMS (Data Entry)'!G\",IFERROR(SUM(MATCH(A356,'UNITCOST ITEMS (Data Entry)'!$A$3:$A$504,0),2),\"\"))),\"\"))","v":""},{"$f":"IF(IFERROR(INDIRECT(CONCATENATE(\"'UNITCOST ITEMS (Data Entry)'!H\",IFERROR(SUM(MATCH(A356,'UNITCOST ITEMS (Data Entry)'!$A$3:$A$504,0),2),\"\"))),\"\")=0,\"\",IFERROR(INDIRECT(CONCATENATE(\"'UNITCOST ITEMS (Data Entry)'!H\",IFERROR(SUM(MATCH(A356,'UNITCOST ITEMS (Data Entry)'!$A$3:$A$504,0),2),\"\"))),\"\"))","v":""},{"$f":"IF(IFERROR(INDIRECT(CONCATENATE(\"'UNITCOST ITEMS (Data Entry)'!I\",IFERROR(SUM(MATCH(A356,'UNITCOST ITEMS (Data Entry)'!$A$3:$A$504,0),2),\"\"))),\"\")=0,\"\",IFERROR(INDIRECT(CONCATENATE(\"'UNITCOST ITEMS (Data Entry)'!I\",IFERROR(SUM(MATCH(A356,'UNITCOST ITEMS (Data Entry)'!$A$3:$A$504,0),2),\"\"))),\"\"))","v":""},{"$f":"IF(K356=2,\"\",IF(IFERROR(INDIRECT(CONCATENATE(\"'UNITCOST ITEMS (Data Entry)'!J\",IFERROR(SUM(MATCH(A356,'UNITCOST ITEMS (Data Entry)'!$A$3:$A$504,0),2),\"\"))),\"\")=0,\"\",IFERROR(INDIRECT(CONCATENATE(\"'UNITCOST ITEMS (Data Entry)'!J\",IFERROR(SUM(MATCH(A356,'UNITCOST ITEMS (Data Entry)'!$A$3:$A$504,0),2),\"\"))),\"\")))","v":""},null,{"$f":"IF(IFERROR(INDIRECT(CONCATENATE(\"'UNITCOST ITEMS (Data Entry)'!C\",IFERROR(SUM(MATCH(A356,'UNITCOST ITEMS (Data Entry)'!$A$3:$A$504,0),2),\"\"))),\"\")=0,\"\",IFERROR(INDIRECT(CONCATENATE(\"'UNITCOST ITEMS (Data Entry)'!C\",IFERROR(SUM(MATCH(A356,'UNITCOST ITEMS (Data Entry)'!$A$3:$A$504,0),2),\"\"))),\"\"))","v":""},""]
[349,{"$f":"IF(IFERROR(INDIRECT(CONCATENATE(\"'UNITCOST ITEMS (Data Entry)'!D\",IFERROR(SUM(MATCH(A357,'UNITCOST ITEMS (Data Entry)'!$A$3:$A$504,0),2),\"\"))),\"\")=0,\"\",IFERROR(INDIRECT(CONCATENATE(\"'UNITCOST ITEMS (Data Entry)'!D\",IFERROR(SUM(MATCH(A357,'UNITCOST ITEMS (Data Entry)'!$A$3:$A$504,0),2),\"\"))),\"\"))","v":""},{"$f":"IF(IFERROR(INDIRECT(CONCATENATE(\"'UNITCOST ITEMS (Data Entry)'!E\",IFERROR(SUM(MATCH(A357,'UNITCOST ITEMS (Data Entry)'!$A$3:$A$504,0),2),\"\"))),\"\")=0,\"\",IFERROR(INDIRECT(CONCATENATE(\"'UNITCOST ITEMS (Data Entry)'!E\",IFERROR(SUM(MATCH(A357,'UNITCOST ITEMS (Data Entry)'!$A$3:$A$504,0),2),\"\"))),\"\"))","v":""},null,{"$f":"IF(IFERROR(INDIRECT(CONCATENATE(\"'UNITCOST ITEMS (Data Entry)'!F\",IFERROR(SUM(MATCH(A357,'UNITCOST ITEMS (Data Entry)'!$A$3:$A$504,0),2),\"\"))),\"\")=0,\"\",IFERROR(INDIRECT(CONCATENATE(\"'UNITCOST ITEMS (Data Entry)'!F\",IFERROR(SUM(MATCH(A357,'UNITCOST ITEMS (Data Entry)'!$A$3:$A$504,0),2),\"\"))),\"\"))","v":""},{"$f":"IF(IFERROR(INDIRECT(CONCATENATE(\"'UNITCOST ITEMS (Data Entry)'!G\",IFERROR(SUM(MATCH(A357,'UNITCOST ITEMS (Data Entry)'!$A$3:$A$504,0),2),\"\"))),\"\")=0,\"\",IFERROR(INDIRECT(CONCATENATE(\"'UNITCOST ITEMS (Data Entry)'!G\",IFERROR(SUM(MATCH(A357,'UNITCOST ITEMS (Data Entry)'!$A$3:$A$504,0),2),\"\"))),\"\"))","v":""},{"$f":"IF(IFERROR(INDIRECT(CONCATENATE(\"'UNITCOST ITEMS (Data Entry)'!H\",IFERROR(SUM(MATCH(A357,'UNITCOST ITEMS (Data Entry)'!$A$3:$A$504,0),2),\"\"))),\"\")=0,\"\",IFERROR(INDIRECT(CONCATENATE(\"'UNITCOST ITEMS (Data Entry)'!H\",IFERROR(SUM(MATCH(A357,'UNITCOST ITEMS (Data Entry)'!$A$3:$A$504,0),2),\"\"))),\"\"))","v":""},{"$f":"IF(IFERROR(INDIRECT(CONCATENATE(\"'UNITCOST ITEMS (Data Entry)'!I\",IFERROR(SUM(MATCH(A357,'UNITCOST ITEMS (Data Entry)'!$A$3:$A$504,0),2),\"\"))),\"\")=0,\"\",IFERROR(INDIRECT(CONCATENATE(\"'UNITCOST ITEMS (Data Entry)'!I\",IFERROR(SUM(MATCH(A357,'UNITCOST ITEMS (Data Entry)'!$A$3:$A$504,0),2),\"\"))),\"\"))","v":""},{"$f":"IF(K357=2,\"\",IF(IFERROR(INDIRECT(CONCATENATE(\"'UNITCOST ITEMS (Data Entry)'!J\",IFERROR(SUM(MATCH(A357,'UNITCOST ITEMS (Data Entry)'!$A$3:$A$504,0),2),\"\"))),\"\")=0,\"\",IFERROR(INDIRECT(CONCATENATE(\"'UNITCOST ITEMS (Data Entry)'!J\",IFERROR(SUM(MATCH(A357,'UNITCOST ITEMS (Data Entry)'!$A$3:$A$504,0),2),\"\"))),\"\")))","v":""},null,{"$f":"IF(IFERROR(INDIRECT(CONCATENATE(\"'UNITCOST ITEMS (Data Entry)'!C\",IFERROR(SUM(MATCH(A357,'UNITCOST ITEMS (Data Entry)'!$A$3:$A$504,0),2),\"\"))),\"\")=0,\"\",IFERROR(INDIRECT(CONCATENATE(\"'UNITCOST ITEMS (Data Entry)'!C\",IFERROR(SUM(MATCH(A357,'UNITCOST ITEMS (Data Entry)'!$A$3:$A$504,0),2),\"\"))),\"\"))","v":""},""]
[350,{"$f":"IF(IFERROR(INDIRECT(CONCATENATE(\"'UNITCOST ITEMS (Data Entry)'!D\",IFERROR(SUM(MATCH(A358,'UNITCOST ITEMS (Data Entry)'!$A$3:$A$504,0),2),\"\"))),\"\")=0,\"\",IFERROR(INDIRECT(CONCATENATE(\"'UNITCOST ITEMS (Data Entry)'!D\",IFERROR(SUM(MATCH(A358,'UNITCOST ITEMS (Data Entry)'!$A$3:$A$504,0),2),\"\"))),\"\"))","v":""},{"$f":"IF(IFERROR(INDIRECT(CONCATENATE(\"'UNITCOST ITEMS (Data Entry)'!E\",IFERROR(SUM(MATCH(A358,'UNITCOST ITEMS (Data Entry)'!$A$3:$A$504,0),2),\"\"))),\"\")=0,\"\",IFERROR(INDIRECT(CONCATENATE(\"'UNITCOST ITEMS (Data Entry)'!E\",IFERROR(SUM(MATCH(A358,'UNITCOST ITEMS (Data Entry)'!$A$3:$A$504,0),2),\"\"))),\"\"))","v":""},null,{"$f":"IF(IFERROR(INDIRECT(CONCATENATE(\"'UNITCOST ITEMS (Data Entry)'!F\",IFERROR(SUM(MATCH(A358,'UNITCOST ITEMS (Data Entry)'!$A$3:$A$504,0),2),\"\"))),\"\")=0,\"\",IFERROR(INDIRECT(CONCATENATE(\"'UNITCOST ITEMS (Data Entry)'!F\",IFERROR(SUM(MATCH(A358,'UNITCOST ITEMS (Data Entry)'!$A$3:$A$504,0),2),\"\"))),\"\"))","v":""},{"$f":"IF(IFERROR(INDIRECT(CONCATENATE(\"'UNITCOST ITEMS (Data Entry)'!G\",IFERROR(SUM(MATCH(A358,'UNITCOST ITEMS (Data Entry)'!$A$3:$A$504,0),2),\"\"))),\"\")=0,\"\",IFERROR(INDIRECT(CONCATENATE(\"'UNITCOST ITEMS (Data Entry)'!G\",IFERROR(SUM(MATCH(A358,'UNITCOST ITEMS (Data Entry)'!$A$3:$A$504,0),2),\"\"))),\"\"))","v":""},{"$f":"IF(IFERROR(INDIRECT(CONCATENATE(\"'UNITCOST ITEMS (Data Entry)'!H\",IFERROR(SUM(MATCH(A358,'UNITCOST ITEMS (Data Entry)'!$A$3:$A$504,0),2),\"\"))),\"\")=0,\"\",IFERROR(INDIRECT(CONCATENATE(\"'UNITCOST ITEMS (Data Entry)'!H\",IFERROR(SUM(MATCH(A358,'UNITCOST ITEMS (Data Entry)'!$A$3:$A$504,0),2),\"\"))),\"\"))","v":""},{"$f":"IF(IFERROR(INDIRECT(CONCATENATE(\"'UNITCOST ITEMS (Data Entry)'!I\",IFERROR(SUM(MATCH(A358,'UNITCOST ITEMS (Data Entry)'!$A$3:$A$504,0),2),\"\"))),\"\")=0,\"\",IFERROR(INDIRECT(CONCATENATE(\"'UNITCOST ITEMS (Data Entry)'!I\",IFERROR(SUM(MATCH(A358,'UNITCOST ITEMS (Data Entry)'!$A$3:$A$504,0),2),\"\"))),\"\"))","v":""},{"$f":"IF(K358=2,\"\",IF(IFERROR(INDIRECT(CONCATENATE(\"'UNITCOST ITEMS (Data Entry)'!J\",IFERROR(SUM(MATCH(A358,'UNITCOST ITEMS (Data Entry)'!$A$3:$A$504,0),2),\"\"))),\"\")=0,\"\",IFERROR(INDIRECT(CONCATENATE(\"'UNITCOST ITEMS (Data Entry)'!J\",IFERROR(SUM(MATCH(A358,'UNITCOST ITEMS (Data Entry)'!$A$3:$A$504,0),2),\"\"))),\"\")))","v":""},null,{"$f":"IF(IFERROR(INDIRECT(CONCATENATE(\"'UNITCOST ITEMS (Data Entry)'!C\",IFERROR(SUM(MATCH(A358,'UNITCOST ITEMS (Data Entry)'!$A$3:$A$504,0),2),\"\"))),\"\")=0,\"\",IFERROR(INDIRECT(CONCATENATE(\"'UNITCOST ITEMS (Data Entry)'!C\",IFERROR(SUM(MATCH(A358,'UNITCOST ITEMS (Data Entry)'!$A$3:$A$504,0),2),\"\"))),\"\"))","v":""},""]
[351,{"$f":"IF(IFERROR(INDIRECT(CONCATENATE(\"'UNITCOST ITEMS (Data Entry)'!D\",IFERROR(SUM(MATCH(A359,'UNITCOST ITEMS (Data Entry)'!$A$3:$A$504,0),2),\"\"))),\"\")=0,\"\",IFERROR(INDIRECT(CONCATENATE(\"'UNITCOST ITEMS (Data Entry)'!D\",IFERROR(SUM(MATCH(A359,'UNITCOST ITEMS (Data Entry)'!$A$3:$A$504,0),2),\"\"))),\"\"))","v":""},{"$f":"IF(IFERROR(INDIRECT(CONCATENATE(\"'UNITCOST ITEMS (Data Entry)'!E\",IFERROR(SUM(MATCH(A359,'UNITCOST ITEMS (Data Entry)'!$A$3:$A$504,0),2),\"\"))),\"\")=0,\"\",IFERROR(INDIRECT(CONCATENATE(\"'UNITCOST ITEMS (Data Entry)'!E\",IFERROR(SUM(MATCH(A359,'UNITCOST ITEMS (Data Entry)'!$A$3:$A$504,0),2),\"\"))),\"\"))","v":""},null,{"$f":"IF(IFERROR(INDIRECT(CONCATENATE(\"'UNITCOST ITEMS (Data Entry)'!F\",IFERROR(SUM(MATCH(A359,'UNITCOST ITEMS (Data Entry)'!$A$3:$A$504,0),2),\"\"))),\"\")=0,\"\",IFERROR(INDIRECT(CONCATENATE(\"'UNITCOST ITEMS (Data Entry)'!F\",IFERROR(SUM(MATCH(A359,'UNITCOST ITEMS (Data Entry)'!$A$3:$A$504,0),2),\"\"))),\"\"))","v":""},{"$f":"IF(IFERROR(INDIRECT(CONCATENATE(\"'UNITCOST ITEMS (Data Entry)'!G\",IFERROR(SUM(MATCH(A359,'UNITCOST ITEMS (Data Entry)'!$A$3:$A$504,0),2),\"\"))),\"\")=0,\"\",IFERROR(INDIRECT(CONCATENATE(\"'UNITCOST ITEMS (Data Entry)'!G\",IFERROR(SUM(MATCH(A359,'UNITCOST ITEMS (Data Entry)'!$A$3:$A$504,0),2),\"\"))),\"\"))","v":""},{"$f":"IF(IFERROR(INDIRECT(CONCATENATE(\"'UNITCOST ITEMS (Data Entry)'!H\",IFERROR(SUM(MATCH(A359,'UNITCOST ITEMS (Data Entry)'!$A$3:$A$504,0),2),\"\"))),\"\")=0,\"\",IFERROR(INDIRECT(CONCATENATE(\"'UNITCOST ITEMS (Data Entry)'!H\",IFERROR(SUM(MATCH(A359,'UNITCOST ITEMS (Data Entry)'!$A$3:$A$504,0),2),\"\"))),\"\"))","v":""},{"$f":"IF(IFERROR(INDIRECT(CONCATENATE(\"'UNITCOST ITEMS (Data Entry)'!I\",IFERROR(SUM(MATCH(A359,'UNITCOST ITEMS (Data Entry)'!$A$3:$A$504,0),2),\"\"))),\"\")=0,\"\",IFERROR(INDIRECT(CONCATENATE(\"'UNITCOST ITEMS (Data Entry)'!I\",IFERROR(SUM(MATCH(A359,'UNITCOST ITEMS (Data Entry)'!$A$3:$A$504,0),2),\"\"))),\"\"))","v":""},{"$f":"IF(K359=2,\"\",IF(IFERROR(INDIRECT(CONCATENATE(\"'UNITCOST ITEMS (Data Entry)'!J\",IFERROR(SUM(MATCH(A359,'UNITCOST ITEMS (Data Entry)'!$A$3:$A$504,0),2),\"\"))),\"\")=0,\"\",IFERROR(INDIRECT(CONCATENATE(\"'UNITCOST ITEMS (Data Entry)'!J\",IFERROR(SUM(MATCH(A359,'UNITCOST ITEMS (Data Entry)'!$A$3:$A$504,0),2),\"\"))),\"\")))","v":""},null,{"$f":"IF(IFERROR(INDIRECT(CONCATENATE(\"'UNITCOST ITEMS (Data Entry)'!C\",IFERROR(SUM(MATCH(A359,'UNITCOST ITEMS (Data Entry)'!$A$3:$A$504,0),2),\"\"))),\"\")=0,\"\",IFERROR(INDIRECT(CONCATENATE(\"'UNITCOST ITEMS (Data Entry)'!C\",IFERROR(SUM(MATCH(A359,'UNITCOST ITEMS (Data Entry)'!$A$3:$A$504,0),2),\"\"))),\"\"))","v":""},""]
[352,{"$f":"IF(IFERROR(INDIRECT(CONCATENATE(\"'UNITCOST ITEMS (Data Entry)'!D\",IFERROR(SUM(MATCH(A360,'UNITCOST ITEMS (Data Entry)'!$A$3:$A$504,0),2),\"\"))),\"\")=0,\"\",IFERROR(INDIRECT(CONCATENATE(\"'UNITCOST ITEMS (Data Entry)'!D\",IFERROR(SUM(MATCH(A360,'UNITCOST ITEMS (Data Entry)'!$A$3:$A$504,0),2),\"\"))),\"\"))","v":""},{"$f":"IF(IFERROR(INDIRECT(CONCATENATE(\"'UNITCOST ITEMS (Data Entry)'!E\",IFERROR(SUM(MATCH(A360,'UNITCOST ITEMS (Data Entry)'!$A$3:$A$504,0),2),\"\"))),\"\")=0,\"\",IFERROR(INDIRECT(CONCATENATE(\"'UNITCOST ITEMS (Data Entry)'!E\",IFERROR(SUM(MATCH(A360,'UNITCOST ITEMS (Data Entry)'!$A$3:$A$504,0),2),\"\"))),\"\"))","v":""},null,{"$f":"IF(IFERROR(INDIRECT(CONCATENATE(\"'UNITCOST ITEMS (Data Entry)'!F\",IFERROR(SUM(MATCH(A360,'UNITCOST ITEMS (Data Entry)'!$A$3:$A$504,0),2),\"\"))),\"\")=0,\"\",IFERROR(INDIRECT(CONCATENATE(\"'UNITCOST ITEMS (Data Entry)'!F\",IFERROR(SUM(MATCH(A360,'UNITCOST ITEMS (Data Entry)'!$A$3:$A$504,0),2),\"\"))),\"\"))","v":""},{"$f":"IF(IFERROR(INDIRECT(CONCATENATE(\"'UNITCOST ITEMS (Data Entry)'!G\",IFERROR(SUM(MATCH(A360,'UNITCOST ITEMS (Data Entry)'!$A$3:$A$504,0),2),\"\"))),\"\")=0,\"\",IFERROR(INDIRECT(CONCATENATE(\"'UNITCOST ITEMS (Data Entry)'!G\",IFERROR(SUM(MATCH(A360,'UNITCOST ITEMS (Data Entry)'!$A$3:$A$504,0),2),\"\"))),\"\"))","v":""},{"$f":"IF(IFERROR(INDIRECT(CONCATENATE(\"'UNITCOST ITEMS (Data Entry)'!H\",IFERROR(SUM(MATCH(A360,'UNITCOST ITEMS (Data Entry)'!$A$3:$A$504,0),2),\"\"))),\"\")=0,\"\",IFERROR(INDIRECT(CONCATENATE(\"'UNITCOST ITEMS (Data Entry)'!H\",IFERROR(SUM(MATCH(A360,'UNITCOST ITEMS (Data Entry)'!$A$3:$A$504,0),2),\"\"))),\"\"))","v":""},{"$f":"IF(IFERROR(INDIRECT(CONCATENATE(\"'UNITCOST ITEMS (Data Entry)'!I\",IFERROR(SUM(MATCH(A360,'UNITCOST ITEMS (Data Entry)'!$A$3:$A$504,0),2),\"\"))),\"\")=0,\"\",IFERROR(INDIRECT(CONCATENATE(\"'UNITCOST ITEMS (Data Entry)'!I\",IFERROR(SUM(MATCH(A360,'UNITCOST ITEMS (Data Entry)'!$A$3:$A$504,0),2),\"\"))),\"\"))","v":""},{"$f":"IF(K360=2,\"\",IF(IFERROR(INDIRECT(CONCATENATE(\"'UNITCOST ITEMS (Data Entry)'!J\",IFERROR(SUM(MATCH(A360,'UNITCOST ITEMS (Data Entry)'!$A$3:$A$504,0),2),\"\"))),\"\")=0,\"\",IFERROR(INDIRECT(CONCATENATE(\"'UNITCOST ITEMS (Data Entry)'!J\",IFERROR(SUM(MATCH(A360,'UNITCOST ITEMS (Data Entry)'!$A$3:$A$504,0),2),\"\"))),\"\")))","v":""},null,{"$f":"IF(IFERROR(INDIRECT(CONCATENATE(\"'UNITCOST ITEMS (Data Entry)'!C\",IFERROR(SUM(MATCH(A360,'UNITCOST ITEMS (Data Entry)'!$A$3:$A$504,0),2),\"\"))),\"\")=0,\"\",IFERROR(INDIRECT(CONCATENATE(\"'UNITCOST ITEMS (Data Entry)'!C\",IFERROR(SUM(MATCH(A360,'UNITCOST ITEMS (Data Entry)'!$A$3:$A$504,0),2),\"\"))),\"\"))","v":""},""]
[353,{"$f":"IF(IFERROR(INDIRECT(CONCATENATE(\"'UNITCOST ITEMS (Data Entry)'!D\",IFERROR(SUM(MATCH(A361,'UNITCOST ITEMS (Data Entry)'!$A$3:$A$504,0),2),\"\"))),\"\")=0,\"\",IFERROR(INDIRECT(CONCATENATE(\"'UNITCOST ITEMS (Data Entry)'!D\",IFERROR(SUM(MATCH(A361,'UNITCOST ITEMS (Data Entry)'!$A$3:$A$504,0),2),\"\"))),\"\"))","v":""},{"$f":"IF(IFERROR(INDIRECT(CONCATENATE(\"'UNITCOST ITEMS (Data Entry)'!E\",IFERROR(SUM(MATCH(A361,'UNITCOST ITEMS (Data Entry)'!$A$3:$A$504,0),2),\"\"))),\"\")=0,\"\",IFERROR(INDIRECT(CONCATENATE(\"'UNITCOST ITEMS (Data Entry)'!E\",IFERROR(SUM(MATCH(A361,'UNITCOST ITEMS (Data Entry)'!$A$3:$A$504,0),2),\"\"))),\"\"))","v":""},null,{"$f":"IF(IFERROR(INDIRECT(CONCATENATE(\"'UNITCOST ITEMS (Data Entry)'!F\",IFERROR(SUM(MATCH(A361,'UNITCOST ITEMS (Data Entry)'!$A$3:$A$504,0),2),\"\"))),\"\")=0,\"\",IFERROR(INDIRECT(CONCATENATE(\"'UNITCOST ITEMS (Data Entry)'!F\",IFERROR(SUM(MATCH(A361,'UNITCOST ITEMS (Data Entry)'!$A$3:$A$504,0),2),\"\"))),\"\"))","v":""},{"$f":"IF(IFERROR(INDIRECT(CONCATENATE(\"'UNITCOST ITEMS (Data Entry)'!G\",IFERROR(SUM(MATCH(A361,'UNITCOST ITEMS (Data Entry)'!$A$3:$A$504,0),2),\"\"))),\"\")=0,\"\",IFERROR(INDIRECT(CONCATENATE(\"'UNITCOST ITEMS (Data Entry)'!G\",IFERROR(SUM(MATCH(A361,'UNITCOST ITEMS (Data Entry)'!$A$3:$A$504,0),2),\"\"))),\"\"))","v":""},{"$f":"IF(IFERROR(INDIRECT(CONCATENATE(\"'UNITCOST ITEMS (Data Entry)'!H\",IFERROR(SUM(MATCH(A361,'UNITCOST ITEMS (Data Entry)'!$A$3:$A$504,0),2),\"\"))),\"\")=0,\"\",IFERROR(INDIRECT(CONCATENATE(\"'UNITCOST ITEMS (Data Entry)'!H\",IFERROR(SUM(MATCH(A361,'UNITCOST ITEMS (Data Entry)'!$A$3:$A$504,0),2),\"\"))),\"\"))","v":""},{"$f":"IF(IFERROR(INDIRECT(CONCATENATE(\"'UNITCOST ITEMS (Data Entry)'!I\",IFERROR(SUM(MATCH(A361,'UNITCOST ITEMS (Data Entry)'!$A$3:$A$504,0),2),\"\"))),\"\")=0,\"\",IFERROR(INDIRECT(CONCATENATE(\"'UNITCOST ITEMS (Data Entry)'!I\",IFERROR(SUM(MATCH(A361,'UNITCOST ITEMS (Data Entry)'!$A$3:$A$504,0),2),\"\"))),\"\"))","v":""},{"$f":"IF(K361=2,\"\",IF(IFERROR(INDIRECT(CONCATENATE(\"'UNITCOST ITEMS (Data Entry)'!J\",IFERROR(SUM(MATCH(A361,'UNITCOST ITEMS (Data Entry)'!$A$3:$A$504,0),2),\"\"))),\"\")=0,\"\",IFERROR(INDIRECT(CONCATENATE(\"'UNITCOST ITEMS (Data Entry)'!J\",IFERROR(SUM(MATCH(A361,'UNITCOST ITEMS (Data Entry)'!$A$3:$A$504,0),2),\"\"))),\"\")))","v":""},null,{"$f":"IF(IFERROR(INDIRECT(CONCATENATE(\"'UNITCOST ITEMS (Data Entry)'!C\",IFERROR(SUM(MATCH(A361,'UNITCOST ITEMS (Data Entry)'!$A$3:$A$504,0),2),\"\"))),\"\")=0,\"\",IFERROR(INDIRECT(CONCATENATE(\"'UNITCOST ITEMS (Data Entry)'!C\",IFERROR(SUM(MATCH(A361,'UNITCOST ITEMS (Data Entry)'!$A$3:$A$504,0),2),\"\"))),\"\"))","v":""},""]
[354,{"$f":"IF(IFERROR(INDIRECT(CONCATENATE(\"'UNITCOST ITEMS (Data Entry)'!D\",IFERROR(SUM(MATCH(A362,'UNITCOST ITEMS (Data Entry)'!$A$3:$A$504,0),2),\"\"))),\"\")=0,\"\",IFERROR(INDIRECT(CONCATENATE(\"'UNITCOST ITEMS (Data Entry)'!D\",IFERROR(SUM(MATCH(A362,'UNITCOST ITEMS (Data Entry)'!$A$3:$A$504,0),2),\"\"))),\"\"))","v":""},{"$f":"IF(IFERROR(INDIRECT(CONCATENATE(\"'UNITCOST ITEMS (Data Entry)'!E\",IFERROR(SUM(MATCH(A362,'UNITCOST ITEMS (Data Entry)'!$A$3:$A$504,0),2),\"\"))),\"\")=0,\"\",IFERROR(INDIRECT(CONCATENATE(\"'UNITCOST ITEMS (Data Entry)'!E\",IFERROR(SUM(MATCH(A362,'UNITCOST ITEMS (Data Entry)'!$A$3:$A$504,0),2),\"\"))),\"\"))","v":""},null,{"$f":"IF(IFERROR(INDIRECT(CONCATENATE(\"'UNITCOST ITEMS (Data Entry)'!F\",IFERROR(SUM(MATCH(A362,'UNITCOST ITEMS (Data Entry)'!$A$3:$A$504,0),2),\"\"))),\"\")=0,\"\",IFERROR(INDIRECT(CONCATENATE(\"'UNITCOST ITEMS (Data Entry)'!F\",IFERROR(SUM(MATCH(A362,'UNITCOST ITEMS (Data Entry)'!$A$3:$A$504,0),2),\"\"))),\"\"))","v":""},{"$f":"IF(IFERROR(INDIRECT(CONCATENATE(\"'UNITCOST ITEMS (Data Entry)'!G\",IFERROR(SUM(MATCH(A362,'UNITCOST ITEMS (Data Entry)'!$A$3:$A$504,0),2),\"\"))),\"\")=0,\"\",IFERROR(INDIRECT(CONCATENATE(\"'UNITCOST ITEMS (Data Entry)'!G\",IFERROR(SUM(MATCH(A362,'UNITCOST ITEMS (Data Entry)'!$A$3:$A$504,0),2),\"\"))),\"\"))","v":""},{"$f":"IF(IFERROR(INDIRECT(CONCATENATE(\"'UNITCOST ITEMS (Data Entry)'!H\",IFERROR(SUM(MATCH(A362,'UNITCOST ITEMS (Data Entry)'!$A$3:$A$504,0),2),\"\"))),\"\")=0,\"\",IFERROR(INDIRECT(CONCATENATE(\"'UNITCOST ITEMS (Data Entry)'!H\",IFERROR(SUM(MATCH(A362,'UNITCOST ITEMS (Data Entry)'!$A$3:$A$504,0),2),\"\"))),\"\"))","v":""},{"$f":"IF(IFERROR(INDIRECT(CONCATENATE(\"'UNITCOST ITEMS (Data Entry)'!I\",IFERROR(SUM(MATCH(A362,'UNITCOST ITEMS (Data Entry)'!$A$3:$A$504,0),2),\"\"))),\"\")=0,\"\",IFERROR(INDIRECT(CONCATENATE(\"'UNITCOST ITEMS (Data Entry)'!I\",IFERROR(SUM(MATCH(A362,'UNITCOST ITEMS (Data Entry)'!$A$3:$A$504,0),2),\"\"))),\"\"))","v":""},{"$f":"IF(K362=2,\"\",IF(IFERROR(INDIRECT(CONCATENATE(\"'UNITCOST ITEMS (Data Entry)'!J\",IFERROR(SUM(MATCH(A362,'UNITCOST ITEMS (Data Entry)'!$A$3:$A$504,0),2),\"\"))),\"\")=0,\"\",IFERROR(INDIRECT(CONCATENATE(\"'UNITCOST ITEMS (Data Entry)'!J\",IFERROR(SUM(MATCH(A362,'UNITCOST ITEMS (Data Entry)'!$A$3:$A$504,0),2),\"\"))),\"\")))","v":""},null,{"$f":"IF(IFERROR(INDIRECT(CONCATENATE(\"'UNITCOST ITEMS (Data Entry)'!C\",IFERROR(SUM(MATCH(A362,'UNITCOST ITEMS (Data Entry)'!$A$3:$A$504,0),2),\"\"))),\"\")=0,\"\",IFERROR(INDIRECT(CONCATENATE(\"'UNITCOST ITEMS (Data Entry)'!C\",IFERROR(SUM(MATCH(A362,'UNITCOST ITEMS (Data Entry)'!$A$3:$A$504,0),2),\"\"))),\"\"))","v":""},""]
[355,{"$f":"IF(IFERROR(INDIRECT(CONCATENATE(\"'UNITCOST ITEMS (Data Entry)'!D\",IFERROR(SUM(MATCH(A363,'UNITCOST ITEMS (Data Entry)'!$A$3:$A$504,0),2),\"\"))),\"\")=0,\"\",IFERROR(INDIRECT(CONCATENATE(\"'UNITCOST ITEMS (Data Entry)'!D\",IFERROR(SUM(MATCH(A363,'UNITCOST ITEMS (Data Entry)'!$A$3:$A$504,0),2),\"\"))),\"\"))","v":""},{"$f":"IF(IFERROR(INDIRECT(CONCATENATE(\"'UNITCOST ITEMS (Data Entry)'!E\",IFERROR(SUM(MATCH(A363,'UNITCOST ITEMS (Data Entry)'!$A$3:$A$504,0),2),\"\"))),\"\")=0,\"\",IFERROR(INDIRECT(CONCATENATE(\"'UNITCOST ITEMS (Data Entry)'!E\",IFERROR(SUM(MATCH(A363,'UNITCOST ITEMS (Data Entry)'!$A$3:$A$504,0),2),\"\"))),\"\"))","v":""},null,{"$f":"IF(IFERROR(INDIRECT(CONCATENATE(\"'UNITCOST ITEMS (Data Entry)'!F\",IFERROR(SUM(MATCH(A363,'UNITCOST ITEMS (Data Entry)'!$A$3:$A$504,0),2),\"\"))),\"\")=0,\"\",IFERROR(INDIRECT(CONCATENATE(\"'UNITCOST ITEMS (Data Entry)'!F\",IFERROR(SUM(MATCH(A363,'UNITCOST ITEMS (Data Entry)'!$A$3:$A$504,0),2),\"\"))),\"\"))","v":""},{"$f":"IF(IFERROR(INDIRECT(CONCATENATE(\"'UNITCOST ITEMS (Data Entry)'!G\",IFERROR(SUM(MATCH(A363,'UNITCOST ITEMS (Data Entry)'!$A$3:$A$504,0),2),\"\"))),\"\")=0,\"\",IFERROR(INDIRECT(CONCATENATE(\"'UNITCOST ITEMS (Data Entry)'!G\",IFERROR(SUM(MATCH(A363,'UNITCOST ITEMS (Data Entry)'!$A$3:$A$504,0),2),\"\"))),\"\"))","v":""},{"$f":"IF(IFERROR(INDIRECT(CONCATENATE(\"'UNITCOST ITEMS (Data Entry)'!H\",IFERROR(SUM(MATCH(A363,'UNITCOST ITEMS (Data Entry)'!$A$3:$A$504,0),2),\"\"))),\"\")=0,\"\",IFERROR(INDIRECT(CONCATENATE(\"'UNITCOST ITEMS (Data Entry)'!H\",IFERROR(SUM(MATCH(A363,'UNITCOST ITEMS (Data Entry)'!$A$3:$A$504,0),2),\"\"))),\"\"))","v":""},{"$f":"IF(IFERROR(INDIRECT(CONCATENATE(\"'UNITCOST ITEMS (Data Entry)'!I\",IFERROR(SUM(MATCH(A363,'UNITCOST ITEMS (Data Entry)'!$A$3:$A$504,0),2),\"\"))),\"\")=0,\"\",IFERROR(INDIRECT(CONCATENATE(\"'UNITCOST ITEMS (Data Entry)'!I\",IFERROR(SUM(MATCH(A363,'UNITCOST ITEMS (Data Entry)'!$A$3:$A$504,0),2),\"\"))),\"\"))","v":""},{"$f":"IF(K363=2,\"\",IF(IFERROR(INDIRECT(CONCATENATE(\"'UNITCOST ITEMS (Data Entry)'!J\",IFERROR(SUM(MATCH(A363,'UNITCOST ITEMS (Data Entry)'!$A$3:$A$504,0),2),\"\"))),\"\")=0,\"\",IFERROR(INDIRECT(CONCATENATE(\"'UNITCOST ITEMS (Data Entry)'!J\",IFERROR(SUM(MATCH(A363,'UNITCOST ITEMS (Data Entry)'!$A$3:$A$504,0),2),\"\"))),\"\")))","v":""},null,{"$f":"IF(IFERROR(INDIRECT(CONCATENATE(\"'UNITCOST ITEMS (Data Entry)'!C\",IFERROR(SUM(MATCH(A363,'UNITCOST ITEMS (Data Entry)'!$A$3:$A$504,0),2),\"\"))),\"\")=0,\"\",IFERROR(INDIRECT(CONCATENATE(\"'UNITCOST ITEMS (Data Entry)'!C\",IFERROR(SUM(MATCH(A363,'UNITCOST ITEMS (Data Entry)'!$A$3:$A$504,0),2),\"\"))),\"\"))","v":""},""]
[356,{"$f":"IF(IFERROR(INDIRECT(CONCATENATE(\"'UNITCOST ITEMS (Data Entry)'!D\",IFERROR(SUM(MATCH(A364,'UNITCOST ITEMS (Data Entry)'!$A$3:$A$504,0),2),\"\"))),\"\")=0,\"\",IFERROR(INDIRECT(CONCATENATE(\"'UNITCOST ITEMS (Data Entry)'!D\",IFERROR(SUM(MATCH(A364,'UNITCOST ITEMS (Data Entry)'!$A$3:$A$504,0),2),\"\"))),\"\"))","v":""},{"$f":"IF(IFERROR(INDIRECT(CONCATENATE(\"'UNITCOST ITEMS (Data Entry)'!E\",IFERROR(SUM(MATCH(A364,'UNITCOST ITEMS (Data Entry)'!$A$3:$A$504,0),2),\"\"))),\"\")=0,\"\",IFERROR(INDIRECT(CONCATENATE(\"'UNITCOST ITEMS (Data Entry)'!E\",IFERROR(SUM(MATCH(A364,'UNITCOST ITEMS (Data Entry)'!$A$3:$A$504,0),2),\"\"))),\"\"))","v":""},null,{"$f":"IF(IFERROR(INDIRECT(CONCATENATE(\"'UNITCOST ITEMS (Data Entry)'!F\",IFERROR(SUM(MATCH(A364,'UNITCOST ITEMS (Data Entry)'!$A$3:$A$504,0),2),\"\"))),\"\")=0,\"\",IFERROR(INDIRECT(CONCATENATE(\"'UNITCOST ITEMS (Data Entry)'!F\",IFERROR(SUM(MATCH(A364,'UNITCOST ITEMS (Data Entry)'!$A$3:$A$504,0),2),\"\"))),\"\"))","v":""},{"$f":"IF(IFERROR(INDIRECT(CONCATENATE(\"'UNITCOST ITEMS (Data Entry)'!G\",IFERROR(SUM(MATCH(A364,'UNITCOST ITEMS (Data Entry)'!$A$3:$A$504,0),2),\"\"))),\"\")=0,\"\",IFERROR(INDIRECT(CONCATENATE(\"'UNITCOST ITEMS (Data Entry)'!G\",IFERROR(SUM(MATCH(A364,'UNITCOST ITEMS (Data Entry)'!$A$3:$A$504,0),2),\"\"))),\"\"))","v":""},{"$f":"IF(IFERROR(INDIRECT(CONCATENATE(\"'UNITCOST ITEMS (Data Entry)'!H\",IFERROR(SUM(MATCH(A364,'UNITCOST ITEMS (Data Entry)'!$A$3:$A$504,0),2),\"\"))),\"\")=0,\"\",IFERROR(INDIRECT(CONCATENATE(\"'UNITCOST ITEMS (Data Entry)'!H\",IFERROR(SUM(MATCH(A364,'UNITCOST ITEMS (Data Entry)'!$A$3:$A$504,0),2),\"\"))),\"\"))","v":""},{"$f":"IF(IFERROR(INDIRECT(CONCATENATE(\"'UNITCOST ITEMS (Data Entry)'!I\",IFERROR(SUM(MATCH(A364,'UNITCOST ITEMS (Data Entry)'!$A$3:$A$504,0),2),\"\"))),\"\")=0,\"\",IFERROR(INDIRECT(CONCATENATE(\"'UNITCOST ITEMS (Data Entry)'!I\",IFERROR(SUM(MATCH(A364,'UNITCOST ITEMS (Data Entry)'!$A$3:$A$504,0),2),\"\"))),\"\"))","v":""},{"$f":"IF(K364=2,\"\",IF(IFERROR(INDIRECT(CONCATENATE(\"'UNITCOST ITEMS (Data Entry)'!J\",IFERROR(SUM(MATCH(A364,'UNITCOST ITEMS (Data Entry)'!$A$3:$A$504,0),2),\"\"))),\"\")=0,\"\",IFERROR(INDIRECT(CONCATENATE(\"'UNITCOST ITEMS (Data Entry)'!J\",IFERROR(SUM(MATCH(A364,'UNITCOST ITEMS (Data Entry)'!$A$3:$A$504,0),2),\"\"))),\"\")))","v":""},null,{"$f":"IF(IFERROR(INDIRECT(CONCATENATE(\"'UNITCOST ITEMS (Data Entry)'!C\",IFERROR(SUM(MATCH(A364,'UNITCOST ITEMS (Data Entry)'!$A$3:$A$504,0),2),\"\"))),\"\")=0,\"\",IFERROR(INDIRECT(CONCATENATE(\"'UNITCOST ITEMS (Data Entry)'!C\",IFERROR(SUM(MATCH(A364,'UNITCOST ITEMS (Data Entry)'!$A$3:$A$504,0),2),\"\"))),\"\"))","v":""},""]
[357,{"$f":"IF(IFERROR(INDIRECT(CONCATENATE(\"'UNITCOST ITEMS (Data Entry)'!D\",IFERROR(SUM(MATCH(A365,'UNITCOST ITEMS (Data Entry)'!$A$3:$A$504,0),2),\"\"))),\"\")=0,\"\",IFERROR(INDIRECT(CONCATENATE(\"'UNITCOST ITEMS (Data Entry)'!D\",IFERROR(SUM(MATCH(A365,'UNITCOST ITEMS (Data Entry)'!$A$3:$A$504,0),2),\"\"))),\"\"))","v":""},{"$f":"IF(IFERROR(INDIRECT(CONCATENATE(\"'UNITCOST ITEMS (Data Entry)'!E\",IFERROR(SUM(MATCH(A365,'UNITCOST ITEMS (Data Entry)'!$A$3:$A$504,0),2),\"\"))),\"\")=0,\"\",IFERROR(INDIRECT(CONCATENATE(\"'UNITCOST ITEMS (Data Entry)'!E\",IFERROR(SUM(MATCH(A365,'UNITCOST ITEMS (Data Entry)'!$A$3:$A$504,0),2),\"\"))),\"\"))","v":""},null,{"$f":"IF(IFERROR(INDIRECT(CONCATENATE(\"'UNITCOST ITEMS (Data Entry)'!F\",IFERROR(SUM(MATCH(A365,'UNITCOST ITEMS (Data Entry)'!$A$3:$A$504,0),2),\"\"))),\"\")=0,\"\",IFERROR(INDIRECT(CONCATENATE(\"'UNITCOST ITEMS (Data Entry)'!F\",IFERROR(SUM(MATCH(A365,'UNITCOST ITEMS (Data Entry)'!$A$3:$A$504,0),2),\"\"))),\"\"))","v":""},{"$f":"IF(IFERROR(INDIRECT(CONCATENATE(\"'UNITCOST ITEMS (Data Entry)'!G\",IFERROR(SUM(MATCH(A365,'UNITCOST ITEMS (Data Entry)'!$A$3:$A$504,0),2),\"\"))),\"\")=0,\"\",IFERROR(INDIRECT(CONCATENATE(\"'UNITCOST ITEMS (Data Entry)'!G\",IFERROR(SUM(MATCH(A365,'UNITCOST ITEMS (Data Entry)'!$A$3:$A$504,0),2),\"\"))),\"\"))","v":""},{"$f":"IF(IFERROR(INDIRECT(CONCATENATE(\"'UNITCOST ITEMS (Data Entry)'!H\",IFERROR(SUM(MATCH(A365,'UNITCOST ITEMS (Data Entry)'!$A$3:$A$504,0),2),\"\"))),\"\")=0,\"\",IFERROR(INDIRECT(CONCATENATE(\"'UNITCOST ITEMS (Data Entry)'!H\",IFERROR(SUM(MATCH(A365,'UNITCOST ITEMS (Data Entry)'!$A$3:$A$504,0),2),\"\"))),\"\"))","v":""},{"$f":"IF(IFERROR(INDIRECT(CONCATENATE(\"'UNITCOST ITEMS (Data Entry)'!I\",IFERROR(SUM(MATCH(A365,'UNITCOST ITEMS (Data Entry)'!$A$3:$A$504,0),2),\"\"))),\"\")=0,\"\",IFERROR(INDIRECT(CONCATENATE(\"'UNITCOST ITEMS (Data Entry)'!I\",IFERROR(SUM(MATCH(A365,'UNITCOST ITEMS (Data Entry)'!$A$3:$A$504,0),2),\"\"))),\"\"))","v":""},{"$f":"IF(K365=2,\"\",IF(IFERROR(INDIRECT(CONCATENATE(\"'UNITCOST ITEMS (Data Entry)'!J\",IFERROR(SUM(MATCH(A365,'UNITCOST ITEMS (Data Entry)'!$A$3:$A$504,0),2),\"\"))),\"\")=0,\"\",IFERROR(INDIRECT(CONCATENATE(\"'UNITCOST ITEMS (Data Entry)'!J\",IFERROR(SUM(MATCH(A365,'UNITCOST ITEMS (Data Entry)'!$A$3:$A$504,0),2),\"\"))),\"\")))","v":""},null,{"$f":"IF(IFERROR(INDIRECT(CONCATENATE(\"'UNITCOST ITEMS (Data Entry)'!C\",IFERROR(SUM(MATCH(A365,'UNITCOST ITEMS (Data Entry)'!$A$3:$A$504,0),2),\"\"))),\"\")=0,\"\",IFERROR(INDIRECT(CONCATENATE(\"'UNITCOST ITEMS (Data Entry)'!C\",IFERROR(SUM(MATCH(A365,'UNITCOST ITEMS (Data Entry)'!$A$3:$A$504,0),2),\"\"))),\"\"))","v":""},""]
[358,{"$f":"IF(IFERROR(INDIRECT(CONCATENATE(\"'UNITCOST ITEMS (Data Entry)'!D\",IFERROR(SUM(MATCH(A366,'UNITCOST ITEMS (Data Entry)'!$A$3:$A$504,0),2),\"\"))),\"\")=0,\"\",IFERROR(INDIRECT(CONCATENATE(\"'UNITCOST ITEMS (Data Entry)'!D\",IFERROR(SUM(MATCH(A366,'UNITCOST ITEMS (Data Entry)'!$A$3:$A$504,0),2),\"\"))),\"\"))","v":""},{"$f":"IF(IFERROR(INDIRECT(CONCATENATE(\"'UNITCOST ITEMS (Data Entry)'!E\",IFERROR(SUM(MATCH(A366,'UNITCOST ITEMS (Data Entry)'!$A$3:$A$504,0),2),\"\"))),\"\")=0,\"\",IFERROR(INDIRECT(CONCATENATE(\"'UNITCOST ITEMS (Data Entry)'!E\",IFERROR(SUM(MATCH(A366,'UNITCOST ITEMS (Data Entry)'!$A$3:$A$504,0),2),\"\"))),\"\"))","v":""},null,{"$f":"IF(IFERROR(INDIRECT(CONCATENATE(\"'UNITCOST ITEMS (Data Entry)'!F\",IFERROR(SUM(MATCH(A366,'UNITCOST ITEMS (Data Entry)'!$A$3:$A$504,0),2),\"\"))),\"\")=0,\"\",IFERROR(INDIRECT(CONCATENATE(\"'UNITCOST ITEMS (Data Entry)'!F\",IFERROR(SUM(MATCH(A366,'UNITCOST ITEMS (Data Entry)'!$A$3:$A$504,0),2),\"\"))),\"\"))","v":""},{"$f":"IF(IFERROR(INDIRECT(CONCATENATE(\"'UNITCOST ITEMS (Data Entry)'!G\",IFERROR(SUM(MATCH(A366,'UNITCOST ITEMS (Data Entry)'!$A$3:$A$504,0),2),\"\"))),\"\")=0,\"\",IFERROR(INDIRECT(CONCATENATE(\"'UNITCOST ITEMS (Data Entry)'!G\",IFERROR(SUM(MATCH(A366,'UNITCOST ITEMS (Data Entry)'!$A$3:$A$504,0),2),\"\"))),\"\"))","v":""},{"$f":"IF(IFERROR(INDIRECT(CONCATENATE(\"'UNITCOST ITEMS (Data Entry)'!H\",IFERROR(SUM(MATCH(A366,'UNITCOST ITEMS (Data Entry)'!$A$3:$A$504,0),2),\"\"))),\"\")=0,\"\",IFERROR(INDIRECT(CONCATENATE(\"'UNITCOST ITEMS (Data Entry)'!H\",IFERROR(SUM(MATCH(A366,'UNITCOST ITEMS (Data Entry)'!$A$3:$A$504,0),2),\"\"))),\"\"))","v":""},{"$f":"IF(IFERROR(INDIRECT(CONCATENATE(\"'UNITCOST ITEMS (Data Entry)'!I\",IFERROR(SUM(MATCH(A366,'UNITCOST ITEMS (Data Entry)'!$A$3:$A$504,0),2),\"\"))),\"\")=0,\"\",IFERROR(INDIRECT(CONCATENATE(\"'UNITCOST ITEMS (Data Entry)'!I\",IFERROR(SUM(MATCH(A366,'UNITCOST ITEMS (Data Entry)'!$A$3:$A$504,0),2),\"\"))),\"\"))","v":""},{"$f":"IF(K366=2,\"\",IF(IFERROR(INDIRECT(CONCATENATE(\"'UNITCOST ITEMS (Data Entry)'!J\",IFERROR(SUM(MATCH(A366,'UNITCOST ITEMS (Data Entry)'!$A$3:$A$504,0),2),\"\"))),\"\")=0,\"\",IFERROR(INDIRECT(CONCATENATE(\"'UNITCOST ITEMS (Data Entry)'!J\",IFERROR(SUM(MATCH(A366,'UNITCOST ITEMS (Data Entry)'!$A$3:$A$504,0),2),\"\"))),\"\")))","v":""},null,{"$f":"IF(IFERROR(INDIRECT(CONCATENATE(\"'UNITCOST ITEMS (Data Entry)'!C\",IFERROR(SUM(MATCH(A366,'UNITCOST ITEMS (Data Entry)'!$A$3:$A$504,0),2),\"\"))),\"\")=0,\"\",IFERROR(INDIRECT(CONCATENATE(\"'UNITCOST ITEMS (Data Entry)'!C\",IFERROR(SUM(MATCH(A366,'UNITCOST ITEMS (Data Entry)'!$A$3:$A$504,0),2),\"\"))),\"\"))","v":""},""]
[359,{"$f":"IF(IFERROR(INDIRECT(CONCATENATE(\"'UNITCOST ITEMS (Data Entry)'!D\",IFERROR(SUM(MATCH(A367,'UNITCOST ITEMS (Data Entry)'!$A$3:$A$504,0),2),\"\"))),\"\")=0,\"\",IFERROR(INDIRECT(CONCATENATE(\"'UNITCOST ITEMS (Data Entry)'!D\",IFERROR(SUM(MATCH(A367,'UNITCOST ITEMS (Data Entry)'!$A$3:$A$504,0),2),\"\"))),\"\"))","v":""},{"$f":"IF(IFERROR(INDIRECT(CONCATENATE(\"'UNITCOST ITEMS (Data Entry)'!E\",IFERROR(SUM(MATCH(A367,'UNITCOST ITEMS (Data Entry)'!$A$3:$A$504,0),2),\"\"))),\"\")=0,\"\",IFERROR(INDIRECT(CONCATENATE(\"'UNITCOST ITEMS (Data Entry)'!E\",IFERROR(SUM(MATCH(A367,'UNITCOST ITEMS (Data Entry)'!$A$3:$A$504,0),2),\"\"))),\"\"))","v":""},null,{"$f":"IF(IFERROR(INDIRECT(CONCATENATE(\"'UNITCOST ITEMS (Data Entry)'!F\",IFERROR(SUM(MATCH(A367,'UNITCOST ITEMS (Data Entry)'!$A$3:$A$504,0),2),\"\"))),\"\")=0,\"\",IFERROR(INDIRECT(CONCATENATE(\"'UNITCOST ITEMS (Data Entry)'!F\",IFERROR(SUM(MATCH(A367,'UNITCOST ITEMS (Data Entry)'!$A$3:$A$504,0),2),\"\"))),\"\"))","v":""},{"$f":"IF(IFERROR(INDIRECT(CONCATENATE(\"'UNITCOST ITEMS (Data Entry)'!G\",IFERROR(SUM(MATCH(A367,'UNITCOST ITEMS (Data Entry)'!$A$3:$A$504,0),2),\"\"))),\"\")=0,\"\",IFERROR(INDIRECT(CONCATENATE(\"'UNITCOST ITEMS (Data Entry)'!G\",IFERROR(SUM(MATCH(A367,'UNITCOST ITEMS (Data Entry)'!$A$3:$A$504,0),2),\"\"))),\"\"))","v":""},{"$f":"IF(IFERROR(INDIRECT(CONCATENATE(\"'UNITCOST ITEMS (Data Entry)'!H\",IFERROR(SUM(MATCH(A367,'UNITCOST ITEMS (Data Entry)'!$A$3:$A$504,0),2),\"\"))),\"\")=0,\"\",IFERROR(INDIRECT(CONCATENATE(\"'UNITCOST ITEMS (Data Entry)'!H\",IFERROR(SUM(MATCH(A367,'UNITCOST ITEMS (Data Entry)'!$A$3:$A$504,0),2),\"\"))),\"\"))","v":""},{"$f":"IF(IFERROR(INDIRECT(CONCATENATE(\"'UNITCOST ITEMS (Data Entry)'!I\",IFERROR(SUM(MATCH(A367,'UNITCOST ITEMS (Data Entry)'!$A$3:$A$504,0),2),\"\"))),\"\")=0,\"\",IFERROR(INDIRECT(CONCATENATE(\"'UNITCOST ITEMS (Data Entry)'!I\",IFERROR(SUM(MATCH(A367,'UNITCOST ITEMS (Data Entry)'!$A$3:$A$504,0),2),\"\"))),\"\"))","v":""},{"$f":"IF(K367=2,\"\",IF(IFERROR(INDIRECT(CONCATENATE(\"'UNITCOST ITEMS (Data Entry)'!J\",IFERROR(SUM(MATCH(A367,'UNITCOST ITEMS (Data Entry)'!$A$3:$A$504,0),2),\"\"))),\"\")=0,\"\",IFERROR(INDIRECT(CONCATENATE(\"'UNITCOST ITEMS (Data Entry)'!J\",IFERROR(SUM(MATCH(A367,'UNITCOST ITEMS (Data Entry)'!$A$3:$A$504,0),2),\"\"))),\"\")))","v":""},null,{"$f":"IF(IFERROR(INDIRECT(CONCATENATE(\"'UNITCOST ITEMS (Data Entry)'!C\",IFERROR(SUM(MATCH(A367,'UNITCOST ITEMS (Data Entry)'!$A$3:$A$504,0),2),\"\"))),\"\")=0,\"\",IFERROR(INDIRECT(CONCATENATE(\"'UNITCOST ITEMS (Data Entry)'!C\",IFERROR(SUM(MATCH(A367,'UNITCOST ITEMS (Data Entry)'!$A$3:$A$504,0),2),\"\"))),\"\"))","v":""},""]
[360,{"$f":"IF(IFERROR(INDIRECT(CONCATENATE(\"'UNITCOST ITEMS (Data Entry)'!D\",IFERROR(SUM(MATCH(A368,'UNITCOST ITEMS (Data Entry)'!$A$3:$A$504,0),2),\"\"))),\"\")=0,\"\",IFERROR(INDIRECT(CONCATENATE(\"'UNITCOST ITEMS (Data Entry)'!D\",IFERROR(SUM(MATCH(A368,'UNITCOST ITEMS (Data Entry)'!$A$3:$A$504,0),2),\"\"))),\"\"))","v":""},{"$f":"IF(IFERROR(INDIRECT(CONCATENATE(\"'UNITCOST ITEMS (Data Entry)'!E\",IFERROR(SUM(MATCH(A368,'UNITCOST ITEMS (Data Entry)'!$A$3:$A$504,0),2),\"\"))),\"\")=0,\"\",IFERROR(INDIRECT(CONCATENATE(\"'UNITCOST ITEMS (Data Entry)'!E\",IFERROR(SUM(MATCH(A368,'UNITCOST ITEMS (Data Entry)'!$A$3:$A$504,0),2),\"\"))),\"\"))","v":""},null,{"$f":"IF(IFERROR(INDIRECT(CONCATENATE(\"'UNITCOST ITEMS (Data Entry)'!F\",IFERROR(SUM(MATCH(A368,'UNITCOST ITEMS (Data Entry)'!$A$3:$A$504,0),2),\"\"))),\"\")=0,\"\",IFERROR(INDIRECT(CONCATENATE(\"'UNITCOST ITEMS (Data Entry)'!F\",IFERROR(SUM(MATCH(A368,'UNITCOST ITEMS (Data Entry)'!$A$3:$A$504,0),2),\"\"))),\"\"))","v":""},{"$f":"IF(IFERROR(INDIRECT(CONCATENATE(\"'UNITCOST ITEMS (Data Entry)'!G\",IFERROR(SUM(MATCH(A368,'UNITCOST ITEMS (Data Entry)'!$A$3:$A$504,0),2),\"\"))),\"\")=0,\"\",IFERROR(INDIRECT(CONCATENATE(\"'UNITCOST ITEMS (Data Entry)'!G\",IFERROR(SUM(MATCH(A368,'UNITCOST ITEMS (Data Entry)'!$A$3:$A$504,0),2),\"\"))),\"\"))","v":""},{"$f":"IF(IFERROR(INDIRECT(CONCATENATE(\"'UNITCOST ITEMS (Data Entry)'!H\",IFERROR(SUM(MATCH(A368,'UNITCOST ITEMS (Data Entry)'!$A$3:$A$504,0),2),\"\"))),\"\")=0,\"\",IFERROR(INDIRECT(CONCATENATE(\"'UNITCOST ITEMS (Data Entry)'!H\",IFERROR(SUM(MATCH(A368,'UNITCOST ITEMS (Data Entry)'!$A$3:$A$504,0),2),\"\"))),\"\"))","v":""},{"$f":"IF(IFERROR(INDIRECT(CONCATENATE(\"'UNITCOST ITEMS (Data Entry)'!I\",IFERROR(SUM(MATCH(A368,'UNITCOST ITEMS (Data Entry)'!$A$3:$A$504,0),2),\"\"))),\"\")=0,\"\",IFERROR(INDIRECT(CONCATENATE(\"'UNITCOST ITEMS (Data Entry)'!I\",IFERROR(SUM(MATCH(A368,'UNITCOST ITEMS (Data Entry)'!$A$3:$A$504,0),2),\"\"))),\"\"))","v":""},{"$f":"IF(K368=2,\"\",IF(IFERROR(INDIRECT(CONCATENATE(\"'UNITCOST ITEMS (Data Entry)'!J\",IFERROR(SUM(MATCH(A368,'UNITCOST ITEMS (Data Entry)'!$A$3:$A$504,0),2),\"\"))),\"\")=0,\"\",IFERROR(INDIRECT(CONCATENATE(\"'UNITCOST ITEMS (Data Entry)'!J\",IFERROR(SUM(MATCH(A368,'UNITCOST ITEMS (Data Entry)'!$A$3:$A$504,0),2),\"\"))),\"\")))","v":""},null,{"$f":"IF(IFERROR(INDIRECT(CONCATENATE(\"'UNITCOST ITEMS (Data Entry)'!C\",IFERROR(SUM(MATCH(A368,'UNITCOST ITEMS (Data Entry)'!$A$3:$A$504,0),2),\"\"))),\"\")=0,\"\",IFERROR(INDIRECT(CONCATENATE(\"'UNITCOST ITEMS (Data Entry)'!C\",IFERROR(SUM(MATCH(A368,'UNITCOST ITEMS (Data Entry)'!$A$3:$A$504,0),2),\"\"))),\"\"))","v":""},""]
[361,{"$f":"IF(IFERROR(INDIRECT(CONCATENATE(\"'UNITCOST ITEMS (Data Entry)'!D\",IFERROR(SUM(MATCH(A369,'UNITCOST ITEMS (Data Entry)'!$A$3:$A$504,0),2),\"\"))),\"\")=0,\"\",IFERROR(INDIRECT(CONCATENATE(\"'UNITCOST ITEMS (Data Entry)'!D\",IFERROR(SUM(MATCH(A369,'UNITCOST ITEMS (Data Entry)'!$A$3:$A$504,0),2),\"\"))),\"\"))","v":""},{"$f":"IF(IFERROR(INDIRECT(CONCATENATE(\"'UNITCOST ITEMS (Data Entry)'!E\",IFERROR(SUM(MATCH(A369,'UNITCOST ITEMS (Data Entry)'!$A$3:$A$504,0),2),\"\"))),\"\")=0,\"\",IFERROR(INDIRECT(CONCATENATE(\"'UNITCOST ITEMS (Data Entry)'!E\",IFERROR(SUM(MATCH(A369,'UNITCOST ITEMS (Data Entry)'!$A$3:$A$504,0),2),\"\"))),\"\"))","v":""},null,{"$f":"IF(IFERROR(INDIRECT(CONCATENATE(\"'UNITCOST ITEMS (Data Entry)'!F\",IFERROR(SUM(MATCH(A369,'UNITCOST ITEMS (Data Entry)'!$A$3:$A$504,0),2),\"\"))),\"\")=0,\"\",IFERROR(INDIRECT(CONCATENATE(\"'UNITCOST ITEMS (Data Entry)'!F\",IFERROR(SUM(MATCH(A369,'UNITCOST ITEMS (Data Entry)'!$A$3:$A$504,0),2),\"\"))),\"\"))","v":""},{"$f":"IF(IFERROR(INDIRECT(CONCATENATE(\"'UNITCOST ITEMS (Data Entry)'!G\",IFERROR(SUM(MATCH(A369,'UNITCOST ITEMS (Data Entry)'!$A$3:$A$504,0),2),\"\"))),\"\")=0,\"\",IFERROR(INDIRECT(CONCATENATE(\"'UNITCOST ITEMS (Data Entry)'!G\",IFERROR(SUM(MATCH(A369,'UNITCOST ITEMS (Data Entry)'!$A$3:$A$504,0),2),\"\"))),\"\"))","v":""},{"$f":"IF(IFERROR(INDIRECT(CONCATENATE(\"'UNITCOST ITEMS (Data Entry)'!H\",IFERROR(SUM(MATCH(A369,'UNITCOST ITEMS (Data Entry)'!$A$3:$A$504,0),2),\"\"))),\"\")=0,\"\",IFERROR(INDIRECT(CONCATENATE(\"'UNITCOST ITEMS (Data Entry)'!H\",IFERROR(SUM(MATCH(A369,'UNITCOST ITEMS (Data Entry)'!$A$3:$A$504,0),2),\"\"))),\"\"))","v":""},{"$f":"IF(IFERROR(INDIRECT(CONCATENATE(\"'UNITCOST ITEMS (Data Entry)'!I\",IFERROR(SUM(MATCH(A369,'UNITCOST ITEMS (Data Entry)'!$A$3:$A$504,0),2),\"\"))),\"\")=0,\"\",IFERROR(INDIRECT(CONCATENATE(\"'UNITCOST ITEMS (Data Entry)'!I\",IFERROR(SUM(MATCH(A369,'UNITCOST ITEMS (Data Entry)'!$A$3:$A$504,0),2),\"\"))),\"\"))","v":""},{"$f":"IF(K369=2,\"\",IF(IFERROR(INDIRECT(CONCATENATE(\"'UNITCOST ITEMS (Data Entry)'!J\",IFERROR(SUM(MATCH(A369,'UNITCOST ITEMS (Data Entry)'!$A$3:$A$504,0),2),\"\"))),\"\")=0,\"\",IFERROR(INDIRECT(CONCATENATE(\"'UNITCOST ITEMS (Data Entry)'!J\",IFERROR(SUM(MATCH(A369,'UNITCOST ITEMS (Data Entry)'!$A$3:$A$504,0),2),\"\"))),\"\")))","v":""},null,{"$f":"IF(IFERROR(INDIRECT(CONCATENATE(\"'UNITCOST ITEMS (Data Entry)'!C\",IFERROR(SUM(MATCH(A369,'UNITCOST ITEMS (Data Entry)'!$A$3:$A$504,0),2),\"\"))),\"\")=0,\"\",IFERROR(INDIRECT(CONCATENATE(\"'UNITCOST ITEMS (Data Entry)'!C\",IFERROR(SUM(MATCH(A369,'UNITCOST ITEMS (Data Entry)'!$A$3:$A$504,0),2),\"\"))),\"\"))","v":""},""]
[362,{"$f":"IF(IFERROR(INDIRECT(CONCATENATE(\"'UNITCOST ITEMS (Data Entry)'!D\",IFERROR(SUM(MATCH(A370,'UNITCOST ITEMS (Data Entry)'!$A$3:$A$504,0),2),\"\"))),\"\")=0,\"\",IFERROR(INDIRECT(CONCATENATE(\"'UNITCOST ITEMS (Data Entry)'!D\",IFERROR(SUM(MATCH(A370,'UNITCOST ITEMS (Data Entry)'!$A$3:$A$504,0),2),\"\"))),\"\"))","v":""},{"$f":"IF(IFERROR(INDIRECT(CONCATENATE(\"'UNITCOST ITEMS (Data Entry)'!E\",IFERROR(SUM(MATCH(A370,'UNITCOST ITEMS (Data Entry)'!$A$3:$A$504,0),2),\"\"))),\"\")=0,\"\",IFERROR(INDIRECT(CONCATENATE(\"'UNITCOST ITEMS (Data Entry)'!E\",IFERROR(SUM(MATCH(A370,'UNITCOST ITEMS (Data Entry)'!$A$3:$A$504,0),2),\"\"))),\"\"))","v":""},null,{"$f":"IF(IFERROR(INDIRECT(CONCATENATE(\"'UNITCOST ITEMS (Data Entry)'!F\",IFERROR(SUM(MATCH(A370,'UNITCOST ITEMS (Data Entry)'!$A$3:$A$504,0),2),\"\"))),\"\")=0,\"\",IFERROR(INDIRECT(CONCATENATE(\"'UNITCOST ITEMS (Data Entry)'!F\",IFERROR(SUM(MATCH(A370,'UNITCOST ITEMS (Data Entry)'!$A$3:$A$504,0),2),\"\"))),\"\"))","v":""},{"$f":"IF(IFERROR(INDIRECT(CONCATENATE(\"'UNITCOST ITEMS (Data Entry)'!G\",IFERROR(SUM(MATCH(A370,'UNITCOST ITEMS (Data Entry)'!$A$3:$A$504,0),2),\"\"))),\"\")=0,\"\",IFERROR(INDIRECT(CONCATENATE(\"'UNITCOST ITEMS (Data Entry)'!G\",IFERROR(SUM(MATCH(A370,'UNITCOST ITEMS (Data Entry)'!$A$3:$A$504,0),2),\"\"))),\"\"))","v":""},{"$f":"IF(IFERROR(INDIRECT(CONCATENATE(\"'UNITCOST ITEMS (Data Entry)'!H\",IFERROR(SUM(MATCH(A370,'UNITCOST ITEMS (Data Entry)'!$A$3:$A$504,0),2),\"\"))),\"\")=0,\"\",IFERROR(INDIRECT(CONCATENATE(\"'UNITCOST ITEMS (Data Entry)'!H\",IFERROR(SUM(MATCH(A370,'UNITCOST ITEMS (Data Entry)'!$A$3:$A$504,0),2),\"\"))),\"\"))","v":""},{"$f":"IF(IFERROR(INDIRECT(CONCATENATE(\"'UNITCOST ITEMS (Data Entry)'!I\",IFERROR(SUM(MATCH(A370,'UNITCOST ITEMS (Data Entry)'!$A$3:$A$504,0),2),\"\"))),\"\")=0,\"\",IFERROR(INDIRECT(CONCATENATE(\"'UNITCOST ITEMS (Data Entry)'!I\",IFERROR(SUM(MATCH(A370,'UNITCOST ITEMS (Data Entry)'!$A$3:$A$504,0),2),\"\"))),\"\"))","v":""},{"$f":"IF(K370=2,\"\",IF(IFERROR(INDIRECT(CONCATENATE(\"'UNITCOST ITEMS (Data Entry)'!J\",IFERROR(SUM(MATCH(A370,'UNITCOST ITEMS (Data Entry)'!$A$3:$A$504,0),2),\"\"))),\"\")=0,\"\",IFERROR(INDIRECT(CONCATENATE(\"'UNITCOST ITEMS (Data Entry)'!J\",IFERROR(SUM(MATCH(A370,'UNITCOST ITEMS (Data Entry)'!$A$3:$A$504,0),2),\"\"))),\"\")))","v":""},null,{"$f":"IF(IFERROR(INDIRECT(CONCATENATE(\"'UNITCOST ITEMS (Data Entry)'!C\",IFERROR(SUM(MATCH(A370,'UNITCOST ITEMS (Data Entry)'!$A$3:$A$504,0),2),\"\"))),\"\")=0,\"\",IFERROR(INDIRECT(CONCATENATE(\"'UNITCOST ITEMS (Data Entry)'!C\",IFERROR(SUM(MATCH(A370,'UNITCOST ITEMS (Data Entry)'!$A$3:$A$504,0),2),\"\"))),\"\"))","v":""},""]
[363,{"$f":"IF(IFERROR(INDIRECT(CONCATENATE(\"'UNITCOST ITEMS (Data Entry)'!D\",IFERROR(SUM(MATCH(A371,'UNITCOST ITEMS (Data Entry)'!$A$3:$A$504,0),2),\"\"))),\"\")=0,\"\",IFERROR(INDIRECT(CONCATENATE(\"'UNITCOST ITEMS (Data Entry)'!D\",IFERROR(SUM(MATCH(A371,'UNITCOST ITEMS (Data Entry)'!$A$3:$A$504,0),2),\"\"))),\"\"))","v":""},{"$f":"IF(IFERROR(INDIRECT(CONCATENATE(\"'UNITCOST ITEMS (Data Entry)'!E\",IFERROR(SUM(MATCH(A371,'UNITCOST ITEMS (Data Entry)'!$A$3:$A$504,0),2),\"\"))),\"\")=0,\"\",IFERROR(INDIRECT(CONCATENATE(\"'UNITCOST ITEMS (Data Entry)'!E\",IFERROR(SUM(MATCH(A371,'UNITCOST ITEMS (Data Entry)'!$A$3:$A$504,0),2),\"\"))),\"\"))","v":""},null,{"$f":"IF(IFERROR(INDIRECT(CONCATENATE(\"'UNITCOST ITEMS (Data Entry)'!F\",IFERROR(SUM(MATCH(A371,'UNITCOST ITEMS (Data Entry)'!$A$3:$A$504,0),2),\"\"))),\"\")=0,\"\",IFERROR(INDIRECT(CONCATENATE(\"'UNITCOST ITEMS (Data Entry)'!F\",IFERROR(SUM(MATCH(A371,'UNITCOST ITEMS (Data Entry)'!$A$3:$A$504,0),2),\"\"))),\"\"))","v":""},{"$f":"IF(IFERROR(INDIRECT(CONCATENATE(\"'UNITCOST ITEMS (Data Entry)'!G\",IFERROR(SUM(MATCH(A371,'UNITCOST ITEMS (Data Entry)'!$A$3:$A$504,0),2),\"\"))),\"\")=0,\"\",IFERROR(INDIRECT(CONCATENATE(\"'UNITCOST ITEMS (Data Entry)'!G\",IFERROR(SUM(MATCH(A371,'UNITCOST ITEMS (Data Entry)'!$A$3:$A$504,0),2),\"\"))),\"\"))","v":""},{"$f":"IF(IFERROR(INDIRECT(CONCATENATE(\"'UNITCOST ITEMS (Data Entry)'!H\",IFERROR(SUM(MATCH(A371,'UNITCOST ITEMS (Data Entry)'!$A$3:$A$504,0),2),\"\"))),\"\")=0,\"\",IFERROR(INDIRECT(CONCATENATE(\"'UNITCOST ITEMS (Data Entry)'!H\",IFERROR(SUM(MATCH(A371,'UNITCOST ITEMS (Data Entry)'!$A$3:$A$504,0),2),\"\"))),\"\"))","v":""},{"$f":"IF(IFERROR(INDIRECT(CONCATENATE(\"'UNITCOST ITEMS (Data Entry)'!I\",IFERROR(SUM(MATCH(A371,'UNITCOST ITEMS (Data Entry)'!$A$3:$A$504,0),2),\"\"))),\"\")=0,\"\",IFERROR(INDIRECT(CONCATENATE(\"'UNITCOST ITEMS (Data Entry)'!I\",IFERROR(SUM(MATCH(A371,'UNITCOST ITEMS (Data Entry)'!$A$3:$A$504,0),2),\"\"))),\"\"))","v":""},{"$f":"IF(K371=2,\"\",IF(IFERROR(INDIRECT(CONCATENATE(\"'UNITCOST ITEMS (Data Entry)'!J\",IFERROR(SUM(MATCH(A371,'UNITCOST ITEMS (Data Entry)'!$A$3:$A$504,0),2),\"\"))),\"\")=0,\"\",IFERROR(INDIRECT(CONCATENATE(\"'UNITCOST ITEMS (Data Entry)'!J\",IFERROR(SUM(MATCH(A371,'UNITCOST ITEMS (Data Entry)'!$A$3:$A$504,0),2),\"\"))),\"\")))","v":""},null,{"$f":"IF(IFERROR(INDIRECT(CONCATENATE(\"'UNITCOST ITEMS (Data Entry)'!C\",IFERROR(SUM(MATCH(A371,'UNITCOST ITEMS (Data Entry)'!$A$3:$A$504,0),2),\"\"))),\"\")=0,\"\",IFERROR(INDIRECT(CONCATENATE(\"'UNITCOST ITEMS (Data Entry)'!C\",IFERROR(SUM(MATCH(A371,'UNITCOST ITEMS (Data Entry)'!$A$3:$A$504,0),2),\"\"))),\"\"))","v":""},""]
[364,{"$f":"IF(IFERROR(INDIRECT(CONCATENATE(\"'UNITCOST ITEMS (Data Entry)'!D\",IFERROR(SUM(MATCH(A372,'UNITCOST ITEMS (Data Entry)'!$A$3:$A$504,0),2),\"\"))),\"\")=0,\"\",IFERROR(INDIRECT(CONCATENATE(\"'UNITCOST ITEMS (Data Entry)'!D\",IFERROR(SUM(MATCH(A372,'UNITCOST ITEMS (Data Entry)'!$A$3:$A$504,0),2),\"\"))),\"\"))","v":""},{"$f":"IF(IFERROR(INDIRECT(CONCATENATE(\"'UNITCOST ITEMS (Data Entry)'!E\",IFERROR(SUM(MATCH(A372,'UNITCOST ITEMS (Data Entry)'!$A$3:$A$504,0),2),\"\"))),\"\")=0,\"\",IFERROR(INDIRECT(CONCATENATE(\"'UNITCOST ITEMS (Data Entry)'!E\",IFERROR(SUM(MATCH(A372,'UNITCOST ITEMS (Data Entry)'!$A$3:$A$504,0),2),\"\"))),\"\"))","v":""},null,{"$f":"IF(IFERROR(INDIRECT(CONCATENATE(\"'UNITCOST ITEMS (Data Entry)'!F\",IFERROR(SUM(MATCH(A372,'UNITCOST ITEMS (Data Entry)'!$A$3:$A$504,0),2),\"\"))),\"\")=0,\"\",IFERROR(INDIRECT(CONCATENATE(\"'UNITCOST ITEMS (Data Entry)'!F\",IFERROR(SUM(MATCH(A372,'UNITCOST ITEMS (Data Entry)'!$A$3:$A$504,0),2),\"\"))),\"\"))","v":""},{"$f":"IF(IFERROR(INDIRECT(CONCATENATE(\"'UNITCOST ITEMS (Data Entry)'!G\",IFERROR(SUM(MATCH(A372,'UNITCOST ITEMS (Data Entry)'!$A$3:$A$504,0),2),\"\"))),\"\")=0,\"\",IFERROR(INDIRECT(CONCATENATE(\"'UNITCOST ITEMS (Data Entry)'!G\",IFERROR(SUM(MATCH(A372,'UNITCOST ITEMS (Data Entry)'!$A$3:$A$504,0),2),\"\"))),\"\"))","v":""},{"$f":"IF(IFERROR(INDIRECT(CONCATENATE(\"'UNITCOST ITEMS (Data Entry)'!H\",IFERROR(SUM(MATCH(A372,'UNITCOST ITEMS (Data Entry)'!$A$3:$A$504,0),2),\"\"))),\"\")=0,\"\",IFERROR(INDIRECT(CONCATENATE(\"'UNITCOST ITEMS (Data Entry)'!H\",IFERROR(SUM(MATCH(A372,'UNITCOST ITEMS (Data Entry)'!$A$3:$A$504,0),2),\"\"))),\"\"))","v":""},{"$f":"IF(IFERROR(INDIRECT(CONCATENATE(\"'UNITCOST ITEMS (Data Entry)'!I\",IFERROR(SUM(MATCH(A372,'UNITCOST ITEMS (Data Entry)'!$A$3:$A$504,0),2),\"\"))),\"\")=0,\"\",IFERROR(INDIRECT(CONCATENATE(\"'UNITCOST ITEMS (Data Entry)'!I\",IFERROR(SUM(MATCH(A372,'UNITCOST ITEMS (Data Entry)'!$A$3:$A$504,0),2),\"\"))),\"\"))","v":""},{"$f":"IF(K372=2,\"\",IF(IFERROR(INDIRECT(CONCATENATE(\"'UNITCOST ITEMS (Data Entry)'!J\",IFERROR(SUM(MATCH(A372,'UNITCOST ITEMS (Data Entry)'!$A$3:$A$504,0),2),\"\"))),\"\")=0,\"\",IFERROR(INDIRECT(CONCATENATE(\"'UNITCOST ITEMS (Data Entry)'!J\",IFERROR(SUM(MATCH(A372,'UNITCOST ITEMS (Data Entry)'!$A$3:$A$504,0),2),\"\"))),\"\")))","v":""},null,{"$f":"IF(IFERROR(INDIRECT(CONCATENATE(\"'UNITCOST ITEMS (Data Entry)'!C\",IFERROR(SUM(MATCH(A372,'UNITCOST ITEMS (Data Entry)'!$A$3:$A$504,0),2),\"\"))),\"\")=0,\"\",IFERROR(INDIRECT(CONCATENATE(\"'UNITCOST ITEMS (Data Entry)'!C\",IFERROR(SUM(MATCH(A372,'UNITCOST ITEMS (Data Entry)'!$A$3:$A$504,0),2),\"\"))),\"\"))","v":""},""]
[365,{"$f":"IF(IFERROR(INDIRECT(CONCATENATE(\"'UNITCOST ITEMS (Data Entry)'!D\",IFERROR(SUM(MATCH(A373,'UNITCOST ITEMS (Data Entry)'!$A$3:$A$504,0),2),\"\"))),\"\")=0,\"\",IFERROR(INDIRECT(CONCATENATE(\"'UNITCOST ITEMS (Data Entry)'!D\",IFERROR(SUM(MATCH(A373,'UNITCOST ITEMS (Data Entry)'!$A$3:$A$504,0),2),\"\"))),\"\"))","v":""},{"$f":"IF(IFERROR(INDIRECT(CONCATENATE(\"'UNITCOST ITEMS (Data Entry)'!E\",IFERROR(SUM(MATCH(A373,'UNITCOST ITEMS (Data Entry)'!$A$3:$A$504,0),2),\"\"))),\"\")=0,\"\",IFERROR(INDIRECT(CONCATENATE(\"'UNITCOST ITEMS (Data Entry)'!E\",IFERROR(SUM(MATCH(A373,'UNITCOST ITEMS (Data Entry)'!$A$3:$A$504,0),2),\"\"))),\"\"))","v":""},null,{"$f":"IF(IFERROR(INDIRECT(CONCATENATE(\"'UNITCOST ITEMS (Data Entry)'!F\",IFERROR(SUM(MATCH(A373,'UNITCOST ITEMS (Data Entry)'!$A$3:$A$504,0),2),\"\"))),\"\")=0,\"\",IFERROR(INDIRECT(CONCATENATE(\"'UNITCOST ITEMS (Data Entry)'!F\",IFERROR(SUM(MATCH(A373,'UNITCOST ITEMS (Data Entry)'!$A$3:$A$504,0),2),\"\"))),\"\"))","v":""},{"$f":"IF(IFERROR(INDIRECT(CONCATENATE(\"'UNITCOST ITEMS (Data Entry)'!G\",IFERROR(SUM(MATCH(A373,'UNITCOST ITEMS (Data Entry)'!$A$3:$A$504,0),2),\"\"))),\"\")=0,\"\",IFERROR(INDIRECT(CONCATENATE(\"'UNITCOST ITEMS (Data Entry)'!G\",IFERROR(SUM(MATCH(A373,'UNITCOST ITEMS (Data Entry)'!$A$3:$A$504,0),2),\"\"))),\"\"))","v":""},{"$f":"IF(IFERROR(INDIRECT(CONCATENATE(\"'UNITCOST ITEMS (Data Entry)'!H\",IFERROR(SUM(MATCH(A373,'UNITCOST ITEMS (Data Entry)'!$A$3:$A$504,0),2),\"\"))),\"\")=0,\"\",IFERROR(INDIRECT(CONCATENATE(\"'UNITCOST ITEMS (Data Entry)'!H\",IFERROR(SUM(MATCH(A373,'UNITCOST ITEMS (Data Entry)'!$A$3:$A$504,0),2),\"\"))),\"\"))","v":""},{"$f":"IF(IFERROR(INDIRECT(CONCATENATE(\"'UNITCOST ITEMS (Data Entry)'!I\",IFERROR(SUM(MATCH(A373,'UNITCOST ITEMS (Data Entry)'!$A$3:$A$504,0),2),\"\"))),\"\")=0,\"\",IFERROR(INDIRECT(CONCATENATE(\"'UNITCOST ITEMS (Data Entry)'!I\",IFERROR(SUM(MATCH(A373,'UNITCOST ITEMS (Data Entry)'!$A$3:$A$504,0),2),\"\"))),\"\"))","v":""},{"$f":"IF(K373=2,\"\",IF(IFERROR(INDIRECT(CONCATENATE(\"'UNITCOST ITEMS (Data Entry)'!J\",IFERROR(SUM(MATCH(A373,'UNITCOST ITEMS (Data Entry)'!$A$3:$A$504,0),2),\"\"))),\"\")=0,\"\",IFERROR(INDIRECT(CONCATENATE(\"'UNITCOST ITEMS (Data Entry)'!J\",IFERROR(SUM(MATCH(A373,'UNITCOST ITEMS (Data Entry)'!$A$3:$A$504,0),2),\"\"))),\"\")))","v":""},null,{"$f":"IF(IFERROR(INDIRECT(CONCATENATE(\"'UNITCOST ITEMS (Data Entry)'!C\",IFERROR(SUM(MATCH(A373,'UNITCOST ITEMS (Data Entry)'!$A$3:$A$504,0),2),\"\"))),\"\")=0,\"\",IFERROR(INDIRECT(CONCATENATE(\"'UNITCOST ITEMS (Data Entry)'!C\",IFERROR(SUM(MATCH(A373,'UNITCOST ITEMS (Data Entry)'!$A$3:$A$504,0),2),\"\"))),\"\"))","v":""},""]
[366,{"$f":"IF(IFERROR(INDIRECT(CONCATENATE(\"'UNITCOST ITEMS (Data Entry)'!D\",IFERROR(SUM(MATCH(A374,'UNITCOST ITEMS (Data Entry)'!$A$3:$A$504,0),2),\"\"))),\"\")=0,\"\",IFERROR(INDIRECT(CONCATENATE(\"'UNITCOST ITEMS (Data Entry)'!D\",IFERROR(SUM(MATCH(A374,'UNITCOST ITEMS (Data Entry)'!$A$3:$A$504,0),2),\"\"))),\"\"))","v":""},{"$f":"IF(IFERROR(INDIRECT(CONCATENATE(\"'UNITCOST ITEMS (Data Entry)'!E\",IFERROR(SUM(MATCH(A374,'UNITCOST ITEMS (Data Entry)'!$A$3:$A$504,0),2),\"\"))),\"\")=0,\"\",IFERROR(INDIRECT(CONCATENATE(\"'UNITCOST ITEMS (Data Entry)'!E\",IFERROR(SUM(MATCH(A374,'UNITCOST ITEMS (Data Entry)'!$A$3:$A$504,0),2),\"\"))),\"\"))","v":""},null,{"$f":"IF(IFERROR(INDIRECT(CONCATENATE(\"'UNITCOST ITEMS (Data Entry)'!F\",IFERROR(SUM(MATCH(A374,'UNITCOST ITEMS (Data Entry)'!$A$3:$A$504,0),2),\"\"))),\"\")=0,\"\",IFERROR(INDIRECT(CONCATENATE(\"'UNITCOST ITEMS (Data Entry)'!F\",IFERROR(SUM(MATCH(A374,'UNITCOST ITEMS (Data Entry)'!$A$3:$A$504,0),2),\"\"))),\"\"))","v":""},{"$f":"IF(IFERROR(INDIRECT(CONCATENATE(\"'UNITCOST ITEMS (Data Entry)'!G\",IFERROR(SUM(MATCH(A374,'UNITCOST ITEMS (Data Entry)'!$A$3:$A$504,0),2),\"\"))),\"\")=0,\"\",IFERROR(INDIRECT(CONCATENATE(\"'UNITCOST ITEMS (Data Entry)'!G\",IFERROR(SUM(MATCH(A374,'UNITCOST ITEMS (Data Entry)'!$A$3:$A$504,0),2),\"\"))),\"\"))","v":""},{"$f":"IF(IFERROR(INDIRECT(CONCATENATE(\"'UNITCOST ITEMS (Data Entry)'!H\",IFERROR(SUM(MATCH(A374,'UNITCOST ITEMS (Data Entry)'!$A$3:$A$504,0),2),\"\"))),\"\")=0,\"\",IFERROR(INDIRECT(CONCATENATE(\"'UNITCOST ITEMS (Data Entry)'!H\",IFERROR(SUM(MATCH(A374,'UNITCOST ITEMS (Data Entry)'!$A$3:$A$504,0),2),\"\"))),\"\"))","v":""},{"$f":"IF(IFERROR(INDIRECT(CONCATENATE(\"'UNITCOST ITEMS (Data Entry)'!I\",IFERROR(SUM(MATCH(A374,'UNITCOST ITEMS (Data Entry)'!$A$3:$A$504,0),2),\"\"))),\"\")=0,\"\",IFERROR(INDIRECT(CONCATENATE(\"'UNITCOST ITEMS (Data Entry)'!I\",IFERROR(SUM(MATCH(A374,'UNITCOST ITEMS (Data Entry)'!$A$3:$A$504,0),2),\"\"))),\"\"))","v":""},{"$f":"IF(K374=2,\"\",IF(IFERROR(INDIRECT(CONCATENATE(\"'UNITCOST ITEMS (Data Entry)'!J\",IFERROR(SUM(MATCH(A374,'UNITCOST ITEMS (Data Entry)'!$A$3:$A$504,0),2),\"\"))),\"\")=0,\"\",IFERROR(INDIRECT(CONCATENATE(\"'UNITCOST ITEMS (Data Entry)'!J\",IFERROR(SUM(MATCH(A374,'UNITCOST ITEMS (Data Entry)'!$A$3:$A$504,0),2),\"\"))),\"\")))","v":""},null,{"$f":"IF(IFERROR(INDIRECT(CONCATENATE(\"'UNITCOST ITEMS (Data Entry)'!C\",IFERROR(SUM(MATCH(A374,'UNITCOST ITEMS (Data Entry)'!$A$3:$A$504,0),2),\"\"))),\"\")=0,\"\",IFERROR(INDIRECT(CONCATENATE(\"'UNITCOST ITEMS (Data Entry)'!C\",IFERROR(SUM(MATCH(A374,'UNITCOST ITEMS (Data Entry)'!$A$3:$A$504,0),2),\"\"))),\"\"))","v":""},""]
[367,{"$f":"IF(IFERROR(INDIRECT(CONCATENATE(\"'UNITCOST ITEMS (Data Entry)'!D\",IFERROR(SUM(MATCH(A375,'UNITCOST ITEMS (Data Entry)'!$A$3:$A$504,0),2),\"\"))),\"\")=0,\"\",IFERROR(INDIRECT(CONCATENATE(\"'UNITCOST ITEMS (Data Entry)'!D\",IFERROR(SUM(MATCH(A375,'UNITCOST ITEMS (Data Entry)'!$A$3:$A$504,0),2),\"\"))),\"\"))","v":""},{"$f":"IF(IFERROR(INDIRECT(CONCATENATE(\"'UNITCOST ITEMS (Data Entry)'!E\",IFERROR(SUM(MATCH(A375,'UNITCOST ITEMS (Data Entry)'!$A$3:$A$504,0),2),\"\"))),\"\")=0,\"\",IFERROR(INDIRECT(CONCATENATE(\"'UNITCOST ITEMS (Data Entry)'!E\",IFERROR(SUM(MATCH(A375,'UNITCOST ITEMS (Data Entry)'!$A$3:$A$504,0),2),\"\"))),\"\"))","v":""},null,{"$f":"IF(IFERROR(INDIRECT(CONCATENATE(\"'UNITCOST ITEMS (Data Entry)'!F\",IFERROR(SUM(MATCH(A375,'UNITCOST ITEMS (Data Entry)'!$A$3:$A$504,0),2),\"\"))),\"\")=0,\"\",IFERROR(INDIRECT(CONCATENATE(\"'UNITCOST ITEMS (Data Entry)'!F\",IFERROR(SUM(MATCH(A375,'UNITCOST ITEMS (Data Entry)'!$A$3:$A$504,0),2),\"\"))),\"\"))","v":""},{"$f":"IF(IFERROR(INDIRECT(CONCATENATE(\"'UNITCOST ITEMS (Data Entry)'!G\",IFERROR(SUM(MATCH(A375,'UNITCOST ITEMS (Data Entry)'!$A$3:$A$504,0),2),\"\"))),\"\")=0,\"\",IFERROR(INDIRECT(CONCATENATE(\"'UNITCOST ITEMS (Data Entry)'!G\",IFERROR(SUM(MATCH(A375,'UNITCOST ITEMS (Data Entry)'!$A$3:$A$504,0),2),\"\"))),\"\"))","v":""},{"$f":"IF(IFERROR(INDIRECT(CONCATENATE(\"'UNITCOST ITEMS (Data Entry)'!H\",IFERROR(SUM(MATCH(A375,'UNITCOST ITEMS (Data Entry)'!$A$3:$A$504,0),2),\"\"))),\"\")=0,\"\",IFERROR(INDIRECT(CONCATENATE(\"'UNITCOST ITEMS (Data Entry)'!H\",IFERROR(SUM(MATCH(A375,'UNITCOST ITEMS (Data Entry)'!$A$3:$A$504,0),2),\"\"))),\"\"))","v":""},{"$f":"IF(IFERROR(INDIRECT(CONCATENATE(\"'UNITCOST ITEMS (Data Entry)'!I\",IFERROR(SUM(MATCH(A375,'UNITCOST ITEMS (Data Entry)'!$A$3:$A$504,0),2),\"\"))),\"\")=0,\"\",IFERROR(INDIRECT(CONCATENATE(\"'UNITCOST ITEMS (Data Entry)'!I\",IFERROR(SUM(MATCH(A375,'UNITCOST ITEMS (Data Entry)'!$A$3:$A$504,0),2),\"\"))),\"\"))","v":""},{"$f":"IF(K375=2,\"\",IF(IFERROR(INDIRECT(CONCATENATE(\"'UNITCOST ITEMS (Data Entry)'!J\",IFERROR(SUM(MATCH(A375,'UNITCOST ITEMS (Data Entry)'!$A$3:$A$504,0),2),\"\"))),\"\")=0,\"\",IFERROR(INDIRECT(CONCATENATE(\"'UNITCOST ITEMS (Data Entry)'!J\",IFERROR(SUM(MATCH(A375,'UNITCOST ITEMS (Data Entry)'!$A$3:$A$504,0),2),\"\"))),\"\")))","v":""},null,{"$f":"IF(IFERROR(INDIRECT(CONCATENATE(\"'UNITCOST ITEMS (Data Entry)'!C\",IFERROR(SUM(MATCH(A375,'UNITCOST ITEMS (Data Entry)'!$A$3:$A$504,0),2),\"\"))),\"\")=0,\"\",IFERROR(INDIRECT(CONCATENATE(\"'UNITCOST ITEMS (Data Entry)'!C\",IFERROR(SUM(MATCH(A375,'UNITCOST ITEMS (Data Entry)'!$A$3:$A$504,0),2),\"\"))),\"\"))","v":""},""]
[368,{"$f":"IF(IFERROR(INDIRECT(CONCATENATE(\"'UNITCOST ITEMS (Data Entry)'!D\",IFERROR(SUM(MATCH(A376,'UNITCOST ITEMS (Data Entry)'!$A$3:$A$504,0),2),\"\"))),\"\")=0,\"\",IFERROR(INDIRECT(CONCATENATE(\"'UNITCOST ITEMS (Data Entry)'!D\",IFERROR(SUM(MATCH(A376,'UNITCOST ITEMS (Data Entry)'!$A$3:$A$504,0),2),\"\"))),\"\"))","v":""},{"$f":"IF(IFERROR(INDIRECT(CONCATENATE(\"'UNITCOST ITEMS (Data Entry)'!E\",IFERROR(SUM(MATCH(A376,'UNITCOST ITEMS (Data Entry)'!$A$3:$A$504,0),2),\"\"))),\"\")=0,\"\",IFERROR(INDIRECT(CONCATENATE(\"'UNITCOST ITEMS (Data Entry)'!E\",IFERROR(SUM(MATCH(A376,'UNITCOST ITEMS (Data Entry)'!$A$3:$A$504,0),2),\"\"))),\"\"))","v":""},null,{"$f":"IF(IFERROR(INDIRECT(CONCATENATE(\"'UNITCOST ITEMS (Data Entry)'!F\",IFERROR(SUM(MATCH(A376,'UNITCOST ITEMS (Data Entry)'!$A$3:$A$504,0),2),\"\"))),\"\")=0,\"\",IFERROR(INDIRECT(CONCATENATE(\"'UNITCOST ITEMS (Data Entry)'!F\",IFERROR(SUM(MATCH(A376,'UNITCOST ITEMS (Data Entry)'!$A$3:$A$504,0),2),\"\"))),\"\"))","v":""},{"$f":"IF(IFERROR(INDIRECT(CONCATENATE(\"'UNITCOST ITEMS (Data Entry)'!G\",IFERROR(SUM(MATCH(A376,'UNITCOST ITEMS (Data Entry)'!$A$3:$A$504,0),2),\"\"))),\"\")=0,\"\",IFERROR(INDIRECT(CONCATENATE(\"'UNITCOST ITEMS (Data Entry)'!G\",IFERROR(SUM(MATCH(A376,'UNITCOST ITEMS (Data Entry)'!$A$3:$A$504,0),2),\"\"))),\"\"))","v":""},{"$f":"IF(IFERROR(INDIRECT(CONCATENATE(\"'UNITCOST ITEMS (Data Entry)'!H\",IFERROR(SUM(MATCH(A376,'UNITCOST ITEMS (Data Entry)'!$A$3:$A$504,0),2),\"\"))),\"\")=0,\"\",IFERROR(INDIRECT(CONCATENATE(\"'UNITCOST ITEMS (Data Entry)'!H\",IFERROR(SUM(MATCH(A376,'UNITCOST ITEMS (Data Entry)'!$A$3:$A$504,0),2),\"\"))),\"\"))","v":""},{"$f":"IF(IFERROR(INDIRECT(CONCATENATE(\"'UNITCOST ITEMS (Data Entry)'!I\",IFERROR(SUM(MATCH(A376,'UNITCOST ITEMS (Data Entry)'!$A$3:$A$504,0),2),\"\"))),\"\")=0,\"\",IFERROR(INDIRECT(CONCATENATE(\"'UNITCOST ITEMS (Data Entry)'!I\",IFERROR(SUM(MATCH(A376,'UNITCOST ITEMS (Data Entry)'!$A$3:$A$504,0),2),\"\"))),\"\"))","v":""},{"$f":"IF(K376=2,\"\",IF(IFERROR(INDIRECT(CONCATENATE(\"'UNITCOST ITEMS (Data Entry)'!J\",IFERROR(SUM(MATCH(A376,'UNITCOST ITEMS (Data Entry)'!$A$3:$A$504,0),2),\"\"))),\"\")=0,\"\",IFERROR(INDIRECT(CONCATENATE(\"'UNITCOST ITEMS (Data Entry)'!J\",IFERROR(SUM(MATCH(A376,'UNITCOST ITEMS (Data Entry)'!$A$3:$A$504,0),2),\"\"))),\"\")))","v":""},null,{"$f":"IF(IFERROR(INDIRECT(CONCATENATE(\"'UNITCOST ITEMS (Data Entry)'!C\",IFERROR(SUM(MATCH(A376,'UNITCOST ITEMS (Data Entry)'!$A$3:$A$504,0),2),\"\"))),\"\")=0,\"\",IFERROR(INDIRECT(CONCATENATE(\"'UNITCOST ITEMS (Data Entry)'!C\",IFERROR(SUM(MATCH(A376,'UNITCOST ITEMS (Data Entry)'!$A$3:$A$504,0),2),\"\"))),\"\"))","v":""},""]
[369,{"$f":"IF(IFERROR(INDIRECT(CONCATENATE(\"'UNITCOST ITEMS (Data Entry)'!D\",IFERROR(SUM(MATCH(A377,'UNITCOST ITEMS (Data Entry)'!$A$3:$A$504,0),2),\"\"))),\"\")=0,\"\",IFERROR(INDIRECT(CONCATENATE(\"'UNITCOST ITEMS (Data Entry)'!D\",IFERROR(SUM(MATCH(A377,'UNITCOST ITEMS (Data Entry)'!$A$3:$A$504,0),2),\"\"))),\"\"))","v":""},{"$f":"IF(IFERROR(INDIRECT(CONCATENATE(\"'UNITCOST ITEMS (Data Entry)'!E\",IFERROR(SUM(MATCH(A377,'UNITCOST ITEMS (Data Entry)'!$A$3:$A$504,0),2),\"\"))),\"\")=0,\"\",IFERROR(INDIRECT(CONCATENATE(\"'UNITCOST ITEMS (Data Entry)'!E\",IFERROR(SUM(MATCH(A377,'UNITCOST ITEMS (Data Entry)'!$A$3:$A$504,0),2),\"\"))),\"\"))","v":""},null,{"$f":"IF(IFERROR(INDIRECT(CONCATENATE(\"'UNITCOST ITEMS (Data Entry)'!F\",IFERROR(SUM(MATCH(A377,'UNITCOST ITEMS (Data Entry)'!$A$3:$A$504,0),2),\"\"))),\"\")=0,\"\",IFERROR(INDIRECT(CONCATENATE(\"'UNITCOST ITEMS (Data Entry)'!F\",IFERROR(SUM(MATCH(A377,'UNITCOST ITEMS (Data Entry)'!$A$3:$A$504,0),2),\"\"))),\"\"))","v":""},{"$f":"IF(IFERROR(INDIRECT(CONCATENATE(\"'UNITCOST ITEMS (Data Entry)'!G\",IFERROR(SUM(MATCH(A377,'UNITCOST ITEMS (Data Entry)'!$A$3:$A$504,0),2),\"\"))),\"\")=0,\"\",IFERROR(INDIRECT(CONCATENATE(\"'UNITCOST ITEMS (Data Entry)'!G\",IFERROR(SUM(MATCH(A377,'UNITCOST ITEMS (Data Entry)'!$A$3:$A$504,0),2),\"\"))),\"\"))","v":""},{"$f":"IF(IFERROR(INDIRECT(CONCATENATE(\"'UNITCOST ITEMS (Data Entry)'!H\",IFERROR(SUM(MATCH(A377,'UNITCOST ITEMS (Data Entry)'!$A$3:$A$504,0),2),\"\"))),\"\")=0,\"\",IFERROR(INDIRECT(CONCATENATE(\"'UNITCOST ITEMS (Data Entry)'!H\",IFERROR(SUM(MATCH(A377,'UNITCOST ITEMS (Data Entry)'!$A$3:$A$504,0),2),\"\"))),\"\"))","v":""},{"$f":"IF(IFERROR(INDIRECT(CONCATENATE(\"'UNITCOST ITEMS (Data Entry)'!I\",IFERROR(SUM(MATCH(A377,'UNITCOST ITEMS (Data Entry)'!$A$3:$A$504,0),2),\"\"))),\"\")=0,\"\",IFERROR(INDIRECT(CONCATENATE(\"'UNITCOST ITEMS (Data Entry)'!I\",IFERROR(SUM(MATCH(A377,'UNITCOST ITEMS (Data Entry)'!$A$3:$A$504,0),2),\"\"))),\"\"))","v":""},{"$f":"IF(K377=2,\"\",IF(IFERROR(INDIRECT(CONCATENATE(\"'UNITCOST ITEMS (Data Entry)'!J\",IFERROR(SUM(MATCH(A377,'UNITCOST ITEMS (Data Entry)'!$A$3:$A$504,0),2),\"\"))),\"\")=0,\"\",IFERROR(INDIRECT(CONCATENATE(\"'UNITCOST ITEMS (Data Entry)'!J\",IFERROR(SUM(MATCH(A377,'UNITCOST ITEMS (Data Entry)'!$A$3:$A$504,0),2),\"\"))),\"\")))","v":""},null,{"$f":"IF(IFERROR(INDIRECT(CONCATENATE(\"'UNITCOST ITEMS (Data Entry)'!C\",IFERROR(SUM(MATCH(A377,'UNITCOST ITEMS (Data Entry)'!$A$3:$A$504,0),2),\"\"))),\"\")=0,\"\",IFERROR(INDIRECT(CONCATENATE(\"'UNITCOST ITEMS (Data Entry)'!C\",IFERROR(SUM(MATCH(A377,'UNITCOST ITEMS (Data Entry)'!$A$3:$A$504,0),2),\"\"))),\"\"))","v":""},""]
[370,{"$f":"IF(IFERROR(INDIRECT(CONCATENATE(\"'UNITCOST ITEMS (Data Entry)'!D\",IFERROR(SUM(MATCH(A378,'UNITCOST ITEMS (Data Entry)'!$A$3:$A$504,0),2),\"\"))),\"\")=0,\"\",IFERROR(INDIRECT(CONCATENATE(\"'UNITCOST ITEMS (Data Entry)'!D\",IFERROR(SUM(MATCH(A378,'UNITCOST ITEMS (Data Entry)'!$A$3:$A$504,0),2),\"\"))),\"\"))","v":""},{"$f":"IF(IFERROR(INDIRECT(CONCATENATE(\"'UNITCOST ITEMS (Data Entry)'!E\",IFERROR(SUM(MATCH(A378,'UNITCOST ITEMS (Data Entry)'!$A$3:$A$504,0),2),\"\"))),\"\")=0,\"\",IFERROR(INDIRECT(CONCATENATE(\"'UNITCOST ITEMS (Data Entry)'!E\",IFERROR(SUM(MATCH(A378,'UNITCOST ITEMS (Data Entry)'!$A$3:$A$504,0),2),\"\"))),\"\"))","v":""},null,{"$f":"IF(IFERROR(INDIRECT(CONCATENATE(\"'UNITCOST ITEMS (Data Entry)'!F\",IFERROR(SUM(MATCH(A378,'UNITCOST ITEMS (Data Entry)'!$A$3:$A$504,0),2),\"\"))),\"\")=0,\"\",IFERROR(INDIRECT(CONCATENATE(\"'UNITCOST ITEMS (Data Entry)'!F\",IFERROR(SUM(MATCH(A378,'UNITCOST ITEMS (Data Entry)'!$A$3:$A$504,0),2),\"\"))),\"\"))","v":""},{"$f":"IF(IFERROR(INDIRECT(CONCATENATE(\"'UNITCOST ITEMS (Data Entry)'!G\",IFERROR(SUM(MATCH(A378,'UNITCOST ITEMS (Data Entry)'!$A$3:$A$504,0),2),\"\"))),\"\")=0,\"\",IFERROR(INDIRECT(CONCATENATE(\"'UNITCOST ITEMS (Data Entry)'!G\",IFERROR(SUM(MATCH(A378,'UNITCOST ITEMS (Data Entry)'!$A$3:$A$504,0),2),\"\"))),\"\"))","v":""},{"$f":"IF(IFERROR(INDIRECT(CONCATENATE(\"'UNITCOST ITEMS (Data Entry)'!H\",IFERROR(SUM(MATCH(A378,'UNITCOST ITEMS (Data Entry)'!$A$3:$A$504,0),2),\"\"))),\"\")=0,\"\",IFERROR(INDIRECT(CONCATENATE(\"'UNITCOST ITEMS (Data Entry)'!H\",IFERROR(SUM(MATCH(A378,'UNITCOST ITEMS (Data Entry)'!$A$3:$A$504,0),2),\"\"))),\"\"))","v":""},{"$f":"IF(IFERROR(INDIRECT(CONCATENATE(\"'UNITCOST ITEMS (Data Entry)'!I\",IFERROR(SUM(MATCH(A378,'UNITCOST ITEMS (Data Entry)'!$A$3:$A$504,0),2),\"\"))),\"\")=0,\"\",IFERROR(INDIRECT(CONCATENATE(\"'UNITCOST ITEMS (Data Entry)'!I\",IFERROR(SUM(MATCH(A378,'UNITCOST ITEMS (Data Entry)'!$A$3:$A$504,0),2),\"\"))),\"\"))","v":""},{"$f":"IF(K378=2,\"\",IF(IFERROR(INDIRECT(CONCATENATE(\"'UNITCOST ITEMS (Data Entry)'!J\",IFERROR(SUM(MATCH(A378,'UNITCOST ITEMS (Data Entry)'!$A$3:$A$504,0),2),\"\"))),\"\")=0,\"\",IFERROR(INDIRECT(CONCATENATE(\"'UNITCOST ITEMS (Data Entry)'!J\",IFERROR(SUM(MATCH(A378,'UNITCOST ITEMS (Data Entry)'!$A$3:$A$504,0),2),\"\"))),\"\")))","v":""},null,{"$f":"IF(IFERROR(INDIRECT(CONCATENATE(\"'UNITCOST ITEMS (Data Entry)'!C\",IFERROR(SUM(MATCH(A378,'UNITCOST ITEMS (Data Entry)'!$A$3:$A$504,0),2),\"\"))),\"\")=0,\"\",IFERROR(INDIRECT(CONCATENATE(\"'UNITCOST ITEMS (Data Entry)'!C\",IFERROR(SUM(MATCH(A378,'UNITCOST ITEMS (Data Entry)'!$A$3:$A$504,0),2),\"\"))),\"\"))","v":""},""]
[371,{"$f":"IF(IFERROR(INDIRECT(CONCATENATE(\"'UNITCOST ITEMS (Data Entry)'!D\",IFERROR(SUM(MATCH(A379,'UNITCOST ITEMS (Data Entry)'!$A$3:$A$504,0),2),\"\"))),\"\")=0,\"\",IFERROR(INDIRECT(CONCATENATE(\"'UNITCOST ITEMS (Data Entry)'!D\",IFERROR(SUM(MATCH(A379,'UNITCOST ITEMS (Data Entry)'!$A$3:$A$504,0),2),\"\"))),\"\"))","v":""},{"$f":"IF(IFERROR(INDIRECT(CONCATENATE(\"'UNITCOST ITEMS (Data Entry)'!E\",IFERROR(SUM(MATCH(A379,'UNITCOST ITEMS (Data Entry)'!$A$3:$A$504,0),2),\"\"))),\"\")=0,\"\",IFERROR(INDIRECT(CONCATENATE(\"'UNITCOST ITEMS (Data Entry)'!E\",IFERROR(SUM(MATCH(A379,'UNITCOST ITEMS (Data Entry)'!$A$3:$A$504,0),2),\"\"))),\"\"))","v":""},null,{"$f":"IF(IFERROR(INDIRECT(CONCATENATE(\"'UNITCOST ITEMS (Data Entry)'!F\",IFERROR(SUM(MATCH(A379,'UNITCOST ITEMS (Data Entry)'!$A$3:$A$504,0),2),\"\"))),\"\")=0,\"\",IFERROR(INDIRECT(CONCATENATE(\"'UNITCOST ITEMS (Data Entry)'!F\",IFERROR(SUM(MATCH(A379,'UNITCOST ITEMS (Data Entry)'!$A$3:$A$504,0),2),\"\"))),\"\"))","v":""},{"$f":"IF(IFERROR(INDIRECT(CONCATENATE(\"'UNITCOST ITEMS (Data Entry)'!G\",IFERROR(SUM(MATCH(A379,'UNITCOST ITEMS (Data Entry)'!$A$3:$A$504,0),2),\"\"))),\"\")=0,\"\",IFERROR(INDIRECT(CONCATENATE(\"'UNITCOST ITEMS (Data Entry)'!G\",IFERROR(SUM(MATCH(A379,'UNITCOST ITEMS (Data Entry)'!$A$3:$A$504,0),2),\"\"))),\"\"))","v":""},{"$f":"IF(IFERROR(INDIRECT(CONCATENATE(\"'UNITCOST ITEMS (Data Entry)'!H\",IFERROR(SUM(MATCH(A379,'UNITCOST ITEMS (Data Entry)'!$A$3:$A$504,0),2),\"\"))),\"\")=0,\"\",IFERROR(INDIRECT(CONCATENATE(\"'UNITCOST ITEMS (Data Entry)'!H\",IFERROR(SUM(MATCH(A379,'UNITCOST ITEMS (Data Entry)'!$A$3:$A$504,0),2),\"\"))),\"\"))","v":""},{"$f":"IF(IFERROR(INDIRECT(CONCATENATE(\"'UNITCOST ITEMS (Data Entry)'!I\",IFERROR(SUM(MATCH(A379,'UNITCOST ITEMS (Data Entry)'!$A$3:$A$504,0),2),\"\"))),\"\")=0,\"\",IFERROR(INDIRECT(CONCATENATE(\"'UNITCOST ITEMS (Data Entry)'!I\",IFERROR(SUM(MATCH(A379,'UNITCOST ITEMS (Data Entry)'!$A$3:$A$504,0),2),\"\"))),\"\"))","v":""},{"$f":"IF(K379=2,\"\",IF(IFERROR(INDIRECT(CONCATENATE(\"'UNITCOST ITEMS (Data Entry)'!J\",IFERROR(SUM(MATCH(A379,'UNITCOST ITEMS (Data Entry)'!$A$3:$A$504,0),2),\"\"))),\"\")=0,\"\",IFERROR(INDIRECT(CONCATENATE(\"'UNITCOST ITEMS (Data Entry)'!J\",IFERROR(SUM(MATCH(A379,'UNITCOST ITEMS (Data Entry)'!$A$3:$A$504,0),2),\"\"))),\"\")))","v":""},null,{"$f":"IF(IFERROR(INDIRECT(CONCATENATE(\"'UNITCOST ITEMS (Data Entry)'!C\",IFERROR(SUM(MATCH(A379,'UNITCOST ITEMS (Data Entry)'!$A$3:$A$504,0),2),\"\"))),\"\")=0,\"\",IFERROR(INDIRECT(CONCATENATE(\"'UNITCOST ITEMS (Data Entry)'!C\",IFERROR(SUM(MATCH(A379,'UNITCOST ITEMS (Data Entry)'!$A$3:$A$504,0),2),\"\"))),\"\"))","v":""},""]
[372,{"$f":"IF(IFERROR(INDIRECT(CONCATENATE(\"'UNITCOST ITEMS (Data Entry)'!D\",IFERROR(SUM(MATCH(A380,'UNITCOST ITEMS (Data Entry)'!$A$3:$A$504,0),2),\"\"))),\"\")=0,\"\",IFERROR(INDIRECT(CONCATENATE(\"'UNITCOST ITEMS (Data Entry)'!D\",IFERROR(SUM(MATCH(A380,'UNITCOST ITEMS (Data Entry)'!$A$3:$A$504,0),2),\"\"))),\"\"))","v":""},{"$f":"IF(IFERROR(INDIRECT(CONCATENATE(\"'UNITCOST ITEMS (Data Entry)'!E\",IFERROR(SUM(MATCH(A380,'UNITCOST ITEMS (Data Entry)'!$A$3:$A$504,0),2),\"\"))),\"\")=0,\"\",IFERROR(INDIRECT(CONCATENATE(\"'UNITCOST ITEMS (Data Entry)'!E\",IFERROR(SUM(MATCH(A380,'UNITCOST ITEMS (Data Entry)'!$A$3:$A$504,0),2),\"\"))),\"\"))","v":""},null,{"$f":"IF(IFERROR(INDIRECT(CONCATENATE(\"'UNITCOST ITEMS (Data Entry)'!F\",IFERROR(SUM(MATCH(A380,'UNITCOST ITEMS (Data Entry)'!$A$3:$A$504,0),2),\"\"))),\"\")=0,\"\",IFERROR(INDIRECT(CONCATENATE(\"'UNITCOST ITEMS (Data Entry)'!F\",IFERROR(SUM(MATCH(A380,'UNITCOST ITEMS (Data Entry)'!$A$3:$A$504,0),2),\"\"))),\"\"))","v":""},{"$f":"IF(IFERROR(INDIRECT(CONCATENATE(\"'UNITCOST ITEMS (Data Entry)'!G\",IFERROR(SUM(MATCH(A380,'UNITCOST ITEMS (Data Entry)'!$A$3:$A$504,0),2),\"\"))),\"\")=0,\"\",IFERROR(INDIRECT(CONCATENATE(\"'UNITCOST ITEMS (Data Entry)'!G\",IFERROR(SUM(MATCH(A380,'UNITCOST ITEMS (Data Entry)'!$A$3:$A$504,0),2),\"\"))),\"\"))","v":""},{"$f":"IF(IFERROR(INDIRECT(CONCATENATE(\"'UNITCOST ITEMS (Data Entry)'!H\",IFERROR(SUM(MATCH(A380,'UNITCOST ITEMS (Data Entry)'!$A$3:$A$504,0),2),\"\"))),\"\")=0,\"\",IFERROR(INDIRECT(CONCATENATE(\"'UNITCOST ITEMS (Data Entry)'!H\",IFERROR(SUM(MATCH(A380,'UNITCOST ITEMS (Data Entry)'!$A$3:$A$504,0),2),\"\"))),\"\"))","v":""},{"$f":"IF(IFERROR(INDIRECT(CONCATENATE(\"'UNITCOST ITEMS (Data Entry)'!I\",IFERROR(SUM(MATCH(A380,'UNITCOST ITEMS (Data Entry)'!$A$3:$A$504,0),2),\"\"))),\"\")=0,\"\",IFERROR(INDIRECT(CONCATENATE(\"'UNITCOST ITEMS (Data Entry)'!I\",IFERROR(SUM(MATCH(A380,'UNITCOST ITEMS (Data Entry)'!$A$3:$A$504,0),2),\"\"))),\"\"))","v":""},{"$f":"IF(K380=2,\"\",IF(IFERROR(INDIRECT(CONCATENATE(\"'UNITCOST ITEMS (Data Entry)'!J\",IFERROR(SUM(MATCH(A380,'UNITCOST ITEMS (Data Entry)'!$A$3:$A$504,0),2),\"\"))),\"\")=0,\"\",IFERROR(INDIRECT(CONCATENATE(\"'UNITCOST ITEMS (Data Entry)'!J\",IFERROR(SUM(MATCH(A380,'UNITCOST ITEMS (Data Entry)'!$A$3:$A$504,0),2),\"\"))),\"\")))","v":""},null,{"$f":"IF(IFERROR(INDIRECT(CONCATENATE(\"'UNITCOST ITEMS (Data Entry)'!C\",IFERROR(SUM(MATCH(A380,'UNITCOST ITEMS (Data Entry)'!$A$3:$A$504,0),2),\"\"))),\"\")=0,\"\",IFERROR(INDIRECT(CONCATENATE(\"'UNITCOST ITEMS (Data Entry)'!C\",IFERROR(SUM(MATCH(A380,'UNITCOST ITEMS (Data Entry)'!$A$3:$A$504,0),2),\"\"))),\"\"))","v":""},""]
[373,{"$f":"IF(IFERROR(INDIRECT(CONCATENATE(\"'UNITCOST ITEMS (Data Entry)'!D\",IFERROR(SUM(MATCH(A381,'UNITCOST ITEMS (Data Entry)'!$A$3:$A$504,0),2),\"\"))),\"\")=0,\"\",IFERROR(INDIRECT(CONCATENATE(\"'UNITCOST ITEMS (Data Entry)'!D\",IFERROR(SUM(MATCH(A381,'UNITCOST ITEMS (Data Entry)'!$A$3:$A$504,0),2),\"\"))),\"\"))","v":""},{"$f":"IF(IFERROR(INDIRECT(CONCATENATE(\"'UNITCOST ITEMS (Data Entry)'!E\",IFERROR(SUM(MATCH(A381,'UNITCOST ITEMS (Data Entry)'!$A$3:$A$504,0),2),\"\"))),\"\")=0,\"\",IFERROR(INDIRECT(CONCATENATE(\"'UNITCOST ITEMS (Data Entry)'!E\",IFERROR(SUM(MATCH(A381,'UNITCOST ITEMS (Data Entry)'!$A$3:$A$504,0),2),\"\"))),\"\"))","v":""},null,{"$f":"IF(IFERROR(INDIRECT(CONCATENATE(\"'UNITCOST ITEMS (Data Entry)'!F\",IFERROR(SUM(MATCH(A381,'UNITCOST ITEMS (Data Entry)'!$A$3:$A$504,0),2),\"\"))),\"\")=0,\"\",IFERROR(INDIRECT(CONCATENATE(\"'UNITCOST ITEMS (Data Entry)'!F\",IFERROR(SUM(MATCH(A381,'UNITCOST ITEMS (Data Entry)'!$A$3:$A$504,0),2),\"\"))),\"\"))","v":""},{"$f":"IF(IFERROR(INDIRECT(CONCATENATE(\"'UNITCOST ITEMS (Data Entry)'!G\",IFERROR(SUM(MATCH(A381,'UNITCOST ITEMS (Data Entry)'!$A$3:$A$504,0),2),\"\"))),\"\")=0,\"\",IFERROR(INDIRECT(CONCATENATE(\"'UNITCOST ITEMS (Data Entry)'!G\",IFERROR(SUM(MATCH(A381,'UNITCOST ITEMS (Data Entry)'!$A$3:$A$504,0),2),\"\"))),\"\"))","v":""},{"$f":"IF(IFERROR(INDIRECT(CONCATENATE(\"'UNITCOST ITEMS (Data Entry)'!H\",IFERROR(SUM(MATCH(A381,'UNITCOST ITEMS (Data Entry)'!$A$3:$A$504,0),2),\"\"))),\"\")=0,\"\",IFERROR(INDIRECT(CONCATENATE(\"'UNITCOST ITEMS (Data Entry)'!H\",IFERROR(SUM(MATCH(A381,'UNITCOST ITEMS (Data Entry)'!$A$3:$A$504,0),2),\"\"))),\"\"))","v":""},{"$f":"IF(IFERROR(INDIRECT(CONCATENATE(\"'UNITCOST ITEMS (Data Entry)'!I\",IFERROR(SUM(MATCH(A381,'UNITCOST ITEMS (Data Entry)'!$A$3:$A$504,0),2),\"\"))),\"\")=0,\"\",IFERROR(INDIRECT(CONCATENATE(\"'UNITCOST ITEMS (Data Entry)'!I\",IFERROR(SUM(MATCH(A381,'UNITCOST ITEMS (Data Entry)'!$A$3:$A$504,0),2),\"\"))),\"\"))","v":""},{"$f":"IF(K381=2,\"\",IF(IFERROR(INDIRECT(CONCATENATE(\"'UNITCOST ITEMS (Data Entry)'!J\",IFERROR(SUM(MATCH(A381,'UNITCOST ITEMS (Data Entry)'!$A$3:$A$504,0),2),\"\"))),\"\")=0,\"\",IFERROR(INDIRECT(CONCATENATE(\"'UNITCOST ITEMS (Data Entry)'!J\",IFERROR(SUM(MATCH(A381,'UNITCOST ITEMS (Data Entry)'!$A$3:$A$504,0),2),\"\"))),\"\")))","v":""},null,{"$f":"IF(IFERROR(INDIRECT(CONCATENATE(\"'UNITCOST ITEMS (Data Entry)'!C\",IFERROR(SUM(MATCH(A381,'UNITCOST ITEMS (Data Entry)'!$A$3:$A$504,0),2),\"\"))),\"\")=0,\"\",IFERROR(INDIRECT(CONCATENATE(\"'UNITCOST ITEMS (Data Entry)'!C\",IFERROR(SUM(MATCH(A381,'UNITCOST ITEMS (Data Entry)'!$A$3:$A$504,0),2),\"\"))),\"\"))","v":""},""]
[374,{"$f":"IF(IFERROR(INDIRECT(CONCATENATE(\"'UNITCOST ITEMS (Data Entry)'!D\",IFERROR(SUM(MATCH(A382,'UNITCOST ITEMS (Data Entry)'!$A$3:$A$504,0),2),\"\"))),\"\")=0,\"\",IFERROR(INDIRECT(CONCATENATE(\"'UNITCOST ITEMS (Data Entry)'!D\",IFERROR(SUM(MATCH(A382,'UNITCOST ITEMS (Data Entry)'!$A$3:$A$504,0),2),\"\"))),\"\"))","v":""},{"$f":"IF(IFERROR(INDIRECT(CONCATENATE(\"'UNITCOST ITEMS (Data Entry)'!E\",IFERROR(SUM(MATCH(A382,'UNITCOST ITEMS (Data Entry)'!$A$3:$A$504,0),2),\"\"))),\"\")=0,\"\",IFERROR(INDIRECT(CONCATENATE(\"'UNITCOST ITEMS (Data Entry)'!E\",IFERROR(SUM(MATCH(A382,'UNITCOST ITEMS (Data Entry)'!$A$3:$A$504,0),2),\"\"))),\"\"))","v":""},null,{"$f":"IF(IFERROR(INDIRECT(CONCATENATE(\"'UNITCOST ITEMS (Data Entry)'!F\",IFERROR(SUM(MATCH(A382,'UNITCOST ITEMS (Data Entry)'!$A$3:$A$504,0),2),\"\"))),\"\")=0,\"\",IFERROR(INDIRECT(CONCATENATE(\"'UNITCOST ITEMS (Data Entry)'!F\",IFERROR(SUM(MATCH(A382,'UNITCOST ITEMS (Data Entry)'!$A$3:$A$504,0),2),\"\"))),\"\"))","v":""},{"$f":"IF(IFERROR(INDIRECT(CONCATENATE(\"'UNITCOST ITEMS (Data Entry)'!G\",IFERROR(SUM(MATCH(A382,'UNITCOST ITEMS (Data Entry)'!$A$3:$A$504,0),2),\"\"))),\"\")=0,\"\",IFERROR(INDIRECT(CONCATENATE(\"'UNITCOST ITEMS (Data Entry)'!G\",IFERROR(SUM(MATCH(A382,'UNITCOST ITEMS (Data Entry)'!$A$3:$A$504,0),2),\"\"))),\"\"))","v":""},{"$f":"IF(IFERROR(INDIRECT(CONCATENATE(\"'UNITCOST ITEMS (Data Entry)'!H\",IFERROR(SUM(MATCH(A382,'UNITCOST ITEMS (Data Entry)'!$A$3:$A$504,0),2),\"\"))),\"\")=0,\"\",IFERROR(INDIRECT(CONCATENATE(\"'UNITCOST ITEMS (Data Entry)'!H\",IFERROR(SUM(MATCH(A382,'UNITCOST ITEMS (Data Entry)'!$A$3:$A$504,0),2),\"\"))),\"\"))","v":""},{"$f":"IF(IFERROR(INDIRECT(CONCATENATE(\"'UNITCOST ITEMS (Data Entry)'!I\",IFERROR(SUM(MATCH(A382,'UNITCOST ITEMS (Data Entry)'!$A$3:$A$504,0),2),\"\"))),\"\")=0,\"\",IFERROR(INDIRECT(CONCATENATE(\"'UNITCOST ITEMS (Data Entry)'!I\",IFERROR(SUM(MATCH(A382,'UNITCOST ITEMS (Data Entry)'!$A$3:$A$504,0),2),\"\"))),\"\"))","v":""},{"$f":"IF(K382=2,\"\",IF(IFERROR(INDIRECT(CONCATENATE(\"'UNITCOST ITEMS (Data Entry)'!J\",IFERROR(SUM(MATCH(A382,'UNITCOST ITEMS (Data Entry)'!$A$3:$A$504,0),2),\"\"))),\"\")=0,\"\",IFERROR(INDIRECT(CONCATENATE(\"'UNITCOST ITEMS (Data Entry)'!J\",IFERROR(SUM(MATCH(A382,'UNITCOST ITEMS (Data Entry)'!$A$3:$A$504,0),2),\"\"))),\"\")))","v":""},null,{"$f":"IF(IFERROR(INDIRECT(CONCATENATE(\"'UNITCOST ITEMS (Data Entry)'!C\",IFERROR(SUM(MATCH(A382,'UNITCOST ITEMS (Data Entry)'!$A$3:$A$504,0),2),\"\"))),\"\")=0,\"\",IFERROR(INDIRECT(CONCATENATE(\"'UNITCOST ITEMS (Data Entry)'!C\",IFERROR(SUM(MATCH(A382,'UNITCOST ITEMS (Data Entry)'!$A$3:$A$504,0),2),\"\"))),\"\"))","v":""},""]
[375,{"$f":"IF(IFERROR(INDIRECT(CONCATENATE(\"'UNITCOST ITEMS (Data Entry)'!D\",IFERROR(SUM(MATCH(A383,'UNITCOST ITEMS (Data Entry)'!$A$3:$A$504,0),2),\"\"))),\"\")=0,\"\",IFERROR(INDIRECT(CONCATENATE(\"'UNITCOST ITEMS (Data Entry)'!D\",IFERROR(SUM(MATCH(A383,'UNITCOST ITEMS (Data Entry)'!$A$3:$A$504,0),2),\"\"))),\"\"))","v":""},{"$f":"IF(IFERROR(INDIRECT(CONCATENATE(\"'UNITCOST ITEMS (Data Entry)'!E\",IFERROR(SUM(MATCH(A383,'UNITCOST ITEMS (Data Entry)'!$A$3:$A$504,0),2),\"\"))),\"\")=0,\"\",IFERROR(INDIRECT(CONCATENATE(\"'UNITCOST ITEMS (Data Entry)'!E\",IFERROR(SUM(MATCH(A383,'UNITCOST ITEMS (Data Entry)'!$A$3:$A$504,0),2),\"\"))),\"\"))","v":""},null,{"$f":"IF(IFERROR(INDIRECT(CONCATENATE(\"'UNITCOST ITEMS (Data Entry)'!F\",IFERROR(SUM(MATCH(A383,'UNITCOST ITEMS (Data Entry)'!$A$3:$A$504,0),2),\"\"))),\"\")=0,\"\",IFERROR(INDIRECT(CONCATENATE(\"'UNITCOST ITEMS (Data Entry)'!F\",IFERROR(SUM(MATCH(A383,'UNITCOST ITEMS (Data Entry)'!$A$3:$A$504,0),2),\"\"))),\"\"))","v":""},{"$f":"IF(IFERROR(INDIRECT(CONCATENATE(\"'UNITCOST ITEMS (Data Entry)'!G\",IFERROR(SUM(MATCH(A383,'UNITCOST ITEMS (Data Entry)'!$A$3:$A$504,0),2),\"\"))),\"\")=0,\"\",IFERROR(INDIRECT(CONCATENATE(\"'UNITCOST ITEMS (Data Entry)'!G\",IFERROR(SUM(MATCH(A383,'UNITCOST ITEMS (Data Entry)'!$A$3:$A$504,0),2),\"\"))),\"\"))","v":""},{"$f":"IF(IFERROR(INDIRECT(CONCATENATE(\"'UNITCOST ITEMS (Data Entry)'!H\",IFERROR(SUM(MATCH(A383,'UNITCOST ITEMS (Data Entry)'!$A$3:$A$504,0),2),\"\"))),\"\")=0,\"\",IFERROR(INDIRECT(CONCATENATE(\"'UNITCOST ITEMS (Data Entry)'!H\",IFERROR(SUM(MATCH(A383,'UNITCOST ITEMS (Data Entry)'!$A$3:$A$504,0),2),\"\"))),\"\"))","v":""},{"$f":"IF(IFERROR(INDIRECT(CONCATENATE(\"'UNITCOST ITEMS (Data Entry)'!I\",IFERROR(SUM(MATCH(A383,'UNITCOST ITEMS (Data Entry)'!$A$3:$A$504,0),2),\"\"))),\"\")=0,\"\",IFERROR(INDIRECT(CONCATENATE(\"'UNITCOST ITEMS (Data Entry)'!I\",IFERROR(SUM(MATCH(A383,'UNITCOST ITEMS (Data Entry)'!$A$3:$A$504,0),2),\"\"))),\"\"))","v":""},{"$f":"IF(K383=2,\"\",IF(IFERROR(INDIRECT(CONCATENATE(\"'UNITCOST ITEMS (Data Entry)'!J\",IFERROR(SUM(MATCH(A383,'UNITCOST ITEMS (Data Entry)'!$A$3:$A$504,0),2),\"\"))),\"\")=0,\"\",IFERROR(INDIRECT(CONCATENATE(\"'UNITCOST ITEMS (Data Entry)'!J\",IFERROR(SUM(MATCH(A383,'UNITCOST ITEMS (Data Entry)'!$A$3:$A$504,0),2),\"\"))),\"\")))","v":""},null,{"$f":"IF(IFERROR(INDIRECT(CONCATENATE(\"'UNITCOST ITEMS (Data Entry)'!C\",IFERROR(SUM(MATCH(A383,'UNITCOST ITEMS (Data Entry)'!$A$3:$A$504,0),2),\"\"))),\"\")=0,\"\",IFERROR(INDIRECT(CONCATENATE(\"'UNITCOST ITEMS (Data Entry)'!C\",IFERROR(SUM(MATCH(A383,'UNITCOST ITEMS (Data Entry)'!$A$3:$A$504,0),2),\"\"))),\"\"))","v":""},""]
[376,{"$f":"IF(IFERROR(INDIRECT(CONCATENATE(\"'UNITCOST ITEMS (Data Entry)'!D\",IFERROR(SUM(MATCH(A384,'UNITCOST ITEMS (Data Entry)'!$A$3:$A$504,0),2),\"\"))),\"\")=0,\"\",IFERROR(INDIRECT(CONCATENATE(\"'UNITCOST ITEMS (Data Entry)'!D\",IFERROR(SUM(MATCH(A384,'UNITCOST ITEMS (Data Entry)'!$A$3:$A$504,0),2),\"\"))),\"\"))","v":""},{"$f":"IF(IFERROR(INDIRECT(CONCATENATE(\"'UNITCOST ITEMS (Data Entry)'!E\",IFERROR(SUM(MATCH(A384,'UNITCOST ITEMS (Data Entry)'!$A$3:$A$504,0),2),\"\"))),\"\")=0,\"\",IFERROR(INDIRECT(CONCATENATE(\"'UNITCOST ITEMS (Data Entry)'!E\",IFERROR(SUM(MATCH(A384,'UNITCOST ITEMS (Data Entry)'!$A$3:$A$504,0),2),\"\"))),\"\"))","v":""},null,{"$f":"IF(IFERROR(INDIRECT(CONCATENATE(\"'UNITCOST ITEMS (Data Entry)'!F\",IFERROR(SUM(MATCH(A384,'UNITCOST ITEMS (Data Entry)'!$A$3:$A$504,0),2),\"\"))),\"\")=0,\"\",IFERROR(INDIRECT(CONCATENATE(\"'UNITCOST ITEMS (Data Entry)'!F\",IFERROR(SUM(MATCH(A384,'UNITCOST ITEMS (Data Entry)'!$A$3:$A$504,0),2),\"\"))),\"\"))","v":""},{"$f":"IF(IFERROR(INDIRECT(CONCATENATE(\"'UNITCOST ITEMS (Data Entry)'!G\",IFERROR(SUM(MATCH(A384,'UNITCOST ITEMS (Data Entry)'!$A$3:$A$504,0),2),\"\"))),\"\")=0,\"\",IFERROR(INDIRECT(CONCATENATE(\"'UNITCOST ITEMS (Data Entry)'!G\",IFERROR(SUM(MATCH(A384,'UNITCOST ITEMS (Data Entry)'!$A$3:$A$504,0),2),\"\"))),\"\"))","v":""},{"$f":"IF(IFERROR(INDIRECT(CONCATENATE(\"'UNITCOST ITEMS (Data Entry)'!H\",IFERROR(SUM(MATCH(A384,'UNITCOST ITEMS (Data Entry)'!$A$3:$A$504,0),2),\"\"))),\"\")=0,\"\",IFERROR(INDIRECT(CONCATENATE(\"'UNITCOST ITEMS (Data Entry)'!H\",IFERROR(SUM(MATCH(A384,'UNITCOST ITEMS (Data Entry)'!$A$3:$A$504,0),2),\"\"))),\"\"))","v":""},{"$f":"IF(IFERROR(INDIRECT(CONCATENATE(\"'UNITCOST ITEMS (Data Entry)'!I\",IFERROR(SUM(MATCH(A384,'UNITCOST ITEMS (Data Entry)'!$A$3:$A$504,0),2),\"\"))),\"\")=0,\"\",IFERROR(INDIRECT(CONCATENATE(\"'UNITCOST ITEMS (Data Entry)'!I\",IFERROR(SUM(MATCH(A384,'UNITCOST ITEMS (Data Entry)'!$A$3:$A$504,0),2),\"\"))),\"\"))","v":""},{"$f":"IF(K384=2,\"\",IF(IFERROR(INDIRECT(CONCATENATE(\"'UNITCOST ITEMS (Data Entry)'!J\",IFERROR(SUM(MATCH(A384,'UNITCOST ITEMS (Data Entry)'!$A$3:$A$504,0),2),\"\"))),\"\")=0,\"\",IFERROR(INDIRECT(CONCATENATE(\"'UNITCOST ITEMS (Data Entry)'!J\",IFERROR(SUM(MATCH(A384,'UNITCOST ITEMS (Data Entry)'!$A$3:$A$504,0),2),\"\"))),\"\")))","v":""},null,{"$f":"IF(IFERROR(INDIRECT(CONCATENATE(\"'UNITCOST ITEMS (Data Entry)'!C\",IFERROR(SUM(MATCH(A384,'UNITCOST ITEMS (Data Entry)'!$A$3:$A$504,0),2),\"\"))),\"\")=0,\"\",IFERROR(INDIRECT(CONCATENATE(\"'UNITCOST ITEMS (Data Entry)'!C\",IFERROR(SUM(MATCH(A384,'UNITCOST ITEMS (Data Entry)'!$A$3:$A$504,0),2),\"\"))),\"\"))","v":""},""]
[377,{"$f":"IF(IFERROR(INDIRECT(CONCATENATE(\"'UNITCOST ITEMS (Data Entry)'!D\",IFERROR(SUM(MATCH(A385,'UNITCOST ITEMS (Data Entry)'!$A$3:$A$504,0),2),\"\"))),\"\")=0,\"\",IFERROR(INDIRECT(CONCATENATE(\"'UNITCOST ITEMS (Data Entry)'!D\",IFERROR(SUM(MATCH(A385,'UNITCOST ITEMS (Data Entry)'!$A$3:$A$504,0),2),\"\"))),\"\"))","v":""},{"$f":"IF(IFERROR(INDIRECT(CONCATENATE(\"'UNITCOST ITEMS (Data Entry)'!E\",IFERROR(SUM(MATCH(A385,'UNITCOST ITEMS (Data Entry)'!$A$3:$A$504,0),2),\"\"))),\"\")=0,\"\",IFERROR(INDIRECT(CONCATENATE(\"'UNITCOST ITEMS (Data Entry)'!E\",IFERROR(SUM(MATCH(A385,'UNITCOST ITEMS (Data Entry)'!$A$3:$A$504,0),2),\"\"))),\"\"))","v":""},null,{"$f":"IF(IFERROR(INDIRECT(CONCATENATE(\"'UNITCOST ITEMS (Data Entry)'!F\",IFERROR(SUM(MATCH(A385,'UNITCOST ITEMS (Data Entry)'!$A$3:$A$504,0),2),\"\"))),\"\")=0,\"\",IFERROR(INDIRECT(CONCATENATE(\"'UNITCOST ITEMS (Data Entry)'!F\",IFERROR(SUM(MATCH(A385,'UNITCOST ITEMS (Data Entry)'!$A$3:$A$504,0),2),\"\"))),\"\"))","v":""},{"$f":"IF(IFERROR(INDIRECT(CONCATENATE(\"'UNITCOST ITEMS (Data Entry)'!G\",IFERROR(SUM(MATCH(A385,'UNITCOST ITEMS (Data Entry)'!$A$3:$A$504,0),2),\"\"))),\"\")=0,\"\",IFERROR(INDIRECT(CONCATENATE(\"'UNITCOST ITEMS (Data Entry)'!G\",IFERROR(SUM(MATCH(A385,'UNITCOST ITEMS (Data Entry)'!$A$3:$A$504,0),2),\"\"))),\"\"))","v":""},{"$f":"IF(IFERROR(INDIRECT(CONCATENATE(\"'UNITCOST ITEMS (Data Entry)'!H\",IFERROR(SUM(MATCH(A385,'UNITCOST ITEMS (Data Entry)'!$A$3:$A$504,0),2),\"\"))),\"\")=0,\"\",IFERROR(INDIRECT(CONCATENATE(\"'UNITCOST ITEMS (Data Entry)'!H\",IFERROR(SUM(MATCH(A385,'UNITCOST ITEMS (Data Entry)'!$A$3:$A$504,0),2),\"\"))),\"\"))","v":""},{"$f":"IF(IFERROR(INDIRECT(CONCATENATE(\"'UNITCOST ITEMS (Data Entry)'!I\",IFERROR(SUM(MATCH(A385,'UNITCOST ITEMS (Data Entry)'!$A$3:$A$504,0),2),\"\"))),\"\")=0,\"\",IFERROR(INDIRECT(CONCATENATE(\"'UNITCOST ITEMS (Data Entry)'!I\",IFERROR(SUM(MATCH(A385,'UNITCOST ITEMS (Data Entry)'!$A$3:$A$504,0),2),\"\"))),\"\"))","v":""},{"$f":"IF(K385=2,\"\",IF(IFERROR(INDIRECT(CONCATENATE(\"'UNITCOST ITEMS (Data Entry)'!J\",IFERROR(SUM(MATCH(A385,'UNITCOST ITEMS (Data Entry)'!$A$3:$A$504,0),2),\"\"))),\"\")=0,\"\",IFERROR(INDIRECT(CONCATENATE(\"'UNITCOST ITEMS (Data Entry)'!J\",IFERROR(SUM(MATCH(A385,'UNITCOST ITEMS (Data Entry)'!$A$3:$A$504,0),2),\"\"))),\"\")))","v":""},null,{"$f":"IF(IFERROR(INDIRECT(CONCATENATE(\"'UNITCOST ITEMS (Data Entry)'!C\",IFERROR(SUM(MATCH(A385,'UNITCOST ITEMS (Data Entry)'!$A$3:$A$504,0),2),\"\"))),\"\")=0,\"\",IFERROR(INDIRECT(CONCATENATE(\"'UNITCOST ITEMS (Data Entry)'!C\",IFERROR(SUM(MATCH(A385,'UNITCOST ITEMS (Data Entry)'!$A$3:$A$504,0),2),\"\"))),\"\"))","v":""},""]
[378,{"$f":"IF(IFERROR(INDIRECT(CONCATENATE(\"'UNITCOST ITEMS (Data Entry)'!D\",IFERROR(SUM(MATCH(A386,'UNITCOST ITEMS (Data Entry)'!$A$3:$A$504,0),2),\"\"))),\"\")=0,\"\",IFERROR(INDIRECT(CONCATENATE(\"'UNITCOST ITEMS (Data Entry)'!D\",IFERROR(SUM(MATCH(A386,'UNITCOST ITEMS (Data Entry)'!$A$3:$A$504,0),2),\"\"))),\"\"))","v":""},{"$f":"IF(IFERROR(INDIRECT(CONCATENATE(\"'UNITCOST ITEMS (Data Entry)'!E\",IFERROR(SUM(MATCH(A386,'UNITCOST ITEMS (Data Entry)'!$A$3:$A$504,0),2),\"\"))),\"\")=0,\"\",IFERROR(INDIRECT(CONCATENATE(\"'UNITCOST ITEMS (Data Entry)'!E\",IFERROR(SUM(MATCH(A386,'UNITCOST ITEMS (Data Entry)'!$A$3:$A$504,0),2),\"\"))),\"\"))","v":""},null,{"$f":"IF(IFERROR(INDIRECT(CONCATENATE(\"'UNITCOST ITEMS (Data Entry)'!F\",IFERROR(SUM(MATCH(A386,'UNITCOST ITEMS (Data Entry)'!$A$3:$A$504,0),2),\"\"))),\"\")=0,\"\",IFERROR(INDIRECT(CONCATENATE(\"'UNITCOST ITEMS (Data Entry)'!F\",IFERROR(SUM(MATCH(A386,'UNITCOST ITEMS (Data Entry)'!$A$3:$A$504,0),2),\"\"))),\"\"))","v":""},{"$f":"IF(IFERROR(INDIRECT(CONCATENATE(\"'UNITCOST ITEMS (Data Entry)'!G\",IFERROR(SUM(MATCH(A386,'UNITCOST ITEMS (Data Entry)'!$A$3:$A$504,0),2),\"\"))),\"\")=0,\"\",IFERROR(INDIRECT(CONCATENATE(\"'UNITCOST ITEMS (Data Entry)'!G\",IFERROR(SUM(MATCH(A386,'UNITCOST ITEMS (Data Entry)'!$A$3:$A$504,0),2),\"\"))),\"\"))","v":""},{"$f":"IF(IFERROR(INDIRECT(CONCATENATE(\"'UNITCOST ITEMS (Data Entry)'!H\",IFERROR(SUM(MATCH(A386,'UNITCOST ITEMS (Data Entry)'!$A$3:$A$504,0),2),\"\"))),\"\")=0,\"\",IFERROR(INDIRECT(CONCATENATE(\"'UNITCOST ITEMS (Data Entry)'!H\",IFERROR(SUM(MATCH(A386,'UNITCOST ITEMS (Data Entry)'!$A$3:$A$504,0),2),\"\"))),\"\"))","v":""},{"$f":"IF(IFERROR(INDIRECT(CONCATENATE(\"'UNITCOST ITEMS (Data Entry)'!I\",IFERROR(SUM(MATCH(A386,'UNITCOST ITEMS (Data Entry)'!$A$3:$A$504,0),2),\"\"))),\"\")=0,\"\",IFERROR(INDIRECT(CONCATENATE(\"'UNITCOST ITEMS (Data Entry)'!I\",IFERROR(SUM(MATCH(A386,'UNITCOST ITEMS (Data Entry)'!$A$3:$A$504,0),2),\"\"))),\"\"))","v":""},{"$f":"IF(K386=2,\"\",IF(IFERROR(INDIRECT(CONCATENATE(\"'UNITCOST ITEMS (Data Entry)'!J\",IFERROR(SUM(MATCH(A386,'UNITCOST ITEMS (Data Entry)'!$A$3:$A$504,0),2),\"\"))),\"\")=0,\"\",IFERROR(INDIRECT(CONCATENATE(\"'UNITCOST ITEMS (Data Entry)'!J\",IFERROR(SUM(MATCH(A386,'UNITCOST ITEMS (Data Entry)'!$A$3:$A$504,0),2),\"\"))),\"\")))","v":""},null,{"$f":"IF(IFERROR(INDIRECT(CONCATENATE(\"'UNITCOST ITEMS (Data Entry)'!C\",IFERROR(SUM(MATCH(A386,'UNITCOST ITEMS (Data Entry)'!$A$3:$A$504,0),2),\"\"))),\"\")=0,\"\",IFERROR(INDIRECT(CONCATENATE(\"'UNITCOST ITEMS (Data Entry)'!C\",IFERROR(SUM(MATCH(A386,'UNITCOST ITEMS (Data Entry)'!$A$3:$A$504,0),2),\"\"))),\"\"))","v":""},""]
[379,{"$f":"IF(IFERROR(INDIRECT(CONCATENATE(\"'UNITCOST ITEMS (Data Entry)'!D\",IFERROR(SUM(MATCH(A387,'UNITCOST ITEMS (Data Entry)'!$A$3:$A$504,0),2),\"\"))),\"\")=0,\"\",IFERROR(INDIRECT(CONCATENATE(\"'UNITCOST ITEMS (Data Entry)'!D\",IFERROR(SUM(MATCH(A387,'UNITCOST ITEMS (Data Entry)'!$A$3:$A$504,0),2),\"\"))),\"\"))","v":""},{"$f":"IF(IFERROR(INDIRECT(CONCATENATE(\"'UNITCOST ITEMS (Data Entry)'!E\",IFERROR(SUM(MATCH(A387,'UNITCOST ITEMS (Data Entry)'!$A$3:$A$504,0),2),\"\"))),\"\")=0,\"\",IFERROR(INDIRECT(CONCATENATE(\"'UNITCOST ITEMS (Data Entry)'!E\",IFERROR(SUM(MATCH(A387,'UNITCOST ITEMS (Data Entry)'!$A$3:$A$504,0),2),\"\"))),\"\"))","v":""},null,{"$f":"IF(IFERROR(INDIRECT(CONCATENATE(\"'UNITCOST ITEMS (Data Entry)'!F\",IFERROR(SUM(MATCH(A387,'UNITCOST ITEMS (Data Entry)'!$A$3:$A$504,0),2),\"\"))),\"\")=0,\"\",IFERROR(INDIRECT(CONCATENATE(\"'UNITCOST ITEMS (Data Entry)'!F\",IFERROR(SUM(MATCH(A387,'UNITCOST ITEMS (Data Entry)'!$A$3:$A$504,0),2),\"\"))),\"\"))","v":""},{"$f":"IF(IFERROR(INDIRECT(CONCATENATE(\"'UNITCOST ITEMS (Data Entry)'!G\",IFERROR(SUM(MATCH(A387,'UNITCOST ITEMS (Data Entry)'!$A$3:$A$504,0),2),\"\"))),\"\")=0,\"\",IFERROR(INDIRECT(CONCATENATE(\"'UNITCOST ITEMS (Data Entry)'!G\",IFERROR(SUM(MATCH(A387,'UNITCOST ITEMS (Data Entry)'!$A$3:$A$504,0),2),\"\"))),\"\"))","v":""},{"$f":"IF(IFERROR(INDIRECT(CONCATENATE(\"'UNITCOST ITEMS (Data Entry)'!H\",IFERROR(SUM(MATCH(A387,'UNITCOST ITEMS (Data Entry)'!$A$3:$A$504,0),2),\"\"))),\"\")=0,\"\",IFERROR(INDIRECT(CONCATENATE(\"'UNITCOST ITEMS (Data Entry)'!H\",IFERROR(SUM(MATCH(A387,'UNITCOST ITEMS (Data Entry)'!$A$3:$A$504,0),2),\"\"))),\"\"))","v":""},{"$f":"IF(IFERROR(INDIRECT(CONCATENATE(\"'UNITCOST ITEMS (Data Entry)'!I\",IFERROR(SUM(MATCH(A387,'UNITCOST ITEMS (Data Entry)'!$A$3:$A$504,0),2),\"\"))),\"\")=0,\"\",IFERROR(INDIRECT(CONCATENATE(\"'UNITCOST ITEMS (Data Entry)'!I\",IFERROR(SUM(MATCH(A387,'UNITCOST ITEMS (Data Entry)'!$A$3:$A$504,0),2),\"\"))),\"\"))","v":""},{"$f":"IF(K387=2,\"\",IF(IFERROR(INDIRECT(CONCATENATE(\"'UNITCOST ITEMS (Data Entry)'!J\",IFERROR(SUM(MATCH(A387,'UNITCOST ITEMS (Data Entry)'!$A$3:$A$504,0),2),\"\"))),\"\")=0,\"\",IFERROR(INDIRECT(CONCATENATE(\"'UNITCOST ITEMS (Data Entry)'!J\",IFERROR(SUM(MATCH(A387,'UNITCOST ITEMS (Data Entry)'!$A$3:$A$504,0),2),\"\"))),\"\")))","v":""},null,{"$f":"IF(IFERROR(INDIRECT(CONCATENATE(\"'UNITCOST ITEMS (Data Entry)'!C\",IFERROR(SUM(MATCH(A387,'UNITCOST ITEMS (Data Entry)'!$A$3:$A$504,0),2),\"\"))),\"\")=0,\"\",IFERROR(INDIRECT(CONCATENATE(\"'UNITCOST ITEMS (Data Entry)'!C\",IFERROR(SUM(MATCH(A387,'UNITCOST ITEMS (Data Entry)'!$A$3:$A$504,0),2),\"\"))),\"\"))","v":""},""]
[380,{"$f":"IF(IFERROR(INDIRECT(CONCATENATE(\"'UNITCOST ITEMS (Data Entry)'!D\",IFERROR(SUM(MATCH(A388,'UNITCOST ITEMS (Data Entry)'!$A$3:$A$504,0),2),\"\"))),\"\")=0,\"\",IFERROR(INDIRECT(CONCATENATE(\"'UNITCOST ITEMS (Data Entry)'!D\",IFERROR(SUM(MATCH(A388,'UNITCOST ITEMS (Data Entry)'!$A$3:$A$504,0),2),\"\"))),\"\"))","v":""},{"$f":"IF(IFERROR(INDIRECT(CONCATENATE(\"'UNITCOST ITEMS (Data Entry)'!E\",IFERROR(SUM(MATCH(A388,'UNITCOST ITEMS (Data Entry)'!$A$3:$A$504,0),2),\"\"))),\"\")=0,\"\",IFERROR(INDIRECT(CONCATENATE(\"'UNITCOST ITEMS (Data Entry)'!E\",IFERROR(SUM(MATCH(A388,'UNITCOST ITEMS (Data Entry)'!$A$3:$A$504,0),2),\"\"))),\"\"))","v":""},null,{"$f":"IF(IFERROR(INDIRECT(CONCATENATE(\"'UNITCOST ITEMS (Data Entry)'!F\",IFERROR(SUM(MATCH(A388,'UNITCOST ITEMS (Data Entry)'!$A$3:$A$504,0),2),\"\"))),\"\")=0,\"\",IFERROR(INDIRECT(CONCATENATE(\"'UNITCOST ITEMS (Data Entry)'!F\",IFERROR(SUM(MATCH(A388,'UNITCOST ITEMS (Data Entry)'!$A$3:$A$504,0),2),\"\"))),\"\"))","v":""},{"$f":"IF(IFERROR(INDIRECT(CONCATENATE(\"'UNITCOST ITEMS (Data Entry)'!G\",IFERROR(SUM(MATCH(A388,'UNITCOST ITEMS (Data Entry)'!$A$3:$A$504,0),2),\"\"))),\"\")=0,\"\",IFERROR(INDIRECT(CONCATENATE(\"'UNITCOST ITEMS (Data Entry)'!G\",IFERROR(SUM(MATCH(A388,'UNITCOST ITEMS (Data Entry)'!$A$3:$A$504,0),2),\"\"))),\"\"))","v":""},{"$f":"IF(IFERROR(INDIRECT(CONCATENATE(\"'UNITCOST ITEMS (Data Entry)'!H\",IFERROR(SUM(MATCH(A388,'UNITCOST ITEMS (Data Entry)'!$A$3:$A$504,0),2),\"\"))),\"\")=0,\"\",IFERROR(INDIRECT(CONCATENATE(\"'UNITCOST ITEMS (Data Entry)'!H\",IFERROR(SUM(MATCH(A388,'UNITCOST ITEMS (Data Entry)'!$A$3:$A$504,0),2),\"\"))),\"\"))","v":""},{"$f":"IF(IFERROR(INDIRECT(CONCATENATE(\"'UNITCOST ITEMS (Data Entry)'!I\",IFERROR(SUM(MATCH(A388,'UNITCOST ITEMS (Data Entry)'!$A$3:$A$504,0),2),\"\"))),\"\")=0,\"\",IFERROR(INDIRECT(CONCATENATE(\"'UNITCOST ITEMS (Data Entry)'!I\",IFERROR(SUM(MATCH(A388,'UNITCOST ITEMS (Data Entry)'!$A$3:$A$504,0),2),\"\"))),\"\"))","v":""},{"$f":"IF(K388=2,\"\",IF(IFERROR(INDIRECT(CONCATENATE(\"'UNITCOST ITEMS (Data Entry)'!J\",IFERROR(SUM(MATCH(A388,'UNITCOST ITEMS (Data Entry)'!$A$3:$A$504,0),2),\"\"))),\"\")=0,\"\",IFERROR(INDIRECT(CONCATENATE(\"'UNITCOST ITEMS (Data Entry)'!J\",IFERROR(SUM(MATCH(A388,'UNITCOST ITEMS (Data Entry)'!$A$3:$A$504,0),2),\"\"))),\"\")))","v":""},null,{"$f":"IF(IFERROR(INDIRECT(CONCATENATE(\"'UNITCOST ITEMS (Data Entry)'!C\",IFERROR(SUM(MATCH(A388,'UNITCOST ITEMS (Data Entry)'!$A$3:$A$504,0),2),\"\"))),\"\")=0,\"\",IFERROR(INDIRECT(CONCATENATE(\"'UNITCOST ITEMS (Data Entry)'!C\",IFERROR(SUM(MATCH(A388,'UNITCOST ITEMS (Data Entry)'!$A$3:$A$504,0),2),\"\"))),\"\"))","v":""},""]
[381,{"$f":"IF(IFERROR(INDIRECT(CONCATENATE(\"'UNITCOST ITEMS (Data Entry)'!D\",IFERROR(SUM(MATCH(A389,'UNITCOST ITEMS (Data Entry)'!$A$3:$A$504,0),2),\"\"))),\"\")=0,\"\",IFERROR(INDIRECT(CONCATENATE(\"'UNITCOST ITEMS (Data Entry)'!D\",IFERROR(SUM(MATCH(A389,'UNITCOST ITEMS (Data Entry)'!$A$3:$A$504,0),2),\"\"))),\"\"))","v":""},{"$f":"IF(IFERROR(INDIRECT(CONCATENATE(\"'UNITCOST ITEMS (Data Entry)'!E\",IFERROR(SUM(MATCH(A389,'UNITCOST ITEMS (Data Entry)'!$A$3:$A$504,0),2),\"\"))),\"\")=0,\"\",IFERROR(INDIRECT(CONCATENATE(\"'UNITCOST ITEMS (Data Entry)'!E\",IFERROR(SUM(MATCH(A389,'UNITCOST ITEMS (Data Entry)'!$A$3:$A$504,0),2),\"\"))),\"\"))","v":""},null,{"$f":"IF(IFERROR(INDIRECT(CONCATENATE(\"'UNITCOST ITEMS (Data Entry)'!F\",IFERROR(SUM(MATCH(A389,'UNITCOST ITEMS (Data Entry)'!$A$3:$A$504,0),2),\"\"))),\"\")=0,\"\",IFERROR(INDIRECT(CONCATENATE(\"'UNITCOST ITEMS (Data Entry)'!F\",IFERROR(SUM(MATCH(A389,'UNITCOST ITEMS (Data Entry)'!$A$3:$A$504,0),2),\"\"))),\"\"))","v":""},{"$f":"IF(IFERROR(INDIRECT(CONCATENATE(\"'UNITCOST ITEMS (Data Entry)'!G\",IFERROR(SUM(MATCH(A389,'UNITCOST ITEMS (Data Entry)'!$A$3:$A$504,0),2),\"\"))),\"\")=0,\"\",IFERROR(INDIRECT(CONCATENATE(\"'UNITCOST ITEMS (Data Entry)'!G\",IFERROR(SUM(MATCH(A389,'UNITCOST ITEMS (Data Entry)'!$A$3:$A$504,0),2),\"\"))),\"\"))","v":""},{"$f":"IF(IFERROR(INDIRECT(CONCATENATE(\"'UNITCOST ITEMS (Data Entry)'!H\",IFERROR(SUM(MATCH(A389,'UNITCOST ITEMS (Data Entry)'!$A$3:$A$504,0),2),\"\"))),\"\")=0,\"\",IFERROR(INDIRECT(CONCATENATE(\"'UNITCOST ITEMS (Data Entry)'!H\",IFERROR(SUM(MATCH(A389,'UNITCOST ITEMS (Data Entry)'!$A$3:$A$504,0),2),\"\"))),\"\"))","v":""},{"$f":"IF(IFERROR(INDIRECT(CONCATENATE(\"'UNITCOST ITEMS (Data Entry)'!I\",IFERROR(SUM(MATCH(A389,'UNITCOST ITEMS (Data Entry)'!$A$3:$A$504,0),2),\"\"))),\"\")=0,\"\",IFERROR(INDIRECT(CONCATENATE(\"'UNITCOST ITEMS (Data Entry)'!I\",IFERROR(SUM(MATCH(A389,'UNITCOST ITEMS (Data Entry)'!$A$3:$A$504,0),2),\"\"))),\"\"))","v":""},{"$f":"IF(K389=2,\"\",IF(IFERROR(INDIRECT(CONCATENATE(\"'UNITCOST ITEMS (Data Entry)'!J\",IFERROR(SUM(MATCH(A389,'UNITCOST ITEMS (Data Entry)'!$A$3:$A$504,0),2),\"\"))),\"\")=0,\"\",IFERROR(INDIRECT(CONCATENATE(\"'UNITCOST ITEMS (Data Entry)'!J\",IFERROR(SUM(MATCH(A389,'UNITCOST ITEMS (Data Entry)'!$A$3:$A$504,0),2),\"\"))),\"\")))","v":""},null,{"$f":"IF(IFERROR(INDIRECT(CONCATENATE(\"'UNITCOST ITEMS (Data Entry)'!C\",IFERROR(SUM(MATCH(A389,'UNITCOST ITEMS (Data Entry)'!$A$3:$A$504,0),2),\"\"))),\"\")=0,\"\",IFERROR(INDIRECT(CONCATENATE(\"'UNITCOST ITEMS (Data Entry)'!C\",IFERROR(SUM(MATCH(A389,'UNITCOST ITEMS (Data Entry)'!$A$3:$A$504,0),2),\"\"))),\"\"))","v":""},""]
[382,{"$f":"IF(IFERROR(INDIRECT(CONCATENATE(\"'UNITCOST ITEMS (Data Entry)'!D\",IFERROR(SUM(MATCH(A390,'UNITCOST ITEMS (Data Entry)'!$A$3:$A$504,0),2),\"\"))),\"\")=0,\"\",IFERROR(INDIRECT(CONCATENATE(\"'UNITCOST ITEMS (Data Entry)'!D\",IFERROR(SUM(MATCH(A390,'UNITCOST ITEMS (Data Entry)'!$A$3:$A$504,0),2),\"\"))),\"\"))","v":""},{"$f":"IF(IFERROR(INDIRECT(CONCATENATE(\"'UNITCOST ITEMS (Data Entry)'!E\",IFERROR(SUM(MATCH(A390,'UNITCOST ITEMS (Data Entry)'!$A$3:$A$504,0),2),\"\"))),\"\")=0,\"\",IFERROR(INDIRECT(CONCATENATE(\"'UNITCOST ITEMS (Data Entry)'!E\",IFERROR(SUM(MATCH(A390,'UNITCOST ITEMS (Data Entry)'!$A$3:$A$504,0),2),\"\"))),\"\"))","v":""},null,{"$f":"IF(IFERROR(INDIRECT(CONCATENATE(\"'UNITCOST ITEMS (Data Entry)'!F\",IFERROR(SUM(MATCH(A390,'UNITCOST ITEMS (Data Entry)'!$A$3:$A$504,0),2),\"\"))),\"\")=0,\"\",IFERROR(INDIRECT(CONCATENATE(\"'UNITCOST ITEMS (Data Entry)'!F\",IFERROR(SUM(MATCH(A390,'UNITCOST ITEMS (Data Entry)'!$A$3:$A$504,0),2),\"\"))),\"\"))","v":""},{"$f":"IF(IFERROR(INDIRECT(CONCATENATE(\"'UNITCOST ITEMS (Data Entry)'!G\",IFERROR(SUM(MATCH(A390,'UNITCOST ITEMS (Data Entry)'!$A$3:$A$504,0),2),\"\"))),\"\")=0,\"\",IFERROR(INDIRECT(CONCATENATE(\"'UNITCOST ITEMS (Data Entry)'!G\",IFERROR(SUM(MATCH(A390,'UNITCOST ITEMS (Data Entry)'!$A$3:$A$504,0),2),\"\"))),\"\"))","v":""},{"$f":"IF(IFERROR(INDIRECT(CONCATENATE(\"'UNITCOST ITEMS (Data Entry)'!H\",IFERROR(SUM(MATCH(A390,'UNITCOST ITEMS (Data Entry)'!$A$3:$A$504,0),2),\"\"))),\"\")=0,\"\",IFERROR(INDIRECT(CONCATENATE(\"'UNITCOST ITEMS (Data Entry)'!H\",IFERROR(SUM(MATCH(A390,'UNITCOST ITEMS (Data Entry)'!$A$3:$A$504,0),2),\"\"))),\"\"))","v":""},{"$f":"IF(IFERROR(INDIRECT(CONCATENATE(\"'UNITCOST ITEMS (Data Entry)'!I\",IFERROR(SUM(MATCH(A390,'UNITCOST ITEMS (Data Entry)'!$A$3:$A$504,0),2),\"\"))),\"\")=0,\"\",IFERROR(INDIRECT(CONCATENATE(\"'UNITCOST ITEMS (Data Entry)'!I\",IFERROR(SUM(MATCH(A390,'UNITCOST ITEMS (Data Entry)'!$A$3:$A$504,0),2),\"\"))),\"\"))","v":""},{"$f":"IF(K390=2,\"\",IF(IFERROR(INDIRECT(CONCATENATE(\"'UNITCOST ITEMS (Data Entry)'!J\",IFERROR(SUM(MATCH(A390,'UNITCOST ITEMS (Data Entry)'!$A$3:$A$504,0),2),\"\"))),\"\")=0,\"\",IFERROR(INDIRECT(CONCATENATE(\"'UNITCOST ITEMS (Data Entry)'!J\",IFERROR(SUM(MATCH(A390,'UNITCOST ITEMS (Data Entry)'!$A$3:$A$504,0),2),\"\"))),\"\")))","v":""},null,{"$f":"IF(IFERROR(INDIRECT(CONCATENATE(\"'UNITCOST ITEMS (Data Entry)'!C\",IFERROR(SUM(MATCH(A390,'UNITCOST ITEMS (Data Entry)'!$A$3:$A$504,0),2),\"\"))),\"\")=0,\"\",IFERROR(INDIRECT(CONCATENATE(\"'UNITCOST ITEMS (Data Entry)'!C\",IFERROR(SUM(MATCH(A390,'UNITCOST ITEMS (Data Entry)'!$A$3:$A$504,0),2),\"\"))),\"\"))","v":""},""]
[383,{"$f":"IF(IFERROR(INDIRECT(CONCATENATE(\"'UNITCOST ITEMS (Data Entry)'!D\",IFERROR(SUM(MATCH(A391,'UNITCOST ITEMS (Data Entry)'!$A$3:$A$504,0),2),\"\"))),\"\")=0,\"\",IFERROR(INDIRECT(CONCATENATE(\"'UNITCOST ITEMS (Data Entry)'!D\",IFERROR(SUM(MATCH(A391,'UNITCOST ITEMS (Data Entry)'!$A$3:$A$504,0),2),\"\"))),\"\"))","v":""},{"$f":"IF(IFERROR(INDIRECT(CONCATENATE(\"'UNITCOST ITEMS (Data Entry)'!E\",IFERROR(SUM(MATCH(A391,'UNITCOST ITEMS (Data Entry)'!$A$3:$A$504,0),2),\"\"))),\"\")=0,\"\",IFERROR(INDIRECT(CONCATENATE(\"'UNITCOST ITEMS (Data Entry)'!E\",IFERROR(SUM(MATCH(A391,'UNITCOST ITEMS (Data Entry)'!$A$3:$A$504,0),2),\"\"))),\"\"))","v":""},null,{"$f":"IF(IFERROR(INDIRECT(CONCATENATE(\"'UNITCOST ITEMS (Data Entry)'!F\",IFERROR(SUM(MATCH(A391,'UNITCOST ITEMS (Data Entry)'!$A$3:$A$504,0),2),\"\"))),\"\")=0,\"\",IFERROR(INDIRECT(CONCATENATE(\"'UNITCOST ITEMS (Data Entry)'!F\",IFERROR(SUM(MATCH(A391,'UNITCOST ITEMS (Data Entry)'!$A$3:$A$504,0),2),\"\"))),\"\"))","v":""},{"$f":"IF(IFERROR(INDIRECT(CONCATENATE(\"'UNITCOST ITEMS (Data Entry)'!G\",IFERROR(SUM(MATCH(A391,'UNITCOST ITEMS (Data Entry)'!$A$3:$A$504,0),2),\"\"))),\"\")=0,\"\",IFERROR(INDIRECT(CONCATENATE(\"'UNITCOST ITEMS (Data Entry)'!G\",IFERROR(SUM(MATCH(A391,'UNITCOST ITEMS (Data Entry)'!$A$3:$A$504,0),2),\"\"))),\"\"))","v":""},{"$f":"IF(IFERROR(INDIRECT(CONCATENATE(\"'UNITCOST ITEMS (Data Entry)'!H\",IFERROR(SUM(MATCH(A391,'UNITCOST ITEMS (Data Entry)'!$A$3:$A$504,0),2),\"\"))),\"\")=0,\"\",IFERROR(INDIRECT(CONCATENATE(\"'UNITCOST ITEMS (Data Entry)'!H\",IFERROR(SUM(MATCH(A391,'UNITCOST ITEMS (Data Entry)'!$A$3:$A$504,0),2),\"\"))),\"\"))","v":""},{"$f":"IF(IFERROR(INDIRECT(CONCATENATE(\"'UNITCOST ITEMS (Data Entry)'!I\",IFERROR(SUM(MATCH(A391,'UNITCOST ITEMS (Data Entry)'!$A$3:$A$504,0),2),\"\"))),\"\")=0,\"\",IFERROR(INDIRECT(CONCATENATE(\"'UNITCOST ITEMS (Data Entry)'!I\",IFERROR(SUM(MATCH(A391,'UNITCOST ITEMS (Data Entry)'!$A$3:$A$504,0),2),\"\"))),\"\"))","v":""},{"$f":"IF(K391=2,\"\",IF(IFERROR(INDIRECT(CONCATENATE(\"'UNITCOST ITEMS (Data Entry)'!J\",IFERROR(SUM(MATCH(A391,'UNITCOST ITEMS (Data Entry)'!$A$3:$A$504,0),2),\"\"))),\"\")=0,\"\",IFERROR(INDIRECT(CONCATENATE(\"'UNITCOST ITEMS (Data Entry)'!J\",IFERROR(SUM(MATCH(A391,'UNITCOST ITEMS (Data Entry)'!$A$3:$A$504,0),2),\"\"))),\"\")))","v":""},null,{"$f":"IF(IFERROR(INDIRECT(CONCATENATE(\"'UNITCOST ITEMS (Data Entry)'!C\",IFERROR(SUM(MATCH(A391,'UNITCOST ITEMS (Data Entry)'!$A$3:$A$504,0),2),\"\"))),\"\")=0,\"\",IFERROR(INDIRECT(CONCATENATE(\"'UNITCOST ITEMS (Data Entry)'!C\",IFERROR(SUM(MATCH(A391,'UNITCOST ITEMS (Data Entry)'!$A$3:$A$504,0),2),\"\"))),\"\"))","v":""},""]
[384,{"$f":"IF(IFERROR(INDIRECT(CONCATENATE(\"'UNITCOST ITEMS (Data Entry)'!D\",IFERROR(SUM(MATCH(A392,'UNITCOST ITEMS (Data Entry)'!$A$3:$A$504,0),2),\"\"))),\"\")=0,\"\",IFERROR(INDIRECT(CONCATENATE(\"'UNITCOST ITEMS (Data Entry)'!D\",IFERROR(SUM(MATCH(A392,'UNITCOST ITEMS (Data Entry)'!$A$3:$A$504,0),2),\"\"))),\"\"))","v":""},{"$f":"IF(IFERROR(INDIRECT(CONCATENATE(\"'UNITCOST ITEMS (Data Entry)'!E\",IFERROR(SUM(MATCH(A392,'UNITCOST ITEMS (Data Entry)'!$A$3:$A$504,0),2),\"\"))),\"\")=0,\"\",IFERROR(INDIRECT(CONCATENATE(\"'UNITCOST ITEMS (Data Entry)'!E\",IFERROR(SUM(MATCH(A392,'UNITCOST ITEMS (Data Entry)'!$A$3:$A$504,0),2),\"\"))),\"\"))","v":""},null,{"$f":"IF(IFERROR(INDIRECT(CONCATENATE(\"'UNITCOST ITEMS (Data Entry)'!F\",IFERROR(SUM(MATCH(A392,'UNITCOST ITEMS (Data Entry)'!$A$3:$A$504,0),2),\"\"))),\"\")=0,\"\",IFERROR(INDIRECT(CONCATENATE(\"'UNITCOST ITEMS (Data Entry)'!F\",IFERROR(SUM(MATCH(A392,'UNITCOST ITEMS (Data Entry)'!$A$3:$A$504,0),2),\"\"))),\"\"))","v":""},{"$f":"IF(IFERROR(INDIRECT(CONCATENATE(\"'UNITCOST ITEMS (Data Entry)'!G\",IFERROR(SUM(MATCH(A392,'UNITCOST ITEMS (Data Entry)'!$A$3:$A$504,0),2),\"\"))),\"\")=0,\"\",IFERROR(INDIRECT(CONCATENATE(\"'UNITCOST ITEMS (Data Entry)'!G\",IFERROR(SUM(MATCH(A392,'UNITCOST ITEMS (Data Entry)'!$A$3:$A$504,0),2),\"\"))),\"\"))","v":""},{"$f":"IF(IFERROR(INDIRECT(CONCATENATE(\"'UNITCOST ITEMS (Data Entry)'!H\",IFERROR(SUM(MATCH(A392,'UNITCOST ITEMS (Data Entry)'!$A$3:$A$504,0),2),\"\"))),\"\")=0,\"\",IFERROR(INDIRECT(CONCATENATE(\"'UNITCOST ITEMS (Data Entry)'!H\",IFERROR(SUM(MATCH(A392,'UNITCOST ITEMS (Data Entry)'!$A$3:$A$504,0),2),\"\"))),\"\"))","v":""},{"$f":"IF(IFERROR(INDIRECT(CONCATENATE(\"'UNITCOST ITEMS (Data Entry)'!I\",IFERROR(SUM(MATCH(A392,'UNITCOST ITEMS (Data Entry)'!$A$3:$A$504,0),2),\"\"))),\"\")=0,\"\",IFERROR(INDIRECT(CONCATENATE(\"'UNITCOST ITEMS (Data Entry)'!I\",IFERROR(SUM(MATCH(A392,'UNITCOST ITEMS (Data Entry)'!$A$3:$A$504,0),2),\"\"))),\"\"))","v":""},{"$f":"IF(K392=2,\"\",IF(IFERROR(INDIRECT(CONCATENATE(\"'UNITCOST ITEMS (Data Entry)'!J\",IFERROR(SUM(MATCH(A392,'UNITCOST ITEMS (Data Entry)'!$A$3:$A$504,0),2),\"\"))),\"\")=0,\"\",IFERROR(INDIRECT(CONCATENATE(\"'UNITCOST ITEMS (Data Entry)'!J\",IFERROR(SUM(MATCH(A392,'UNITCOST ITEMS (Data Entry)'!$A$3:$A$504,0),2),\"\"))),\"\")))","v":""},null,{"$f":"IF(IFERROR(INDIRECT(CONCATENATE(\"'UNITCOST ITEMS (Data Entry)'!C\",IFERROR(SUM(MATCH(A392,'UNITCOST ITEMS (Data Entry)'!$A$3:$A$504,0),2),\"\"))),\"\")=0,\"\",IFERROR(INDIRECT(CONCATENATE(\"'UNITCOST ITEMS (Data Entry)'!C\",IFERROR(SUM(MATCH(A392,'UNITCOST ITEMS (Data Entry)'!$A$3:$A$504,0),2),\"\"))),\"\"))","v":""},""]
[385,{"$f":"IF(IFERROR(INDIRECT(CONCATENATE(\"'UNITCOST ITEMS (Data Entry)'!D\",IFERROR(SUM(MATCH(A393,'UNITCOST ITEMS (Data Entry)'!$A$3:$A$504,0),2),\"\"))),\"\")=0,\"\",IFERROR(INDIRECT(CONCATENATE(\"'UNITCOST ITEMS (Data Entry)'!D\",IFERROR(SUM(MATCH(A393,'UNITCOST ITEMS (Data Entry)'!$A$3:$A$504,0),2),\"\"))),\"\"))","v":""},{"$f":"IF(IFERROR(INDIRECT(CONCATENATE(\"'UNITCOST ITEMS (Data Entry)'!E\",IFERROR(SUM(MATCH(A393,'UNITCOST ITEMS (Data Entry)'!$A$3:$A$504,0),2),\"\"))),\"\")=0,\"\",IFERROR(INDIRECT(CONCATENATE(\"'UNITCOST ITEMS (Data Entry)'!E\",IFERROR(SUM(MATCH(A393,'UNITCOST ITEMS (Data Entry)'!$A$3:$A$504,0),2),\"\"))),\"\"))","v":""},null,{"$f":"IF(IFERROR(INDIRECT(CONCATENATE(\"'UNITCOST ITEMS (Data Entry)'!F\",IFERROR(SUM(MATCH(A393,'UNITCOST ITEMS (Data Entry)'!$A$3:$A$504,0),2),\"\"))),\"\")=0,\"\",IFERROR(INDIRECT(CONCATENATE(\"'UNITCOST ITEMS (Data Entry)'!F\",IFERROR(SUM(MATCH(A393,'UNITCOST ITEMS (Data Entry)'!$A$3:$A$504,0),2),\"\"))),\"\"))","v":""},{"$f":"IF(IFERROR(INDIRECT(CONCATENATE(\"'UNITCOST ITEMS (Data Entry)'!G\",IFERROR(SUM(MATCH(A393,'UNITCOST ITEMS (Data Entry)'!$A$3:$A$504,0),2),\"\"))),\"\")=0,\"\",IFERROR(INDIRECT(CONCATENATE(\"'UNITCOST ITEMS (Data Entry)'!G\",IFERROR(SUM(MATCH(A393,'UNITCOST ITEMS (Data Entry)'!$A$3:$A$504,0),2),\"\"))),\"\"))","v":""},{"$f":"IF(IFERROR(INDIRECT(CONCATENATE(\"'UNITCOST ITEMS (Data Entry)'!H\",IFERROR(SUM(MATCH(A393,'UNITCOST ITEMS (Data Entry)'!$A$3:$A$504,0),2),\"\"))),\"\")=0,\"\",IFERROR(INDIRECT(CONCATENATE(\"'UNITCOST ITEMS (Data Entry)'!H\",IFERROR(SUM(MATCH(A393,'UNITCOST ITEMS (Data Entry)'!$A$3:$A$504,0),2),\"\"))),\"\"))","v":""},{"$f":"IF(IFERROR(INDIRECT(CONCATENATE(\"'UNITCOST ITEMS (Data Entry)'!I\",IFERROR(SUM(MATCH(A393,'UNITCOST ITEMS (Data Entry)'!$A$3:$A$504,0),2),\"\"))),\"\")=0,\"\",IFERROR(INDIRECT(CONCATENATE(\"'UNITCOST ITEMS (Data Entry)'!I\",IFERROR(SUM(MATCH(A393,'UNITCOST ITEMS (Data Entry)'!$A$3:$A$504,0),2),\"\"))),\"\"))","v":""},{"$f":"IF(K393=2,\"\",IF(IFERROR(INDIRECT(CONCATENATE(\"'UNITCOST ITEMS (Data Entry)'!J\",IFERROR(SUM(MATCH(A393,'UNITCOST ITEMS (Data Entry)'!$A$3:$A$504,0),2),\"\"))),\"\")=0,\"\",IFERROR(INDIRECT(CONCATENATE(\"'UNITCOST ITEMS (Data Entry)'!J\",IFERROR(SUM(MATCH(A393,'UNITCOST ITEMS (Data Entry)'!$A$3:$A$504,0),2),\"\"))),\"\")))","v":""},null,{"$f":"IF(IFERROR(INDIRECT(CONCATENATE(\"'UNITCOST ITEMS (Data Entry)'!C\",IFERROR(SUM(MATCH(A393,'UNITCOST ITEMS (Data Entry)'!$A$3:$A$504,0),2),\"\"))),\"\")=0,\"\",IFERROR(INDIRECT(CONCATENATE(\"'UNITCOST ITEMS (Data Entry)'!C\",IFERROR(SUM(MATCH(A393,'UNITCOST ITEMS (Data Entry)'!$A$3:$A$504,0),2),\"\"))),\"\"))","v":""},""]
[386,{"$f":"IF(IFERROR(INDIRECT(CONCATENATE(\"'UNITCOST ITEMS (Data Entry)'!D\",IFERROR(SUM(MATCH(A394,'UNITCOST ITEMS (Data Entry)'!$A$3:$A$504,0),2),\"\"))),\"\")=0,\"\",IFERROR(INDIRECT(CONCATENATE(\"'UNITCOST ITEMS (Data Entry)'!D\",IFERROR(SUM(MATCH(A394,'UNITCOST ITEMS (Data Entry)'!$A$3:$A$504,0),2),\"\"))),\"\"))","v":""},{"$f":"IF(IFERROR(INDIRECT(CONCATENATE(\"'UNITCOST ITEMS (Data Entry)'!E\",IFERROR(SUM(MATCH(A394,'UNITCOST ITEMS (Data Entry)'!$A$3:$A$504,0),2),\"\"))),\"\")=0,\"\",IFERROR(INDIRECT(CONCATENATE(\"'UNITCOST ITEMS (Data Entry)'!E\",IFERROR(SUM(MATCH(A394,'UNITCOST ITEMS (Data Entry)'!$A$3:$A$504,0),2),\"\"))),\"\"))","v":""},null,{"$f":"IF(IFERROR(INDIRECT(CONCATENATE(\"'UNITCOST ITEMS (Data Entry)'!F\",IFERROR(SUM(MATCH(A394,'UNITCOST ITEMS (Data Entry)'!$A$3:$A$504,0),2),\"\"))),\"\")=0,\"\",IFERROR(INDIRECT(CONCATENATE(\"'UNITCOST ITEMS (Data Entry)'!F\",IFERROR(SUM(MATCH(A394,'UNITCOST ITEMS (Data Entry)'!$A$3:$A$504,0),2),\"\"))),\"\"))","v":""},{"$f":"IF(IFERROR(INDIRECT(CONCATENATE(\"'UNITCOST ITEMS (Data Entry)'!G\",IFERROR(SUM(MATCH(A394,'UNITCOST ITEMS (Data Entry)'!$A$3:$A$504,0),2),\"\"))),\"\")=0,\"\",IFERROR(INDIRECT(CONCATENATE(\"'UNITCOST ITEMS (Data Entry)'!G\",IFERROR(SUM(MATCH(A394,'UNITCOST ITEMS (Data Entry)'!$A$3:$A$504,0),2),\"\"))),\"\"))","v":""},{"$f":"IF(IFERROR(INDIRECT(CONCATENATE(\"'UNITCOST ITEMS (Data Entry)'!H\",IFERROR(SUM(MATCH(A394,'UNITCOST ITEMS (Data Entry)'!$A$3:$A$504,0),2),\"\"))),\"\")=0,\"\",IFERROR(INDIRECT(CONCATENATE(\"'UNITCOST ITEMS (Data Entry)'!H\",IFERROR(SUM(MATCH(A394,'UNITCOST ITEMS (Data Entry)'!$A$3:$A$504,0),2),\"\"))),\"\"))","v":""},{"$f":"IF(IFERROR(INDIRECT(CONCATENATE(\"'UNITCOST ITEMS (Data Entry)'!I\",IFERROR(SUM(MATCH(A394,'UNITCOST ITEMS (Data Entry)'!$A$3:$A$504,0),2),\"\"))),\"\")=0,\"\",IFERROR(INDIRECT(CONCATENATE(\"'UNITCOST ITEMS (Data Entry)'!I\",IFERROR(SUM(MATCH(A394,'UNITCOST ITEMS (Data Entry)'!$A$3:$A$504,0),2),\"\"))),\"\"))","v":""},{"$f":"IF(K394=2,\"\",IF(IFERROR(INDIRECT(CONCATENATE(\"'UNITCOST ITEMS (Data Entry)'!J\",IFERROR(SUM(MATCH(A394,'UNITCOST ITEMS (Data Entry)'!$A$3:$A$504,0),2),\"\"))),\"\")=0,\"\",IFERROR(INDIRECT(CONCATENATE(\"'UNITCOST ITEMS (Data Entry)'!J\",IFERROR(SUM(MATCH(A394,'UNITCOST ITEMS (Data Entry)'!$A$3:$A$504,0),2),\"\"))),\"\")))","v":""},null,{"$f":"IF(IFERROR(INDIRECT(CONCATENATE(\"'UNITCOST ITEMS (Data Entry)'!C\",IFERROR(SUM(MATCH(A394,'UNITCOST ITEMS (Data Entry)'!$A$3:$A$504,0),2),\"\"))),\"\")=0,\"\",IFERROR(INDIRECT(CONCATENATE(\"'UNITCOST ITEMS (Data Entry)'!C\",IFERROR(SUM(MATCH(A394,'UNITCOST ITEMS (Data Entry)'!$A$3:$A$504,0),2),\"\"))),\"\"))","v":""},{"$f":"IF(K394<>\"\",ROW(),\"\")","v":""}]
[{"$f":"A394+1","v":387},{"$f":"IF(IFERROR(INDIRECT(CONCATENATE(\"'UNITCOST ITEMS (Data Entry)'!D\",IFERROR(SUM(MATCH(A395,'UNITCOST ITEMS (Data Entry)'!$A$3:$A$504,0),2),\"\"))),\"\")=0,\"\",IFERROR(INDIRECT(CONCATENATE(\"'UNITCOST ITEMS (Data Entry)'!D\",IFERROR(SUM(MATCH(A395,'UNITCOST ITEMS (Data Entry)'!$A$3:$A$504,0),2),\"\"))),\"\"))","v":""},{"$f":"IF(IFERROR(INDIRECT(CONCATENATE(\"'UNITCOST ITEMS (Data Entry)'!E\",IFERROR(SUM(MATCH(A395,'UNITCOST ITEMS (Data Entry)'!$A$3:$A$504,0),2),\"\"))),\"\")=0,\"\",IFERROR(INDIRECT(CONCATENATE(\"'UNITCOST ITEMS (Data Entry)'!E\",IFERROR(SUM(MATCH(A395,'UNITCOST ITEMS (Data Entry)'!$A$3:$A$504,0),2),\"\"))),\"\"))","v":""},null,{"$f":"IF(IFERROR(INDIRECT(CONCATENATE(\"'UNITCOST ITEMS (Data Entry)'!F\",IFERROR(SUM(MATCH(A395,'UNITCOST ITEMS (Data Entry)'!$A$3:$A$504,0),2),\"\"))),\"\")=0,\"\",IFERROR(INDIRECT(CONCATENATE(\"'UNITCOST ITEMS (Data Entry)'!F\",IFERROR(SUM(MATCH(A395,'UNITCOST ITEMS (Data Entry)'!$A$3:$A$504,0),2),\"\"))),\"\"))","v":""},{"$f":"IF(IFERROR(INDIRECT(CONCATENATE(\"'UNITCOST ITEMS (Data Entry)'!G\",IFERROR(SUM(MATCH(A395,'UNITCOST ITEMS (Data Entry)'!$A$3:$A$504,0),2),\"\"))),\"\")=0,\"\",IFERROR(INDIRECT(CONCATENATE(\"'UNITCOST ITEMS (Data Entry)'!G\",IFERROR(SUM(MATCH(A395,'UNITCOST ITEMS (Data Entry)'!$A$3:$A$504,0),2),\"\"))),\"\"))","v":""},{"$f":"IF(IFERROR(INDIRECT(CONCATENATE(\"'UNITCOST ITEMS (Data Entry)'!H\",IFERROR(SUM(MATCH(A395,'UNITCOST ITEMS (Data Entry)'!$A$3:$A$504,0),2),\"\"))),\"\")=0,\"\",IFERROR(INDIRECT(CONCATENATE(\"'UNITCOST ITEMS (Data Entry)'!H\",IFERROR(SUM(MATCH(A395,'UNITCOST ITEMS (Data Entry)'!$A$3:$A$504,0),2),\"\"))),\"\"))","v":""},{"$f":"IF(IFERROR(INDIRECT(CONCATENATE(\"'UNITCOST ITEMS (Data Entry)'!I\",IFERROR(SUM(MATCH(A395,'UNITCOST ITEMS (Data Entry)'!$A$3:$A$504,0),2),\"\"))),\"\")=0,\"\",IFERROR(INDIRECT(CONCATENATE(\"'UNITCOST ITEMS (Data Entry)'!I\",IFERROR(SUM(MATCH(A395,'UNITCOST ITEMS (Data Entry)'!$A$3:$A$504,0),2),\"\"))),\"\"))","v":""},{"$f":"IF(K395=2,\"\",IF(IFERROR(INDIRECT(CONCATENATE(\"'UNITCOST ITEMS (Data Entry)'!J\",IFERROR(SUM(MATCH(A395,'UNITCOST ITEMS (Data Entry)'!$A$3:$A$504,0),2),\"\"))),\"\")=0,\"\",IFERROR(INDIRECT(CONCATENATE(\"'UNITCOST ITEMS (Data Entry)'!J\",IFERROR(SUM(MATCH(A395,'UNITCOST ITEMS (Data Entry)'!$A$3:$A$504,0),2),\"\"))),\"\")))","v":""},null,{"$f":"IF(IFERROR(INDIRECT(CONCATENATE(\"'UNITCOST ITEMS (Data Entry)'!C\",IFERROR(SUM(MATCH(A395,'UNITCOST ITEMS (Data Entry)'!$A$3:$A$504,0),2),\"\"))),\"\")=0,\"\",IFERROR(INDIRECT(CONCATENATE(\"'UNITCOST ITEMS (Data Entry)'!C\",IFERROR(SUM(MATCH(A395,'UNITCOST ITEMS (Data Entry)'!$A$3:$A$504,0),2),\"\"))),\"\"))","v":""},""]
[388,{"$f":"IF(IFERROR(INDIRECT(CONCATENATE(\"'UNITCOST ITEMS (Data Entry)'!D\",IFERROR(SUM(MATCH(A396,'UNITCOST ITEMS (Data Entry)'!$A$3:$A$504,0),2),\"\"))),\"\")=0,\"\",IFERROR(INDIRECT(CONCATENATE(\"'UNITCOST ITEMS (Data Entry)'!D\",IFERROR(SUM(MATCH(A396,'UNITCOST ITEMS (Data Entry)'!$A$3:$A$504,0),2),\"\"))),\"\"))","v":""},{"$f":"IF(IFERROR(INDIRECT(CONCATENATE(\"'UNITCOST ITEMS (Data Entry)'!E\",IFERROR(SUM(MATCH(A396,'UNITCOST ITEMS (Data Entry)'!$A$3:$A$504,0),2),\"\"))),\"\")=0,\"\",IFERROR(INDIRECT(CONCATENATE(\"'UNITCOST ITEMS (Data Entry)'!E\",IFERROR(SUM(MATCH(A396,'UNITCOST ITEMS (Data Entry)'!$A$3:$A$504,0),2),\"\"))),\"\"))","v":""},null,{"$f":"IF(IFERROR(INDIRECT(CONCATENATE(\"'UNITCOST ITEMS (Data Entry)'!F\",IFERROR(SUM(MATCH(A396,'UNITCOST ITEMS (Data Entry)'!$A$3:$A$504,0),2),\"\"))),\"\")=0,\"\",IFERROR(INDIRECT(CONCATENATE(\"'UNITCOST ITEMS (Data Entry)'!F\",IFERROR(SUM(MATCH(A396,'UNITCOST ITEMS (Data Entry)'!$A$3:$A$504,0),2),\"\"))),\"\"))","v":""},{"$f":"IF(IFERROR(INDIRECT(CONCATENATE(\"'UNITCOST ITEMS (Data Entry)'!G\",IFERROR(SUM(MATCH(A396,'UNITCOST ITEMS (Data Entry)'!$A$3:$A$504,0),2),\"\"))),\"\")=0,\"\",IFERROR(INDIRECT(CONCATENATE(\"'UNITCOST ITEMS (Data Entry)'!G\",IFERROR(SUM(MATCH(A396,'UNITCOST ITEMS (Data Entry)'!$A$3:$A$504,0),2),\"\"))),\"\"))","v":""},{"$f":"IF(IFERROR(INDIRECT(CONCATENATE(\"'UNITCOST ITEMS (Data Entry)'!H\",IFERROR(SUM(MATCH(A396,'UNITCOST ITEMS (Data Entry)'!$A$3:$A$504,0),2),\"\"))),\"\")=0,\"\",IFERROR(INDIRECT(CONCATENATE(\"'UNITCOST ITEMS (Data Entry)'!H\",IFERROR(SUM(MATCH(A396,'UNITCOST ITEMS (Data Entry)'!$A$3:$A$504,0),2),\"\"))),\"\"))","v":""},{"$f":"IF(IFERROR(INDIRECT(CONCATENATE(\"'UNITCOST ITEMS (Data Entry)'!I\",IFERROR(SUM(MATCH(A396,'UNITCOST ITEMS (Data Entry)'!$A$3:$A$504,0),2),\"\"))),\"\")=0,\"\",IFERROR(INDIRECT(CONCATENATE(\"'UNITCOST ITEMS (Data Entry)'!I\",IFERROR(SUM(MATCH(A396,'UNITCOST ITEMS (Data Entry)'!$A$3:$A$504,0),2),\"\"))),\"\"))","v":""},{"$f":"IF(K396=2,\"\",IF(IFERROR(INDIRECT(CONCATENATE(\"'UNITCOST ITEMS (Data Entry)'!J\",IFERROR(SUM(MATCH(A396,'UNITCOST ITEMS (Data Entry)'!$A$3:$A$504,0),2),\"\"))),\"\")=0,\"\",IFERROR(INDIRECT(CONCATENATE(\"'UNITCOST ITEMS (Data Entry)'!J\",IFERROR(SUM(MATCH(A396,'UNITCOST ITEMS (Data Entry)'!$A$3:$A$504,0),2),\"\"))),\"\")))","v":""},null,{"$f":"IF(IFERROR(INDIRECT(CONCATENATE(\"'UNITCOST ITEMS (Data Entry)'!C\",IFERROR(SUM(MATCH(A396,'UNITCOST ITEMS (Data Entry)'!$A$3:$A$504,0),2),\"\"))),\"\")=0,\"\",IFERROR(INDIRECT(CONCATENATE(\"'UNITCOST ITEMS (Data Entry)'!C\",IFERROR(SUM(MATCH(A396,'UNITCOST ITEMS (Data Entry)'!$A$3:$A$504,0),2),\"\"))),\"\"))","v":""},""]
[389,{"$f":"IF(IFERROR(INDIRECT(CONCATENATE(\"'UNITCOST ITEMS (Data Entry)'!D\",IFERROR(SUM(MATCH(A397,'UNITCOST ITEMS (Data Entry)'!$A$3:$A$504,0),2),\"\"))),\"\")=0,\"\",IFERROR(INDIRECT(CONCATENATE(\"'UNITCOST ITEMS (Data Entry)'!D\",IFERROR(SUM(MATCH(A397,'UNITCOST ITEMS (Data Entry)'!$A$3:$A$504,0),2),\"\"))),\"\"))","v":""},{"$f":"IF(IFERROR(INDIRECT(CONCATENATE(\"'UNITCOST ITEMS (Data Entry)'!E\",IFERROR(SUM(MATCH(A397,'UNITCOST ITEMS (Data Entry)'!$A$3:$A$504,0),2),\"\"))),\"\")=0,\"\",IFERROR(INDIRECT(CONCATENATE(\"'UNITCOST ITEMS (Data Entry)'!E\",IFERROR(SUM(MATCH(A397,'UNITCOST ITEMS (Data Entry)'!$A$3:$A$504,0),2),\"\"))),\"\"))","v":""},null,{"$f":"IF(IFERROR(INDIRECT(CONCATENATE(\"'UNITCOST ITEMS (Data Entry)'!F\",IFERROR(SUM(MATCH(A397,'UNITCOST ITEMS (Data Entry)'!$A$3:$A$504,0),2),\"\"))),\"\")=0,\"\",IFERROR(INDIRECT(CONCATENATE(\"'UNITCOST ITEMS (Data Entry)'!F\",IFERROR(SUM(MATCH(A397,'UNITCOST ITEMS (Data Entry)'!$A$3:$A$504,0),2),\"\"))),\"\"))","v":""},{"$f":"IF(IFERROR(INDIRECT(CONCATENATE(\"'UNITCOST ITEMS (Data Entry)'!G\",IFERROR(SUM(MATCH(A397,'UNITCOST ITEMS (Data Entry)'!$A$3:$A$504,0),2),\"\"))),\"\")=0,\"\",IFERROR(INDIRECT(CONCATENATE(\"'UNITCOST ITEMS (Data Entry)'!G\",IFERROR(SUM(MATCH(A397,'UNITCOST ITEMS (Data Entry)'!$A$3:$A$504,0),2),\"\"))),\"\"))","v":""},{"$f":"IF(IFERROR(INDIRECT(CONCATENATE(\"'UNITCOST ITEMS (Data Entry)'!H\",IFERROR(SUM(MATCH(A397,'UNITCOST ITEMS (Data Entry)'!$A$3:$A$504,0),2),\"\"))),\"\")=0,\"\",IFERROR(INDIRECT(CONCATENATE(\"'UNITCOST ITEMS (Data Entry)'!H\",IFERROR(SUM(MATCH(A397,'UNITCOST ITEMS (Data Entry)'!$A$3:$A$504,0),2),\"\"))),\"\"))","v":""},{"$f":"IF(IFERROR(INDIRECT(CONCATENATE(\"'UNITCOST ITEMS (Data Entry)'!I\",IFERROR(SUM(MATCH(A397,'UNITCOST ITEMS (Data Entry)'!$A$3:$A$504,0),2),\"\"))),\"\")=0,\"\",IFERROR(INDIRECT(CONCATENATE(\"'UNITCOST ITEMS (Data Entry)'!I\",IFERROR(SUM(MATCH(A397,'UNITCOST ITEMS (Data Entry)'!$A$3:$A$504,0),2),\"\"))),\"\"))","v":""},{"$f":"IF(K397=2,\"\",IF(IFERROR(INDIRECT(CONCATENATE(\"'UNITCOST ITEMS (Data Entry)'!J\",IFERROR(SUM(MATCH(A397,'UNITCOST ITEMS (Data Entry)'!$A$3:$A$504,0),2),\"\"))),\"\")=0,\"\",IFERROR(INDIRECT(CONCATENATE(\"'UNITCOST ITEMS (Data Entry)'!J\",IFERROR(SUM(MATCH(A397,'UNITCOST ITEMS (Data Entry)'!$A$3:$A$504,0),2),\"\"))),\"\")))","v":""},null,{"$f":"IF(IFERROR(INDIRECT(CONCATENATE(\"'UNITCOST ITEMS (Data Entry)'!C\",IFERROR(SUM(MATCH(A397,'UNITCOST ITEMS (Data Entry)'!$A$3:$A$504,0),2),\"\"))),\"\")=0,\"\",IFERROR(INDIRECT(CONCATENATE(\"'UNITCOST ITEMS (Data Entry)'!C\",IFERROR(SUM(MATCH(A397,'UNITCOST ITEMS (Data Entry)'!$A$3:$A$504,0),2),\"\"))),\"\"))","v":""},""]
[390,{"$f":"IF(IFERROR(INDIRECT(CONCATENATE(\"'UNITCOST ITEMS (Data Entry)'!D\",IFERROR(SUM(MATCH(A398,'UNITCOST ITEMS (Data Entry)'!$A$3:$A$504,0),2),\"\"))),\"\")=0,\"\",IFERROR(INDIRECT(CONCATENATE(\"'UNITCOST ITEMS (Data Entry)'!D\",IFERROR(SUM(MATCH(A398,'UNITCOST ITEMS (Data Entry)'!$A$3:$A$504,0),2),\"\"))),\"\"))","v":""},{"$f":"IF(IFERROR(INDIRECT(CONCATENATE(\"'UNITCOST ITEMS (Data Entry)'!E\",IFERROR(SUM(MATCH(A398,'UNITCOST ITEMS (Data Entry)'!$A$3:$A$504,0),2),\"\"))),\"\")=0,\"\",IFERROR(INDIRECT(CONCATENATE(\"'UNITCOST ITEMS (Data Entry)'!E\",IFERROR(SUM(MATCH(A398,'UNITCOST ITEMS (Data Entry)'!$A$3:$A$504,0),2),\"\"))),\"\"))","v":""},null,{"$f":"IF(IFERROR(INDIRECT(CONCATENATE(\"'UNITCOST ITEMS (Data Entry)'!F\",IFERROR(SUM(MATCH(A398,'UNITCOST ITEMS (Data Entry)'!$A$3:$A$504,0),2),\"\"))),\"\")=0,\"\",IFERROR(INDIRECT(CONCATENATE(\"'UNITCOST ITEMS (Data Entry)'!F\",IFERROR(SUM(MATCH(A398,'UNITCOST ITEMS (Data Entry)'!$A$3:$A$504,0),2),\"\"))),\"\"))","v":""},{"$f":"IF(IFERROR(INDIRECT(CONCATENATE(\"'UNITCOST ITEMS (Data Entry)'!G\",IFERROR(SUM(MATCH(A398,'UNITCOST ITEMS (Data Entry)'!$A$3:$A$504,0),2),\"\"))),\"\")=0,\"\",IFERROR(INDIRECT(CONCATENATE(\"'UNITCOST ITEMS (Data Entry)'!G\",IFERROR(SUM(MATCH(A398,'UNITCOST ITEMS (Data Entry)'!$A$3:$A$504,0),2),\"\"))),\"\"))","v":""},{"$f":"IF(IFERROR(INDIRECT(CONCATENATE(\"'UNITCOST ITEMS (Data Entry)'!H\",IFERROR(SUM(MATCH(A398,'UNITCOST ITEMS (Data Entry)'!$A$3:$A$504,0),2),\"\"))),\"\")=0,\"\",IFERROR(INDIRECT(CONCATENATE(\"'UNITCOST ITEMS (Data Entry)'!H\",IFERROR(SUM(MATCH(A398,'UNITCOST ITEMS (Data Entry)'!$A$3:$A$504,0),2),\"\"))),\"\"))","v":""},{"$f":"IF(IFERROR(INDIRECT(CONCATENATE(\"'UNITCOST ITEMS (Data Entry)'!I\",IFERROR(SUM(MATCH(A398,'UNITCOST ITEMS (Data Entry)'!$A$3:$A$504,0),2),\"\"))),\"\")=0,\"\",IFERROR(INDIRECT(CONCATENATE(\"'UNITCOST ITEMS (Data Entry)'!I\",IFERROR(SUM(MATCH(A398,'UNITCOST ITEMS (Data Entry)'!$A$3:$A$504,0),2),\"\"))),\"\"))","v":""},{"$f":"IF(K398=2,\"\",IF(IFERROR(INDIRECT(CONCATENATE(\"'UNITCOST ITEMS (Data Entry)'!J\",IFERROR(SUM(MATCH(A398,'UNITCOST ITEMS (Data Entry)'!$A$3:$A$504,0),2),\"\"))),\"\")=0,\"\",IFERROR(INDIRECT(CONCATENATE(\"'UNITCOST ITEMS (Data Entry)'!J\",IFERROR(SUM(MATCH(A398,'UNITCOST ITEMS (Data Entry)'!$A$3:$A$504,0),2),\"\"))),\"\")))","v":""},null,{"$f":"IF(IFERROR(INDIRECT(CONCATENATE(\"'UNITCOST ITEMS (Data Entry)'!C\",IFERROR(SUM(MATCH(A398,'UNITCOST ITEMS (Data Entry)'!$A$3:$A$504,0),2),\"\"))),\"\")=0,\"\",IFERROR(INDIRECT(CONCATENATE(\"'UNITCOST ITEMS (Data Entry)'!C\",IFERROR(SUM(MATCH(A398,'UNITCOST ITEMS (Data Entry)'!$A$3:$A$504,0),2),\"\"))),\"\"))","v":""},""]
[391,{"$f":"IF(IFERROR(INDIRECT(CONCATENATE(\"'UNITCOST ITEMS (Data Entry)'!D\",IFERROR(SUM(MATCH(A399,'UNITCOST ITEMS (Data Entry)'!$A$3:$A$504,0),2),\"\"))),\"\")=0,\"\",IFERROR(INDIRECT(CONCATENATE(\"'UNITCOST ITEMS (Data Entry)'!D\",IFERROR(SUM(MATCH(A399,'UNITCOST ITEMS (Data Entry)'!$A$3:$A$504,0),2),\"\"))),\"\"))","v":""},{"$f":"IF(IFERROR(INDIRECT(CONCATENATE(\"'UNITCOST ITEMS (Data Entry)'!E\",IFERROR(SUM(MATCH(A399,'UNITCOST ITEMS (Data Entry)'!$A$3:$A$504,0),2),\"\"))),\"\")=0,\"\",IFERROR(INDIRECT(CONCATENATE(\"'UNITCOST ITEMS (Data Entry)'!E\",IFERROR(SUM(MATCH(A399,'UNITCOST ITEMS (Data Entry)'!$A$3:$A$504,0),2),\"\"))),\"\"))","v":""},null,{"$f":"IF(IFERROR(INDIRECT(CONCATENATE(\"'UNITCOST ITEMS (Data Entry)'!F\",IFERROR(SUM(MATCH(A399,'UNITCOST ITEMS (Data Entry)'!$A$3:$A$504,0),2),\"\"))),\"\")=0,\"\",IFERROR(INDIRECT(CONCATENATE(\"'UNITCOST ITEMS (Data Entry)'!F\",IFERROR(SUM(MATCH(A399,'UNITCOST ITEMS (Data Entry)'!$A$3:$A$504,0),2),\"\"))),\"\"))","v":""},{"$f":"IF(IFERROR(INDIRECT(CONCATENATE(\"'UNITCOST ITEMS (Data Entry)'!G\",IFERROR(SUM(MATCH(A399,'UNITCOST ITEMS (Data Entry)'!$A$3:$A$504,0),2),\"\"))),\"\")=0,\"\",IFERROR(INDIRECT(CONCATENATE(\"'UNITCOST ITEMS (Data Entry)'!G\",IFERROR(SUM(MATCH(A399,'UNITCOST ITEMS (Data Entry)'!$A$3:$A$504,0),2),\"\"))),\"\"))","v":""},{"$f":"IF(IFERROR(INDIRECT(CONCATENATE(\"'UNITCOST ITEMS (Data Entry)'!H\",IFERROR(SUM(MATCH(A399,'UNITCOST ITEMS (Data Entry)'!$A$3:$A$504,0),2),\"\"))),\"\")=0,\"\",IFERROR(INDIRECT(CONCATENATE(\"'UNITCOST ITEMS (Data Entry)'!H\",IFERROR(SUM(MATCH(A399,'UNITCOST ITEMS (Data Entry)'!$A$3:$A$504,0),2),\"\"))),\"\"))","v":""},{"$f":"IF(IFERROR(INDIRECT(CONCATENATE(\"'UNITCOST ITEMS (Data Entry)'!I\",IFERROR(SUM(MATCH(A399,'UNITCOST ITEMS (Data Entry)'!$A$3:$A$504,0),2),\"\"))),\"\")=0,\"\",IFERROR(INDIRECT(CONCATENATE(\"'UNITCOST ITEMS (Data Entry)'!I\",IFERROR(SUM(MATCH(A399,'UNITCOST ITEMS (Data Entry)'!$A$3:$A$504,0),2),\"\"))),\"\"))","v":""},{"$f":"IF(K399=2,\"\",IF(IFERROR(INDIRECT(CONCATENATE(\"'UNITCOST ITEMS (Data Entry)'!J\",IFERROR(SUM(MATCH(A399,'UNITCOST ITEMS (Data Entry)'!$A$3:$A$504,0),2),\"\"))),\"\")=0,\"\",IFERROR(INDIRECT(CONCATENATE(\"'UNITCOST ITEMS (Data Entry)'!J\",IFERROR(SUM(MATCH(A399,'UNITCOST ITEMS (Data Entry)'!$A$3:$A$504,0),2),\"\"))),\"\")))","v":""},null,{"$f":"IF(IFERROR(INDIRECT(CONCATENATE(\"'UNITCOST ITEMS (Data Entry)'!C\",IFERROR(SUM(MATCH(A399,'UNITCOST ITEMS (Data Entry)'!$A$3:$A$504,0),2),\"\"))),\"\")=0,\"\",IFERROR(INDIRECT(CONCATENATE(\"'UNITCOST ITEMS (Data Entry)'!C\",IFERROR(SUM(MATCH(A399,'UNITCOST ITEMS (Data Entry)'!$A$3:$A$504,0),2),\"\"))),\"\"))","v":""},""]
[392,{"$f":"IF(IFERROR(INDIRECT(CONCATENATE(\"'UNITCOST ITEMS (Data Entry)'!D\",IFERROR(SUM(MATCH(A400,'UNITCOST ITEMS (Data Entry)'!$A$3:$A$504,0),2),\"\"))),\"\")=0,\"\",IFERROR(INDIRECT(CONCATENATE(\"'UNITCOST ITEMS (Data Entry)'!D\",IFERROR(SUM(MATCH(A400,'UNITCOST ITEMS (Data Entry)'!$A$3:$A$504,0),2),\"\"))),\"\"))","v":""},{"$f":"IF(IFERROR(INDIRECT(CONCATENATE(\"'UNITCOST ITEMS (Data Entry)'!E\",IFERROR(SUM(MATCH(A400,'UNITCOST ITEMS (Data Entry)'!$A$3:$A$504,0),2),\"\"))),\"\")=0,\"\",IFERROR(INDIRECT(CONCATENATE(\"'UNITCOST ITEMS (Data Entry)'!E\",IFERROR(SUM(MATCH(A400,'UNITCOST ITEMS (Data Entry)'!$A$3:$A$504,0),2),\"\"))),\"\"))","v":""},null,{"$f":"IF(IFERROR(INDIRECT(CONCATENATE(\"'UNITCOST ITEMS (Data Entry)'!F\",IFERROR(SUM(MATCH(A400,'UNITCOST ITEMS (Data Entry)'!$A$3:$A$504,0),2),\"\"))),\"\")=0,\"\",IFERROR(INDIRECT(CONCATENATE(\"'UNITCOST ITEMS (Data Entry)'!F\",IFERROR(SUM(MATCH(A400,'UNITCOST ITEMS (Data Entry)'!$A$3:$A$504,0),2),\"\"))),\"\"))","v":""},{"$f":"IF(IFERROR(INDIRECT(CONCATENATE(\"'UNITCOST ITEMS (Data Entry)'!G\",IFERROR(SUM(MATCH(A400,'UNITCOST ITEMS (Data Entry)'!$A$3:$A$504,0),2),\"\"))),\"\")=0,\"\",IFERROR(INDIRECT(CONCATENATE(\"'UNITCOST ITEMS (Data Entry)'!G\",IFERROR(SUM(MATCH(A400,'UNITCOST ITEMS (Data Entry)'!$A$3:$A$504,0),2),\"\"))),\"\"))","v":""},{"$f":"IF(IFERROR(INDIRECT(CONCATENATE(\"'UNITCOST ITEMS (Data Entry)'!H\",IFERROR(SUM(MATCH(A400,'UNITCOST ITEMS (Data Entry)'!$A$3:$A$504,0),2),\"\"))),\"\")=0,\"\",IFERROR(INDIRECT(CONCATENATE(\"'UNITCOST ITEMS (Data Entry)'!H\",IFERROR(SUM(MATCH(A400,'UNITCOST ITEMS (Data Entry)'!$A$3:$A$504,0),2),\"\"))),\"\"))","v":""},{"$f":"IF(IFERROR(INDIRECT(CONCATENATE(\"'UNITCOST ITEMS (Data Entry)'!I\",IFERROR(SUM(MATCH(A400,'UNITCOST ITEMS (Data Entry)'!$A$3:$A$504,0),2),\"\"))),\"\")=0,\"\",IFERROR(INDIRECT(CONCATENATE(\"'UNITCOST ITEMS (Data Entry)'!I\",IFERROR(SUM(MATCH(A400,'UNITCOST ITEMS (Data Entry)'!$A$3:$A$504,0),2),\"\"))),\"\"))","v":""},{"$f":"IF(K400=2,\"\",IF(IFERROR(INDIRECT(CONCATENATE(\"'UNITCOST ITEMS (Data Entry)'!J\",IFERROR(SUM(MATCH(A400,'UNITCOST ITEMS (Data Entry)'!$A$3:$A$504,0),2),\"\"))),\"\")=0,\"\",IFERROR(INDIRECT(CONCATENATE(\"'UNITCOST ITEMS (Data Entry)'!J\",IFERROR(SUM(MATCH(A400,'UNITCOST ITEMS (Data Entry)'!$A$3:$A$504,0),2),\"\"))),\"\")))","v":""},null,{"$f":"IF(IFERROR(INDIRECT(CONCATENATE(\"'UNITCOST ITEMS (Data Entry)'!C\",IFERROR(SUM(MATCH(A400,'UNITCOST ITEMS (Data Entry)'!$A$3:$A$504,0),2),\"\"))),\"\")=0,\"\",IFERROR(INDIRECT(CONCATENATE(\"'UNITCOST ITEMS (Data Entry)'!C\",IFERROR(SUM(MATCH(A400,'UNITCOST ITEMS (Data Entry)'!$A$3:$A$504,0),2),\"\"))),\"\"))","v":""},""]
[393,{"$f":"IF(IFERROR(INDIRECT(CONCATENATE(\"'UNITCOST ITEMS (Data Entry)'!D\",IFERROR(SUM(MATCH(A401,'UNITCOST ITEMS (Data Entry)'!$A$3:$A$504,0),2),\"\"))),\"\")=0,\"\",IFERROR(INDIRECT(CONCATENATE(\"'UNITCOST ITEMS (Data Entry)'!D\",IFERROR(SUM(MATCH(A401,'UNITCOST ITEMS (Data Entry)'!$A$3:$A$504,0),2),\"\"))),\"\"))","v":""},{"$f":"IF(IFERROR(INDIRECT(CONCATENATE(\"'UNITCOST ITEMS (Data Entry)'!E\",IFERROR(SUM(MATCH(A401,'UNITCOST ITEMS (Data Entry)'!$A$3:$A$504,0),2),\"\"))),\"\")=0,\"\",IFERROR(INDIRECT(CONCATENATE(\"'UNITCOST ITEMS (Data Entry)'!E\",IFERROR(SUM(MATCH(A401,'UNITCOST ITEMS (Data Entry)'!$A$3:$A$504,0),2),\"\"))),\"\"))","v":""},null,{"$f":"IF(IFERROR(INDIRECT(CONCATENATE(\"'UNITCOST ITEMS (Data Entry)'!F\",IFERROR(SUM(MATCH(A401,'UNITCOST ITEMS (Data Entry)'!$A$3:$A$504,0),2),\"\"))),\"\")=0,\"\",IFERROR(INDIRECT(CONCATENATE(\"'UNITCOST ITEMS (Data Entry)'!F\",IFERROR(SUM(MATCH(A401,'UNITCOST ITEMS (Data Entry)'!$A$3:$A$504,0),2),\"\"))),\"\"))","v":""},{"$f":"IF(IFERROR(INDIRECT(CONCATENATE(\"'UNITCOST ITEMS (Data Entry)'!G\",IFERROR(SUM(MATCH(A401,'UNITCOST ITEMS (Data Entry)'!$A$3:$A$504,0),2),\"\"))),\"\")=0,\"\",IFERROR(INDIRECT(CONCATENATE(\"'UNITCOST ITEMS (Data Entry)'!G\",IFERROR(SUM(MATCH(A401,'UNITCOST ITEMS (Data Entry)'!$A$3:$A$504,0),2),\"\"))),\"\"))","v":""},{"$f":"IF(IFERROR(INDIRECT(CONCATENATE(\"'UNITCOST ITEMS (Data Entry)'!H\",IFERROR(SUM(MATCH(A401,'UNITCOST ITEMS (Data Entry)'!$A$3:$A$504,0),2),\"\"))),\"\")=0,\"\",IFERROR(INDIRECT(CONCATENATE(\"'UNITCOST ITEMS (Data Entry)'!H\",IFERROR(SUM(MATCH(A401,'UNITCOST ITEMS (Data Entry)'!$A$3:$A$504,0),2),\"\"))),\"\"))","v":""},{"$f":"IF(IFERROR(INDIRECT(CONCATENATE(\"'UNITCOST ITEMS (Data Entry)'!I\",IFERROR(SUM(MATCH(A401,'UNITCOST ITEMS (Data Entry)'!$A$3:$A$504,0),2),\"\"))),\"\")=0,\"\",IFERROR(INDIRECT(CONCATENATE(\"'UNITCOST ITEMS (Data Entry)'!I\",IFERROR(SUM(MATCH(A401,'UNITCOST ITEMS (Data Entry)'!$A$3:$A$504,0),2),\"\"))),\"\"))","v":""},{"$f":"IF(K401=2,\"\",IF(IFERROR(INDIRECT(CONCATENATE(\"'UNITCOST ITEMS (Data Entry)'!J\",IFERROR(SUM(MATCH(A401,'UNITCOST ITEMS (Data Entry)'!$A$3:$A$504,0),2),\"\"))),\"\")=0,\"\",IFERROR(INDIRECT(CONCATENATE(\"'UNITCOST ITEMS (Data Entry)'!J\",IFERROR(SUM(MATCH(A401,'UNITCOST ITEMS (Data Entry)'!$A$3:$A$504,0),2),\"\"))),\"\")))","v":""},null,{"$f":"IF(IFERROR(INDIRECT(CONCATENATE(\"'UNITCOST ITEMS (Data Entry)'!C\",IFERROR(SUM(MATCH(A401,'UNITCOST ITEMS (Data Entry)'!$A$3:$A$504,0),2),\"\"))),\"\")=0,\"\",IFERROR(INDIRECT(CONCATENATE(\"'UNITCOST ITEMS (Data Entry)'!C\",IFERROR(SUM(MATCH(A401,'UNITCOST ITEMS (Data Entry)'!$A$3:$A$504,0),2),\"\"))),\"\"))","v":""},""]
[394,{"$f":"IF(IFERROR(INDIRECT(CONCATENATE(\"'UNITCOST ITEMS (Data Entry)'!D\",IFERROR(SUM(MATCH(A402,'UNITCOST ITEMS (Data Entry)'!$A$3:$A$504,0),2),\"\"))),\"\")=0,\"\",IFERROR(INDIRECT(CONCATENATE(\"'UNITCOST ITEMS (Data Entry)'!D\",IFERROR(SUM(MATCH(A402,'UNITCOST ITEMS (Data Entry)'!$A$3:$A$504,0),2),\"\"))),\"\"))","v":""},{"$f":"IF(IFERROR(INDIRECT(CONCATENATE(\"'UNITCOST ITEMS (Data Entry)'!E\",IFERROR(SUM(MATCH(A402,'UNITCOST ITEMS (Data Entry)'!$A$3:$A$504,0),2),\"\"))),\"\")=0,\"\",IFERROR(INDIRECT(CONCATENATE(\"'UNITCOST ITEMS (Data Entry)'!E\",IFERROR(SUM(MATCH(A402,'UNITCOST ITEMS (Data Entry)'!$A$3:$A$504,0),2),\"\"))),\"\"))","v":""},null,{"$f":"IF(IFERROR(INDIRECT(CONCATENATE(\"'UNITCOST ITEMS (Data Entry)'!F\",IFERROR(SUM(MATCH(A402,'UNITCOST ITEMS (Data Entry)'!$A$3:$A$504,0),2),\"\"))),\"\")=0,\"\",IFERROR(INDIRECT(CONCATENATE(\"'UNITCOST ITEMS (Data Entry)'!F\",IFERROR(SUM(MATCH(A402,'UNITCOST ITEMS (Data Entry)'!$A$3:$A$504,0),2),\"\"))),\"\"))","v":""},{"$f":"IF(IFERROR(INDIRECT(CONCATENATE(\"'UNITCOST ITEMS (Data Entry)'!G\",IFERROR(SUM(MATCH(A402,'UNITCOST ITEMS (Data Entry)'!$A$3:$A$504,0),2),\"\"))),\"\")=0,\"\",IFERROR(INDIRECT(CONCATENATE(\"'UNITCOST ITEMS (Data Entry)'!G\",IFERROR(SUM(MATCH(A402,'UNITCOST ITEMS (Data Entry)'!$A$3:$A$504,0),2),\"\"))),\"\"))","v":""},{"$f":"IF(IFERROR(INDIRECT(CONCATENATE(\"'UNITCOST ITEMS (Data Entry)'!H\",IFERROR(SUM(MATCH(A402,'UNITCOST ITEMS (Data Entry)'!$A$3:$A$504,0),2),\"\"))),\"\")=0,\"\",IFERROR(INDIRECT(CONCATENATE(\"'UNITCOST ITEMS (Data Entry)'!H\",IFERROR(SUM(MATCH(A402,'UNITCOST ITEMS (Data Entry)'!$A$3:$A$504,0),2),\"\"))),\"\"))","v":""},{"$f":"IF(IFERROR(INDIRECT(CONCATENATE(\"'UNITCOST ITEMS (Data Entry)'!I\",IFERROR(SUM(MATCH(A402,'UNITCOST ITEMS (Data Entry)'!$A$3:$A$504,0),2),\"\"))),\"\")=0,\"\",IFERROR(INDIRECT(CONCATENATE(\"'UNITCOST ITEMS (Data Entry)'!I\",IFERROR(SUM(MATCH(A402,'UNITCOST ITEMS (Data Entry)'!$A$3:$A$504,0),2),\"\"))),\"\"))","v":""},{"$f":"IF(K402=2,\"\",IF(IFERROR(INDIRECT(CONCATENATE(\"'UNITCOST ITEMS (Data Entry)'!J\",IFERROR(SUM(MATCH(A402,'UNITCOST ITEMS (Data Entry)'!$A$3:$A$504,0),2),\"\"))),\"\")=0,\"\",IFERROR(INDIRECT(CONCATENATE(\"'UNITCOST ITEMS (Data Entry)'!J\",IFERROR(SUM(MATCH(A402,'UNITCOST ITEMS (Data Entry)'!$A$3:$A$504,0),2),\"\"))),\"\")))","v":""},null,{"$f":"IF(IFERROR(INDIRECT(CONCATENATE(\"'UNITCOST ITEMS (Data Entry)'!C\",IFERROR(SUM(MATCH(A402,'UNITCOST ITEMS (Data Entry)'!$A$3:$A$504,0),2),\"\"))),\"\")=0,\"\",IFERROR(INDIRECT(CONCATENATE(\"'UNITCOST ITEMS (Data Entry)'!C\",IFERROR(SUM(MATCH(A402,'UNITCOST ITEMS (Data Entry)'!$A$3:$A$504,0),2),\"\"))),\"\"))","v":""},""]
[395,{"$f":"IF(IFERROR(INDIRECT(CONCATENATE(\"'UNITCOST ITEMS (Data Entry)'!D\",IFERROR(SUM(MATCH(A403,'UNITCOST ITEMS (Data Entry)'!$A$3:$A$504,0),2),\"\"))),\"\")=0,\"\",IFERROR(INDIRECT(CONCATENATE(\"'UNITCOST ITEMS (Data Entry)'!D\",IFERROR(SUM(MATCH(A403,'UNITCOST ITEMS (Data Entry)'!$A$3:$A$504,0),2),\"\"))),\"\"))","v":""},{"$f":"IF(IFERROR(INDIRECT(CONCATENATE(\"'UNITCOST ITEMS (Data Entry)'!E\",IFERROR(SUM(MATCH(A403,'UNITCOST ITEMS (Data Entry)'!$A$3:$A$504,0),2),\"\"))),\"\")=0,\"\",IFERROR(INDIRECT(CONCATENATE(\"'UNITCOST ITEMS (Data Entry)'!E\",IFERROR(SUM(MATCH(A403,'UNITCOST ITEMS (Data Entry)'!$A$3:$A$504,0),2),\"\"))),\"\"))","v":""},null,{"$f":"IF(IFERROR(INDIRECT(CONCATENATE(\"'UNITCOST ITEMS (Data Entry)'!F\",IFERROR(SUM(MATCH(A403,'UNITCOST ITEMS (Data Entry)'!$A$3:$A$504,0),2),\"\"))),\"\")=0,\"\",IFERROR(INDIRECT(CONCATENATE(\"'UNITCOST ITEMS (Data Entry)'!F\",IFERROR(SUM(MATCH(A403,'UNITCOST ITEMS (Data Entry)'!$A$3:$A$504,0),2),\"\"))),\"\"))","v":""},{"$f":"IF(IFERROR(INDIRECT(CONCATENATE(\"'UNITCOST ITEMS (Data Entry)'!G\",IFERROR(SUM(MATCH(A403,'UNITCOST ITEMS (Data Entry)'!$A$3:$A$504,0),2),\"\"))),\"\")=0,\"\",IFERROR(INDIRECT(CONCATENATE(\"'UNITCOST ITEMS (Data Entry)'!G\",IFERROR(SUM(MATCH(A403,'UNITCOST ITEMS (Data Entry)'!$A$3:$A$504,0),2),\"\"))),\"\"))","v":""},{"$f":"IF(IFERROR(INDIRECT(CONCATENATE(\"'UNITCOST ITEMS (Data Entry)'!H\",IFERROR(SUM(MATCH(A403,'UNITCOST ITEMS (Data Entry)'!$A$3:$A$504,0),2),\"\"))),\"\")=0,\"\",IFERROR(INDIRECT(CONCATENATE(\"'UNITCOST ITEMS (Data Entry)'!H\",IFERROR(SUM(MATCH(A403,'UNITCOST ITEMS (Data Entry)'!$A$3:$A$504,0),2),\"\"))),\"\"))","v":""},{"$f":"IF(IFERROR(INDIRECT(CONCATENATE(\"'UNITCOST ITEMS (Data Entry)'!I\",IFERROR(SUM(MATCH(A403,'UNITCOST ITEMS (Data Entry)'!$A$3:$A$504,0),2),\"\"))),\"\")=0,\"\",IFERROR(INDIRECT(CONCATENATE(\"'UNITCOST ITEMS (Data Entry)'!I\",IFERROR(SUM(MATCH(A403,'UNITCOST ITEMS (Data Entry)'!$A$3:$A$504,0),2),\"\"))),\"\"))","v":""},{"$f":"IF(K403=2,\"\",IF(IFERROR(INDIRECT(CONCATENATE(\"'UNITCOST ITEMS (Data Entry)'!J\",IFERROR(SUM(MATCH(A403,'UNITCOST ITEMS (Data Entry)'!$A$3:$A$504,0),2),\"\"))),\"\")=0,\"\",IFERROR(INDIRECT(CONCATENATE(\"'UNITCOST ITEMS (Data Entry)'!J\",IFERROR(SUM(MATCH(A403,'UNITCOST ITEMS (Data Entry)'!$A$3:$A$504,0),2),\"\"))),\"\")))","v":""},null,{"$f":"IF(IFERROR(INDIRECT(CONCATENATE(\"'UNITCOST ITEMS (Data Entry)'!C\",IFERROR(SUM(MATCH(A403,'UNITCOST ITEMS (Data Entry)'!$A$3:$A$504,0),2),\"\"))),\"\")=0,\"\",IFERROR(INDIRECT(CONCATENATE(\"'UNITCOST ITEMS (Data Entry)'!C\",IFERROR(SUM(MATCH(A403,'UNITCOST ITEMS (Data Entry)'!$A$3:$A$504,0),2),\"\"))),\"\"))","v":""},""]
[396,{"$f":"IF(IFERROR(INDIRECT(CONCATENATE(\"'UNITCOST ITEMS (Data Entry)'!D\",IFERROR(SUM(MATCH(A404,'UNITCOST ITEMS (Data Entry)'!$A$3:$A$504,0),2),\"\"))),\"\")=0,\"\",IFERROR(INDIRECT(CONCATENATE(\"'UNITCOST ITEMS (Data Entry)'!D\",IFERROR(SUM(MATCH(A404,'UNITCOST ITEMS (Data Entry)'!$A$3:$A$504,0),2),\"\"))),\"\"))","v":""},{"$f":"IF(IFERROR(INDIRECT(CONCATENATE(\"'UNITCOST ITEMS (Data Entry)'!E\",IFERROR(SUM(MATCH(A404,'UNITCOST ITEMS (Data Entry)'!$A$3:$A$504,0),2),\"\"))),\"\")=0,\"\",IFERROR(INDIRECT(CONCATENATE(\"'UNITCOST ITEMS (Data Entry)'!E\",IFERROR(SUM(MATCH(A404,'UNITCOST ITEMS (Data Entry)'!$A$3:$A$504,0),2),\"\"))),\"\"))","v":""},null,{"$f":"IF(IFERROR(INDIRECT(CONCATENATE(\"'UNITCOST ITEMS (Data Entry)'!F\",IFERROR(SUM(MATCH(A404,'UNITCOST ITEMS (Data Entry)'!$A$3:$A$504,0),2),\"\"))),\"\")=0,\"\",IFERROR(INDIRECT(CONCATENATE(\"'UNITCOST ITEMS (Data Entry)'!F\",IFERROR(SUM(MATCH(A404,'UNITCOST ITEMS (Data Entry)'!$A$3:$A$504,0),2),\"\"))),\"\"))","v":""},{"$f":"IF(IFERROR(INDIRECT(CONCATENATE(\"'UNITCOST ITEMS (Data Entry)'!G\",IFERROR(SUM(MATCH(A404,'UNITCOST ITEMS (Data Entry)'!$A$3:$A$504,0),2),\"\"))),\"\")=0,\"\",IFERROR(INDIRECT(CONCATENATE(\"'UNITCOST ITEMS (Data Entry)'!G\",IFERROR(SUM(MATCH(A404,'UNITCOST ITEMS (Data Entry)'!$A$3:$A$504,0),2),\"\"))),\"\"))","v":""},{"$f":"IF(IFERROR(INDIRECT(CONCATENATE(\"'UNITCOST ITEMS (Data Entry)'!H\",IFERROR(SUM(MATCH(A404,'UNITCOST ITEMS (Data Entry)'!$A$3:$A$504,0),2),\"\"))),\"\")=0,\"\",IFERROR(INDIRECT(CONCATENATE(\"'UNITCOST ITEMS (Data Entry)'!H\",IFERROR(SUM(MATCH(A404,'UNITCOST ITEMS (Data Entry)'!$A$3:$A$504,0),2),\"\"))),\"\"))","v":""},{"$f":"IF(IFERROR(INDIRECT(CONCATENATE(\"'UNITCOST ITEMS (Data Entry)'!I\",IFERROR(SUM(MATCH(A404,'UNITCOST ITEMS (Data Entry)'!$A$3:$A$504,0),2),\"\"))),\"\")=0,\"\",IFERROR(INDIRECT(CONCATENATE(\"'UNITCOST ITEMS (Data Entry)'!I\",IFERROR(SUM(MATCH(A404,'UNITCOST ITEMS (Data Entry)'!$A$3:$A$504,0),2),\"\"))),\"\"))","v":""},{"$f":"IF(K404=2,\"\",IF(IFERROR(INDIRECT(CONCATENATE(\"'UNITCOST ITEMS (Data Entry)'!J\",IFERROR(SUM(MATCH(A404,'UNITCOST ITEMS (Data Entry)'!$A$3:$A$504,0),2),\"\"))),\"\")=0,\"\",IFERROR(INDIRECT(CONCATENATE(\"'UNITCOST ITEMS (Data Entry)'!J\",IFERROR(SUM(MATCH(A404,'UNITCOST ITEMS (Data Entry)'!$A$3:$A$504,0),2),\"\"))),\"\")))","v":""},null,{"$f":"IF(IFERROR(INDIRECT(CONCATENATE(\"'UNITCOST ITEMS (Data Entry)'!C\",IFERROR(SUM(MATCH(A404,'UNITCOST ITEMS (Data Entry)'!$A$3:$A$504,0),2),\"\"))),\"\")=0,\"\",IFERROR(INDIRECT(CONCATENATE(\"'UNITCOST ITEMS (Data Entry)'!C\",IFERROR(SUM(MATCH(A404,'UNITCOST ITEMS (Data Entry)'!$A$3:$A$504,0),2),\"\"))),\"\"))","v":""},""]
[397,{"$f":"IF(IFERROR(INDIRECT(CONCATENATE(\"'UNITCOST ITEMS (Data Entry)'!D\",IFERROR(SUM(MATCH(A405,'UNITCOST ITEMS (Data Entry)'!$A$3:$A$504,0),2),\"\"))),\"\")=0,\"\",IFERROR(INDIRECT(CONCATENATE(\"'UNITCOST ITEMS (Data Entry)'!D\",IFERROR(SUM(MATCH(A405,'UNITCOST ITEMS (Data Entry)'!$A$3:$A$504,0),2),\"\"))),\"\"))","v":""},{"$f":"IF(IFERROR(INDIRECT(CONCATENATE(\"'UNITCOST ITEMS (Data Entry)'!E\",IFERROR(SUM(MATCH(A405,'UNITCOST ITEMS (Data Entry)'!$A$3:$A$504,0),2),\"\"))),\"\")=0,\"\",IFERROR(INDIRECT(CONCATENATE(\"'UNITCOST ITEMS (Data Entry)'!E\",IFERROR(SUM(MATCH(A405,'UNITCOST ITEMS (Data Entry)'!$A$3:$A$504,0),2),\"\"))),\"\"))","v":""},null,{"$f":"IF(IFERROR(INDIRECT(CONCATENATE(\"'UNITCOST ITEMS (Data Entry)'!F\",IFERROR(SUM(MATCH(A405,'UNITCOST ITEMS (Data Entry)'!$A$3:$A$504,0),2),\"\"))),\"\")=0,\"\",IFERROR(INDIRECT(CONCATENATE(\"'UNITCOST ITEMS (Data Entry)'!F\",IFERROR(SUM(MATCH(A405,'UNITCOST ITEMS (Data Entry)'!$A$3:$A$504,0),2),\"\"))),\"\"))","v":""},{"$f":"IF(IFERROR(INDIRECT(CONCATENATE(\"'UNITCOST ITEMS (Data Entry)'!G\",IFERROR(SUM(MATCH(A405,'UNITCOST ITEMS (Data Entry)'!$A$3:$A$504,0),2),\"\"))),\"\")=0,\"\",IFERROR(INDIRECT(CONCATENATE(\"'UNITCOST ITEMS (Data Entry)'!G\",IFERROR(SUM(MATCH(A405,'UNITCOST ITEMS (Data Entry)'!$A$3:$A$504,0),2),\"\"))),\"\"))","v":""},{"$f":"IF(IFERROR(INDIRECT(CONCATENATE(\"'UNITCOST ITEMS (Data Entry)'!H\",IFERROR(SUM(MATCH(A405,'UNITCOST ITEMS (Data Entry)'!$A$3:$A$504,0),2),\"\"))),\"\")=0,\"\",IFERROR(INDIRECT(CONCATENATE(\"'UNITCOST ITEMS (Data Entry)'!H\",IFERROR(SUM(MATCH(A405,'UNITCOST ITEMS (Data Entry)'!$A$3:$A$504,0),2),\"\"))),\"\"))","v":""},{"$f":"IF(IFERROR(INDIRECT(CONCATENATE(\"'UNITCOST ITEMS (Data Entry)'!I\",IFERROR(SUM(MATCH(A405,'UNITCOST ITEMS (Data Entry)'!$A$3:$A$504,0),2),\"\"))),\"\")=0,\"\",IFERROR(INDIRECT(CONCATENATE(\"'UNITCOST ITEMS (Data Entry)'!I\",IFERROR(SUM(MATCH(A405,'UNITCOST ITEMS (Data Entry)'!$A$3:$A$504,0),2),\"\"))),\"\"))","v":""},{"$f":"IF(K405=2,\"\",IF(IFERROR(INDIRECT(CONCATENATE(\"'UNITCOST ITEMS (Data Entry)'!J\",IFERROR(SUM(MATCH(A405,'UNITCOST ITEMS (Data Entry)'!$A$3:$A$504,0),2),\"\"))),\"\")=0,\"\",IFERROR(INDIRECT(CONCATENATE(\"'UNITCOST ITEMS (Data Entry)'!J\",IFERROR(SUM(MATCH(A405,'UNITCOST ITEMS (Data Entry)'!$A$3:$A$504,0),2),\"\"))),\"\")))","v":""},null,{"$f":"IF(IFERROR(INDIRECT(CONCATENATE(\"'UNITCOST ITEMS (Data Entry)'!C\",IFERROR(SUM(MATCH(A405,'UNITCOST ITEMS (Data Entry)'!$A$3:$A$504,0),2),\"\"))),\"\")=0,\"\",IFERROR(INDIRECT(CONCATENATE(\"'UNITCOST ITEMS (Data Entry)'!C\",IFERROR(SUM(MATCH(A405,'UNITCOST ITEMS (Data Entry)'!$A$3:$A$504,0),2),\"\"))),\"\"))","v":""},""]
[398,{"$f":"IF(IFERROR(INDIRECT(CONCATENATE(\"'UNITCOST ITEMS (Data Entry)'!D\",IFERROR(SUM(MATCH(A406,'UNITCOST ITEMS (Data Entry)'!$A$3:$A$504,0),2),\"\"))),\"\")=0,\"\",IFERROR(INDIRECT(CONCATENATE(\"'UNITCOST ITEMS (Data Entry)'!D\",IFERROR(SUM(MATCH(A406,'UNITCOST ITEMS (Data Entry)'!$A$3:$A$504,0),2),\"\"))),\"\"))","v":""},{"$f":"IF(IFERROR(INDIRECT(CONCATENATE(\"'UNITCOST ITEMS (Data Entry)'!E\",IFERROR(SUM(MATCH(A406,'UNITCOST ITEMS (Data Entry)'!$A$3:$A$504,0),2),\"\"))),\"\")=0,\"\",IFERROR(INDIRECT(CONCATENATE(\"'UNITCOST ITEMS (Data Entry)'!E\",IFERROR(SUM(MATCH(A406,'UNITCOST ITEMS (Data Entry)'!$A$3:$A$504,0),2),\"\"))),\"\"))","v":""},null,{"$f":"IF(IFERROR(INDIRECT(CONCATENATE(\"'UNITCOST ITEMS (Data Entry)'!F\",IFERROR(SUM(MATCH(A406,'UNITCOST ITEMS (Data Entry)'!$A$3:$A$504,0),2),\"\"))),\"\")=0,\"\",IFERROR(INDIRECT(CONCATENATE(\"'UNITCOST ITEMS (Data Entry)'!F\",IFERROR(SUM(MATCH(A406,'UNITCOST ITEMS (Data Entry)'!$A$3:$A$504,0),2),\"\"))),\"\"))","v":""},{"$f":"IF(IFERROR(INDIRECT(CONCATENATE(\"'UNITCOST ITEMS (Data Entry)'!G\",IFERROR(SUM(MATCH(A406,'UNITCOST ITEMS (Data Entry)'!$A$3:$A$504,0),2),\"\"))),\"\")=0,\"\",IFERROR(INDIRECT(CONCATENATE(\"'UNITCOST ITEMS (Data Entry)'!G\",IFERROR(SUM(MATCH(A406,'UNITCOST ITEMS (Data Entry)'!$A$3:$A$504,0),2),\"\"))),\"\"))","v":""},{"$f":"IF(IFERROR(INDIRECT(CONCATENATE(\"'UNITCOST ITEMS (Data Entry)'!H\",IFERROR(SUM(MATCH(A406,'UNITCOST ITEMS (Data Entry)'!$A$3:$A$504,0),2),\"\"))),\"\")=0,\"\",IFERROR(INDIRECT(CONCATENATE(\"'UNITCOST ITEMS (Data Entry)'!H\",IFERROR(SUM(MATCH(A406,'UNITCOST ITEMS (Data Entry)'!$A$3:$A$504,0),2),\"\"))),\"\"))","v":""},{"$f":"IF(IFERROR(INDIRECT(CONCATENATE(\"'UNITCOST ITEMS (Data Entry)'!I\",IFERROR(SUM(MATCH(A406,'UNITCOST ITEMS (Data Entry)'!$A$3:$A$504,0),2),\"\"))),\"\")=0,\"\",IFERROR(INDIRECT(CONCATENATE(\"'UNITCOST ITEMS (Data Entry)'!I\",IFERROR(SUM(MATCH(A406,'UNITCOST ITEMS (Data Entry)'!$A$3:$A$504,0),2),\"\"))),\"\"))","v":""},{"$f":"IF(K406=2,\"\",IF(IFERROR(INDIRECT(CONCATENATE(\"'UNITCOST ITEMS (Data Entry)'!J\",IFERROR(SUM(MATCH(A406,'UNITCOST ITEMS (Data Entry)'!$A$3:$A$504,0),2),\"\"))),\"\")=0,\"\",IFERROR(INDIRECT(CONCATENATE(\"'UNITCOST ITEMS (Data Entry)'!J\",IFERROR(SUM(MATCH(A406,'UNITCOST ITEMS (Data Entry)'!$A$3:$A$504,0),2),\"\"))),\"\")))","v":""},null,{"$f":"IF(IFERROR(INDIRECT(CONCATENATE(\"'UNITCOST ITEMS (Data Entry)'!C\",IFERROR(SUM(MATCH(A406,'UNITCOST ITEMS (Data Entry)'!$A$3:$A$504,0),2),\"\"))),\"\")=0,\"\",IFERROR(INDIRECT(CONCATENATE(\"'UNITCOST ITEMS (Data Entry)'!C\",IFERROR(SUM(MATCH(A406,'UNITCOST ITEMS (Data Entry)'!$A$3:$A$504,0),2),\"\"))),\"\"))","v":""},""]
[399,{"$f":"IF(IFERROR(INDIRECT(CONCATENATE(\"'UNITCOST ITEMS (Data Entry)'!D\",IFERROR(SUM(MATCH(A407,'UNITCOST ITEMS (Data Entry)'!$A$3:$A$504,0),2),\"\"))),\"\")=0,\"\",IFERROR(INDIRECT(CONCATENATE(\"'UNITCOST ITEMS (Data Entry)'!D\",IFERROR(SUM(MATCH(A407,'UNITCOST ITEMS (Data Entry)'!$A$3:$A$504,0),2),\"\"))),\"\"))","v":""},{"$f":"IF(IFERROR(INDIRECT(CONCATENATE(\"'UNITCOST ITEMS (Data Entry)'!E\",IFERROR(SUM(MATCH(A407,'UNITCOST ITEMS (Data Entry)'!$A$3:$A$504,0),2),\"\"))),\"\")=0,\"\",IFERROR(INDIRECT(CONCATENATE(\"'UNITCOST ITEMS (Data Entry)'!E\",IFERROR(SUM(MATCH(A407,'UNITCOST ITEMS (Data Entry)'!$A$3:$A$504,0),2),\"\"))),\"\"))","v":""},null,{"$f":"IF(IFERROR(INDIRECT(CONCATENATE(\"'UNITCOST ITEMS (Data Entry)'!F\",IFERROR(SUM(MATCH(A407,'UNITCOST ITEMS (Data Entry)'!$A$3:$A$504,0),2),\"\"))),\"\")=0,\"\",IFERROR(INDIRECT(CONCATENATE(\"'UNITCOST ITEMS (Data Entry)'!F\",IFERROR(SUM(MATCH(A407,'UNITCOST ITEMS (Data Entry)'!$A$3:$A$504,0),2),\"\"))),\"\"))","v":""},{"$f":"IF(IFERROR(INDIRECT(CONCATENATE(\"'UNITCOST ITEMS (Data Entry)'!G\",IFERROR(SUM(MATCH(A407,'UNITCOST ITEMS (Data Entry)'!$A$3:$A$504,0),2),\"\"))),\"\")=0,\"\",IFERROR(INDIRECT(CONCATENATE(\"'UNITCOST ITEMS (Data Entry)'!G\",IFERROR(SUM(MATCH(A407,'UNITCOST ITEMS (Data Entry)'!$A$3:$A$504,0),2),\"\"))),\"\"))","v":""},{"$f":"IF(IFERROR(INDIRECT(CONCATENATE(\"'UNITCOST ITEMS (Data Entry)'!H\",IFERROR(SUM(MATCH(A407,'UNITCOST ITEMS (Data Entry)'!$A$3:$A$504,0),2),\"\"))),\"\")=0,\"\",IFERROR(INDIRECT(CONCATENATE(\"'UNITCOST ITEMS (Data Entry)'!H\",IFERROR(SUM(MATCH(A407,'UNITCOST ITEMS (Data Entry)'!$A$3:$A$504,0),2),\"\"))),\"\"))","v":""},{"$f":"IF(IFERROR(INDIRECT(CONCATENATE(\"'UNITCOST ITEMS (Data Entry)'!I\",IFERROR(SUM(MATCH(A407,'UNITCOST ITEMS (Data Entry)'!$A$3:$A$504,0),2),\"\"))),\"\")=0,\"\",IFERROR(INDIRECT(CONCATENATE(\"'UNITCOST ITEMS (Data Entry)'!I\",IFERROR(SUM(MATCH(A407,'UNITCOST ITEMS (Data Entry)'!$A$3:$A$504,0),2),\"\"))),\"\"))","v":""},{"$f":"IF(K407=2,\"\",IF(IFERROR(INDIRECT(CONCATENATE(\"'UNITCOST ITEMS (Data Entry)'!J\",IFERROR(SUM(MATCH(A407,'UNITCOST ITEMS (Data Entry)'!$A$3:$A$504,0),2),\"\"))),\"\")=0,\"\",IFERROR(INDIRECT(CONCATENATE(\"'UNITCOST ITEMS (Data Entry)'!J\",IFERROR(SUM(MATCH(A407,'UNITCOST ITEMS (Data Entry)'!$A$3:$A$504,0),2),\"\"))),\"\")))","v":""},null,{"$f":"IF(IFERROR(INDIRECT(CONCATENATE(\"'UNITCOST ITEMS (Data Entry)'!C\",IFERROR(SUM(MATCH(A407,'UNITCOST ITEMS (Data Entry)'!$A$3:$A$504,0),2),\"\"))),\"\")=0,\"\",IFERROR(INDIRECT(CONCATENATE(\"'UNITCOST ITEMS (Data Entry)'!C\",IFERROR(SUM(MATCH(A407,'UNITCOST ITEMS (Data Entry)'!$A$3:$A$504,0),2),\"\"))),\"\"))","v":""},""]
[400,{"$f":"IF(IFERROR(INDIRECT(CONCATENATE(\"'UNITCOST ITEMS (Data Entry)'!D\",IFERROR(SUM(MATCH(A408,'UNITCOST ITEMS (Data Entry)'!$A$3:$A$504,0),2),\"\"))),\"\")=0,\"\",IFERROR(INDIRECT(CONCATENATE(\"'UNITCOST ITEMS (Data Entry)'!D\",IFERROR(SUM(MATCH(A408,'UNITCOST ITEMS (Data Entry)'!$A$3:$A$504,0),2),\"\"))),\"\"))","v":""},{"$f":"IF(IFERROR(INDIRECT(CONCATENATE(\"'UNITCOST ITEMS (Data Entry)'!E\",IFERROR(SUM(MATCH(A408,'UNITCOST ITEMS (Data Entry)'!$A$3:$A$504,0),2),\"\"))),\"\")=0,\"\",IFERROR(INDIRECT(CONCATENATE(\"'UNITCOST ITEMS (Data Entry)'!E\",IFERROR(SUM(MATCH(A408,'UNITCOST ITEMS (Data Entry)'!$A$3:$A$504,0),2),\"\"))),\"\"))","v":""},null,{"$f":"IF(IFERROR(INDIRECT(CONCATENATE(\"'UNITCOST ITEMS (Data Entry)'!F\",IFERROR(SUM(MATCH(A408,'UNITCOST ITEMS (Data Entry)'!$A$3:$A$504,0),2),\"\"))),\"\")=0,\"\",IFERROR(INDIRECT(CONCATENATE(\"'UNITCOST ITEMS (Data Entry)'!F\",IFERROR(SUM(MATCH(A408,'UNITCOST ITEMS (Data Entry)'!$A$3:$A$504,0),2),\"\"))),\"\"))","v":""},{"$f":"IF(IFERROR(INDIRECT(CONCATENATE(\"'UNITCOST ITEMS (Data Entry)'!G\",IFERROR(SUM(MATCH(A408,'UNITCOST ITEMS (Data Entry)'!$A$3:$A$504,0),2),\"\"))),\"\")=0,\"\",IFERROR(INDIRECT(CONCATENATE(\"'UNITCOST ITEMS (Data Entry)'!G\",IFERROR(SUM(MATCH(A408,'UNITCOST ITEMS (Data Entry)'!$A$3:$A$504,0),2),\"\"))),\"\"))","v":""},{"$f":"IF(IFERROR(INDIRECT(CONCATENATE(\"'UNITCOST ITEMS (Data Entry)'!H\",IFERROR(SUM(MATCH(A408,'UNITCOST ITEMS (Data Entry)'!$A$3:$A$504,0),2),\"\"))),\"\")=0,\"\",IFERROR(INDIRECT(CONCATENATE(\"'UNITCOST ITEMS (Data Entry)'!H\",IFERROR(SUM(MATCH(A408,'UNITCOST ITEMS (Data Entry)'!$A$3:$A$504,0),2),\"\"))),\"\"))","v":""},{"$f":"IF(IFERROR(INDIRECT(CONCATENATE(\"'UNITCOST ITEMS (Data Entry)'!I\",IFERROR(SUM(MATCH(A408,'UNITCOST ITEMS (Data Entry)'!$A$3:$A$504,0),2),\"\"))),\"\")=0,\"\",IFERROR(INDIRECT(CONCATENATE(\"'UNITCOST ITEMS (Data Entry)'!I\",IFERROR(SUM(MATCH(A408,'UNITCOST ITEMS (Data Entry)'!$A$3:$A$504,0),2),\"\"))),\"\"))","v":""},{"$f":"IF(K408=2,\"\",IF(IFERROR(INDIRECT(CONCATENATE(\"'UNITCOST ITEMS (Data Entry)'!J\",IFERROR(SUM(MATCH(A408,'UNITCOST ITEMS (Data Entry)'!$A$3:$A$504,0),2),\"\"))),\"\")=0,\"\",IFERROR(INDIRECT(CONCATENATE(\"'UNITCOST ITEMS (Data Entry)'!J\",IFERROR(SUM(MATCH(A408,'UNITCOST ITEMS (Data Entry)'!$A$3:$A$504,0),2),\"\"))),\"\")))","v":""},null,{"$f":"IF(IFERROR(INDIRECT(CONCATENATE(\"'UNITCOST ITEMS (Data Entry)'!C\",IFERROR(SUM(MATCH(A408,'UNITCOST ITEMS (Data Entry)'!$A$3:$A$504,0),2),\"\"))),\"\")=0,\"\",IFERROR(INDIRECT(CONCATENATE(\"'UNITCOST ITEMS (Data Entry)'!C\",IFERROR(SUM(MATCH(A408,'UNITCOST ITEMS (Data Entry)'!$A$3:$A$504,0),2),\"\"))),\"\"))","v":""},""]
[401,{"$f":"IF(IFERROR(INDIRECT(CONCATENATE(\"'UNITCOST ITEMS (Data Entry)'!D\",IFERROR(SUM(MATCH(A409,'UNITCOST ITEMS (Data Entry)'!$A$3:$A$504,0),2),\"\"))),\"\")=0,\"\",IFERROR(INDIRECT(CONCATENATE(\"'UNITCOST ITEMS (Data Entry)'!D\",IFERROR(SUM(MATCH(A409,'UNITCOST ITEMS (Data Entry)'!$A$3:$A$504,0),2),\"\"))),\"\"))","v":""},{"$f":"IF(IFERROR(INDIRECT(CONCATENATE(\"'UNITCOST ITEMS (Data Entry)'!E\",IFERROR(SUM(MATCH(A409,'UNITCOST ITEMS (Data Entry)'!$A$3:$A$504,0),2),\"\"))),\"\")=0,\"\",IFERROR(INDIRECT(CONCATENATE(\"'UNITCOST ITEMS (Data Entry)'!E\",IFERROR(SUM(MATCH(A409,'UNITCOST ITEMS (Data Entry)'!$A$3:$A$504,0),2),\"\"))),\"\"))","v":""},null,{"$f":"IF(IFERROR(INDIRECT(CONCATENATE(\"'UNITCOST ITEMS (Data Entry)'!F\",IFERROR(SUM(MATCH(A409,'UNITCOST ITEMS (Data Entry)'!$A$3:$A$504,0),2),\"\"))),\"\")=0,\"\",IFERROR(INDIRECT(CONCATENATE(\"'UNITCOST ITEMS (Data Entry)'!F\",IFERROR(SUM(MATCH(A409,'UNITCOST ITEMS (Data Entry)'!$A$3:$A$504,0),2),\"\"))),\"\"))","v":""},{"$f":"IF(IFERROR(INDIRECT(CONCATENATE(\"'UNITCOST ITEMS (Data Entry)'!G\",IFERROR(SUM(MATCH(A409,'UNITCOST ITEMS (Data Entry)'!$A$3:$A$504,0),2),\"\"))),\"\")=0,\"\",IFERROR(INDIRECT(CONCATENATE(\"'UNITCOST ITEMS (Data Entry)'!G\",IFERROR(SUM(MATCH(A409,'UNITCOST ITEMS (Data Entry)'!$A$3:$A$504,0),2),\"\"))),\"\"))","v":""},{"$f":"IF(IFERROR(INDIRECT(CONCATENATE(\"'UNITCOST ITEMS (Data Entry)'!H\",IFERROR(SUM(MATCH(A409,'UNITCOST ITEMS (Data Entry)'!$A$3:$A$504,0),2),\"\"))),\"\")=0,\"\",IFERROR(INDIRECT(CONCATENATE(\"'UNITCOST ITEMS (Data Entry)'!H\",IFERROR(SUM(MATCH(A409,'UNITCOST ITEMS (Data Entry)'!$A$3:$A$504,0),2),\"\"))),\"\"))","v":""},{"$f":"IF(IFERROR(INDIRECT(CONCATENATE(\"'UNITCOST ITEMS (Data Entry)'!I\",IFERROR(SUM(MATCH(A409,'UNITCOST ITEMS (Data Entry)'!$A$3:$A$504,0),2),\"\"))),\"\")=0,\"\",IFERROR(INDIRECT(CONCATENATE(\"'UNITCOST ITEMS (Data Entry)'!I\",IFERROR(SUM(MATCH(A409,'UNITCOST ITEMS (Data Entry)'!$A$3:$A$504,0),2),\"\"))),\"\"))","v":""},{"$f":"IF(K409=2,\"\",IF(IFERROR(INDIRECT(CONCATENATE(\"'UNITCOST ITEMS (Data Entry)'!J\",IFERROR(SUM(MATCH(A409,'UNITCOST ITEMS (Data Entry)'!$A$3:$A$504,0),2),\"\"))),\"\")=0,\"\",IFERROR(INDIRECT(CONCATENATE(\"'UNITCOST ITEMS (Data Entry)'!J\",IFERROR(SUM(MATCH(A409,'UNITCOST ITEMS (Data Entry)'!$A$3:$A$504,0),2),\"\"))),\"\")))","v":""},null,{"$f":"IF(IFERROR(INDIRECT(CONCATENATE(\"'UNITCOST ITEMS (Data Entry)'!C\",IFERROR(SUM(MATCH(A409,'UNITCOST ITEMS (Data Entry)'!$A$3:$A$504,0),2),\"\"))),\"\")=0,\"\",IFERROR(INDIRECT(CONCATENATE(\"'UNITCOST ITEMS (Data Entry)'!C\",IFERROR(SUM(MATCH(A409,'UNITCOST ITEMS (Data Entry)'!$A$3:$A$504,0),2),\"\"))),\"\"))","v":""},""]
[402,{"$f":"IF(IFERROR(INDIRECT(CONCATENATE(\"'UNITCOST ITEMS (Data Entry)'!D\",IFERROR(SUM(MATCH(A410,'UNITCOST ITEMS (Data Entry)'!$A$3:$A$504,0),2),\"\"))),\"\")=0,\"\",IFERROR(INDIRECT(CONCATENATE(\"'UNITCOST ITEMS (Data Entry)'!D\",IFERROR(SUM(MATCH(A410,'UNITCOST ITEMS (Data Entry)'!$A$3:$A$504,0),2),\"\"))),\"\"))","v":""},{"$f":"IF(IFERROR(INDIRECT(CONCATENATE(\"'UNITCOST ITEMS (Data Entry)'!E\",IFERROR(SUM(MATCH(A410,'UNITCOST ITEMS (Data Entry)'!$A$3:$A$504,0),2),\"\"))),\"\")=0,\"\",IFERROR(INDIRECT(CONCATENATE(\"'UNITCOST ITEMS (Data Entry)'!E\",IFERROR(SUM(MATCH(A410,'UNITCOST ITEMS (Data Entry)'!$A$3:$A$504,0),2),\"\"))),\"\"))","v":""},null,{"$f":"IF(IFERROR(INDIRECT(CONCATENATE(\"'UNITCOST ITEMS (Data Entry)'!F\",IFERROR(SUM(MATCH(A410,'UNITCOST ITEMS (Data Entry)'!$A$3:$A$504,0),2),\"\"))),\"\")=0,\"\",IFERROR(INDIRECT(CONCATENATE(\"'UNITCOST ITEMS (Data Entry)'!F\",IFERROR(SUM(MATCH(A410,'UNITCOST ITEMS (Data Entry)'!$A$3:$A$504,0),2),\"\"))),\"\"))","v":""},{"$f":"IF(IFERROR(INDIRECT(CONCATENATE(\"'UNITCOST ITEMS (Data Entry)'!G\",IFERROR(SUM(MATCH(A410,'UNITCOST ITEMS (Data Entry)'!$A$3:$A$504,0),2),\"\"))),\"\")=0,\"\",IFERROR(INDIRECT(CONCATENATE(\"'UNITCOST ITEMS (Data Entry)'!G\",IFERROR(SUM(MATCH(A410,'UNITCOST ITEMS (Data Entry)'!$A$3:$A$504,0),2),\"\"))),\"\"))","v":""},{"$f":"IF(IFERROR(INDIRECT(CONCATENATE(\"'UNITCOST ITEMS (Data Entry)'!H\",IFERROR(SUM(MATCH(A410,'UNITCOST ITEMS (Data Entry)'!$A$3:$A$504,0),2),\"\"))),\"\")=0,\"\",IFERROR(INDIRECT(CONCATENATE(\"'UNITCOST ITEMS (Data Entry)'!H\",IFERROR(SUM(MATCH(A410,'UNITCOST ITEMS (Data Entry)'!$A$3:$A$504,0),2),\"\"))),\"\"))","v":""},{"$f":"IF(IFERROR(INDIRECT(CONCATENATE(\"'UNITCOST ITEMS (Data Entry)'!I\",IFERROR(SUM(MATCH(A410,'UNITCOST ITEMS (Data Entry)'!$A$3:$A$504,0),2),\"\"))),\"\")=0,\"\",IFERROR(INDIRECT(CONCATENATE(\"'UNITCOST ITEMS (Data Entry)'!I\",IFERROR(SUM(MATCH(A410,'UNITCOST ITEMS (Data Entry)'!$A$3:$A$504,0),2),\"\"))),\"\"))","v":""},{"$f":"IF(K410=2,\"\",IF(IFERROR(INDIRECT(CONCATENATE(\"'UNITCOST ITEMS (Data Entry)'!J\",IFERROR(SUM(MATCH(A410,'UNITCOST ITEMS (Data Entry)'!$A$3:$A$504,0),2),\"\"))),\"\")=0,\"\",IFERROR(INDIRECT(CONCATENATE(\"'UNITCOST ITEMS (Data Entry)'!J\",IFERROR(SUM(MATCH(A410,'UNITCOST ITEMS (Data Entry)'!$A$3:$A$504,0),2),\"\"))),\"\")))","v":""},null,{"$f":"IF(IFERROR(INDIRECT(CONCATENATE(\"'UNITCOST ITEMS (Data Entry)'!C\",IFERROR(SUM(MATCH(A410,'UNITCOST ITEMS (Data Entry)'!$A$3:$A$504,0),2),\"\"))),\"\")=0,\"\",IFERROR(INDIRECT(CONCATENATE(\"'UNITCOST ITEMS (Data Entry)'!C\",IFERROR(SUM(MATCH(A410,'UNITCOST ITEMS (Data Entry)'!$A$3:$A$504,0),2),\"\"))),\"\"))","v":""},""]
[403,{"$f":"IF(IFERROR(INDIRECT(CONCATENATE(\"'UNITCOST ITEMS (Data Entry)'!D\",IFERROR(SUM(MATCH(A411,'UNITCOST ITEMS (Data Entry)'!$A$3:$A$504,0),2),\"\"))),\"\")=0,\"\",IFERROR(INDIRECT(CONCATENATE(\"'UNITCOST ITEMS (Data Entry)'!D\",IFERROR(SUM(MATCH(A411,'UNITCOST ITEMS (Data Entry)'!$A$3:$A$504,0),2),\"\"))),\"\"))","v":""},{"$f":"IF(IFERROR(INDIRECT(CONCATENATE(\"'UNITCOST ITEMS (Data Entry)'!E\",IFERROR(SUM(MATCH(A411,'UNITCOST ITEMS (Data Entry)'!$A$3:$A$504,0),2),\"\"))),\"\")=0,\"\",IFERROR(INDIRECT(CONCATENATE(\"'UNITCOST ITEMS (Data Entry)'!E\",IFERROR(SUM(MATCH(A411,'UNITCOST ITEMS (Data Entry)'!$A$3:$A$504,0),2),\"\"))),\"\"))","v":""},null,{"$f":"IF(IFERROR(INDIRECT(CONCATENATE(\"'UNITCOST ITEMS (Data Entry)'!F\",IFERROR(SUM(MATCH(A411,'UNITCOST ITEMS (Data Entry)'!$A$3:$A$504,0),2),\"\"))),\"\")=0,\"\",IFERROR(INDIRECT(CONCATENATE(\"'UNITCOST ITEMS (Data Entry)'!F\",IFERROR(SUM(MATCH(A411,'UNITCOST ITEMS (Data Entry)'!$A$3:$A$504,0),2),\"\"))),\"\"))","v":""},{"$f":"IF(IFERROR(INDIRECT(CONCATENATE(\"'UNITCOST ITEMS (Data Entry)'!G\",IFERROR(SUM(MATCH(A411,'UNITCOST ITEMS (Data Entry)'!$A$3:$A$504,0),2),\"\"))),\"\")=0,\"\",IFERROR(INDIRECT(CONCATENATE(\"'UNITCOST ITEMS (Data Entry)'!G\",IFERROR(SUM(MATCH(A411,'UNITCOST ITEMS (Data Entry)'!$A$3:$A$504,0),2),\"\"))),\"\"))","v":""},{"$f":"IF(IFERROR(INDIRECT(CONCATENATE(\"'UNITCOST ITEMS (Data Entry)'!H\",IFERROR(SUM(MATCH(A411,'UNITCOST ITEMS (Data Entry)'!$A$3:$A$504,0),2),\"\"))),\"\")=0,\"\",IFERROR(INDIRECT(CONCATENATE(\"'UNITCOST ITEMS (Data Entry)'!H\",IFERROR(SUM(MATCH(A411,'UNITCOST ITEMS (Data Entry)'!$A$3:$A$504,0),2),\"\"))),\"\"))","v":""},{"$f":"IF(IFERROR(INDIRECT(CONCATENATE(\"'UNITCOST ITEMS (Data Entry)'!I\",IFERROR(SUM(MATCH(A411,'UNITCOST ITEMS (Data Entry)'!$A$3:$A$504,0),2),\"\"))),\"\")=0,\"\",IFERROR(INDIRECT(CONCATENATE(\"'UNITCOST ITEMS (Data Entry)'!I\",IFERROR(SUM(MATCH(A411,'UNITCOST ITEMS (Data Entry)'!$A$3:$A$504,0),2),\"\"))),\"\"))","v":""},{"$f":"IF(K411=2,\"\",IF(IFERROR(INDIRECT(CONCATENATE(\"'UNITCOST ITEMS (Data Entry)'!J\",IFERROR(SUM(MATCH(A411,'UNITCOST ITEMS (Data Entry)'!$A$3:$A$504,0),2),\"\"))),\"\")=0,\"\",IFERROR(INDIRECT(CONCATENATE(\"'UNITCOST ITEMS (Data Entry)'!J\",IFERROR(SUM(MATCH(A411,'UNITCOST ITEMS (Data Entry)'!$A$3:$A$504,0),2),\"\"))),\"\")))","v":""},null,{"$f":"IF(IFERROR(INDIRECT(CONCATENATE(\"'UNITCOST ITEMS (Data Entry)'!C\",IFERROR(SUM(MATCH(A411,'UNITCOST ITEMS (Data Entry)'!$A$3:$A$504,0),2),\"\"))),\"\")=0,\"\",IFERROR(INDIRECT(CONCATENATE(\"'UNITCOST ITEMS (Data Entry)'!C\",IFERROR(SUM(MATCH(A411,'UNITCOST ITEMS (Data Entry)'!$A$3:$A$504,0),2),\"\"))),\"\"))","v":""},""]
[404,{"$f":"IF(IFERROR(INDIRECT(CONCATENATE(\"'UNITCOST ITEMS (Data Entry)'!D\",IFERROR(SUM(MATCH(A412,'UNITCOST ITEMS (Data Entry)'!$A$3:$A$504,0),2),\"\"))),\"\")=0,\"\",IFERROR(INDIRECT(CONCATENATE(\"'UNITCOST ITEMS (Data Entry)'!D\",IFERROR(SUM(MATCH(A412,'UNITCOST ITEMS (Data Entry)'!$A$3:$A$504,0),2),\"\"))),\"\"))","v":""},{"$f":"IF(IFERROR(INDIRECT(CONCATENATE(\"'UNITCOST ITEMS (Data Entry)'!E\",IFERROR(SUM(MATCH(A412,'UNITCOST ITEMS (Data Entry)'!$A$3:$A$504,0),2),\"\"))),\"\")=0,\"\",IFERROR(INDIRECT(CONCATENATE(\"'UNITCOST ITEMS (Data Entry)'!E\",IFERROR(SUM(MATCH(A412,'UNITCOST ITEMS (Data Entry)'!$A$3:$A$504,0),2),\"\"))),\"\"))","v":""},null,{"$f":"IF(IFERROR(INDIRECT(CONCATENATE(\"'UNITCOST ITEMS (Data Entry)'!F\",IFERROR(SUM(MATCH(A412,'UNITCOST ITEMS (Data Entry)'!$A$3:$A$504,0),2),\"\"))),\"\")=0,\"\",IFERROR(INDIRECT(CONCATENATE(\"'UNITCOST ITEMS (Data Entry)'!F\",IFERROR(SUM(MATCH(A412,'UNITCOST ITEMS (Data Entry)'!$A$3:$A$504,0),2),\"\"))),\"\"))","v":""},{"$f":"IF(IFERROR(INDIRECT(CONCATENATE(\"'UNITCOST ITEMS (Data Entry)'!G\",IFERROR(SUM(MATCH(A412,'UNITCOST ITEMS (Data Entry)'!$A$3:$A$504,0),2),\"\"))),\"\")=0,\"\",IFERROR(INDIRECT(CONCATENATE(\"'UNITCOST ITEMS (Data Entry)'!G\",IFERROR(SUM(MATCH(A412,'UNITCOST ITEMS (Data Entry)'!$A$3:$A$504,0),2),\"\"))),\"\"))","v":""},{"$f":"IF(IFERROR(INDIRECT(CONCATENATE(\"'UNITCOST ITEMS (Data Entry)'!H\",IFERROR(SUM(MATCH(A412,'UNITCOST ITEMS (Data Entry)'!$A$3:$A$504,0),2),\"\"))),\"\")=0,\"\",IFERROR(INDIRECT(CONCATENATE(\"'UNITCOST ITEMS (Data Entry)'!H\",IFERROR(SUM(MATCH(A412,'UNITCOST ITEMS (Data Entry)'!$A$3:$A$504,0),2),\"\"))),\"\"))","v":""},{"$f":"IF(IFERROR(INDIRECT(CONCATENATE(\"'UNITCOST ITEMS (Data Entry)'!I\",IFERROR(SUM(MATCH(A412,'UNITCOST ITEMS (Data Entry)'!$A$3:$A$504,0),2),\"\"))),\"\")=0,\"\",IFERROR(INDIRECT(CONCATENATE(\"'UNITCOST ITEMS (Data Entry)'!I\",IFERROR(SUM(MATCH(A412,'UNITCOST ITEMS (Data Entry)'!$A$3:$A$504,0),2),\"\"))),\"\"))","v":""},{"$f":"IF(K412=2,\"\",IF(IFERROR(INDIRECT(CONCATENATE(\"'UNITCOST ITEMS (Data Entry)'!J\",IFERROR(SUM(MATCH(A412,'UNITCOST ITEMS (Data Entry)'!$A$3:$A$504,0),2),\"\"))),\"\")=0,\"\",IFERROR(INDIRECT(CONCATENATE(\"'UNITCOST ITEMS (Data Entry)'!J\",IFERROR(SUM(MATCH(A412,'UNITCOST ITEMS (Data Entry)'!$A$3:$A$504,0),2),\"\"))),\"\")))","v":""},null,{"$f":"IF(IFERROR(INDIRECT(CONCATENATE(\"'UNITCOST ITEMS (Data Entry)'!C\",IFERROR(SUM(MATCH(A412,'UNITCOST ITEMS (Data Entry)'!$A$3:$A$504,0),2),\"\"))),\"\")=0,\"\",IFERROR(INDIRECT(CONCATENATE(\"'UNITCOST ITEMS (Data Entry)'!C\",IFERROR(SUM(MATCH(A412,'UNITCOST ITEMS (Data Entry)'!$A$3:$A$504,0),2),\"\"))),\"\"))","v":""},""]
[405,{"$f":"IF(IFERROR(INDIRECT(CONCATENATE(\"'UNITCOST ITEMS (Data Entry)'!D\",IFERROR(SUM(MATCH(A413,'UNITCOST ITEMS (Data Entry)'!$A$3:$A$504,0),2),\"\"))),\"\")=0,\"\",IFERROR(INDIRECT(CONCATENATE(\"'UNITCOST ITEMS (Data Entry)'!D\",IFERROR(SUM(MATCH(A413,'UNITCOST ITEMS (Data Entry)'!$A$3:$A$504,0),2),\"\"))),\"\"))","v":""},{"$f":"IF(IFERROR(INDIRECT(CONCATENATE(\"'UNITCOST ITEMS (Data Entry)'!E\",IFERROR(SUM(MATCH(A413,'UNITCOST ITEMS (Data Entry)'!$A$3:$A$504,0),2),\"\"))),\"\")=0,\"\",IFERROR(INDIRECT(CONCATENATE(\"'UNITCOST ITEMS (Data Entry)'!E\",IFERROR(SUM(MATCH(A413,'UNITCOST ITEMS (Data Entry)'!$A$3:$A$504,0),2),\"\"))),\"\"))","v":""},null,{"$f":"IF(IFERROR(INDIRECT(CONCATENATE(\"'UNITCOST ITEMS (Data Entry)'!F\",IFERROR(SUM(MATCH(A413,'UNITCOST ITEMS (Data Entry)'!$A$3:$A$504,0),2),\"\"))),\"\")=0,\"\",IFERROR(INDIRECT(CONCATENATE(\"'UNITCOST ITEMS (Data Entry)'!F\",IFERROR(SUM(MATCH(A413,'UNITCOST ITEMS (Data Entry)'!$A$3:$A$504,0),2),\"\"))),\"\"))","v":""},{"$f":"IF(IFERROR(INDIRECT(CONCATENATE(\"'UNITCOST ITEMS (Data Entry)'!G\",IFERROR(SUM(MATCH(A413,'UNITCOST ITEMS (Data Entry)'!$A$3:$A$504,0),2),\"\"))),\"\")=0,\"\",IFERROR(INDIRECT(CONCATENATE(\"'UNITCOST ITEMS (Data Entry)'!G\",IFERROR(SUM(MATCH(A413,'UNITCOST ITEMS (Data Entry)'!$A$3:$A$504,0),2),\"\"))),\"\"))","v":""},{"$f":"IF(IFERROR(INDIRECT(CONCATENATE(\"'UNITCOST ITEMS (Data Entry)'!H\",IFERROR(SUM(MATCH(A413,'UNITCOST ITEMS (Data Entry)'!$A$3:$A$504,0),2),\"\"))),\"\")=0,\"\",IFERROR(INDIRECT(CONCATENATE(\"'UNITCOST ITEMS (Data Entry)'!H\",IFERROR(SUM(MATCH(A413,'UNITCOST ITEMS (Data Entry)'!$A$3:$A$504,0),2),\"\"))),\"\"))","v":""},{"$f":"IF(IFERROR(INDIRECT(CONCATENATE(\"'UNITCOST ITEMS (Data Entry)'!I\",IFERROR(SUM(MATCH(A413,'UNITCOST ITEMS (Data Entry)'!$A$3:$A$504,0),2),\"\"))),\"\")=0,\"\",IFERROR(INDIRECT(CONCATENATE(\"'UNITCOST ITEMS (Data Entry)'!I\",IFERROR(SUM(MATCH(A413,'UNITCOST ITEMS (Data Entry)'!$A$3:$A$504,0),2),\"\"))),\"\"))","v":""},{"$f":"IF(K413=2,\"\",IF(IFERROR(INDIRECT(CONCATENATE(\"'UNITCOST ITEMS (Data Entry)'!J\",IFERROR(SUM(MATCH(A413,'UNITCOST ITEMS (Data Entry)'!$A$3:$A$504,0),2),\"\"))),\"\")=0,\"\",IFERROR(INDIRECT(CONCATENATE(\"'UNITCOST ITEMS (Data Entry)'!J\",IFERROR(SUM(MATCH(A413,'UNITCOST ITEMS (Data Entry)'!$A$3:$A$504,0),2),\"\"))),\"\")))","v":""},null,{"$f":"IF(IFERROR(INDIRECT(CONCATENATE(\"'UNITCOST ITEMS (Data Entry)'!C\",IFERROR(SUM(MATCH(A413,'UNITCOST ITEMS (Data Entry)'!$A$3:$A$504,0),2),\"\"))),\"\")=0,\"\",IFERROR(INDIRECT(CONCATENATE(\"'UNITCOST ITEMS (Data Entry)'!C\",IFERROR(SUM(MATCH(A413,'UNITCOST ITEMS (Data Entry)'!$A$3:$A$504,0),2),\"\"))),\"\"))","v":""},""]
[406,{"$f":"IF(IFERROR(INDIRECT(CONCATENATE(\"'UNITCOST ITEMS (Data Entry)'!D\",IFERROR(SUM(MATCH(A414,'UNITCOST ITEMS (Data Entry)'!$A$3:$A$504,0),2),\"\"))),\"\")=0,\"\",IFERROR(INDIRECT(CONCATENATE(\"'UNITCOST ITEMS (Data Entry)'!D\",IFERROR(SUM(MATCH(A414,'UNITCOST ITEMS (Data Entry)'!$A$3:$A$504,0),2),\"\"))),\"\"))","v":""},{"$f":"IF(IFERROR(INDIRECT(CONCATENATE(\"'UNITCOST ITEMS (Data Entry)'!E\",IFERROR(SUM(MATCH(A414,'UNITCOST ITEMS (Data Entry)'!$A$3:$A$504,0),2),\"\"))),\"\")=0,\"\",IFERROR(INDIRECT(CONCATENATE(\"'UNITCOST ITEMS (Data Entry)'!E\",IFERROR(SUM(MATCH(A414,'UNITCOST ITEMS (Data Entry)'!$A$3:$A$504,0),2),\"\"))),\"\"))","v":""},null,{"$f":"IF(IFERROR(INDIRECT(CONCATENATE(\"'UNITCOST ITEMS (Data Entry)'!F\",IFERROR(SUM(MATCH(A414,'UNITCOST ITEMS (Data Entry)'!$A$3:$A$504,0),2),\"\"))),\"\")=0,\"\",IFERROR(INDIRECT(CONCATENATE(\"'UNITCOST ITEMS (Data Entry)'!F\",IFERROR(SUM(MATCH(A414,'UNITCOST ITEMS (Data Entry)'!$A$3:$A$504,0),2),\"\"))),\"\"))","v":""},{"$f":"IF(IFERROR(INDIRECT(CONCATENATE(\"'UNITCOST ITEMS (Data Entry)'!G\",IFERROR(SUM(MATCH(A414,'UNITCOST ITEMS (Data Entry)'!$A$3:$A$504,0),2),\"\"))),\"\")=0,\"\",IFERROR(INDIRECT(CONCATENATE(\"'UNITCOST ITEMS (Data Entry)'!G\",IFERROR(SUM(MATCH(A414,'UNITCOST ITEMS (Data Entry)'!$A$3:$A$504,0),2),\"\"))),\"\"))","v":""},{"$f":"IF(IFERROR(INDIRECT(CONCATENATE(\"'UNITCOST ITEMS (Data Entry)'!H\",IFERROR(SUM(MATCH(A414,'UNITCOST ITEMS (Data Entry)'!$A$3:$A$504,0),2),\"\"))),\"\")=0,\"\",IFERROR(INDIRECT(CONCATENATE(\"'UNITCOST ITEMS (Data Entry)'!H\",IFERROR(SUM(MATCH(A414,'UNITCOST ITEMS (Data Entry)'!$A$3:$A$504,0),2),\"\"))),\"\"))","v":""},{"$f":"IF(IFERROR(INDIRECT(CONCATENATE(\"'UNITCOST ITEMS (Data Entry)'!I\",IFERROR(SUM(MATCH(A414,'UNITCOST ITEMS (Data Entry)'!$A$3:$A$504,0),2),\"\"))),\"\")=0,\"\",IFERROR(INDIRECT(CONCATENATE(\"'UNITCOST ITEMS (Data Entry)'!I\",IFERROR(SUM(MATCH(A414,'UNITCOST ITEMS (Data Entry)'!$A$3:$A$504,0),2),\"\"))),\"\"))","v":""},{"$f":"IF(K414=2,\"\",IF(IFERROR(INDIRECT(CONCATENATE(\"'UNITCOST ITEMS (Data Entry)'!J\",IFERROR(SUM(MATCH(A414,'UNITCOST ITEMS (Data Entry)'!$A$3:$A$504,0),2),\"\"))),\"\")=0,\"\",IFERROR(INDIRECT(CONCATENATE(\"'UNITCOST ITEMS (Data Entry)'!J\",IFERROR(SUM(MATCH(A414,'UNITCOST ITEMS (Data Entry)'!$A$3:$A$504,0),2),\"\"))),\"\")))","v":""},null,{"$f":"IF(IFERROR(INDIRECT(CONCATENATE(\"'UNITCOST ITEMS (Data Entry)'!C\",IFERROR(SUM(MATCH(A414,'UNITCOST ITEMS (Data Entry)'!$A$3:$A$504,0),2),\"\"))),\"\")=0,\"\",IFERROR(INDIRECT(CONCATENATE(\"'UNITCOST ITEMS (Data Entry)'!C\",IFERROR(SUM(MATCH(A414,'UNITCOST ITEMS (Data Entry)'!$A$3:$A$504,0),2),\"\"))),\"\"))","v":""},""]
[407,{"$f":"IF(IFERROR(INDIRECT(CONCATENATE(\"'UNITCOST ITEMS (Data Entry)'!D\",IFERROR(SUM(MATCH(A415,'UNITCOST ITEMS (Data Entry)'!$A$3:$A$504,0),2),\"\"))),\"\")=0,\"\",IFERROR(INDIRECT(CONCATENATE(\"'UNITCOST ITEMS (Data Entry)'!D\",IFERROR(SUM(MATCH(A415,'UNITCOST ITEMS (Data Entry)'!$A$3:$A$504,0),2),\"\"))),\"\"))","v":""},{"$f":"IF(IFERROR(INDIRECT(CONCATENATE(\"'UNITCOST ITEMS (Data Entry)'!E\",IFERROR(SUM(MATCH(A415,'UNITCOST ITEMS (Data Entry)'!$A$3:$A$504,0),2),\"\"))),\"\")=0,\"\",IFERROR(INDIRECT(CONCATENATE(\"'UNITCOST ITEMS (Data Entry)'!E\",IFERROR(SUM(MATCH(A415,'UNITCOST ITEMS (Data Entry)'!$A$3:$A$504,0),2),\"\"))),\"\"))","v":""},null,{"$f":"IF(IFERROR(INDIRECT(CONCATENATE(\"'UNITCOST ITEMS (Data Entry)'!F\",IFERROR(SUM(MATCH(A415,'UNITCOST ITEMS (Data Entry)'!$A$3:$A$504,0),2),\"\"))),\"\")=0,\"\",IFERROR(INDIRECT(CONCATENATE(\"'UNITCOST ITEMS (Data Entry)'!F\",IFERROR(SUM(MATCH(A415,'UNITCOST ITEMS (Data Entry)'!$A$3:$A$504,0),2),\"\"))),\"\"))","v":""},{"$f":"IF(IFERROR(INDIRECT(CONCATENATE(\"'UNITCOST ITEMS (Data Entry)'!G\",IFERROR(SUM(MATCH(A415,'UNITCOST ITEMS (Data Entry)'!$A$3:$A$504,0),2),\"\"))),\"\")=0,\"\",IFERROR(INDIRECT(CONCATENATE(\"'UNITCOST ITEMS (Data Entry)'!G\",IFERROR(SUM(MATCH(A415,'UNITCOST ITEMS (Data Entry)'!$A$3:$A$504,0),2),\"\"))),\"\"))","v":""},{"$f":"IF(IFERROR(INDIRECT(CONCATENATE(\"'UNITCOST ITEMS (Data Entry)'!H\",IFERROR(SUM(MATCH(A415,'UNITCOST ITEMS (Data Entry)'!$A$3:$A$504,0),2),\"\"))),\"\")=0,\"\",IFERROR(INDIRECT(CONCATENATE(\"'UNITCOST ITEMS (Data Entry)'!H\",IFERROR(SUM(MATCH(A415,'UNITCOST ITEMS (Data Entry)'!$A$3:$A$504,0),2),\"\"))),\"\"))","v":""},{"$f":"IF(IFERROR(INDIRECT(CONCATENATE(\"'UNITCOST ITEMS (Data Entry)'!I\",IFERROR(SUM(MATCH(A415,'UNITCOST ITEMS (Data Entry)'!$A$3:$A$504,0),2),\"\"))),\"\")=0,\"\",IFERROR(INDIRECT(CONCATENATE(\"'UNITCOST ITEMS (Data Entry)'!I\",IFERROR(SUM(MATCH(A415,'UNITCOST ITEMS (Data Entry)'!$A$3:$A$504,0),2),\"\"))),\"\"))","v":""},{"$f":"IF(K415=2,\"\",IF(IFERROR(INDIRECT(CONCATENATE(\"'UNITCOST ITEMS (Data Entry)'!J\",IFERROR(SUM(MATCH(A415,'UNITCOST ITEMS (Data Entry)'!$A$3:$A$504,0),2),\"\"))),\"\")=0,\"\",IFERROR(INDIRECT(CONCATENATE(\"'UNITCOST ITEMS (Data Entry)'!J\",IFERROR(SUM(MATCH(A415,'UNITCOST ITEMS (Data Entry)'!$A$3:$A$504,0),2),\"\"))),\"\")))","v":""},null,{"$f":"IF(IFERROR(INDIRECT(CONCATENATE(\"'UNITCOST ITEMS (Data Entry)'!C\",IFERROR(SUM(MATCH(A415,'UNITCOST ITEMS (Data Entry)'!$A$3:$A$504,0),2),\"\"))),\"\")=0,\"\",IFERROR(INDIRECT(CONCATENATE(\"'UNITCOST ITEMS (Data Entry)'!C\",IFERROR(SUM(MATCH(A415,'UNITCOST ITEMS (Data Entry)'!$A$3:$A$504,0),2),\"\"))),\"\"))","v":""},""]
[408,{"$f":"IF(IFERROR(INDIRECT(CONCATENATE(\"'UNITCOST ITEMS (Data Entry)'!D\",IFERROR(SUM(MATCH(A416,'UNITCOST ITEMS (Data Entry)'!$A$3:$A$504,0),2),\"\"))),\"\")=0,\"\",IFERROR(INDIRECT(CONCATENATE(\"'UNITCOST ITEMS (Data Entry)'!D\",IFERROR(SUM(MATCH(A416,'UNITCOST ITEMS (Data Entry)'!$A$3:$A$504,0),2),\"\"))),\"\"))","v":""},{"$f":"IF(IFERROR(INDIRECT(CONCATENATE(\"'UNITCOST ITEMS (Data Entry)'!E\",IFERROR(SUM(MATCH(A416,'UNITCOST ITEMS (Data Entry)'!$A$3:$A$504,0),2),\"\"))),\"\")=0,\"\",IFERROR(INDIRECT(CONCATENATE(\"'UNITCOST ITEMS (Data Entry)'!E\",IFERROR(SUM(MATCH(A416,'UNITCOST ITEMS (Data Entry)'!$A$3:$A$504,0),2),\"\"))),\"\"))","v":""},null,{"$f":"IF(IFERROR(INDIRECT(CONCATENATE(\"'UNITCOST ITEMS (Data Entry)'!F\",IFERROR(SUM(MATCH(A416,'UNITCOST ITEMS (Data Entry)'!$A$3:$A$504,0),2),\"\"))),\"\")=0,\"\",IFERROR(INDIRECT(CONCATENATE(\"'UNITCOST ITEMS (Data Entry)'!F\",IFERROR(SUM(MATCH(A416,'UNITCOST ITEMS (Data Entry)'!$A$3:$A$504,0),2),\"\"))),\"\"))","v":""},{"$f":"IF(IFERROR(INDIRECT(CONCATENATE(\"'UNITCOST ITEMS (Data Entry)'!G\",IFERROR(SUM(MATCH(A416,'UNITCOST ITEMS (Data Entry)'!$A$3:$A$504,0),2),\"\"))),\"\")=0,\"\",IFERROR(INDIRECT(CONCATENATE(\"'UNITCOST ITEMS (Data Entry)'!G\",IFERROR(SUM(MATCH(A416,'UNITCOST ITEMS (Data Entry)'!$A$3:$A$504,0),2),\"\"))),\"\"))","v":""},{"$f":"IF(IFERROR(INDIRECT(CONCATENATE(\"'UNITCOST ITEMS (Data Entry)'!H\",IFERROR(SUM(MATCH(A416,'UNITCOST ITEMS (Data Entry)'!$A$3:$A$504,0),2),\"\"))),\"\")=0,\"\",IFERROR(INDIRECT(CONCATENATE(\"'UNITCOST ITEMS (Data Entry)'!H\",IFERROR(SUM(MATCH(A416,'UNITCOST ITEMS (Data Entry)'!$A$3:$A$504,0),2),\"\"))),\"\"))","v":""},{"$f":"IF(IFERROR(INDIRECT(CONCATENATE(\"'UNITCOST ITEMS (Data Entry)'!I\",IFERROR(SUM(MATCH(A416,'UNITCOST ITEMS (Data Entry)'!$A$3:$A$504,0),2),\"\"))),\"\")=0,\"\",IFERROR(INDIRECT(CONCATENATE(\"'UNITCOST ITEMS (Data Entry)'!I\",IFERROR(SUM(MATCH(A416,'UNITCOST ITEMS (Data Entry)'!$A$3:$A$504,0),2),\"\"))),\"\"))","v":""},{"$f":"IF(K416=2,\"\",IF(IFERROR(INDIRECT(CONCATENATE(\"'UNITCOST ITEMS (Data Entry)'!J\",IFERROR(SUM(MATCH(A416,'UNITCOST ITEMS (Data Entry)'!$A$3:$A$504,0),2),\"\"))),\"\")=0,\"\",IFERROR(INDIRECT(CONCATENATE(\"'UNITCOST ITEMS (Data Entry)'!J\",IFERROR(SUM(MATCH(A416,'UNITCOST ITEMS (Data Entry)'!$A$3:$A$504,0),2),\"\"))),\"\")))","v":""},null,{"$f":"IF(IFERROR(INDIRECT(CONCATENATE(\"'UNITCOST ITEMS (Data Entry)'!C\",IFERROR(SUM(MATCH(A416,'UNITCOST ITEMS (Data Entry)'!$A$3:$A$504,0),2),\"\"))),\"\")=0,\"\",IFERROR(INDIRECT(CONCATENATE(\"'UNITCOST ITEMS (Data Entry)'!C\",IFERROR(SUM(MATCH(A416,'UNITCOST ITEMS (Data Entry)'!$A$3:$A$504,0),2),\"\"))),\"\"))","v":""},""]
[409,{"$f":"IF(IFERROR(INDIRECT(CONCATENATE(\"'UNITCOST ITEMS (Data Entry)'!D\",IFERROR(SUM(MATCH(A417,'UNITCOST ITEMS (Data Entry)'!$A$3:$A$504,0),2),\"\"))),\"\")=0,\"\",IFERROR(INDIRECT(CONCATENATE(\"'UNITCOST ITEMS (Data Entry)'!D\",IFERROR(SUM(MATCH(A417,'UNITCOST ITEMS (Data Entry)'!$A$3:$A$504,0),2),\"\"))),\"\"))","v":""},{"$f":"IF(IFERROR(INDIRECT(CONCATENATE(\"'UNITCOST ITEMS (Data Entry)'!E\",IFERROR(SUM(MATCH(A417,'UNITCOST ITEMS (Data Entry)'!$A$3:$A$504,0),2),\"\"))),\"\")=0,\"\",IFERROR(INDIRECT(CONCATENATE(\"'UNITCOST ITEMS (Data Entry)'!E\",IFERROR(SUM(MATCH(A417,'UNITCOST ITEMS (Data Entry)'!$A$3:$A$504,0),2),\"\"))),\"\"))","v":""},null,{"$f":"IF(IFERROR(INDIRECT(CONCATENATE(\"'UNITCOST ITEMS (Data Entry)'!F\",IFERROR(SUM(MATCH(A417,'UNITCOST ITEMS (Data Entry)'!$A$3:$A$504,0),2),\"\"))),\"\")=0,\"\",IFERROR(INDIRECT(CONCATENATE(\"'UNITCOST ITEMS (Data Entry)'!F\",IFERROR(SUM(MATCH(A417,'UNITCOST ITEMS (Data Entry)'!$A$3:$A$504,0),2),\"\"))),\"\"))","v":""},{"$f":"IF(IFERROR(INDIRECT(CONCATENATE(\"'UNITCOST ITEMS (Data Entry)'!G\",IFERROR(SUM(MATCH(A417,'UNITCOST ITEMS (Data Entry)'!$A$3:$A$504,0),2),\"\"))),\"\")=0,\"\",IFERROR(INDIRECT(CONCATENATE(\"'UNITCOST ITEMS (Data Entry)'!G\",IFERROR(SUM(MATCH(A417,'UNITCOST ITEMS (Data Entry)'!$A$3:$A$504,0),2),\"\"))),\"\"))","v":""},{"$f":"IF(IFERROR(INDIRECT(CONCATENATE(\"'UNITCOST ITEMS (Data Entry)'!H\",IFERROR(SUM(MATCH(A417,'UNITCOST ITEMS (Data Entry)'!$A$3:$A$504,0),2),\"\"))),\"\")=0,\"\",IFERROR(INDIRECT(CONCATENATE(\"'UNITCOST ITEMS (Data Entry)'!H\",IFERROR(SUM(MATCH(A417,'UNITCOST ITEMS (Data Entry)'!$A$3:$A$504,0),2),\"\"))),\"\"))","v":""},{"$f":"IF(IFERROR(INDIRECT(CONCATENATE(\"'UNITCOST ITEMS (Data Entry)'!I\",IFERROR(SUM(MATCH(A417,'UNITCOST ITEMS (Data Entry)'!$A$3:$A$504,0),2),\"\"))),\"\")=0,\"\",IFERROR(INDIRECT(CONCATENATE(\"'UNITCOST ITEMS (Data Entry)'!I\",IFERROR(SUM(MATCH(A417,'UNITCOST ITEMS (Data Entry)'!$A$3:$A$504,0),2),\"\"))),\"\"))","v":""},{"$f":"IF(K417=2,\"\",IF(IFERROR(INDIRECT(CONCATENATE(\"'UNITCOST ITEMS (Data Entry)'!J\",IFERROR(SUM(MATCH(A417,'UNITCOST ITEMS (Data Entry)'!$A$3:$A$504,0),2),\"\"))),\"\")=0,\"\",IFERROR(INDIRECT(CONCATENATE(\"'UNITCOST ITEMS (Data Entry)'!J\",IFERROR(SUM(MATCH(A417,'UNITCOST ITEMS (Data Entry)'!$A$3:$A$504,0),2),\"\"))),\"\")))","v":""},null,{"$f":"IF(IFERROR(INDIRECT(CONCATENATE(\"'UNITCOST ITEMS (Data Entry)'!C\",IFERROR(SUM(MATCH(A417,'UNITCOST ITEMS (Data Entry)'!$A$3:$A$504,0),2),\"\"))),\"\")=0,\"\",IFERROR(INDIRECT(CONCATENATE(\"'UNITCOST ITEMS (Data Entry)'!C\",IFERROR(SUM(MATCH(A417,'UNITCOST ITEMS (Data Entry)'!$A$3:$A$504,0),2),\"\"))),\"\"))","v":""},""]
[410,{"$f":"IF(IFERROR(INDIRECT(CONCATENATE(\"'UNITCOST ITEMS (Data Entry)'!D\",IFERROR(SUM(MATCH(A418,'UNITCOST ITEMS (Data Entry)'!$A$3:$A$504,0),2),\"\"))),\"\")=0,\"\",IFERROR(INDIRECT(CONCATENATE(\"'UNITCOST ITEMS (Data Entry)'!D\",IFERROR(SUM(MATCH(A418,'UNITCOST ITEMS (Data Entry)'!$A$3:$A$504,0),2),\"\"))),\"\"))","v":""},{"$f":"IF(IFERROR(INDIRECT(CONCATENATE(\"'UNITCOST ITEMS (Data Entry)'!E\",IFERROR(SUM(MATCH(A418,'UNITCOST ITEMS (Data Entry)'!$A$3:$A$504,0),2),\"\"))),\"\")=0,\"\",IFERROR(INDIRECT(CONCATENATE(\"'UNITCOST ITEMS (Data Entry)'!E\",IFERROR(SUM(MATCH(A418,'UNITCOST ITEMS (Data Entry)'!$A$3:$A$504,0),2),\"\"))),\"\"))","v":""},null,{"$f":"IF(IFERROR(INDIRECT(CONCATENATE(\"'UNITCOST ITEMS (Data Entry)'!F\",IFERROR(SUM(MATCH(A418,'UNITCOST ITEMS (Data Entry)'!$A$3:$A$504,0),2),\"\"))),\"\")=0,\"\",IFERROR(INDIRECT(CONCATENATE(\"'UNITCOST ITEMS (Data Entry)'!F\",IFERROR(SUM(MATCH(A418,'UNITCOST ITEMS (Data Entry)'!$A$3:$A$504,0),2),\"\"))),\"\"))","v":""},{"$f":"IF(IFERROR(INDIRECT(CONCATENATE(\"'UNITCOST ITEMS (Data Entry)'!G\",IFERROR(SUM(MATCH(A418,'UNITCOST ITEMS (Data Entry)'!$A$3:$A$504,0),2),\"\"))),\"\")=0,\"\",IFERROR(INDIRECT(CONCATENATE(\"'UNITCOST ITEMS (Data Entry)'!G\",IFERROR(SUM(MATCH(A418,'UNITCOST ITEMS (Data Entry)'!$A$3:$A$504,0),2),\"\"))),\"\"))","v":""},{"$f":"IF(IFERROR(INDIRECT(CONCATENATE(\"'UNITCOST ITEMS (Data Entry)'!H\",IFERROR(SUM(MATCH(A418,'UNITCOST ITEMS (Data Entry)'!$A$3:$A$504,0),2),\"\"))),\"\")=0,\"\",IFERROR(INDIRECT(CONCATENATE(\"'UNITCOST ITEMS (Data Entry)'!H\",IFERROR(SUM(MATCH(A418,'UNITCOST ITEMS (Data Entry)'!$A$3:$A$504,0),2),\"\"))),\"\"))","v":""},{"$f":"IF(IFERROR(INDIRECT(CONCATENATE(\"'UNITCOST ITEMS (Data Entry)'!I\",IFERROR(SUM(MATCH(A418,'UNITCOST ITEMS (Data Entry)'!$A$3:$A$504,0),2),\"\"))),\"\")=0,\"\",IFERROR(INDIRECT(CONCATENATE(\"'UNITCOST ITEMS (Data Entry)'!I\",IFERROR(SUM(MATCH(A418,'UNITCOST ITEMS (Data Entry)'!$A$3:$A$504,0),2),\"\"))),\"\"))","v":""},{"$f":"IF(K418=2,\"\",IF(IFERROR(INDIRECT(CONCATENATE(\"'UNITCOST ITEMS (Data Entry)'!J\",IFERROR(SUM(MATCH(A418,'UNITCOST ITEMS (Data Entry)'!$A$3:$A$504,0),2),\"\"))),\"\")=0,\"\",IFERROR(INDIRECT(CONCATENATE(\"'UNITCOST ITEMS (Data Entry)'!J\",IFERROR(SUM(MATCH(A418,'UNITCOST ITEMS (Data Entry)'!$A$3:$A$504,0),2),\"\"))),\"\")))","v":""},null,{"$f":"IF(IFERROR(INDIRECT(CONCATENATE(\"'UNITCOST ITEMS (Data Entry)'!C\",IFERROR(SUM(MATCH(A418,'UNITCOST ITEMS (Data Entry)'!$A$3:$A$504,0),2),\"\"))),\"\")=0,\"\",IFERROR(INDIRECT(CONCATENATE(\"'UNITCOST ITEMS (Data Entry)'!C\",IFERROR(SUM(MATCH(A418,'UNITCOST ITEMS (Data Entry)'!$A$3:$A$504,0),2),\"\"))),\"\"))","v":""},""]
[411,{"$f":"IF(IFERROR(INDIRECT(CONCATENATE(\"'UNITCOST ITEMS (Data Entry)'!D\",IFERROR(SUM(MATCH(A419,'UNITCOST ITEMS (Data Entry)'!$A$3:$A$504,0),2),\"\"))),\"\")=0,\"\",IFERROR(INDIRECT(CONCATENATE(\"'UNITCOST ITEMS (Data Entry)'!D\",IFERROR(SUM(MATCH(A419,'UNITCOST ITEMS (Data Entry)'!$A$3:$A$504,0),2),\"\"))),\"\"))","v":""},{"$f":"IF(IFERROR(INDIRECT(CONCATENATE(\"'UNITCOST ITEMS (Data Entry)'!E\",IFERROR(SUM(MATCH(A419,'UNITCOST ITEMS (Data Entry)'!$A$3:$A$504,0),2),\"\"))),\"\")=0,\"\",IFERROR(INDIRECT(CONCATENATE(\"'UNITCOST ITEMS (Data Entry)'!E\",IFERROR(SUM(MATCH(A419,'UNITCOST ITEMS (Data Entry)'!$A$3:$A$504,0),2),\"\"))),\"\"))","v":""},null,{"$f":"IF(IFERROR(INDIRECT(CONCATENATE(\"'UNITCOST ITEMS (Data Entry)'!F\",IFERROR(SUM(MATCH(A419,'UNITCOST ITEMS (Data Entry)'!$A$3:$A$504,0),2),\"\"))),\"\")=0,\"\",IFERROR(INDIRECT(CONCATENATE(\"'UNITCOST ITEMS (Data Entry)'!F\",IFERROR(SUM(MATCH(A419,'UNITCOST ITEMS (Data Entry)'!$A$3:$A$504,0),2),\"\"))),\"\"))","v":""},{"$f":"IF(IFERROR(INDIRECT(CONCATENATE(\"'UNITCOST ITEMS (Data Entry)'!G\",IFERROR(SUM(MATCH(A419,'UNITCOST ITEMS (Data Entry)'!$A$3:$A$504,0),2),\"\"))),\"\")=0,\"\",IFERROR(INDIRECT(CONCATENATE(\"'UNITCOST ITEMS (Data Entry)'!G\",IFERROR(SUM(MATCH(A419,'UNITCOST ITEMS (Data Entry)'!$A$3:$A$504,0),2),\"\"))),\"\"))","v":""},{"$f":"IF(IFERROR(INDIRECT(CONCATENATE(\"'UNITCOST ITEMS (Data Entry)'!H\",IFERROR(SUM(MATCH(A419,'UNITCOST ITEMS (Data Entry)'!$A$3:$A$504,0),2),\"\"))),\"\")=0,\"\",IFERROR(INDIRECT(CONCATENATE(\"'UNITCOST ITEMS (Data Entry)'!H\",IFERROR(SUM(MATCH(A419,'UNITCOST ITEMS (Data Entry)'!$A$3:$A$504,0),2),\"\"))),\"\"))","v":""},{"$f":"IF(IFERROR(INDIRECT(CONCATENATE(\"'UNITCOST ITEMS (Data Entry)'!I\",IFERROR(SUM(MATCH(A419,'UNITCOST ITEMS (Data Entry)'!$A$3:$A$504,0),2),\"\"))),\"\")=0,\"\",IFERROR(INDIRECT(CONCATENATE(\"'UNITCOST ITEMS (Data Entry)'!I\",IFERROR(SUM(MATCH(A419,'UNITCOST ITEMS (Data Entry)'!$A$3:$A$504,0),2),\"\"))),\"\"))","v":""},{"$f":"IF(K419=2,\"\",IF(IFERROR(INDIRECT(CONCATENATE(\"'UNITCOST ITEMS (Data Entry)'!J\",IFERROR(SUM(MATCH(A419,'UNITCOST ITEMS (Data Entry)'!$A$3:$A$504,0),2),\"\"))),\"\")=0,\"\",IFERROR(INDIRECT(CONCATENATE(\"'UNITCOST ITEMS (Data Entry)'!J\",IFERROR(SUM(MATCH(A419,'UNITCOST ITEMS (Data Entry)'!$A$3:$A$504,0),2),\"\"))),\"\")))","v":""},null,{"$f":"IF(IFERROR(INDIRECT(CONCATENATE(\"'UNITCOST ITEMS (Data Entry)'!C\",IFERROR(SUM(MATCH(A419,'UNITCOST ITEMS (Data Entry)'!$A$3:$A$504,0),2),\"\"))),\"\")=0,\"\",IFERROR(INDIRECT(CONCATENATE(\"'UNITCOST ITEMS (Data Entry)'!C\",IFERROR(SUM(MATCH(A419,'UNITCOST ITEMS (Data Entry)'!$A$3:$A$504,0),2),\"\"))),\"\"))","v":""},""]
[412,{"$f":"IF(IFERROR(INDIRECT(CONCATENATE(\"'UNITCOST ITEMS (Data Entry)'!D\",IFERROR(SUM(MATCH(A420,'UNITCOST ITEMS (Data Entry)'!$A$3:$A$504,0),2),\"\"))),\"\")=0,\"\",IFERROR(INDIRECT(CONCATENATE(\"'UNITCOST ITEMS (Data Entry)'!D\",IFERROR(SUM(MATCH(A420,'UNITCOST ITEMS (Data Entry)'!$A$3:$A$504,0),2),\"\"))),\"\"))","v":""},{"$f":"IF(IFERROR(INDIRECT(CONCATENATE(\"'UNITCOST ITEMS (Data Entry)'!E\",IFERROR(SUM(MATCH(A420,'UNITCOST ITEMS (Data Entry)'!$A$3:$A$504,0),2),\"\"))),\"\")=0,\"\",IFERROR(INDIRECT(CONCATENATE(\"'UNITCOST ITEMS (Data Entry)'!E\",IFERROR(SUM(MATCH(A420,'UNITCOST ITEMS (Data Entry)'!$A$3:$A$504,0),2),\"\"))),\"\"))","v":""},null,{"$f":"IF(IFERROR(INDIRECT(CONCATENATE(\"'UNITCOST ITEMS (Data Entry)'!F\",IFERROR(SUM(MATCH(A420,'UNITCOST ITEMS (Data Entry)'!$A$3:$A$504,0),2),\"\"))),\"\")=0,\"\",IFERROR(INDIRECT(CONCATENATE(\"'UNITCOST ITEMS (Data Entry)'!F\",IFERROR(SUM(MATCH(A420,'UNITCOST ITEMS (Data Entry)'!$A$3:$A$504,0),2),\"\"))),\"\"))","v":""},{"$f":"IF(IFERROR(INDIRECT(CONCATENATE(\"'UNITCOST ITEMS (Data Entry)'!G\",IFERROR(SUM(MATCH(A420,'UNITCOST ITEMS (Data Entry)'!$A$3:$A$504,0),2),\"\"))),\"\")=0,\"\",IFERROR(INDIRECT(CONCATENATE(\"'UNITCOST ITEMS (Data Entry)'!G\",IFERROR(SUM(MATCH(A420,'UNITCOST ITEMS (Data Entry)'!$A$3:$A$504,0),2),\"\"))),\"\"))","v":""},{"$f":"IF(IFERROR(INDIRECT(CONCATENATE(\"'UNITCOST ITEMS (Data Entry)'!H\",IFERROR(SUM(MATCH(A420,'UNITCOST ITEMS (Data Entry)'!$A$3:$A$504,0),2),\"\"))),\"\")=0,\"\",IFERROR(INDIRECT(CONCATENATE(\"'UNITCOST ITEMS (Data Entry)'!H\",IFERROR(SUM(MATCH(A420,'UNITCOST ITEMS (Data Entry)'!$A$3:$A$504,0),2),\"\"))),\"\"))","v":""},{"$f":"IF(IFERROR(INDIRECT(CONCATENATE(\"'UNITCOST ITEMS (Data Entry)'!I\",IFERROR(SUM(MATCH(A420,'UNITCOST ITEMS (Data Entry)'!$A$3:$A$504,0),2),\"\"))),\"\")=0,\"\",IFERROR(INDIRECT(CONCATENATE(\"'UNITCOST ITEMS (Data Entry)'!I\",IFERROR(SUM(MATCH(A420,'UNITCOST ITEMS (Data Entry)'!$A$3:$A$504,0),2),\"\"))),\"\"))","v":""},{"$f":"IF(K420=2,\"\",IF(IFERROR(INDIRECT(CONCATENATE(\"'UNITCOST ITEMS (Data Entry)'!J\",IFERROR(SUM(MATCH(A420,'UNITCOST ITEMS (Data Entry)'!$A$3:$A$504,0),2),\"\"))),\"\")=0,\"\",IFERROR(INDIRECT(CONCATENATE(\"'UNITCOST ITEMS (Data Entry)'!J\",IFERROR(SUM(MATCH(A420,'UNITCOST ITEMS (Data Entry)'!$A$3:$A$504,0),2),\"\"))),\"\")))","v":""},null,{"$f":"IF(IFERROR(INDIRECT(CONCATENATE(\"'UNITCOST ITEMS (Data Entry)'!C\",IFERROR(SUM(MATCH(A420,'UNITCOST ITEMS (Data Entry)'!$A$3:$A$504,0),2),\"\"))),\"\")=0,\"\",IFERROR(INDIRECT(CONCATENATE(\"'UNITCOST ITEMS (Data Entry)'!C\",IFERROR(SUM(MATCH(A420,'UNITCOST ITEMS (Data Entry)'!$A$3:$A$504,0),2),\"\"))),\"\"))","v":""},""]
[413,{"$f":"IF(IFERROR(INDIRECT(CONCATENATE(\"'UNITCOST ITEMS (Data Entry)'!D\",IFERROR(SUM(MATCH(A421,'UNITCOST ITEMS (Data Entry)'!$A$3:$A$504,0),2),\"\"))),\"\")=0,\"\",IFERROR(INDIRECT(CONCATENATE(\"'UNITCOST ITEMS (Data Entry)'!D\",IFERROR(SUM(MATCH(A421,'UNITCOST ITEMS (Data Entry)'!$A$3:$A$504,0),2),\"\"))),\"\"))","v":""},{"$f":"IF(IFERROR(INDIRECT(CONCATENATE(\"'UNITCOST ITEMS (Data Entry)'!E\",IFERROR(SUM(MATCH(A421,'UNITCOST ITEMS (Data Entry)'!$A$3:$A$504,0),2),\"\"))),\"\")=0,\"\",IFERROR(INDIRECT(CONCATENATE(\"'UNITCOST ITEMS (Data Entry)'!E\",IFERROR(SUM(MATCH(A421,'UNITCOST ITEMS (Data Entry)'!$A$3:$A$504,0),2),\"\"))),\"\"))","v":""},null,{"$f":"IF(IFERROR(INDIRECT(CONCATENATE(\"'UNITCOST ITEMS (Data Entry)'!F\",IFERROR(SUM(MATCH(A421,'UNITCOST ITEMS (Data Entry)'!$A$3:$A$504,0),2),\"\"))),\"\")=0,\"\",IFERROR(INDIRECT(CONCATENATE(\"'UNITCOST ITEMS (Data Entry)'!F\",IFERROR(SUM(MATCH(A421,'UNITCOST ITEMS (Data Entry)'!$A$3:$A$504,0),2),\"\"))),\"\"))","v":""},{"$f":"IF(IFERROR(INDIRECT(CONCATENATE(\"'UNITCOST ITEMS (Data Entry)'!G\",IFERROR(SUM(MATCH(A421,'UNITCOST ITEMS (Data Entry)'!$A$3:$A$504,0),2),\"\"))),\"\")=0,\"\",IFERROR(INDIRECT(CONCATENATE(\"'UNITCOST ITEMS (Data Entry)'!G\",IFERROR(SUM(MATCH(A421,'UNITCOST ITEMS (Data Entry)'!$A$3:$A$504,0),2),\"\"))),\"\"))","v":""},{"$f":"IF(IFERROR(INDIRECT(CONCATENATE(\"'UNITCOST ITEMS (Data Entry)'!H\",IFERROR(SUM(MATCH(A421,'UNITCOST ITEMS (Data Entry)'!$A$3:$A$504,0),2),\"\"))),\"\")=0,\"\",IFERROR(INDIRECT(CONCATENATE(\"'UNITCOST ITEMS (Data Entry)'!H\",IFERROR(SUM(MATCH(A421,'UNITCOST ITEMS (Data Entry)'!$A$3:$A$504,0),2),\"\"))),\"\"))","v":""},{"$f":"IF(IFERROR(INDIRECT(CONCATENATE(\"'UNITCOST ITEMS (Data Entry)'!I\",IFERROR(SUM(MATCH(A421,'UNITCOST ITEMS (Data Entry)'!$A$3:$A$504,0),2),\"\"))),\"\")=0,\"\",IFERROR(INDIRECT(CONCATENATE(\"'UNITCOST ITEMS (Data Entry)'!I\",IFERROR(SUM(MATCH(A421,'UNITCOST ITEMS (Data Entry)'!$A$3:$A$504,0),2),\"\"))),\"\"))","v":""},{"$f":"IF(K421=2,\"\",IF(IFERROR(INDIRECT(CONCATENATE(\"'UNITCOST ITEMS (Data Entry)'!J\",IFERROR(SUM(MATCH(A421,'UNITCOST ITEMS (Data Entry)'!$A$3:$A$504,0),2),\"\"))),\"\")=0,\"\",IFERROR(INDIRECT(CONCATENATE(\"'UNITCOST ITEMS (Data Entry)'!J\",IFERROR(SUM(MATCH(A421,'UNITCOST ITEMS (Data Entry)'!$A$3:$A$504,0),2),\"\"))),\"\")))","v":""},null,{"$f":"IF(IFERROR(INDIRECT(CONCATENATE(\"'UNITCOST ITEMS (Data Entry)'!C\",IFERROR(SUM(MATCH(A421,'UNITCOST ITEMS (Data Entry)'!$A$3:$A$504,0),2),\"\"))),\"\")=0,\"\",IFERROR(INDIRECT(CONCATENATE(\"'UNITCOST ITEMS (Data Entry)'!C\",IFERROR(SUM(MATCH(A421,'UNITCOST ITEMS (Data Entry)'!$A$3:$A$504,0),2),\"\"))),\"\"))","v":""},""]
[414,{"$f":"IF(IFERROR(INDIRECT(CONCATENATE(\"'UNITCOST ITEMS (Data Entry)'!D\",IFERROR(SUM(MATCH(A422,'UNITCOST ITEMS (Data Entry)'!$A$3:$A$504,0),2),\"\"))),\"\")=0,\"\",IFERROR(INDIRECT(CONCATENATE(\"'UNITCOST ITEMS (Data Entry)'!D\",IFERROR(SUM(MATCH(A422,'UNITCOST ITEMS (Data Entry)'!$A$3:$A$504,0),2),\"\"))),\"\"))","v":""},{"$f":"IF(IFERROR(INDIRECT(CONCATENATE(\"'UNITCOST ITEMS (Data Entry)'!E\",IFERROR(SUM(MATCH(A422,'UNITCOST ITEMS (Data Entry)'!$A$3:$A$504,0),2),\"\"))),\"\")=0,\"\",IFERROR(INDIRECT(CONCATENATE(\"'UNITCOST ITEMS (Data Entry)'!E\",IFERROR(SUM(MATCH(A422,'UNITCOST ITEMS (Data Entry)'!$A$3:$A$504,0),2),\"\"))),\"\"))","v":""},null,{"$f":"IF(IFERROR(INDIRECT(CONCATENATE(\"'UNITCOST ITEMS (Data Entry)'!F\",IFERROR(SUM(MATCH(A422,'UNITCOST ITEMS (Data Entry)'!$A$3:$A$504,0),2),\"\"))),\"\")=0,\"\",IFERROR(INDIRECT(CONCATENATE(\"'UNITCOST ITEMS (Data Entry)'!F\",IFERROR(SUM(MATCH(A422,'UNITCOST ITEMS (Data Entry)'!$A$3:$A$504,0),2),\"\"))),\"\"))","v":""},{"$f":"IF(IFERROR(INDIRECT(CONCATENATE(\"'UNITCOST ITEMS (Data Entry)'!G\",IFERROR(SUM(MATCH(A422,'UNITCOST ITEMS (Data Entry)'!$A$3:$A$504,0),2),\"\"))),\"\")=0,\"\",IFERROR(INDIRECT(CONCATENATE(\"'UNITCOST ITEMS (Data Entry)'!G\",IFERROR(SUM(MATCH(A422,'UNITCOST ITEMS (Data Entry)'!$A$3:$A$504,0),2),\"\"))),\"\"))","v":""},{"$f":"IF(IFERROR(INDIRECT(CONCATENATE(\"'UNITCOST ITEMS (Data Entry)'!H\",IFERROR(SUM(MATCH(A422,'UNITCOST ITEMS (Data Entry)'!$A$3:$A$504,0),2),\"\"))),\"\")=0,\"\",IFERROR(INDIRECT(CONCATENATE(\"'UNITCOST ITEMS (Data Entry)'!H\",IFERROR(SUM(MATCH(A422,'UNITCOST ITEMS (Data Entry)'!$A$3:$A$504,0),2),\"\"))),\"\"))","v":""},{"$f":"IF(IFERROR(INDIRECT(CONCATENATE(\"'UNITCOST ITEMS (Data Entry)'!I\",IFERROR(SUM(MATCH(A422,'UNITCOST ITEMS (Data Entry)'!$A$3:$A$504,0),2),\"\"))),\"\")=0,\"\",IFERROR(INDIRECT(CONCATENATE(\"'UNITCOST ITEMS (Data Entry)'!I\",IFERROR(SUM(MATCH(A422,'UNITCOST ITEMS (Data Entry)'!$A$3:$A$504,0),2),\"\"))),\"\"))","v":""},{"$f":"IF(K422=2,\"\",IF(IFERROR(INDIRECT(CONCATENATE(\"'UNITCOST ITEMS (Data Entry)'!J\",IFERROR(SUM(MATCH(A422,'UNITCOST ITEMS (Data Entry)'!$A$3:$A$504,0),2),\"\"))),\"\")=0,\"\",IFERROR(INDIRECT(CONCATENATE(\"'UNITCOST ITEMS (Data Entry)'!J\",IFERROR(SUM(MATCH(A422,'UNITCOST ITEMS (Data Entry)'!$A$3:$A$504,0),2),\"\"))),\"\")))","v":""},null,{"$f":"IF(IFERROR(INDIRECT(CONCATENATE(\"'UNITCOST ITEMS (Data Entry)'!C\",IFERROR(SUM(MATCH(A422,'UNITCOST ITEMS (Data Entry)'!$A$3:$A$504,0),2),\"\"))),\"\")=0,\"\",IFERROR(INDIRECT(CONCATENATE(\"'UNITCOST ITEMS (Data Entry)'!C\",IFERROR(SUM(MATCH(A422,'UNITCOST ITEMS (Data Entry)'!$A$3:$A$504,0),2),\"\"))),\"\"))","v":""},""]
[415,{"$f":"IF(IFERROR(INDIRECT(CONCATENATE(\"'UNITCOST ITEMS (Data Entry)'!D\",IFERROR(SUM(MATCH(A423,'UNITCOST ITEMS (Data Entry)'!$A$3:$A$504,0),2),\"\"))),\"\")=0,\"\",IFERROR(INDIRECT(CONCATENATE(\"'UNITCOST ITEMS (Data Entry)'!D\",IFERROR(SUM(MATCH(A423,'UNITCOST ITEMS (Data Entry)'!$A$3:$A$504,0),2),\"\"))),\"\"))","v":""},{"$f":"IF(IFERROR(INDIRECT(CONCATENATE(\"'UNITCOST ITEMS (Data Entry)'!E\",IFERROR(SUM(MATCH(A423,'UNITCOST ITEMS (Data Entry)'!$A$3:$A$504,0),2),\"\"))),\"\")=0,\"\",IFERROR(INDIRECT(CONCATENATE(\"'UNITCOST ITEMS (Data Entry)'!E\",IFERROR(SUM(MATCH(A423,'UNITCOST ITEMS (Data Entry)'!$A$3:$A$504,0),2),\"\"))),\"\"))","v":""},null,{"$f":"IF(IFERROR(INDIRECT(CONCATENATE(\"'UNITCOST ITEMS (Data Entry)'!F\",IFERROR(SUM(MATCH(A423,'UNITCOST ITEMS (Data Entry)'!$A$3:$A$504,0),2),\"\"))),\"\")=0,\"\",IFERROR(INDIRECT(CONCATENATE(\"'UNITCOST ITEMS (Data Entry)'!F\",IFERROR(SUM(MATCH(A423,'UNITCOST ITEMS (Data Entry)'!$A$3:$A$504,0),2),\"\"))),\"\"))","v":""},{"$f":"IF(IFERROR(INDIRECT(CONCATENATE(\"'UNITCOST ITEMS (Data Entry)'!G\",IFERROR(SUM(MATCH(A423,'UNITCOST ITEMS (Data Entry)'!$A$3:$A$504,0),2),\"\"))),\"\")=0,\"\",IFERROR(INDIRECT(CONCATENATE(\"'UNITCOST ITEMS (Data Entry)'!G\",IFERROR(SUM(MATCH(A423,'UNITCOST ITEMS (Data Entry)'!$A$3:$A$504,0),2),\"\"))),\"\"))","v":""},{"$f":"IF(IFERROR(INDIRECT(CONCATENATE(\"'UNITCOST ITEMS (Data Entry)'!H\",IFERROR(SUM(MATCH(A423,'UNITCOST ITEMS (Data Entry)'!$A$3:$A$504,0),2),\"\"))),\"\")=0,\"\",IFERROR(INDIRECT(CONCATENATE(\"'UNITCOST ITEMS (Data Entry)'!H\",IFERROR(SUM(MATCH(A423,'UNITCOST ITEMS (Data Entry)'!$A$3:$A$504,0),2),\"\"))),\"\"))","v":""},{"$f":"IF(IFERROR(INDIRECT(CONCATENATE(\"'UNITCOST ITEMS (Data Entry)'!I\",IFERROR(SUM(MATCH(A423,'UNITCOST ITEMS (Data Entry)'!$A$3:$A$504,0),2),\"\"))),\"\")=0,\"\",IFERROR(INDIRECT(CONCATENATE(\"'UNITCOST ITEMS (Data Entry)'!I\",IFERROR(SUM(MATCH(A423,'UNITCOST ITEMS (Data Entry)'!$A$3:$A$504,0),2),\"\"))),\"\"))","v":""},{"$f":"IF(K423=2,\"\",IF(IFERROR(INDIRECT(CONCATENATE(\"'UNITCOST ITEMS (Data Entry)'!J\",IFERROR(SUM(MATCH(A423,'UNITCOST ITEMS (Data Entry)'!$A$3:$A$504,0),2),\"\"))),\"\")=0,\"\",IFERROR(INDIRECT(CONCATENATE(\"'UNITCOST ITEMS (Data Entry)'!J\",IFERROR(SUM(MATCH(A423,'UNITCOST ITEMS (Data Entry)'!$A$3:$A$504,0),2),\"\"))),\"\")))","v":""},null,{"$f":"IF(IFERROR(INDIRECT(CONCATENATE(\"'UNITCOST ITEMS (Data Entry)'!C\",IFERROR(SUM(MATCH(A423,'UNITCOST ITEMS (Data Entry)'!$A$3:$A$504,0),2),\"\"))),\"\")=0,\"\",IFERROR(INDIRECT(CONCATENATE(\"'UNITCOST ITEMS (Data Entry)'!C\",IFERROR(SUM(MATCH(A423,'UNITCOST ITEMS (Data Entry)'!$A$3:$A$504,0),2),\"\"))),\"\"))","v":""},""]
[416,{"$f":"IF(IFERROR(INDIRECT(CONCATENATE(\"'UNITCOST ITEMS (Data Entry)'!D\",IFERROR(SUM(MATCH(A424,'UNITCOST ITEMS (Data Entry)'!$A$3:$A$504,0),2),\"\"))),\"\")=0,\"\",IFERROR(INDIRECT(CONCATENATE(\"'UNITCOST ITEMS (Data Entry)'!D\",IFERROR(SUM(MATCH(A424,'UNITCOST ITEMS (Data Entry)'!$A$3:$A$504,0),2),\"\"))),\"\"))","v":""},{"$f":"IF(IFERROR(INDIRECT(CONCATENATE(\"'UNITCOST ITEMS (Data Entry)'!E\",IFERROR(SUM(MATCH(A424,'UNITCOST ITEMS (Data Entry)'!$A$3:$A$504,0),2),\"\"))),\"\")=0,\"\",IFERROR(INDIRECT(CONCATENATE(\"'UNITCOST ITEMS (Data Entry)'!E\",IFERROR(SUM(MATCH(A424,'UNITCOST ITEMS (Data Entry)'!$A$3:$A$504,0),2),\"\"))),\"\"))","v":""},null,{"$f":"IF(IFERROR(INDIRECT(CONCATENATE(\"'UNITCOST ITEMS (Data Entry)'!F\",IFERROR(SUM(MATCH(A424,'UNITCOST ITEMS (Data Entry)'!$A$3:$A$504,0),2),\"\"))),\"\")=0,\"\",IFERROR(INDIRECT(CONCATENATE(\"'UNITCOST ITEMS (Data Entry)'!F\",IFERROR(SUM(MATCH(A424,'UNITCOST ITEMS (Data Entry)'!$A$3:$A$504,0),2),\"\"))),\"\"))","v":""},{"$f":"IF(IFERROR(INDIRECT(CONCATENATE(\"'UNITCOST ITEMS (Data Entry)'!G\",IFERROR(SUM(MATCH(A424,'UNITCOST ITEMS (Data Entry)'!$A$3:$A$504,0),2),\"\"))),\"\")=0,\"\",IFERROR(INDIRECT(CONCATENATE(\"'UNITCOST ITEMS (Data Entry)'!G\",IFERROR(SUM(MATCH(A424,'UNITCOST ITEMS (Data Entry)'!$A$3:$A$504,0),2),\"\"))),\"\"))","v":""},{"$f":"IF(IFERROR(INDIRECT(CONCATENATE(\"'UNITCOST ITEMS (Data Entry)'!H\",IFERROR(SUM(MATCH(A424,'UNITCOST ITEMS (Data Entry)'!$A$3:$A$504,0),2),\"\"))),\"\")=0,\"\",IFERROR(INDIRECT(CONCATENATE(\"'UNITCOST ITEMS (Data Entry)'!H\",IFERROR(SUM(MATCH(A424,'UNITCOST ITEMS (Data Entry)'!$A$3:$A$504,0),2),\"\"))),\"\"))","v":""},{"$f":"IF(IFERROR(INDIRECT(CONCATENATE(\"'UNITCOST ITEMS (Data Entry)'!I\",IFERROR(SUM(MATCH(A424,'UNITCOST ITEMS (Data Entry)'!$A$3:$A$504,0),2),\"\"))),\"\")=0,\"\",IFERROR(INDIRECT(CONCATENATE(\"'UNITCOST ITEMS (Data Entry)'!I\",IFERROR(SUM(MATCH(A424,'UNITCOST ITEMS (Data Entry)'!$A$3:$A$504,0),2),\"\"))),\"\"))","v":""},{"$f":"IF(K424=2,\"\",IF(IFERROR(INDIRECT(CONCATENATE(\"'UNITCOST ITEMS (Data Entry)'!J\",IFERROR(SUM(MATCH(A424,'UNITCOST ITEMS (Data Entry)'!$A$3:$A$504,0),2),\"\"))),\"\")=0,\"\",IFERROR(INDIRECT(CONCATENATE(\"'UNITCOST ITEMS (Data Entry)'!J\",IFERROR(SUM(MATCH(A424,'UNITCOST ITEMS (Data Entry)'!$A$3:$A$504,0),2),\"\"))),\"\")))","v":""},null,{"$f":"IF(IFERROR(INDIRECT(CONCATENATE(\"'UNITCOST ITEMS (Data Entry)'!C\",IFERROR(SUM(MATCH(A424,'UNITCOST ITEMS (Data Entry)'!$A$3:$A$504,0),2),\"\"))),\"\")=0,\"\",IFERROR(INDIRECT(CONCATENATE(\"'UNITCOST ITEMS (Data Entry)'!C\",IFERROR(SUM(MATCH(A424,'UNITCOST ITEMS (Data Entry)'!$A$3:$A$504,0),2),\"\"))),\"\"))","v":""},""]
[417,{"$f":"IF(IFERROR(INDIRECT(CONCATENATE(\"'UNITCOST ITEMS (Data Entry)'!D\",IFERROR(SUM(MATCH(A425,'UNITCOST ITEMS (Data Entry)'!$A$3:$A$504,0),2),\"\"))),\"\")=0,\"\",IFERROR(INDIRECT(CONCATENATE(\"'UNITCOST ITEMS (Data Entry)'!D\",IFERROR(SUM(MATCH(A425,'UNITCOST ITEMS (Data Entry)'!$A$3:$A$504,0),2),\"\"))),\"\"))","v":""},{"$f":"IF(IFERROR(INDIRECT(CONCATENATE(\"'UNITCOST ITEMS (Data Entry)'!E\",IFERROR(SUM(MATCH(A425,'UNITCOST ITEMS (Data Entry)'!$A$3:$A$504,0),2),\"\"))),\"\")=0,\"\",IFERROR(INDIRECT(CONCATENATE(\"'UNITCOST ITEMS (Data Entry)'!E\",IFERROR(SUM(MATCH(A425,'UNITCOST ITEMS (Data Entry)'!$A$3:$A$504,0),2),\"\"))),\"\"))","v":""},null,{"$f":"IF(IFERROR(INDIRECT(CONCATENATE(\"'UNITCOST ITEMS (Data Entry)'!F\",IFERROR(SUM(MATCH(A425,'UNITCOST ITEMS (Data Entry)'!$A$3:$A$504,0),2),\"\"))),\"\")=0,\"\",IFERROR(INDIRECT(CONCATENATE(\"'UNITCOST ITEMS (Data Entry)'!F\",IFERROR(SUM(MATCH(A425,'UNITCOST ITEMS (Data Entry)'!$A$3:$A$504,0),2),\"\"))),\"\"))","v":""},{"$f":"IF(IFERROR(INDIRECT(CONCATENATE(\"'UNITCOST ITEMS (Data Entry)'!G\",IFERROR(SUM(MATCH(A425,'UNITCOST ITEMS (Data Entry)'!$A$3:$A$504,0),2),\"\"))),\"\")=0,\"\",IFERROR(INDIRECT(CONCATENATE(\"'UNITCOST ITEMS (Data Entry)'!G\",IFERROR(SUM(MATCH(A425,'UNITCOST ITEMS (Data Entry)'!$A$3:$A$504,0),2),\"\"))),\"\"))","v":""},{"$f":"IF(IFERROR(INDIRECT(CONCATENATE(\"'UNITCOST ITEMS (Data Entry)'!H\",IFERROR(SUM(MATCH(A425,'UNITCOST ITEMS (Data Entry)'!$A$3:$A$504,0),2),\"\"))),\"\")=0,\"\",IFERROR(INDIRECT(CONCATENATE(\"'UNITCOST ITEMS (Data Entry)'!H\",IFERROR(SUM(MATCH(A425,'UNITCOST ITEMS (Data Entry)'!$A$3:$A$504,0),2),\"\"))),\"\"))","v":""},{"$f":"IF(IFERROR(INDIRECT(CONCATENATE(\"'UNITCOST ITEMS (Data Entry)'!I\",IFERROR(SUM(MATCH(A425,'UNITCOST ITEMS (Data Entry)'!$A$3:$A$504,0),2),\"\"))),\"\")=0,\"\",IFERROR(INDIRECT(CONCATENATE(\"'UNITCOST ITEMS (Data Entry)'!I\",IFERROR(SUM(MATCH(A425,'UNITCOST ITEMS (Data Entry)'!$A$3:$A$504,0),2),\"\"))),\"\"))","v":""},{"$f":"IF(K425=2,\"\",IF(IFERROR(INDIRECT(CONCATENATE(\"'UNITCOST ITEMS (Data Entry)'!J\",IFERROR(SUM(MATCH(A425,'UNITCOST ITEMS (Data Entry)'!$A$3:$A$504,0),2),\"\"))),\"\")=0,\"\",IFERROR(INDIRECT(CONCATENATE(\"'UNITCOST ITEMS (Data Entry)'!J\",IFERROR(SUM(MATCH(A425,'UNITCOST ITEMS (Data Entry)'!$A$3:$A$504,0),2),\"\"))),\"\")))","v":""},null,{"$f":"IF(IFERROR(INDIRECT(CONCATENATE(\"'UNITCOST ITEMS (Data Entry)'!C\",IFERROR(SUM(MATCH(A425,'UNITCOST ITEMS (Data Entry)'!$A$3:$A$504,0),2),\"\"))),\"\")=0,\"\",IFERROR(INDIRECT(CONCATENATE(\"'UNITCOST ITEMS (Data Entry)'!C\",IFERROR(SUM(MATCH(A425,'UNITCOST ITEMS (Data Entry)'!$A$3:$A$504,0),2),\"\"))),\"\"))","v":""},""]
[418,{"$f":"IF(IFERROR(INDIRECT(CONCATENATE(\"'UNITCOST ITEMS (Data Entry)'!D\",IFERROR(SUM(MATCH(A426,'UNITCOST ITEMS (Data Entry)'!$A$3:$A$504,0),2),\"\"))),\"\")=0,\"\",IFERROR(INDIRECT(CONCATENATE(\"'UNITCOST ITEMS (Data Entry)'!D\",IFERROR(SUM(MATCH(A426,'UNITCOST ITEMS (Data Entry)'!$A$3:$A$504,0),2),\"\"))),\"\"))","v":""},{"$f":"IF(IFERROR(INDIRECT(CONCATENATE(\"'UNITCOST ITEMS (Data Entry)'!E\",IFERROR(SUM(MATCH(A426,'UNITCOST ITEMS (Data Entry)'!$A$3:$A$504,0),2),\"\"))),\"\")=0,\"\",IFERROR(INDIRECT(CONCATENATE(\"'UNITCOST ITEMS (Data Entry)'!E\",IFERROR(SUM(MATCH(A426,'UNITCOST ITEMS (Data Entry)'!$A$3:$A$504,0),2),\"\"))),\"\"))","v":""},null,{"$f":"IF(IFERROR(INDIRECT(CONCATENATE(\"'UNITCOST ITEMS (Data Entry)'!F\",IFERROR(SUM(MATCH(A426,'UNITCOST ITEMS (Data Entry)'!$A$3:$A$504,0),2),\"\"))),\"\")=0,\"\",IFERROR(INDIRECT(CONCATENATE(\"'UNITCOST ITEMS (Data Entry)'!F\",IFERROR(SUM(MATCH(A426,'UNITCOST ITEMS (Data Entry)'!$A$3:$A$504,0),2),\"\"))),\"\"))","v":""},{"$f":"IF(IFERROR(INDIRECT(CONCATENATE(\"'UNITCOST ITEMS (Data Entry)'!G\",IFERROR(SUM(MATCH(A426,'UNITCOST ITEMS (Data Entry)'!$A$3:$A$504,0),2),\"\"))),\"\")=0,\"\",IFERROR(INDIRECT(CONCATENATE(\"'UNITCOST ITEMS (Data Entry)'!G\",IFERROR(SUM(MATCH(A426,'UNITCOST ITEMS (Data Entry)'!$A$3:$A$504,0),2),\"\"))),\"\"))","v":""},{"$f":"IF(IFERROR(INDIRECT(CONCATENATE(\"'UNITCOST ITEMS (Data Entry)'!H\",IFERROR(SUM(MATCH(A426,'UNITCOST ITEMS (Data Entry)'!$A$3:$A$504,0),2),\"\"))),\"\")=0,\"\",IFERROR(INDIRECT(CONCATENATE(\"'UNITCOST ITEMS (Data Entry)'!H\",IFERROR(SUM(MATCH(A426,'UNITCOST ITEMS (Data Entry)'!$A$3:$A$504,0),2),\"\"))),\"\"))","v":""},{"$f":"IF(IFERROR(INDIRECT(CONCATENATE(\"'UNITCOST ITEMS (Data Entry)'!I\",IFERROR(SUM(MATCH(A426,'UNITCOST ITEMS (Data Entry)'!$A$3:$A$504,0),2),\"\"))),\"\")=0,\"\",IFERROR(INDIRECT(CONCATENATE(\"'UNITCOST ITEMS (Data Entry)'!I\",IFERROR(SUM(MATCH(A426,'UNITCOST ITEMS (Data Entry)'!$A$3:$A$504,0),2),\"\"))),\"\"))","v":""},{"$f":"IF(K426=2,\"\",IF(IFERROR(INDIRECT(CONCATENATE(\"'UNITCOST ITEMS (Data Entry)'!J\",IFERROR(SUM(MATCH(A426,'UNITCOST ITEMS (Data Entry)'!$A$3:$A$504,0),2),\"\"))),\"\")=0,\"\",IFERROR(INDIRECT(CONCATENATE(\"'UNITCOST ITEMS (Data Entry)'!J\",IFERROR(SUM(MATCH(A426,'UNITCOST ITEMS (Data Entry)'!$A$3:$A$504,0),2),\"\"))),\"\")))","v":""},null,{"$f":"IF(IFERROR(INDIRECT(CONCATENATE(\"'UNITCOST ITEMS (Data Entry)'!C\",IFERROR(SUM(MATCH(A426,'UNITCOST ITEMS (Data Entry)'!$A$3:$A$504,0),2),\"\"))),\"\")=0,\"\",IFERROR(INDIRECT(CONCATENATE(\"'UNITCOST ITEMS (Data Entry)'!C\",IFERROR(SUM(MATCH(A426,'UNITCOST ITEMS (Data Entry)'!$A$3:$A$504,0),2),\"\"))),\"\"))","v":""},""]
[419,{"$f":"IF(IFERROR(INDIRECT(CONCATENATE(\"'UNITCOST ITEMS (Data Entry)'!D\",IFERROR(SUM(MATCH(A427,'UNITCOST ITEMS (Data Entry)'!$A$3:$A$504,0),2),\"\"))),\"\")=0,\"\",IFERROR(INDIRECT(CONCATENATE(\"'UNITCOST ITEMS (Data Entry)'!D\",IFERROR(SUM(MATCH(A427,'UNITCOST ITEMS (Data Entry)'!$A$3:$A$504,0),2),\"\"))),\"\"))","v":""},{"$f":"IF(IFERROR(INDIRECT(CONCATENATE(\"'UNITCOST ITEMS (Data Entry)'!E\",IFERROR(SUM(MATCH(A427,'UNITCOST ITEMS (Data Entry)'!$A$3:$A$504,0),2),\"\"))),\"\")=0,\"\",IFERROR(INDIRECT(CONCATENATE(\"'UNITCOST ITEMS (Data Entry)'!E\",IFERROR(SUM(MATCH(A427,'UNITCOST ITEMS (Data Entry)'!$A$3:$A$504,0),2),\"\"))),\"\"))","v":""},null,{"$f":"IF(IFERROR(INDIRECT(CONCATENATE(\"'UNITCOST ITEMS (Data Entry)'!F\",IFERROR(SUM(MATCH(A427,'UNITCOST ITEMS (Data Entry)'!$A$3:$A$504,0),2),\"\"))),\"\")=0,\"\",IFERROR(INDIRECT(CONCATENATE(\"'UNITCOST ITEMS (Data Entry)'!F\",IFERROR(SUM(MATCH(A427,'UNITCOST ITEMS (Data Entry)'!$A$3:$A$504,0),2),\"\"))),\"\"))","v":""},{"$f":"IF(IFERROR(INDIRECT(CONCATENATE(\"'UNITCOST ITEMS (Data Entry)'!G\",IFERROR(SUM(MATCH(A427,'UNITCOST ITEMS (Data Entry)'!$A$3:$A$504,0),2),\"\"))),\"\")=0,\"\",IFERROR(INDIRECT(CONCATENATE(\"'UNITCOST ITEMS (Data Entry)'!G\",IFERROR(SUM(MATCH(A427,'UNITCOST ITEMS (Data Entry)'!$A$3:$A$504,0),2),\"\"))),\"\"))","v":""},{"$f":"IF(IFERROR(INDIRECT(CONCATENATE(\"'UNITCOST ITEMS (Data Entry)'!H\",IFERROR(SUM(MATCH(A427,'UNITCOST ITEMS (Data Entry)'!$A$3:$A$504,0),2),\"\"))),\"\")=0,\"\",IFERROR(INDIRECT(CONCATENATE(\"'UNITCOST ITEMS (Data Entry)'!H\",IFERROR(SUM(MATCH(A427,'UNITCOST ITEMS (Data Entry)'!$A$3:$A$504,0),2),\"\"))),\"\"))","v":""},{"$f":"IF(IFERROR(INDIRECT(CONCATENATE(\"'UNITCOST ITEMS (Data Entry)'!I\",IFERROR(SUM(MATCH(A427,'UNITCOST ITEMS (Data Entry)'!$A$3:$A$504,0),2),\"\"))),\"\")=0,\"\",IFERROR(INDIRECT(CONCATENATE(\"'UNITCOST ITEMS (Data Entry)'!I\",IFERROR(SUM(MATCH(A427,'UNITCOST ITEMS (Data Entry)'!$A$3:$A$504,0),2),\"\"))),\"\"))","v":""},{"$f":"IF(K427=2,\"\",IF(IFERROR(INDIRECT(CONCATENATE(\"'UNITCOST ITEMS (Data Entry)'!J\",IFERROR(SUM(MATCH(A427,'UNITCOST ITEMS (Data Entry)'!$A$3:$A$504,0),2),\"\"))),\"\")=0,\"\",IFERROR(INDIRECT(CONCATENATE(\"'UNITCOST ITEMS (Data Entry)'!J\",IFERROR(SUM(MATCH(A427,'UNITCOST ITEMS (Data Entry)'!$A$3:$A$504,0),2),\"\"))),\"\")))","v":""},null,{"$f":"IF(IFERROR(INDIRECT(CONCATENATE(\"'UNITCOST ITEMS (Data Entry)'!C\",IFERROR(SUM(MATCH(A427,'UNITCOST ITEMS (Data Entry)'!$A$3:$A$504,0),2),\"\"))),\"\")=0,\"\",IFERROR(INDIRECT(CONCATENATE(\"'UNITCOST ITEMS (Data Entry)'!C\",IFERROR(SUM(MATCH(A427,'UNITCOST ITEMS (Data Entry)'!$A$3:$A$504,0),2),\"\"))),\"\"))","v":""},""]
[420,{"$f":"IF(IFERROR(INDIRECT(CONCATENATE(\"'UNITCOST ITEMS (Data Entry)'!D\",IFERROR(SUM(MATCH(A428,'UNITCOST ITEMS (Data Entry)'!$A$3:$A$504,0),2),\"\"))),\"\")=0,\"\",IFERROR(INDIRECT(CONCATENATE(\"'UNITCOST ITEMS (Data Entry)'!D\",IFERROR(SUM(MATCH(A428,'UNITCOST ITEMS (Data Entry)'!$A$3:$A$504,0),2),\"\"))),\"\"))","v":""},{"$f":"IF(IFERROR(INDIRECT(CONCATENATE(\"'UNITCOST ITEMS (Data Entry)'!E\",IFERROR(SUM(MATCH(A428,'UNITCOST ITEMS (Data Entry)'!$A$3:$A$504,0),2),\"\"))),\"\")=0,\"\",IFERROR(INDIRECT(CONCATENATE(\"'UNITCOST ITEMS (Data Entry)'!E\",IFERROR(SUM(MATCH(A428,'UNITCOST ITEMS (Data Entry)'!$A$3:$A$504,0),2),\"\"))),\"\"))","v":""},null,{"$f":"IF(IFERROR(INDIRECT(CONCATENATE(\"'UNITCOST ITEMS (Data Entry)'!F\",IFERROR(SUM(MATCH(A428,'UNITCOST ITEMS (Data Entry)'!$A$3:$A$504,0),2),\"\"))),\"\")=0,\"\",IFERROR(INDIRECT(CONCATENATE(\"'UNITCOST ITEMS (Data Entry)'!F\",IFERROR(SUM(MATCH(A428,'UNITCOST ITEMS (Data Entry)'!$A$3:$A$504,0),2),\"\"))),\"\"))","v":""},{"$f":"IF(IFERROR(INDIRECT(CONCATENATE(\"'UNITCOST ITEMS (Data Entry)'!G\",IFERROR(SUM(MATCH(A428,'UNITCOST ITEMS (Data Entry)'!$A$3:$A$504,0),2),\"\"))),\"\")=0,\"\",IFERROR(INDIRECT(CONCATENATE(\"'UNITCOST ITEMS (Data Entry)'!G\",IFERROR(SUM(MATCH(A428,'UNITCOST ITEMS (Data Entry)'!$A$3:$A$504,0),2),\"\"))),\"\"))","v":""},{"$f":"IF(IFERROR(INDIRECT(CONCATENATE(\"'UNITCOST ITEMS (Data Entry)'!H\",IFERROR(SUM(MATCH(A428,'UNITCOST ITEMS (Data Entry)'!$A$3:$A$504,0),2),\"\"))),\"\")=0,\"\",IFERROR(INDIRECT(CONCATENATE(\"'UNITCOST ITEMS (Data Entry)'!H\",IFERROR(SUM(MATCH(A428,'UNITCOST ITEMS (Data Entry)'!$A$3:$A$504,0),2),\"\"))),\"\"))","v":""},{"$f":"IF(IFERROR(INDIRECT(CONCATENATE(\"'UNITCOST ITEMS (Data Entry)'!I\",IFERROR(SUM(MATCH(A428,'UNITCOST ITEMS (Data Entry)'!$A$3:$A$504,0),2),\"\"))),\"\")=0,\"\",IFERROR(INDIRECT(CONCATENATE(\"'UNITCOST ITEMS (Data Entry)'!I\",IFERROR(SUM(MATCH(A428,'UNITCOST ITEMS (Data Entry)'!$A$3:$A$504,0),2),\"\"))),\"\"))","v":""},{"$f":"IF(K428=2,\"\",IF(IFERROR(INDIRECT(CONCATENATE(\"'UNITCOST ITEMS (Data Entry)'!J\",IFERROR(SUM(MATCH(A428,'UNITCOST ITEMS (Data Entry)'!$A$3:$A$504,0),2),\"\"))),\"\")=0,\"\",IFERROR(INDIRECT(CONCATENATE(\"'UNITCOST ITEMS (Data Entry)'!J\",IFERROR(SUM(MATCH(A428,'UNITCOST ITEMS (Data Entry)'!$A$3:$A$504,0),2),\"\"))),\"\")))","v":""},null,{"$f":"IF(IFERROR(INDIRECT(CONCATENATE(\"'UNITCOST ITEMS (Data Entry)'!C\",IFERROR(SUM(MATCH(A428,'UNITCOST ITEMS (Data Entry)'!$A$3:$A$504,0),2),\"\"))),\"\")=0,\"\",IFERROR(INDIRECT(CONCATENATE(\"'UNITCOST ITEMS (Data Entry)'!C\",IFERROR(SUM(MATCH(A428,'UNITCOST ITEMS (Data Entry)'!$A$3:$A$504,0),2),\"\"))),\"\"))","v":""},""]
[421,{"$f":"IF(IFERROR(INDIRECT(CONCATENATE(\"'UNITCOST ITEMS (Data Entry)'!D\",IFERROR(SUM(MATCH(A429,'UNITCOST ITEMS (Data Entry)'!$A$3:$A$504,0),2),\"\"))),\"\")=0,\"\",IFERROR(INDIRECT(CONCATENATE(\"'UNITCOST ITEMS (Data Entry)'!D\",IFERROR(SUM(MATCH(A429,'UNITCOST ITEMS (Data Entry)'!$A$3:$A$504,0),2),\"\"))),\"\"))","v":""},{"$f":"IF(IFERROR(INDIRECT(CONCATENATE(\"'UNITCOST ITEMS (Data Entry)'!E\",IFERROR(SUM(MATCH(A429,'UNITCOST ITEMS (Data Entry)'!$A$3:$A$504,0),2),\"\"))),\"\")=0,\"\",IFERROR(INDIRECT(CONCATENATE(\"'UNITCOST ITEMS (Data Entry)'!E\",IFERROR(SUM(MATCH(A429,'UNITCOST ITEMS (Data Entry)'!$A$3:$A$504,0),2),\"\"))),\"\"))","v":""},null,{"$f":"IF(IFERROR(INDIRECT(CONCATENATE(\"'UNITCOST ITEMS (Data Entry)'!F\",IFERROR(SUM(MATCH(A429,'UNITCOST ITEMS (Data Entry)'!$A$3:$A$504,0),2),\"\"))),\"\")=0,\"\",IFERROR(INDIRECT(CONCATENATE(\"'UNITCOST ITEMS (Data Entry)'!F\",IFERROR(SUM(MATCH(A429,'UNITCOST ITEMS (Data Entry)'!$A$3:$A$504,0),2),\"\"))),\"\"))","v":""},{"$f":"IF(IFERROR(INDIRECT(CONCATENATE(\"'UNITCOST ITEMS (Data Entry)'!G\",IFERROR(SUM(MATCH(A429,'UNITCOST ITEMS (Data Entry)'!$A$3:$A$504,0),2),\"\"))),\"\")=0,\"\",IFERROR(INDIRECT(CONCATENATE(\"'UNITCOST ITEMS (Data Entry)'!G\",IFERROR(SUM(MATCH(A429,'UNITCOST ITEMS (Data Entry)'!$A$3:$A$504,0),2),\"\"))),\"\"))","v":""},{"$f":"IF(IFERROR(INDIRECT(CONCATENATE(\"'UNITCOST ITEMS (Data Entry)'!H\",IFERROR(SUM(MATCH(A429,'UNITCOST ITEMS (Data Entry)'!$A$3:$A$504,0),2),\"\"))),\"\")=0,\"\",IFERROR(INDIRECT(CONCATENATE(\"'UNITCOST ITEMS (Data Entry)'!H\",IFERROR(SUM(MATCH(A429,'UNITCOST ITEMS (Data Entry)'!$A$3:$A$504,0),2),\"\"))),\"\"))","v":""},{"$f":"IF(IFERROR(INDIRECT(CONCATENATE(\"'UNITCOST ITEMS (Data Entry)'!I\",IFERROR(SUM(MATCH(A429,'UNITCOST ITEMS (Data Entry)'!$A$3:$A$504,0),2),\"\"))),\"\")=0,\"\",IFERROR(INDIRECT(CONCATENATE(\"'UNITCOST ITEMS (Data Entry)'!I\",IFERROR(SUM(MATCH(A429,'UNITCOST ITEMS (Data Entry)'!$A$3:$A$504,0),2),\"\"))),\"\"))","v":""},{"$f":"IF(K429=2,\"\",IF(IFERROR(INDIRECT(CONCATENATE(\"'UNITCOST ITEMS (Data Entry)'!J\",IFERROR(SUM(MATCH(A429,'UNITCOST ITEMS (Data Entry)'!$A$3:$A$504,0),2),\"\"))),\"\")=0,\"\",IFERROR(INDIRECT(CONCATENATE(\"'UNITCOST ITEMS (Data Entry)'!J\",IFERROR(SUM(MATCH(A429,'UNITCOST ITEMS (Data Entry)'!$A$3:$A$504,0),2),\"\"))),\"\")))","v":""},null,{"$f":"IF(IFERROR(INDIRECT(CONCATENATE(\"'UNITCOST ITEMS (Data Entry)'!C\",IFERROR(SUM(MATCH(A429,'UNITCOST ITEMS (Data Entry)'!$A$3:$A$504,0),2),\"\"))),\"\")=0,\"\",IFERROR(INDIRECT(CONCATENATE(\"'UNITCOST ITEMS (Data Entry)'!C\",IFERROR(SUM(MATCH(A429,'UNITCOST ITEMS (Data Entry)'!$A$3:$A$504,0),2),\"\"))),\"\"))","v":""},""]
[422,{"$f":"IF(IFERROR(INDIRECT(CONCATENATE(\"'UNITCOST ITEMS (Data Entry)'!D\",IFERROR(SUM(MATCH(A430,'UNITCOST ITEMS (Data Entry)'!$A$3:$A$504,0),2),\"\"))),\"\")=0,\"\",IFERROR(INDIRECT(CONCATENATE(\"'UNITCOST ITEMS (Data Entry)'!D\",IFERROR(SUM(MATCH(A430,'UNITCOST ITEMS (Data Entry)'!$A$3:$A$504,0),2),\"\"))),\"\"))","v":""},{"$f":"IF(IFERROR(INDIRECT(CONCATENATE(\"'UNITCOST ITEMS (Data Entry)'!E\",IFERROR(SUM(MATCH(A430,'UNITCOST ITEMS (Data Entry)'!$A$3:$A$504,0),2),\"\"))),\"\")=0,\"\",IFERROR(INDIRECT(CONCATENATE(\"'UNITCOST ITEMS (Data Entry)'!E\",IFERROR(SUM(MATCH(A430,'UNITCOST ITEMS (Data Entry)'!$A$3:$A$504,0),2),\"\"))),\"\"))","v":""},null,{"$f":"IF(IFERROR(INDIRECT(CONCATENATE(\"'UNITCOST ITEMS (Data Entry)'!F\",IFERROR(SUM(MATCH(A430,'UNITCOST ITEMS (Data Entry)'!$A$3:$A$504,0),2),\"\"))),\"\")=0,\"\",IFERROR(INDIRECT(CONCATENATE(\"'UNITCOST ITEMS (Data Entry)'!F\",IFERROR(SUM(MATCH(A430,'UNITCOST ITEMS (Data Entry)'!$A$3:$A$504,0),2),\"\"))),\"\"))","v":""},{"$f":"IF(IFERROR(INDIRECT(CONCATENATE(\"'UNITCOST ITEMS (Data Entry)'!G\",IFERROR(SUM(MATCH(A430,'UNITCOST ITEMS (Data Entry)'!$A$3:$A$504,0),2),\"\"))),\"\")=0,\"\",IFERROR(INDIRECT(CONCATENATE(\"'UNITCOST ITEMS (Data Entry)'!G\",IFERROR(SUM(MATCH(A430,'UNITCOST ITEMS (Data Entry)'!$A$3:$A$504,0),2),\"\"))),\"\"))","v":""},{"$f":"IF(IFERROR(INDIRECT(CONCATENATE(\"'UNITCOST ITEMS (Data Entry)'!H\",IFERROR(SUM(MATCH(A430,'UNITCOST ITEMS (Data Entry)'!$A$3:$A$504,0),2),\"\"))),\"\")=0,\"\",IFERROR(INDIRECT(CONCATENATE(\"'UNITCOST ITEMS (Data Entry)'!H\",IFERROR(SUM(MATCH(A430,'UNITCOST ITEMS (Data Entry)'!$A$3:$A$504,0),2),\"\"))),\"\"))","v":""},{"$f":"IF(IFERROR(INDIRECT(CONCATENATE(\"'UNITCOST ITEMS (Data Entry)'!I\",IFERROR(SUM(MATCH(A430,'UNITCOST ITEMS (Data Entry)'!$A$3:$A$504,0),2),\"\"))),\"\")=0,\"\",IFERROR(INDIRECT(CONCATENATE(\"'UNITCOST ITEMS (Data Entry)'!I\",IFERROR(SUM(MATCH(A430,'UNITCOST ITEMS (Data Entry)'!$A$3:$A$504,0),2),\"\"))),\"\"))","v":""},{"$f":"IF(K430=2,\"\",IF(IFERROR(INDIRECT(CONCATENATE(\"'UNITCOST ITEMS (Data Entry)'!J\",IFERROR(SUM(MATCH(A430,'UNITCOST ITEMS (Data Entry)'!$A$3:$A$504,0),2),\"\"))),\"\")=0,\"\",IFERROR(INDIRECT(CONCATENATE(\"'UNITCOST ITEMS (Data Entry)'!J\",IFERROR(SUM(MATCH(A430,'UNITCOST ITEMS (Data Entry)'!$A$3:$A$504,0),2),\"\"))),\"\")))","v":""},null,{"$f":"IF(IFERROR(INDIRECT(CONCATENATE(\"'UNITCOST ITEMS (Data Entry)'!C\",IFERROR(SUM(MATCH(A430,'UNITCOST ITEMS (Data Entry)'!$A$3:$A$504,0),2),\"\"))),\"\")=0,\"\",IFERROR(INDIRECT(CONCATENATE(\"'UNITCOST ITEMS (Data Entry)'!C\",IFERROR(SUM(MATCH(A430,'UNITCOST ITEMS (Data Entry)'!$A$3:$A$504,0),2),\"\"))),\"\"))","v":""},""]
[423,{"$f":"IF(IFERROR(INDIRECT(CONCATENATE(\"'UNITCOST ITEMS (Data Entry)'!D\",IFERROR(SUM(MATCH(A431,'UNITCOST ITEMS (Data Entry)'!$A$3:$A$504,0),2),\"\"))),\"\")=0,\"\",IFERROR(INDIRECT(CONCATENATE(\"'UNITCOST ITEMS (Data Entry)'!D\",IFERROR(SUM(MATCH(A431,'UNITCOST ITEMS (Data Entry)'!$A$3:$A$504,0),2),\"\"))),\"\"))","v":""},{"$f":"IF(IFERROR(INDIRECT(CONCATENATE(\"'UNITCOST ITEMS (Data Entry)'!E\",IFERROR(SUM(MATCH(A431,'UNITCOST ITEMS (Data Entry)'!$A$3:$A$504,0),2),\"\"))),\"\")=0,\"\",IFERROR(INDIRECT(CONCATENATE(\"'UNITCOST ITEMS (Data Entry)'!E\",IFERROR(SUM(MATCH(A431,'UNITCOST ITEMS (Data Entry)'!$A$3:$A$504,0),2),\"\"))),\"\"))","v":""},null,{"$f":"IF(IFERROR(INDIRECT(CONCATENATE(\"'UNITCOST ITEMS (Data Entry)'!F\",IFERROR(SUM(MATCH(A431,'UNITCOST ITEMS (Data Entry)'!$A$3:$A$504,0),2),\"\"))),\"\")=0,\"\",IFERROR(INDIRECT(CONCATENATE(\"'UNITCOST ITEMS (Data Entry)'!F\",IFERROR(SUM(MATCH(A431,'UNITCOST ITEMS (Data Entry)'!$A$3:$A$504,0),2),\"\"))),\"\"))","v":""},{"$f":"IF(IFERROR(INDIRECT(CONCATENATE(\"'UNITCOST ITEMS (Data Entry)'!G\",IFERROR(SUM(MATCH(A431,'UNITCOST ITEMS (Data Entry)'!$A$3:$A$504,0),2),\"\"))),\"\")=0,\"\",IFERROR(INDIRECT(CONCATENATE(\"'UNITCOST ITEMS (Data Entry)'!G\",IFERROR(SUM(MATCH(A431,'UNITCOST ITEMS (Data Entry)'!$A$3:$A$504,0),2),\"\"))),\"\"))","v":""},{"$f":"IF(IFERROR(INDIRECT(CONCATENATE(\"'UNITCOST ITEMS (Data Entry)'!H\",IFERROR(SUM(MATCH(A431,'UNITCOST ITEMS (Data Entry)'!$A$3:$A$504,0),2),\"\"))),\"\")=0,\"\",IFERROR(INDIRECT(CONCATENATE(\"'UNITCOST ITEMS (Data Entry)'!H\",IFERROR(SUM(MATCH(A431,'UNITCOST ITEMS (Data Entry)'!$A$3:$A$504,0),2),\"\"))),\"\"))","v":""},{"$f":"IF(IFERROR(INDIRECT(CONCATENATE(\"'UNITCOST ITEMS (Data Entry)'!I\",IFERROR(SUM(MATCH(A431,'UNITCOST ITEMS (Data Entry)'!$A$3:$A$504,0),2),\"\"))),\"\")=0,\"\",IFERROR(INDIRECT(CONCATENATE(\"'UNITCOST ITEMS (Data Entry)'!I\",IFERROR(SUM(MATCH(A431,'UNITCOST ITEMS (Data Entry)'!$A$3:$A$504,0),2),\"\"))),\"\"))","v":""},{"$f":"IF(K431=2,\"\",IF(IFERROR(INDIRECT(CONCATENATE(\"'UNITCOST ITEMS (Data Entry)'!J\",IFERROR(SUM(MATCH(A431,'UNITCOST ITEMS (Data Entry)'!$A$3:$A$504,0),2),\"\"))),\"\")=0,\"\",IFERROR(INDIRECT(CONCATENATE(\"'UNITCOST ITEMS (Data Entry)'!J\",IFERROR(SUM(MATCH(A431,'UNITCOST ITEMS (Data Entry)'!$A$3:$A$504,0),2),\"\"))),\"\")))","v":""},null,{"$f":"IF(IFERROR(INDIRECT(CONCATENATE(\"'UNITCOST ITEMS (Data Entry)'!C\",IFERROR(SUM(MATCH(A431,'UNITCOST ITEMS (Data Entry)'!$A$3:$A$504,0),2),\"\"))),\"\")=0,\"\",IFERROR(INDIRECT(CONCATENATE(\"'UNITCOST ITEMS (Data Entry)'!C\",IFERROR(SUM(MATCH(A431,'UNITCOST ITEMS (Data Entry)'!$A$3:$A$504,0),2),\"\"))),\"\"))","v":""},""]
[424,{"$f":"IF(IFERROR(INDIRECT(CONCATENATE(\"'UNITCOST ITEMS (Data Entry)'!D\",IFERROR(SUM(MATCH(A432,'UNITCOST ITEMS (Data Entry)'!$A$3:$A$504,0),2),\"\"))),\"\")=0,\"\",IFERROR(INDIRECT(CONCATENATE(\"'UNITCOST ITEMS (Data Entry)'!D\",IFERROR(SUM(MATCH(A432,'UNITCOST ITEMS (Data Entry)'!$A$3:$A$504,0),2),\"\"))),\"\"))","v":""},{"$f":"IF(IFERROR(INDIRECT(CONCATENATE(\"'UNITCOST ITEMS (Data Entry)'!E\",IFERROR(SUM(MATCH(A432,'UNITCOST ITEMS (Data Entry)'!$A$3:$A$504,0),2),\"\"))),\"\")=0,\"\",IFERROR(INDIRECT(CONCATENATE(\"'UNITCOST ITEMS (Data Entry)'!E\",IFERROR(SUM(MATCH(A432,'UNITCOST ITEMS (Data Entry)'!$A$3:$A$504,0),2),\"\"))),\"\"))","v":""},null,{"$f":"IF(IFERROR(INDIRECT(CONCATENATE(\"'UNITCOST ITEMS (Data Entry)'!F\",IFERROR(SUM(MATCH(A432,'UNITCOST ITEMS (Data Entry)'!$A$3:$A$504,0),2),\"\"))),\"\")=0,\"\",IFERROR(INDIRECT(CONCATENATE(\"'UNITCOST ITEMS (Data Entry)'!F\",IFERROR(SUM(MATCH(A432,'UNITCOST ITEMS (Data Entry)'!$A$3:$A$504,0),2),\"\"))),\"\"))","v":""},{"$f":"IF(IFERROR(INDIRECT(CONCATENATE(\"'UNITCOST ITEMS (Data Entry)'!G\",IFERROR(SUM(MATCH(A432,'UNITCOST ITEMS (Data Entry)'!$A$3:$A$504,0),2),\"\"))),\"\")=0,\"\",IFERROR(INDIRECT(CONCATENATE(\"'UNITCOST ITEMS (Data Entry)'!G\",IFERROR(SUM(MATCH(A432,'UNITCOST ITEMS (Data Entry)'!$A$3:$A$504,0),2),\"\"))),\"\"))","v":""},{"$f":"IF(IFERROR(INDIRECT(CONCATENATE(\"'UNITCOST ITEMS (Data Entry)'!H\",IFERROR(SUM(MATCH(A432,'UNITCOST ITEMS (Data Entry)'!$A$3:$A$504,0),2),\"\"))),\"\")=0,\"\",IFERROR(INDIRECT(CONCATENATE(\"'UNITCOST ITEMS (Data Entry)'!H\",IFERROR(SUM(MATCH(A432,'UNITCOST ITEMS (Data Entry)'!$A$3:$A$504,0),2),\"\"))),\"\"))","v":""},{"$f":"IF(IFERROR(INDIRECT(CONCATENATE(\"'UNITCOST ITEMS (Data Entry)'!I\",IFERROR(SUM(MATCH(A432,'UNITCOST ITEMS (Data Entry)'!$A$3:$A$504,0),2),\"\"))),\"\")=0,\"\",IFERROR(INDIRECT(CONCATENATE(\"'UNITCOST ITEMS (Data Entry)'!I\",IFERROR(SUM(MATCH(A432,'UNITCOST ITEMS (Data Entry)'!$A$3:$A$504,0),2),\"\"))),\"\"))","v":""},{"$f":"IF(K432=2,\"\",IF(IFERROR(INDIRECT(CONCATENATE(\"'UNITCOST ITEMS (Data Entry)'!J\",IFERROR(SUM(MATCH(A432,'UNITCOST ITEMS (Data Entry)'!$A$3:$A$504,0),2),\"\"))),\"\")=0,\"\",IFERROR(INDIRECT(CONCATENATE(\"'UNITCOST ITEMS (Data Entry)'!J\",IFERROR(SUM(MATCH(A432,'UNITCOST ITEMS (Data Entry)'!$A$3:$A$504,0),2),\"\"))),\"\")))","v":""},null,{"$f":"IF(IFERROR(INDIRECT(CONCATENATE(\"'UNITCOST ITEMS (Data Entry)'!C\",IFERROR(SUM(MATCH(A432,'UNITCOST ITEMS (Data Entry)'!$A$3:$A$504,0),2),\"\"))),\"\")=0,\"\",IFERROR(INDIRECT(CONCATENATE(\"'UNITCOST ITEMS (Data Entry)'!C\",IFERROR(SUM(MATCH(A432,'UNITCOST ITEMS (Data Entry)'!$A$3:$A$504,0),2),\"\"))),\"\"))","v":""},""]
[425,{"$f":"IF(IFERROR(INDIRECT(CONCATENATE(\"'UNITCOST ITEMS (Data Entry)'!D\",IFERROR(SUM(MATCH(A433,'UNITCOST ITEMS (Data Entry)'!$A$3:$A$504,0),2),\"\"))),\"\")=0,\"\",IFERROR(INDIRECT(CONCATENATE(\"'UNITCOST ITEMS (Data Entry)'!D\",IFERROR(SUM(MATCH(A433,'UNITCOST ITEMS (Data Entry)'!$A$3:$A$504,0),2),\"\"))),\"\"))","v":""},{"$f":"IF(IFERROR(INDIRECT(CONCATENATE(\"'UNITCOST ITEMS (Data Entry)'!E\",IFERROR(SUM(MATCH(A433,'UNITCOST ITEMS (Data Entry)'!$A$3:$A$504,0),2),\"\"))),\"\")=0,\"\",IFERROR(INDIRECT(CONCATENATE(\"'UNITCOST ITEMS (Data Entry)'!E\",IFERROR(SUM(MATCH(A433,'UNITCOST ITEMS (Data Entry)'!$A$3:$A$504,0),2),\"\"))),\"\"))","v":""},null,{"$f":"IF(IFERROR(INDIRECT(CONCATENATE(\"'UNITCOST ITEMS (Data Entry)'!F\",IFERROR(SUM(MATCH(A433,'UNITCOST ITEMS (Data Entry)'!$A$3:$A$504,0),2),\"\"))),\"\")=0,\"\",IFERROR(INDIRECT(CONCATENATE(\"'UNITCOST ITEMS (Data Entry)'!F\",IFERROR(SUM(MATCH(A433,'UNITCOST ITEMS (Data Entry)'!$A$3:$A$504,0),2),\"\"))),\"\"))","v":""},{"$f":"IF(IFERROR(INDIRECT(CONCATENATE(\"'UNITCOST ITEMS (Data Entry)'!G\",IFERROR(SUM(MATCH(A433,'UNITCOST ITEMS (Data Entry)'!$A$3:$A$504,0),2),\"\"))),\"\")=0,\"\",IFERROR(INDIRECT(CONCATENATE(\"'UNITCOST ITEMS (Data Entry)'!G\",IFERROR(SUM(MATCH(A433,'UNITCOST ITEMS (Data Entry)'!$A$3:$A$504,0),2),\"\"))),\"\"))","v":""},{"$f":"IF(IFERROR(INDIRECT(CONCATENATE(\"'UNITCOST ITEMS (Data Entry)'!H\",IFERROR(SUM(MATCH(A433,'UNITCOST ITEMS (Data Entry)'!$A$3:$A$504,0),2),\"\"))),\"\")=0,\"\",IFERROR(INDIRECT(CONCATENATE(\"'UNITCOST ITEMS (Data Entry)'!H\",IFERROR(SUM(MATCH(A433,'UNITCOST ITEMS (Data Entry)'!$A$3:$A$504,0),2),\"\"))),\"\"))","v":""},{"$f":"IF(IFERROR(INDIRECT(CONCATENATE(\"'UNITCOST ITEMS (Data Entry)'!I\",IFERROR(SUM(MATCH(A433,'UNITCOST ITEMS (Data Entry)'!$A$3:$A$504,0),2),\"\"))),\"\")=0,\"\",IFERROR(INDIRECT(CONCATENATE(\"'UNITCOST ITEMS (Data Entry)'!I\",IFERROR(SUM(MATCH(A433,'UNITCOST ITEMS (Data Entry)'!$A$3:$A$504,0),2),\"\"))),\"\"))","v":""},{"$f":"IF(K433=2,\"\",IF(IFERROR(INDIRECT(CONCATENATE(\"'UNITCOST ITEMS (Data Entry)'!J\",IFERROR(SUM(MATCH(A433,'UNITCOST ITEMS (Data Entry)'!$A$3:$A$504,0),2),\"\"))),\"\")=0,\"\",IFERROR(INDIRECT(CONCATENATE(\"'UNITCOST ITEMS (Data Entry)'!J\",IFERROR(SUM(MATCH(A433,'UNITCOST ITEMS (Data Entry)'!$A$3:$A$504,0),2),\"\"))),\"\")))","v":""},null,{"$f":"IF(IFERROR(INDIRECT(CONCATENATE(\"'UNITCOST ITEMS (Data Entry)'!C\",IFERROR(SUM(MATCH(A433,'UNITCOST ITEMS (Data Entry)'!$A$3:$A$504,0),2),\"\"))),\"\")=0,\"\",IFERROR(INDIRECT(CONCATENATE(\"'UNITCOST ITEMS (Data Entry)'!C\",IFERROR(SUM(MATCH(A433,'UNITCOST ITEMS (Data Entry)'!$A$3:$A$504,0),2),\"\"))),\"\"))","v":""},""]
[426,{"$f":"IF(IFERROR(INDIRECT(CONCATENATE(\"'UNITCOST ITEMS (Data Entry)'!D\",IFERROR(SUM(MATCH(A434,'UNITCOST ITEMS (Data Entry)'!$A$3:$A$504,0),2),\"\"))),\"\")=0,\"\",IFERROR(INDIRECT(CONCATENATE(\"'UNITCOST ITEMS (Data Entry)'!D\",IFERROR(SUM(MATCH(A434,'UNITCOST ITEMS (Data Entry)'!$A$3:$A$504,0),2),\"\"))),\"\"))","v":""},{"$f":"IF(IFERROR(INDIRECT(CONCATENATE(\"'UNITCOST ITEMS (Data Entry)'!E\",IFERROR(SUM(MATCH(A434,'UNITCOST ITEMS (Data Entry)'!$A$3:$A$504,0),2),\"\"))),\"\")=0,\"\",IFERROR(INDIRECT(CONCATENATE(\"'UNITCOST ITEMS (Data Entry)'!E\",IFERROR(SUM(MATCH(A434,'UNITCOST ITEMS (Data Entry)'!$A$3:$A$504,0),2),\"\"))),\"\"))","v":""},null,{"$f":"IF(IFERROR(INDIRECT(CONCATENATE(\"'UNITCOST ITEMS (Data Entry)'!F\",IFERROR(SUM(MATCH(A434,'UNITCOST ITEMS (Data Entry)'!$A$3:$A$504,0),2),\"\"))),\"\")=0,\"\",IFERROR(INDIRECT(CONCATENATE(\"'UNITCOST ITEMS (Data Entry)'!F\",IFERROR(SUM(MATCH(A434,'UNITCOST ITEMS (Data Entry)'!$A$3:$A$504,0),2),\"\"))),\"\"))","v":""},{"$f":"IF(IFERROR(INDIRECT(CONCATENATE(\"'UNITCOST ITEMS (Data Entry)'!G\",IFERROR(SUM(MATCH(A434,'UNITCOST ITEMS (Data Entry)'!$A$3:$A$504,0),2),\"\"))),\"\")=0,\"\",IFERROR(INDIRECT(CONCATENATE(\"'UNITCOST ITEMS (Data Entry)'!G\",IFERROR(SUM(MATCH(A434,'UNITCOST ITEMS (Data Entry)'!$A$3:$A$504,0),2),\"\"))),\"\"))","v":""},{"$f":"IF(IFERROR(INDIRECT(CONCATENATE(\"'UNITCOST ITEMS (Data Entry)'!H\",IFERROR(SUM(MATCH(A434,'UNITCOST ITEMS (Data Entry)'!$A$3:$A$504,0),2),\"\"))),\"\")=0,\"\",IFERROR(INDIRECT(CONCATENATE(\"'UNITCOST ITEMS (Data Entry)'!H\",IFERROR(SUM(MATCH(A434,'UNITCOST ITEMS (Data Entry)'!$A$3:$A$504,0),2),\"\"))),\"\"))","v":""},{"$f":"IF(IFERROR(INDIRECT(CONCATENATE(\"'UNITCOST ITEMS (Data Entry)'!I\",IFERROR(SUM(MATCH(A434,'UNITCOST ITEMS (Data Entry)'!$A$3:$A$504,0),2),\"\"))),\"\")=0,\"\",IFERROR(INDIRECT(CONCATENATE(\"'UNITCOST ITEMS (Data Entry)'!I\",IFERROR(SUM(MATCH(A434,'UNITCOST ITEMS (Data Entry)'!$A$3:$A$504,0),2),\"\"))),\"\"))","v":""},{"$f":"IF(K434=2,\"\",IF(IFERROR(INDIRECT(CONCATENATE(\"'UNITCOST ITEMS (Data Entry)'!J\",IFERROR(SUM(MATCH(A434,'UNITCOST ITEMS (Data Entry)'!$A$3:$A$504,0),2),\"\"))),\"\")=0,\"\",IFERROR(INDIRECT(CONCATENATE(\"'UNITCOST ITEMS (Data Entry)'!J\",IFERROR(SUM(MATCH(A434,'UNITCOST ITEMS (Data Entry)'!$A$3:$A$504,0),2),\"\"))),\"\")))","v":""},null,{"$f":"IF(IFERROR(INDIRECT(CONCATENATE(\"'UNITCOST ITEMS (Data Entry)'!C\",IFERROR(SUM(MATCH(A434,'UNITCOST ITEMS (Data Entry)'!$A$3:$A$504,0),2),\"\"))),\"\")=0,\"\",IFERROR(INDIRECT(CONCATENATE(\"'UNITCOST ITEMS (Data Entry)'!C\",IFERROR(SUM(MATCH(A434,'UNITCOST ITEMS (Data Entry)'!$A$3:$A$504,0),2),\"\"))),\"\"))","v":""},""]
[427,{"$f":"IF(IFERROR(INDIRECT(CONCATENATE(\"'UNITCOST ITEMS (Data Entry)'!D\",IFERROR(SUM(MATCH(A435,'UNITCOST ITEMS (Data Entry)'!$A$3:$A$504,0),2),\"\"))),\"\")=0,\"\",IFERROR(INDIRECT(CONCATENATE(\"'UNITCOST ITEMS (Data Entry)'!D\",IFERROR(SUM(MATCH(A435,'UNITCOST ITEMS (Data Entry)'!$A$3:$A$504,0),2),\"\"))),\"\"))","v":""},{"$f":"IF(IFERROR(INDIRECT(CONCATENATE(\"'UNITCOST ITEMS (Data Entry)'!E\",IFERROR(SUM(MATCH(A435,'UNITCOST ITEMS (Data Entry)'!$A$3:$A$504,0),2),\"\"))),\"\")=0,\"\",IFERROR(INDIRECT(CONCATENATE(\"'UNITCOST ITEMS (Data Entry)'!E\",IFERROR(SUM(MATCH(A435,'UNITCOST ITEMS (Data Entry)'!$A$3:$A$504,0),2),\"\"))),\"\"))","v":""},null,{"$f":"IF(IFERROR(INDIRECT(CONCATENATE(\"'UNITCOST ITEMS (Data Entry)'!F\",IFERROR(SUM(MATCH(A435,'UNITCOST ITEMS (Data Entry)'!$A$3:$A$504,0),2),\"\"))),\"\")=0,\"\",IFERROR(INDIRECT(CONCATENATE(\"'UNITCOST ITEMS (Data Entry)'!F\",IFERROR(SUM(MATCH(A435,'UNITCOST ITEMS (Data Entry)'!$A$3:$A$504,0),2),\"\"))),\"\"))","v":""},{"$f":"IF(IFERROR(INDIRECT(CONCATENATE(\"'UNITCOST ITEMS (Data Entry)'!G\",IFERROR(SUM(MATCH(A435,'UNITCOST ITEMS (Data Entry)'!$A$3:$A$504,0),2),\"\"))),\"\")=0,\"\",IFERROR(INDIRECT(CONCATENATE(\"'UNITCOST ITEMS (Data Entry)'!G\",IFERROR(SUM(MATCH(A435,'UNITCOST ITEMS (Data Entry)'!$A$3:$A$504,0),2),\"\"))),\"\"))","v":""},{"$f":"IF(IFERROR(INDIRECT(CONCATENATE(\"'UNITCOST ITEMS (Data Entry)'!H\",IFERROR(SUM(MATCH(A435,'UNITCOST ITEMS (Data Entry)'!$A$3:$A$504,0),2),\"\"))),\"\")=0,\"\",IFERROR(INDIRECT(CONCATENATE(\"'UNITCOST ITEMS (Data Entry)'!H\",IFERROR(SUM(MATCH(A435,'UNITCOST ITEMS (Data Entry)'!$A$3:$A$504,0),2),\"\"))),\"\"))","v":""},{"$f":"IF(IFERROR(INDIRECT(CONCATENATE(\"'UNITCOST ITEMS (Data Entry)'!I\",IFERROR(SUM(MATCH(A435,'UNITCOST ITEMS (Data Entry)'!$A$3:$A$504,0),2),\"\"))),\"\")=0,\"\",IFERROR(INDIRECT(CONCATENATE(\"'UNITCOST ITEMS (Data Entry)'!I\",IFERROR(SUM(MATCH(A435,'UNITCOST ITEMS (Data Entry)'!$A$3:$A$504,0),2),\"\"))),\"\"))","v":""},{"$f":"IF(K435=2,\"\",IF(IFERROR(INDIRECT(CONCATENATE(\"'UNITCOST ITEMS (Data Entry)'!J\",IFERROR(SUM(MATCH(A435,'UNITCOST ITEMS (Data Entry)'!$A$3:$A$504,0),2),\"\"))),\"\")=0,\"\",IFERROR(INDIRECT(CONCATENATE(\"'UNITCOST ITEMS (Data Entry)'!J\",IFERROR(SUM(MATCH(A435,'UNITCOST ITEMS (Data Entry)'!$A$3:$A$504,0),2),\"\"))),\"\")))","v":""},null,{"$f":"IF(IFERROR(INDIRECT(CONCATENATE(\"'UNITCOST ITEMS (Data Entry)'!C\",IFERROR(SUM(MATCH(A435,'UNITCOST ITEMS (Data Entry)'!$A$3:$A$504,0),2),\"\"))),\"\")=0,\"\",IFERROR(INDIRECT(CONCATENATE(\"'UNITCOST ITEMS (Data Entry)'!C\",IFERROR(SUM(MATCH(A435,'UNITCOST ITEMS (Data Entry)'!$A$3:$A$504,0),2),\"\"))),\"\"))","v":""},""]
[428,{"$f":"IF(IFERROR(INDIRECT(CONCATENATE(\"'UNITCOST ITEMS (Data Entry)'!D\",IFERROR(SUM(MATCH(A436,'UNITCOST ITEMS (Data Entry)'!$A$3:$A$504,0),2),\"\"))),\"\")=0,\"\",IFERROR(INDIRECT(CONCATENATE(\"'UNITCOST ITEMS (Data Entry)'!D\",IFERROR(SUM(MATCH(A436,'UNITCOST ITEMS (Data Entry)'!$A$3:$A$504,0),2),\"\"))),\"\"))","v":""},{"$f":"IF(IFERROR(INDIRECT(CONCATENATE(\"'UNITCOST ITEMS (Data Entry)'!E\",IFERROR(SUM(MATCH(A436,'UNITCOST ITEMS (Data Entry)'!$A$3:$A$504,0),2),\"\"))),\"\")=0,\"\",IFERROR(INDIRECT(CONCATENATE(\"'UNITCOST ITEMS (Data Entry)'!E\",IFERROR(SUM(MATCH(A436,'UNITCOST ITEMS (Data Entry)'!$A$3:$A$504,0),2),\"\"))),\"\"))","v":""},null,{"$f":"IF(IFERROR(INDIRECT(CONCATENATE(\"'UNITCOST ITEMS (Data Entry)'!F\",IFERROR(SUM(MATCH(A436,'UNITCOST ITEMS (Data Entry)'!$A$3:$A$504,0),2),\"\"))),\"\")=0,\"\",IFERROR(INDIRECT(CONCATENATE(\"'UNITCOST ITEMS (Data Entry)'!F\",IFERROR(SUM(MATCH(A436,'UNITCOST ITEMS (Data Entry)'!$A$3:$A$504,0),2),\"\"))),\"\"))","v":""},{"$f":"IF(IFERROR(INDIRECT(CONCATENATE(\"'UNITCOST ITEMS (Data Entry)'!G\",IFERROR(SUM(MATCH(A436,'UNITCOST ITEMS (Data Entry)'!$A$3:$A$504,0),2),\"\"))),\"\")=0,\"\",IFERROR(INDIRECT(CONCATENATE(\"'UNITCOST ITEMS (Data Entry)'!G\",IFERROR(SUM(MATCH(A436,'UNITCOST ITEMS (Data Entry)'!$A$3:$A$504,0),2),\"\"))),\"\"))","v":""},{"$f":"IF(IFERROR(INDIRECT(CONCATENATE(\"'UNITCOST ITEMS (Data Entry)'!H\",IFERROR(SUM(MATCH(A436,'UNITCOST ITEMS (Data Entry)'!$A$3:$A$504,0),2),\"\"))),\"\")=0,\"\",IFERROR(INDIRECT(CONCATENATE(\"'UNITCOST ITEMS (Data Entry)'!H\",IFERROR(SUM(MATCH(A436,'UNITCOST ITEMS (Data Entry)'!$A$3:$A$504,0),2),\"\"))),\"\"))","v":""},{"$f":"IF(IFERROR(INDIRECT(CONCATENATE(\"'UNITCOST ITEMS (Data Entry)'!I\",IFERROR(SUM(MATCH(A436,'UNITCOST ITEMS (Data Entry)'!$A$3:$A$504,0),2),\"\"))),\"\")=0,\"\",IFERROR(INDIRECT(CONCATENATE(\"'UNITCOST ITEMS (Data Entry)'!I\",IFERROR(SUM(MATCH(A436,'UNITCOST ITEMS (Data Entry)'!$A$3:$A$504,0),2),\"\"))),\"\"))","v":""},{"$f":"IF(K436=2,\"\",IF(IFERROR(INDIRECT(CONCATENATE(\"'UNITCOST ITEMS (Data Entry)'!J\",IFERROR(SUM(MATCH(A436,'UNITCOST ITEMS (Data Entry)'!$A$3:$A$504,0),2),\"\"))),\"\")=0,\"\",IFERROR(INDIRECT(CONCATENATE(\"'UNITCOST ITEMS (Data Entry)'!J\",IFERROR(SUM(MATCH(A436,'UNITCOST ITEMS (Data Entry)'!$A$3:$A$504,0),2),\"\"))),\"\")))","v":""},null,{"$f":"IF(IFERROR(INDIRECT(CONCATENATE(\"'UNITCOST ITEMS (Data Entry)'!C\",IFERROR(SUM(MATCH(A436,'UNITCOST ITEMS (Data Entry)'!$A$3:$A$504,0),2),\"\"))),\"\")=0,\"\",IFERROR(INDIRECT(CONCATENATE(\"'UNITCOST ITEMS (Data Entry)'!C\",IFERROR(SUM(MATCH(A436,'UNITCOST ITEMS (Data Entry)'!$A$3:$A$504,0),2),\"\"))),\"\"))","v":""},""]
[429,{"$f":"IF(IFERROR(INDIRECT(CONCATENATE(\"'UNITCOST ITEMS (Data Entry)'!D\",IFERROR(SUM(MATCH(A437,'UNITCOST ITEMS (Data Entry)'!$A$3:$A$504,0),2),\"\"))),\"\")=0,\"\",IFERROR(INDIRECT(CONCATENATE(\"'UNITCOST ITEMS (Data Entry)'!D\",IFERROR(SUM(MATCH(A437,'UNITCOST ITEMS (Data Entry)'!$A$3:$A$504,0),2),\"\"))),\"\"))","v":""},{"$f":"IF(IFERROR(INDIRECT(CONCATENATE(\"'UNITCOST ITEMS (Data Entry)'!E\",IFERROR(SUM(MATCH(A437,'UNITCOST ITEMS (Data Entry)'!$A$3:$A$504,0),2),\"\"))),\"\")=0,\"\",IFERROR(INDIRECT(CONCATENATE(\"'UNITCOST ITEMS (Data Entry)'!E\",IFERROR(SUM(MATCH(A437,'UNITCOST ITEMS (Data Entry)'!$A$3:$A$504,0),2),\"\"))),\"\"))","v":""},null,{"$f":"IF(IFERROR(INDIRECT(CONCATENATE(\"'UNITCOST ITEMS (Data Entry)'!F\",IFERROR(SUM(MATCH(A437,'UNITCOST ITEMS (Data Entry)'!$A$3:$A$504,0),2),\"\"))),\"\")=0,\"\",IFERROR(INDIRECT(CONCATENATE(\"'UNITCOST ITEMS (Data Entry)'!F\",IFERROR(SUM(MATCH(A437,'UNITCOST ITEMS (Data Entry)'!$A$3:$A$504,0),2),\"\"))),\"\"))","v":""},{"$f":"IF(IFERROR(INDIRECT(CONCATENATE(\"'UNITCOST ITEMS (Data Entry)'!G\",IFERROR(SUM(MATCH(A437,'UNITCOST ITEMS (Data Entry)'!$A$3:$A$504,0),2),\"\"))),\"\")=0,\"\",IFERROR(INDIRECT(CONCATENATE(\"'UNITCOST ITEMS (Data Entry)'!G\",IFERROR(SUM(MATCH(A437,'UNITCOST ITEMS (Data Entry)'!$A$3:$A$504,0),2),\"\"))),\"\"))","v":""},{"$f":"IF(IFERROR(INDIRECT(CONCATENATE(\"'UNITCOST ITEMS (Data Entry)'!H\",IFERROR(SUM(MATCH(A437,'UNITCOST ITEMS (Data Entry)'!$A$3:$A$504,0),2),\"\"))),\"\")=0,\"\",IFERROR(INDIRECT(CONCATENATE(\"'UNITCOST ITEMS (Data Entry)'!H\",IFERROR(SUM(MATCH(A437,'UNITCOST ITEMS (Data Entry)'!$A$3:$A$504,0),2),\"\"))),\"\"))","v":""},{"$f":"IF(IFERROR(INDIRECT(CONCATENATE(\"'UNITCOST ITEMS (Data Entry)'!I\",IFERROR(SUM(MATCH(A437,'UNITCOST ITEMS (Data Entry)'!$A$3:$A$504,0),2),\"\"))),\"\")=0,\"\",IFERROR(INDIRECT(CONCATENATE(\"'UNITCOST ITEMS (Data Entry)'!I\",IFERROR(SUM(MATCH(A437,'UNITCOST ITEMS (Data Entry)'!$A$3:$A$504,0),2),\"\"))),\"\"))","v":""},{"$f":"IF(K437=2,\"\",IF(IFERROR(INDIRECT(CONCATENATE(\"'UNITCOST ITEMS (Data Entry)'!J\",IFERROR(SUM(MATCH(A437,'UNITCOST ITEMS (Data Entry)'!$A$3:$A$504,0),2),\"\"))),\"\")=0,\"\",IFERROR(INDIRECT(CONCATENATE(\"'UNITCOST ITEMS (Data Entry)'!J\",IFERROR(SUM(MATCH(A437,'UNITCOST ITEMS (Data Entry)'!$A$3:$A$504,0),2),\"\"))),\"\")))","v":""},null,{"$f":"IF(IFERROR(INDIRECT(CONCATENATE(\"'UNITCOST ITEMS (Data Entry)'!C\",IFERROR(SUM(MATCH(A437,'UNITCOST ITEMS (Data Entry)'!$A$3:$A$504,0),2),\"\"))),\"\")=0,\"\",IFERROR(INDIRECT(CONCATENATE(\"'UNITCOST ITEMS (Data Entry)'!C\",IFERROR(SUM(MATCH(A437,'UNITCOST ITEMS (Data Entry)'!$A$3:$A$504,0),2),\"\"))),\"\"))","v":""},""]
[430,{"$f":"IF(IFERROR(INDIRECT(CONCATENATE(\"'UNITCOST ITEMS (Data Entry)'!D\",IFERROR(SUM(MATCH(A438,'UNITCOST ITEMS (Data Entry)'!$A$3:$A$504,0),2),\"\"))),\"\")=0,\"\",IFERROR(INDIRECT(CONCATENATE(\"'UNITCOST ITEMS (Data Entry)'!D\",IFERROR(SUM(MATCH(A438,'UNITCOST ITEMS (Data Entry)'!$A$3:$A$504,0),2),\"\"))),\"\"))","v":""},{"$f":"IF(IFERROR(INDIRECT(CONCATENATE(\"'UNITCOST ITEMS (Data Entry)'!E\",IFERROR(SUM(MATCH(A438,'UNITCOST ITEMS (Data Entry)'!$A$3:$A$504,0),2),\"\"))),\"\")=0,\"\",IFERROR(INDIRECT(CONCATENATE(\"'UNITCOST ITEMS (Data Entry)'!E\",IFERROR(SUM(MATCH(A438,'UNITCOST ITEMS (Data Entry)'!$A$3:$A$504,0),2),\"\"))),\"\"))","v":""},null,{"$f":"IF(IFERROR(INDIRECT(CONCATENATE(\"'UNITCOST ITEMS (Data Entry)'!F\",IFERROR(SUM(MATCH(A438,'UNITCOST ITEMS (Data Entry)'!$A$3:$A$504,0),2),\"\"))),\"\")=0,\"\",IFERROR(INDIRECT(CONCATENATE(\"'UNITCOST ITEMS (Data Entry)'!F\",IFERROR(SUM(MATCH(A438,'UNITCOST ITEMS (Data Entry)'!$A$3:$A$504,0),2),\"\"))),\"\"))","v":""},{"$f":"IF(IFERROR(INDIRECT(CONCATENATE(\"'UNITCOST ITEMS (Data Entry)'!G\",IFERROR(SUM(MATCH(A438,'UNITCOST ITEMS (Data Entry)'!$A$3:$A$504,0),2),\"\"))),\"\")=0,\"\",IFERROR(INDIRECT(CONCATENATE(\"'UNITCOST ITEMS (Data Entry)'!G\",IFERROR(SUM(MATCH(A438,'UNITCOST ITEMS (Data Entry)'!$A$3:$A$504,0),2),\"\"))),\"\"))","v":""},{"$f":"IF(IFERROR(INDIRECT(CONCATENATE(\"'UNITCOST ITEMS (Data Entry)'!H\",IFERROR(SUM(MATCH(A438,'UNITCOST ITEMS (Data Entry)'!$A$3:$A$504,0),2),\"\"))),\"\")=0,\"\",IFERROR(INDIRECT(CONCATENATE(\"'UNITCOST ITEMS (Data Entry)'!H\",IFERROR(SUM(MATCH(A438,'UNITCOST ITEMS (Data Entry)'!$A$3:$A$504,0),2),\"\"))),\"\"))","v":""},{"$f":"IF(IFERROR(INDIRECT(CONCATENATE(\"'UNITCOST ITEMS (Data Entry)'!I\",IFERROR(SUM(MATCH(A438,'UNITCOST ITEMS (Data Entry)'!$A$3:$A$504,0),2),\"\"))),\"\")=0,\"\",IFERROR(INDIRECT(CONCATENATE(\"'UNITCOST ITEMS (Data Entry)'!I\",IFERROR(SUM(MATCH(A438,'UNITCOST ITEMS (Data Entry)'!$A$3:$A$504,0),2),\"\"))),\"\"))","v":""},{"$f":"IF(K438=2,\"\",IF(IFERROR(INDIRECT(CONCATENATE(\"'UNITCOST ITEMS (Data Entry)'!J\",IFERROR(SUM(MATCH(A438,'UNITCOST ITEMS (Data Entry)'!$A$3:$A$504,0),2),\"\"))),\"\")=0,\"\",IFERROR(INDIRECT(CONCATENATE(\"'UNITCOST ITEMS (Data Entry)'!J\",IFERROR(SUM(MATCH(A438,'UNITCOST ITEMS (Data Entry)'!$A$3:$A$504,0),2),\"\"))),\"\")))","v":""},null,{"$f":"IF(IFERROR(INDIRECT(CONCATENATE(\"'UNITCOST ITEMS (Data Entry)'!C\",IFERROR(SUM(MATCH(A438,'UNITCOST ITEMS (Data Entry)'!$A$3:$A$504,0),2),\"\"))),\"\")=0,\"\",IFERROR(INDIRECT(CONCATENATE(\"'UNITCOST ITEMS (Data Entry)'!C\",IFERROR(SUM(MATCH(A438,'UNITCOST ITEMS (Data Entry)'!$A$3:$A$504,0),2),\"\"))),\"\"))","v":""},""]
[431,{"$f":"IF(IFERROR(INDIRECT(CONCATENATE(\"'UNITCOST ITEMS (Data Entry)'!D\",IFERROR(SUM(MATCH(A439,'UNITCOST ITEMS (Data Entry)'!$A$3:$A$504,0),2),\"\"))),\"\")=0,\"\",IFERROR(INDIRECT(CONCATENATE(\"'UNITCOST ITEMS (Data Entry)'!D\",IFERROR(SUM(MATCH(A439,'UNITCOST ITEMS (Data Entry)'!$A$3:$A$504,0),2),\"\"))),\"\"))","v":""},{"$f":"IF(IFERROR(INDIRECT(CONCATENATE(\"'UNITCOST ITEMS (Data Entry)'!E\",IFERROR(SUM(MATCH(A439,'UNITCOST ITEMS (Data Entry)'!$A$3:$A$504,0),2),\"\"))),\"\")=0,\"\",IFERROR(INDIRECT(CONCATENATE(\"'UNITCOST ITEMS (Data Entry)'!E\",IFERROR(SUM(MATCH(A439,'UNITCOST ITEMS (Data Entry)'!$A$3:$A$504,0),2),\"\"))),\"\"))","v":""},null,{"$f":"IF(IFERROR(INDIRECT(CONCATENATE(\"'UNITCOST ITEMS (Data Entry)'!F\",IFERROR(SUM(MATCH(A439,'UNITCOST ITEMS (Data Entry)'!$A$3:$A$504,0),2),\"\"))),\"\")=0,\"\",IFERROR(INDIRECT(CONCATENATE(\"'UNITCOST ITEMS (Data Entry)'!F\",IFERROR(SUM(MATCH(A439,'UNITCOST ITEMS (Data Entry)'!$A$3:$A$504,0),2),\"\"))),\"\"))","v":""},{"$f":"IF(IFERROR(INDIRECT(CONCATENATE(\"'UNITCOST ITEMS (Data Entry)'!G\",IFERROR(SUM(MATCH(A439,'UNITCOST ITEMS (Data Entry)'!$A$3:$A$504,0),2),\"\"))),\"\")=0,\"\",IFERROR(INDIRECT(CONCATENATE(\"'UNITCOST ITEMS (Data Entry)'!G\",IFERROR(SUM(MATCH(A439,'UNITCOST ITEMS (Data Entry)'!$A$3:$A$504,0),2),\"\"))),\"\"))","v":""},{"$f":"IF(IFERROR(INDIRECT(CONCATENATE(\"'UNITCOST ITEMS (Data Entry)'!H\",IFERROR(SUM(MATCH(A439,'UNITCOST ITEMS (Data Entry)'!$A$3:$A$504,0),2),\"\"))),\"\")=0,\"\",IFERROR(INDIRECT(CONCATENATE(\"'UNITCOST ITEMS (Data Entry)'!H\",IFERROR(SUM(MATCH(A439,'UNITCOST ITEMS (Data Entry)'!$A$3:$A$504,0),2),\"\"))),\"\"))","v":""},{"$f":"IF(IFERROR(INDIRECT(CONCATENATE(\"'UNITCOST ITEMS (Data Entry)'!I\",IFERROR(SUM(MATCH(A439,'UNITCOST ITEMS (Data Entry)'!$A$3:$A$504,0),2),\"\"))),\"\")=0,\"\",IFERROR(INDIRECT(CONCATENATE(\"'UNITCOST ITEMS (Data Entry)'!I\",IFERROR(SUM(MATCH(A439,'UNITCOST ITEMS (Data Entry)'!$A$3:$A$504,0),2),\"\"))),\"\"))","v":""},{"$f":"IF(K439=2,\"\",IF(IFERROR(INDIRECT(CONCATENATE(\"'UNITCOST ITEMS (Data Entry)'!J\",IFERROR(SUM(MATCH(A439,'UNITCOST ITEMS (Data Entry)'!$A$3:$A$504,0),2),\"\"))),\"\")=0,\"\",IFERROR(INDIRECT(CONCATENATE(\"'UNITCOST ITEMS (Data Entry)'!J\",IFERROR(SUM(MATCH(A439,'UNITCOST ITEMS (Data Entry)'!$A$3:$A$504,0),2),\"\"))),\"\")))","v":""},null,{"$f":"IF(IFERROR(INDIRECT(CONCATENATE(\"'UNITCOST ITEMS (Data Entry)'!C\",IFERROR(SUM(MATCH(A439,'UNITCOST ITEMS (Data Entry)'!$A$3:$A$504,0),2),\"\"))),\"\")=0,\"\",IFERROR(INDIRECT(CONCATENATE(\"'UNITCOST ITEMS (Data Entry)'!C\",IFERROR(SUM(MATCH(A439,'UNITCOST ITEMS (Data Entry)'!$A$3:$A$504,0),2),\"\"))),\"\"))","v":""},""]
[432,{"$f":"IF(IFERROR(INDIRECT(CONCATENATE(\"'UNITCOST ITEMS (Data Entry)'!D\",IFERROR(SUM(MATCH(A440,'UNITCOST ITEMS (Data Entry)'!$A$3:$A$504,0),2),\"\"))),\"\")=0,\"\",IFERROR(INDIRECT(CONCATENATE(\"'UNITCOST ITEMS (Data Entry)'!D\",IFERROR(SUM(MATCH(A440,'UNITCOST ITEMS (Data Entry)'!$A$3:$A$504,0),2),\"\"))),\"\"))","v":""},{"$f":"IF(IFERROR(INDIRECT(CONCATENATE(\"'UNITCOST ITEMS (Data Entry)'!E\",IFERROR(SUM(MATCH(A440,'UNITCOST ITEMS (Data Entry)'!$A$3:$A$504,0),2),\"\"))),\"\")=0,\"\",IFERROR(INDIRECT(CONCATENATE(\"'UNITCOST ITEMS (Data Entry)'!E\",IFERROR(SUM(MATCH(A440,'UNITCOST ITEMS (Data Entry)'!$A$3:$A$504,0),2),\"\"))),\"\"))","v":""},null,{"$f":"IF(IFERROR(INDIRECT(CONCATENATE(\"'UNITCOST ITEMS (Data Entry)'!F\",IFERROR(SUM(MATCH(A440,'UNITCOST ITEMS (Data Entry)'!$A$3:$A$504,0),2),\"\"))),\"\")=0,\"\",IFERROR(INDIRECT(CONCATENATE(\"'UNITCOST ITEMS (Data Entry)'!F\",IFERROR(SUM(MATCH(A440,'UNITCOST ITEMS (Data Entry)'!$A$3:$A$504,0),2),\"\"))),\"\"))","v":""},{"$f":"IF(IFERROR(INDIRECT(CONCATENATE(\"'UNITCOST ITEMS (Data Entry)'!G\",IFERROR(SUM(MATCH(A440,'UNITCOST ITEMS (Data Entry)'!$A$3:$A$504,0),2),\"\"))),\"\")=0,\"\",IFERROR(INDIRECT(CONCATENATE(\"'UNITCOST ITEMS (Data Entry)'!G\",IFERROR(SUM(MATCH(A440,'UNITCOST ITEMS (Data Entry)'!$A$3:$A$504,0),2),\"\"))),\"\"))","v":""},{"$f":"IF(IFERROR(INDIRECT(CONCATENATE(\"'UNITCOST ITEMS (Data Entry)'!H\",IFERROR(SUM(MATCH(A440,'UNITCOST ITEMS (Data Entry)'!$A$3:$A$504,0),2),\"\"))),\"\")=0,\"\",IFERROR(INDIRECT(CONCATENATE(\"'UNITCOST ITEMS (Data Entry)'!H\",IFERROR(SUM(MATCH(A440,'UNITCOST ITEMS (Data Entry)'!$A$3:$A$504,0),2),\"\"))),\"\"))","v":""},{"$f":"IF(IFERROR(INDIRECT(CONCATENATE(\"'UNITCOST ITEMS (Data Entry)'!I\",IFERROR(SUM(MATCH(A440,'UNITCOST ITEMS (Data Entry)'!$A$3:$A$504,0),2),\"\"))),\"\")=0,\"\",IFERROR(INDIRECT(CONCATENATE(\"'UNITCOST ITEMS (Data Entry)'!I\",IFERROR(SUM(MATCH(A440,'UNITCOST ITEMS (Data Entry)'!$A$3:$A$504,0),2),\"\"))),\"\"))","v":""},{"$f":"IF(K440=2,\"\",IF(IFERROR(INDIRECT(CONCATENATE(\"'UNITCOST ITEMS (Data Entry)'!J\",IFERROR(SUM(MATCH(A440,'UNITCOST ITEMS (Data Entry)'!$A$3:$A$504,0),2),\"\"))),\"\")=0,\"\",IFERROR(INDIRECT(CONCATENATE(\"'UNITCOST ITEMS (Data Entry)'!J\",IFERROR(SUM(MATCH(A440,'UNITCOST ITEMS (Data Entry)'!$A$3:$A$504,0),2),\"\"))),\"\")))","v":""},null,{"$f":"IF(IFERROR(INDIRECT(CONCATENATE(\"'UNITCOST ITEMS (Data Entry)'!C\",IFERROR(SUM(MATCH(A440,'UNITCOST ITEMS (Data Entry)'!$A$3:$A$504,0),2),\"\"))),\"\")=0,\"\",IFERROR(INDIRECT(CONCATENATE(\"'UNITCOST ITEMS (Data Entry)'!C\",IFERROR(SUM(MATCH(A440,'UNITCOST ITEMS (Data Entry)'!$A$3:$A$504,0),2),\"\"))),\"\"))","v":""},""]
[433,{"$f":"IF(IFERROR(INDIRECT(CONCATENATE(\"'UNITCOST ITEMS (Data Entry)'!D\",IFERROR(SUM(MATCH(A441,'UNITCOST ITEMS (Data Entry)'!$A$3:$A$504,0),2),\"\"))),\"\")=0,\"\",IFERROR(INDIRECT(CONCATENATE(\"'UNITCOST ITEMS (Data Entry)'!D\",IFERROR(SUM(MATCH(A441,'UNITCOST ITEMS (Data Entry)'!$A$3:$A$504,0),2),\"\"))),\"\"))","v":""},{"$f":"IF(IFERROR(INDIRECT(CONCATENATE(\"'UNITCOST ITEMS (Data Entry)'!E\",IFERROR(SUM(MATCH(A441,'UNITCOST ITEMS (Data Entry)'!$A$3:$A$504,0),2),\"\"))),\"\")=0,\"\",IFERROR(INDIRECT(CONCATENATE(\"'UNITCOST ITEMS (Data Entry)'!E\",IFERROR(SUM(MATCH(A441,'UNITCOST ITEMS (Data Entry)'!$A$3:$A$504,0),2),\"\"))),\"\"))","v":""},null,{"$f":"IF(IFERROR(INDIRECT(CONCATENATE(\"'UNITCOST ITEMS (Data Entry)'!F\",IFERROR(SUM(MATCH(A441,'UNITCOST ITEMS (Data Entry)'!$A$3:$A$504,0),2),\"\"))),\"\")=0,\"\",IFERROR(INDIRECT(CONCATENATE(\"'UNITCOST ITEMS (Data Entry)'!F\",IFERROR(SUM(MATCH(A441,'UNITCOST ITEMS (Data Entry)'!$A$3:$A$504,0),2),\"\"))),\"\"))","v":""},{"$f":"IF(IFERROR(INDIRECT(CONCATENATE(\"'UNITCOST ITEMS (Data Entry)'!G\",IFERROR(SUM(MATCH(A441,'UNITCOST ITEMS (Data Entry)'!$A$3:$A$504,0),2),\"\"))),\"\")=0,\"\",IFERROR(INDIRECT(CONCATENATE(\"'UNITCOST ITEMS (Data Entry)'!G\",IFERROR(SUM(MATCH(A441,'UNITCOST ITEMS (Data Entry)'!$A$3:$A$504,0),2),\"\"))),\"\"))","v":""},{"$f":"IF(IFERROR(INDIRECT(CONCATENATE(\"'UNITCOST ITEMS (Data Entry)'!H\",IFERROR(SUM(MATCH(A441,'UNITCOST ITEMS (Data Entry)'!$A$3:$A$504,0),2),\"\"))),\"\")=0,\"\",IFERROR(INDIRECT(CONCATENATE(\"'UNITCOST ITEMS (Data Entry)'!H\",IFERROR(SUM(MATCH(A441,'UNITCOST ITEMS (Data Entry)'!$A$3:$A$504,0),2),\"\"))),\"\"))","v":""},{"$f":"IF(IFERROR(INDIRECT(CONCATENATE(\"'UNITCOST ITEMS (Data Entry)'!I\",IFERROR(SUM(MATCH(A441,'UNITCOST ITEMS (Data Entry)'!$A$3:$A$504,0),2),\"\"))),\"\")=0,\"\",IFERROR(INDIRECT(CONCATENATE(\"'UNITCOST ITEMS (Data Entry)'!I\",IFERROR(SUM(MATCH(A441,'UNITCOST ITEMS (Data Entry)'!$A$3:$A$504,0),2),\"\"))),\"\"))","v":""},{"$f":"IF(K441=2,\"\",IF(IFERROR(INDIRECT(CONCATENATE(\"'UNITCOST ITEMS (Data Entry)'!J\",IFERROR(SUM(MATCH(A441,'UNITCOST ITEMS (Data Entry)'!$A$3:$A$504,0),2),\"\"))),\"\")=0,\"\",IFERROR(INDIRECT(CONCATENATE(\"'UNITCOST ITEMS (Data Entry)'!J\",IFERROR(SUM(MATCH(A441,'UNITCOST ITEMS (Data Entry)'!$A$3:$A$504,0),2),\"\"))),\"\")))","v":""},null,{"$f":"IF(IFERROR(INDIRECT(CONCATENATE(\"'UNITCOST ITEMS (Data Entry)'!C\",IFERROR(SUM(MATCH(A441,'UNITCOST ITEMS (Data Entry)'!$A$3:$A$504,0),2),\"\"))),\"\")=0,\"\",IFERROR(INDIRECT(CONCATENATE(\"'UNITCOST ITEMS (Data Entry)'!C\",IFERROR(SUM(MATCH(A441,'UNITCOST ITEMS (Data Entry)'!$A$3:$A$504,0),2),\"\"))),\"\"))","v":""},""]
[434,{"$f":"IF(IFERROR(INDIRECT(CONCATENATE(\"'UNITCOST ITEMS (Data Entry)'!D\",IFERROR(SUM(MATCH(A442,'UNITCOST ITEMS (Data Entry)'!$A$3:$A$504,0),2),\"\"))),\"\")=0,\"\",IFERROR(INDIRECT(CONCATENATE(\"'UNITCOST ITEMS (Data Entry)'!D\",IFERROR(SUM(MATCH(A442,'UNITCOST ITEMS (Data Entry)'!$A$3:$A$504,0),2),\"\"))),\"\"))","v":""},{"$f":"IF(IFERROR(INDIRECT(CONCATENATE(\"'UNITCOST ITEMS (Data Entry)'!E\",IFERROR(SUM(MATCH(A442,'UNITCOST ITEMS (Data Entry)'!$A$3:$A$504,0),2),\"\"))),\"\")=0,\"\",IFERROR(INDIRECT(CONCATENATE(\"'UNITCOST ITEMS (Data Entry)'!E\",IFERROR(SUM(MATCH(A442,'UNITCOST ITEMS (Data Entry)'!$A$3:$A$504,0),2),\"\"))),\"\"))","v":""},null,{"$f":"IF(IFERROR(INDIRECT(CONCATENATE(\"'UNITCOST ITEMS (Data Entry)'!F\",IFERROR(SUM(MATCH(A442,'UNITCOST ITEMS (Data Entry)'!$A$3:$A$504,0),2),\"\"))),\"\")=0,\"\",IFERROR(INDIRECT(CONCATENATE(\"'UNITCOST ITEMS (Data Entry)'!F\",IFERROR(SUM(MATCH(A442,'UNITCOST ITEMS (Data Entry)'!$A$3:$A$504,0),2),\"\"))),\"\"))","v":""},{"$f":"IF(IFERROR(INDIRECT(CONCATENATE(\"'UNITCOST ITEMS (Data Entry)'!G\",IFERROR(SUM(MATCH(A442,'UNITCOST ITEMS (Data Entry)'!$A$3:$A$504,0),2),\"\"))),\"\")=0,\"\",IFERROR(INDIRECT(CONCATENATE(\"'UNITCOST ITEMS (Data Entry)'!G\",IFERROR(SUM(MATCH(A442,'UNITCOST ITEMS (Data Entry)'!$A$3:$A$504,0),2),\"\"))),\"\"))","v":""},{"$f":"IF(IFERROR(INDIRECT(CONCATENATE(\"'UNITCOST ITEMS (Data Entry)'!H\",IFERROR(SUM(MATCH(A442,'UNITCOST ITEMS (Data Entry)'!$A$3:$A$504,0),2),\"\"))),\"\")=0,\"\",IFERROR(INDIRECT(CONCATENATE(\"'UNITCOST ITEMS (Data Entry)'!H\",IFERROR(SUM(MATCH(A442,'UNITCOST ITEMS (Data Entry)'!$A$3:$A$504,0),2),\"\"))),\"\"))","v":""},{"$f":"IF(IFERROR(INDIRECT(CONCATENATE(\"'UNITCOST ITEMS (Data Entry)'!I\",IFERROR(SUM(MATCH(A442,'UNITCOST ITEMS (Data Entry)'!$A$3:$A$504,0),2),\"\"))),\"\")=0,\"\",IFERROR(INDIRECT(CONCATENATE(\"'UNITCOST ITEMS (Data Entry)'!I\",IFERROR(SUM(MATCH(A442,'UNITCOST ITEMS (Data Entry)'!$A$3:$A$504,0),2),\"\"))),\"\"))","v":""},{"$f":"IF(K442=2,\"\",IF(IFERROR(INDIRECT(CONCATENATE(\"'UNITCOST ITEMS (Data Entry)'!J\",IFERROR(SUM(MATCH(A442,'UNITCOST ITEMS (Data Entry)'!$A$3:$A$504,0),2),\"\"))),\"\")=0,\"\",IFERROR(INDIRECT(CONCATENATE(\"'UNITCOST ITEMS (Data Entry)'!J\",IFERROR(SUM(MATCH(A442,'UNITCOST ITEMS (Data Entry)'!$A$3:$A$504,0),2),\"\"))),\"\")))","v":""},null,{"$f":"IF(IFERROR(INDIRECT(CONCATENATE(\"'UNITCOST ITEMS (Data Entry)'!C\",IFERROR(SUM(MATCH(A442,'UNITCOST ITEMS (Data Entry)'!$A$3:$A$504,0),2),\"\"))),\"\")=0,\"\",IFERROR(INDIRECT(CONCATENATE(\"'UNITCOST ITEMS (Data Entry)'!C\",IFERROR(SUM(MATCH(A442,'UNITCOST ITEMS (Data Entry)'!$A$3:$A$504,0),2),\"\"))),\"\"))","v":""},""]
[435,{"$f":"IF(IFERROR(INDIRECT(CONCATENATE(\"'UNITCOST ITEMS (Data Entry)'!D\",IFERROR(SUM(MATCH(A443,'UNITCOST ITEMS (Data Entry)'!$A$3:$A$504,0),2),\"\"))),\"\")=0,\"\",IFERROR(INDIRECT(CONCATENATE(\"'UNITCOST ITEMS (Data Entry)'!D\",IFERROR(SUM(MATCH(A443,'UNITCOST ITEMS (Data Entry)'!$A$3:$A$504,0),2),\"\"))),\"\"))","v":""},{"$f":"IF(IFERROR(INDIRECT(CONCATENATE(\"'UNITCOST ITEMS (Data Entry)'!E\",IFERROR(SUM(MATCH(A443,'UNITCOST ITEMS (Data Entry)'!$A$3:$A$504,0),2),\"\"))),\"\")=0,\"\",IFERROR(INDIRECT(CONCATENATE(\"'UNITCOST ITEMS (Data Entry)'!E\",IFERROR(SUM(MATCH(A443,'UNITCOST ITEMS (Data Entry)'!$A$3:$A$504,0),2),\"\"))),\"\"))","v":""},null,{"$f":"IF(IFERROR(INDIRECT(CONCATENATE(\"'UNITCOST ITEMS (Data Entry)'!F\",IFERROR(SUM(MATCH(A443,'UNITCOST ITEMS (Data Entry)'!$A$3:$A$504,0),2),\"\"))),\"\")=0,\"\",IFERROR(INDIRECT(CONCATENATE(\"'UNITCOST ITEMS (Data Entry)'!F\",IFERROR(SUM(MATCH(A443,'UNITCOST ITEMS (Data Entry)'!$A$3:$A$504,0),2),\"\"))),\"\"))","v":""},{"$f":"IF(IFERROR(INDIRECT(CONCATENATE(\"'UNITCOST ITEMS (Data Entry)'!G\",IFERROR(SUM(MATCH(A443,'UNITCOST ITEMS (Data Entry)'!$A$3:$A$504,0),2),\"\"))),\"\")=0,\"\",IFERROR(INDIRECT(CONCATENATE(\"'UNITCOST ITEMS (Data Entry)'!G\",IFERROR(SUM(MATCH(A443,'UNITCOST ITEMS (Data Entry)'!$A$3:$A$504,0),2),\"\"))),\"\"))","v":""},{"$f":"IF(IFERROR(INDIRECT(CONCATENATE(\"'UNITCOST ITEMS (Data Entry)'!H\",IFERROR(SUM(MATCH(A443,'UNITCOST ITEMS (Data Entry)'!$A$3:$A$504,0),2),\"\"))),\"\")=0,\"\",IFERROR(INDIRECT(CONCATENATE(\"'UNITCOST ITEMS (Data Entry)'!H\",IFERROR(SUM(MATCH(A443,'UNITCOST ITEMS (Data Entry)'!$A$3:$A$504,0),2),\"\"))),\"\"))","v":""},{"$f":"IF(IFERROR(INDIRECT(CONCATENATE(\"'UNITCOST ITEMS (Data Entry)'!I\",IFERROR(SUM(MATCH(A443,'UNITCOST ITEMS (Data Entry)'!$A$3:$A$504,0),2),\"\"))),\"\")=0,\"\",IFERROR(INDIRECT(CONCATENATE(\"'UNITCOST ITEMS (Data Entry)'!I\",IFERROR(SUM(MATCH(A443,'UNITCOST ITEMS (Data Entry)'!$A$3:$A$504,0),2),\"\"))),\"\"))","v":""},{"$f":"IF(K443=2,\"\",IF(IFERROR(INDIRECT(CONCATENATE(\"'UNITCOST ITEMS (Data Entry)'!J\",IFERROR(SUM(MATCH(A443,'UNITCOST ITEMS (Data Entry)'!$A$3:$A$504,0),2),\"\"))),\"\")=0,\"\",IFERROR(INDIRECT(CONCATENATE(\"'UNITCOST ITEMS (Data Entry)'!J\",IFERROR(SUM(MATCH(A443,'UNITCOST ITEMS (Data Entry)'!$A$3:$A$504,0),2),\"\"))),\"\")))","v":""},null,{"$f":"IF(IFERROR(INDIRECT(CONCATENATE(\"'UNITCOST ITEMS (Data Entry)'!C\",IFERROR(SUM(MATCH(A443,'UNITCOST ITEMS (Data Entry)'!$A$3:$A$504,0),2),\"\"))),\"\")=0,\"\",IFERROR(INDIRECT(CONCATENATE(\"'UNITCOST ITEMS (Data Entry)'!C\",IFERROR(SUM(MATCH(A443,'UNITCOST ITEMS (Data Entry)'!$A$3:$A$504,0),2),\"\"))),\"\"))","v":""},""]
[436,{"$f":"IF(IFERROR(INDIRECT(CONCATENATE(\"'UNITCOST ITEMS (Data Entry)'!D\",IFERROR(SUM(MATCH(A444,'UNITCOST ITEMS (Data Entry)'!$A$3:$A$504,0),2),\"\"))),\"\")=0,\"\",IFERROR(INDIRECT(CONCATENATE(\"'UNITCOST ITEMS (Data Entry)'!D\",IFERROR(SUM(MATCH(A444,'UNITCOST ITEMS (Data Entry)'!$A$3:$A$504,0),2),\"\"))),\"\"))","v":""},{"$f":"IF(IFERROR(INDIRECT(CONCATENATE(\"'UNITCOST ITEMS (Data Entry)'!E\",IFERROR(SUM(MATCH(A444,'UNITCOST ITEMS (Data Entry)'!$A$3:$A$504,0),2),\"\"))),\"\")=0,\"\",IFERROR(INDIRECT(CONCATENATE(\"'UNITCOST ITEMS (Data Entry)'!E\",IFERROR(SUM(MATCH(A444,'UNITCOST ITEMS (Data Entry)'!$A$3:$A$504,0),2),\"\"))),\"\"))","v":""},null,{"$f":"IF(IFERROR(INDIRECT(CONCATENATE(\"'UNITCOST ITEMS (Data Entry)'!F\",IFERROR(SUM(MATCH(A444,'UNITCOST ITEMS (Data Entry)'!$A$3:$A$504,0),2),\"\"))),\"\")=0,\"\",IFERROR(INDIRECT(CONCATENATE(\"'UNITCOST ITEMS (Data Entry)'!F\",IFERROR(SUM(MATCH(A444,'UNITCOST ITEMS (Data Entry)'!$A$3:$A$504,0),2),\"\"))),\"\"))","v":""},{"$f":"IF(IFERROR(INDIRECT(CONCATENATE(\"'UNITCOST ITEMS (Data Entry)'!G\",IFERROR(SUM(MATCH(A444,'UNITCOST ITEMS (Data Entry)'!$A$3:$A$504,0),2),\"\"))),\"\")=0,\"\",IFERROR(INDIRECT(CONCATENATE(\"'UNITCOST ITEMS (Data Entry)'!G\",IFERROR(SUM(MATCH(A444,'UNITCOST ITEMS (Data Entry)'!$A$3:$A$504,0),2),\"\"))),\"\"))","v":""},{"$f":"IF(IFERROR(INDIRECT(CONCATENATE(\"'UNITCOST ITEMS (Data Entry)'!H\",IFERROR(SUM(MATCH(A444,'UNITCOST ITEMS (Data Entry)'!$A$3:$A$504,0),2),\"\"))),\"\")=0,\"\",IFERROR(INDIRECT(CONCATENATE(\"'UNITCOST ITEMS (Data Entry)'!H\",IFERROR(SUM(MATCH(A444,'UNITCOST ITEMS (Data Entry)'!$A$3:$A$504,0),2),\"\"))),\"\"))","v":""},{"$f":"IF(IFERROR(INDIRECT(CONCATENATE(\"'UNITCOST ITEMS (Data Entry)'!I\",IFERROR(SUM(MATCH(A444,'UNITCOST ITEMS (Data Entry)'!$A$3:$A$504,0),2),\"\"))),\"\")=0,\"\",IFERROR(INDIRECT(CONCATENATE(\"'UNITCOST ITEMS (Data Entry)'!I\",IFERROR(SUM(MATCH(A444,'UNITCOST ITEMS (Data Entry)'!$A$3:$A$504,0),2),\"\"))),\"\"))","v":""},{"$f":"IF(K444=2,\"\",IF(IFERROR(INDIRECT(CONCATENATE(\"'UNITCOST ITEMS (Data Entry)'!J\",IFERROR(SUM(MATCH(A444,'UNITCOST ITEMS (Data Entry)'!$A$3:$A$504,0),2),\"\"))),\"\")=0,\"\",IFERROR(INDIRECT(CONCATENATE(\"'UNITCOST ITEMS (Data Entry)'!J\",IFERROR(SUM(MATCH(A444,'UNITCOST ITEMS (Data Entry)'!$A$3:$A$504,0),2),\"\"))),\"\")))","v":""},null,{"$f":"IF(IFERROR(INDIRECT(CONCATENATE(\"'UNITCOST ITEMS (Data Entry)'!C\",IFERROR(SUM(MATCH(A444,'UNITCOST ITEMS (Data Entry)'!$A$3:$A$504,0),2),\"\"))),\"\")=0,\"\",IFERROR(INDIRECT(CONCATENATE(\"'UNITCOST ITEMS (Data Entry)'!C\",IFERROR(SUM(MATCH(A444,'UNITCOST ITEMS (Data Entry)'!$A$3:$A$504,0),2),\"\"))),\"\"))","v":""},""]
[437,{"$f":"IF(IFERROR(INDIRECT(CONCATENATE(\"'UNITCOST ITEMS (Data Entry)'!D\",IFERROR(SUM(MATCH(A445,'UNITCOST ITEMS (Data Entry)'!$A$3:$A$504,0),2),\"\"))),\"\")=0,\"\",IFERROR(INDIRECT(CONCATENATE(\"'UNITCOST ITEMS (Data Entry)'!D\",IFERROR(SUM(MATCH(A445,'UNITCOST ITEMS (Data Entry)'!$A$3:$A$504,0),2),\"\"))),\"\"))","v":""},{"$f":"IF(IFERROR(INDIRECT(CONCATENATE(\"'UNITCOST ITEMS (Data Entry)'!E\",IFERROR(SUM(MATCH(A445,'UNITCOST ITEMS (Data Entry)'!$A$3:$A$504,0),2),\"\"))),\"\")=0,\"\",IFERROR(INDIRECT(CONCATENATE(\"'UNITCOST ITEMS (Data Entry)'!E\",IFERROR(SUM(MATCH(A445,'UNITCOST ITEMS (Data Entry)'!$A$3:$A$504,0),2),\"\"))),\"\"))","v":""},null,{"$f":"IF(IFERROR(INDIRECT(CONCATENATE(\"'UNITCOST ITEMS (Data Entry)'!F\",IFERROR(SUM(MATCH(A445,'UNITCOST ITEMS (Data Entry)'!$A$3:$A$504,0),2),\"\"))),\"\")=0,\"\",IFERROR(INDIRECT(CONCATENATE(\"'UNITCOST ITEMS (Data Entry)'!F\",IFERROR(SUM(MATCH(A445,'UNITCOST ITEMS (Data Entry)'!$A$3:$A$504,0),2),\"\"))),\"\"))","v":""},{"$f":"IF(IFERROR(INDIRECT(CONCATENATE(\"'UNITCOST ITEMS (Data Entry)'!G\",IFERROR(SUM(MATCH(A445,'UNITCOST ITEMS (Data Entry)'!$A$3:$A$504,0),2),\"\"))),\"\")=0,\"\",IFERROR(INDIRECT(CONCATENATE(\"'UNITCOST ITEMS (Data Entry)'!G\",IFERROR(SUM(MATCH(A445,'UNITCOST ITEMS (Data Entry)'!$A$3:$A$504,0),2),\"\"))),\"\"))","v":""},{"$f":"IF(IFERROR(INDIRECT(CONCATENATE(\"'UNITCOST ITEMS (Data Entry)'!H\",IFERROR(SUM(MATCH(A445,'UNITCOST ITEMS (Data Entry)'!$A$3:$A$504,0),2),\"\"))),\"\")=0,\"\",IFERROR(INDIRECT(CONCATENATE(\"'UNITCOST ITEMS (Data Entry)'!H\",IFERROR(SUM(MATCH(A445,'UNITCOST ITEMS (Data Entry)'!$A$3:$A$504,0),2),\"\"))),\"\"))","v":""},{"$f":"IF(IFERROR(INDIRECT(CONCATENATE(\"'UNITCOST ITEMS (Data Entry)'!I\",IFERROR(SUM(MATCH(A445,'UNITCOST ITEMS (Data Entry)'!$A$3:$A$504,0),2),\"\"))),\"\")=0,\"\",IFERROR(INDIRECT(CONCATENATE(\"'UNITCOST ITEMS (Data Entry)'!I\",IFERROR(SUM(MATCH(A445,'UNITCOST ITEMS (Data Entry)'!$A$3:$A$504,0),2),\"\"))),\"\"))","v":""},{"$f":"IF(K445=2,\"\",IF(IFERROR(INDIRECT(CONCATENATE(\"'UNITCOST ITEMS (Data Entry)'!J\",IFERROR(SUM(MATCH(A445,'UNITCOST ITEMS (Data Entry)'!$A$3:$A$504,0),2),\"\"))),\"\")=0,\"\",IFERROR(INDIRECT(CONCATENATE(\"'UNITCOST ITEMS (Data Entry)'!J\",IFERROR(SUM(MATCH(A445,'UNITCOST ITEMS (Data Entry)'!$A$3:$A$504,0),2),\"\"))),\"\")))","v":""},null,{"$f":"IF(IFERROR(INDIRECT(CONCATENATE(\"'UNITCOST ITEMS (Data Entry)'!C\",IFERROR(SUM(MATCH(A445,'UNITCOST ITEMS (Data Entry)'!$A$3:$A$504,0),2),\"\"))),\"\")=0,\"\",IFERROR(INDIRECT(CONCATENATE(\"'UNITCOST ITEMS (Data Entry)'!C\",IFERROR(SUM(MATCH(A445,'UNITCOST ITEMS (Data Entry)'!$A$3:$A$504,0),2),\"\"))),\"\"))","v":""},""]
[438,{"$f":"IF(IFERROR(INDIRECT(CONCATENATE(\"'UNITCOST ITEMS (Data Entry)'!D\",IFERROR(SUM(MATCH(A446,'UNITCOST ITEMS (Data Entry)'!$A$3:$A$504,0),2),\"\"))),\"\")=0,\"\",IFERROR(INDIRECT(CONCATENATE(\"'UNITCOST ITEMS (Data Entry)'!D\",IFERROR(SUM(MATCH(A446,'UNITCOST ITEMS (Data Entry)'!$A$3:$A$504,0),2),\"\"))),\"\"))","v":""},{"$f":"IF(IFERROR(INDIRECT(CONCATENATE(\"'UNITCOST ITEMS (Data Entry)'!E\",IFERROR(SUM(MATCH(A446,'UNITCOST ITEMS (Data Entry)'!$A$3:$A$504,0),2),\"\"))),\"\")=0,\"\",IFERROR(INDIRECT(CONCATENATE(\"'UNITCOST ITEMS (Data Entry)'!E\",IFERROR(SUM(MATCH(A446,'UNITCOST ITEMS (Data Entry)'!$A$3:$A$504,0),2),\"\"))),\"\"))","v":""},null,{"$f":"IF(IFERROR(INDIRECT(CONCATENATE(\"'UNITCOST ITEMS (Data Entry)'!F\",IFERROR(SUM(MATCH(A446,'UNITCOST ITEMS (Data Entry)'!$A$3:$A$504,0),2),\"\"))),\"\")=0,\"\",IFERROR(INDIRECT(CONCATENATE(\"'UNITCOST ITEMS (Data Entry)'!F\",IFERROR(SUM(MATCH(A446,'UNITCOST ITEMS (Data Entry)'!$A$3:$A$504,0),2),\"\"))),\"\"))","v":""},{"$f":"IF(IFERROR(INDIRECT(CONCATENATE(\"'UNITCOST ITEMS (Data Entry)'!G\",IFERROR(SUM(MATCH(A446,'UNITCOST ITEMS (Data Entry)'!$A$3:$A$504,0),2),\"\"))),\"\")=0,\"\",IFERROR(INDIRECT(CONCATENATE(\"'UNITCOST ITEMS (Data Entry)'!G\",IFERROR(SUM(MATCH(A446,'UNITCOST ITEMS (Data Entry)'!$A$3:$A$504,0),2),\"\"))),\"\"))","v":""},{"$f":"IF(IFERROR(INDIRECT(CONCATENATE(\"'UNITCOST ITEMS (Data Entry)'!H\",IFERROR(SUM(MATCH(A446,'UNITCOST ITEMS (Data Entry)'!$A$3:$A$504,0),2),\"\"))),\"\")=0,\"\",IFERROR(INDIRECT(CONCATENATE(\"'UNITCOST ITEMS (Data Entry)'!H\",IFERROR(SUM(MATCH(A446,'UNITCOST ITEMS (Data Entry)'!$A$3:$A$504,0),2),\"\"))),\"\"))","v":""},{"$f":"IF(IFERROR(INDIRECT(CONCATENATE(\"'UNITCOST ITEMS (Data Entry)'!I\",IFERROR(SUM(MATCH(A446,'UNITCOST ITEMS (Data Entry)'!$A$3:$A$504,0),2),\"\"))),\"\")=0,\"\",IFERROR(INDIRECT(CONCATENATE(\"'UNITCOST ITEMS (Data Entry)'!I\",IFERROR(SUM(MATCH(A446,'UNITCOST ITEMS (Data Entry)'!$A$3:$A$504,0),2),\"\"))),\"\"))","v":""},{"$f":"IF(K446=2,\"\",IF(IFERROR(INDIRECT(CONCATENATE(\"'UNITCOST ITEMS (Data Entry)'!J\",IFERROR(SUM(MATCH(A446,'UNITCOST ITEMS (Data Entry)'!$A$3:$A$504,0),2),\"\"))),\"\")=0,\"\",IFERROR(INDIRECT(CONCATENATE(\"'UNITCOST ITEMS (Data Entry)'!J\",IFERROR(SUM(MATCH(A446,'UNITCOST ITEMS (Data Entry)'!$A$3:$A$504,0),2),\"\"))),\"\")))","v":""},null,{"$f":"IF(IFERROR(INDIRECT(CONCATENATE(\"'UNITCOST ITEMS (Data Entry)'!C\",IFERROR(SUM(MATCH(A446,'UNITCOST ITEMS (Data Entry)'!$A$3:$A$504,0),2),\"\"))),\"\")=0,\"\",IFERROR(INDIRECT(CONCATENATE(\"'UNITCOST ITEMS (Data Entry)'!C\",IFERROR(SUM(MATCH(A446,'UNITCOST ITEMS (Data Entry)'!$A$3:$A$504,0),2),\"\"))),\"\"))","v":""},""]
[439,{"$f":"IF(IFERROR(INDIRECT(CONCATENATE(\"'UNITCOST ITEMS (Data Entry)'!D\",IFERROR(SUM(MATCH(A447,'UNITCOST ITEMS (Data Entry)'!$A$3:$A$504,0),2),\"\"))),\"\")=0,\"\",IFERROR(INDIRECT(CONCATENATE(\"'UNITCOST ITEMS (Data Entry)'!D\",IFERROR(SUM(MATCH(A447,'UNITCOST ITEMS (Data Entry)'!$A$3:$A$504,0),2),\"\"))),\"\"))","v":""},{"$f":"IF(IFERROR(INDIRECT(CONCATENATE(\"'UNITCOST ITEMS (Data Entry)'!E\",IFERROR(SUM(MATCH(A447,'UNITCOST ITEMS (Data Entry)'!$A$3:$A$504,0),2),\"\"))),\"\")=0,\"\",IFERROR(INDIRECT(CONCATENATE(\"'UNITCOST ITEMS (Data Entry)'!E\",IFERROR(SUM(MATCH(A447,'UNITCOST ITEMS (Data Entry)'!$A$3:$A$504,0),2),\"\"))),\"\"))","v":""},null,{"$f":"IF(IFERROR(INDIRECT(CONCATENATE(\"'UNITCOST ITEMS (Data Entry)'!F\",IFERROR(SUM(MATCH(A447,'UNITCOST ITEMS (Data Entry)'!$A$3:$A$504,0),2),\"\"))),\"\")=0,\"\",IFERROR(INDIRECT(CONCATENATE(\"'UNITCOST ITEMS (Data Entry)'!F\",IFERROR(SUM(MATCH(A447,'UNITCOST ITEMS (Data Entry)'!$A$3:$A$504,0),2),\"\"))),\"\"))","v":""},{"$f":"IF(IFERROR(INDIRECT(CONCATENATE(\"'UNITCOST ITEMS (Data Entry)'!G\",IFERROR(SUM(MATCH(A447,'UNITCOST ITEMS (Data Entry)'!$A$3:$A$504,0),2),\"\"))),\"\")=0,\"\",IFERROR(INDIRECT(CONCATENATE(\"'UNITCOST ITEMS (Data Entry)'!G\",IFERROR(SUM(MATCH(A447,'UNITCOST ITEMS (Data Entry)'!$A$3:$A$504,0),2),\"\"))),\"\"))","v":""},{"$f":"IF(IFERROR(INDIRECT(CONCATENATE(\"'UNITCOST ITEMS (Data Entry)'!H\",IFERROR(SUM(MATCH(A447,'UNITCOST ITEMS (Data Entry)'!$A$3:$A$504,0),2),\"\"))),\"\")=0,\"\",IFERROR(INDIRECT(CONCATENATE(\"'UNITCOST ITEMS (Data Entry)'!H\",IFERROR(SUM(MATCH(A447,'UNITCOST ITEMS (Data Entry)'!$A$3:$A$504,0),2),\"\"))),\"\"))","v":""},{"$f":"IF(IFERROR(INDIRECT(CONCATENATE(\"'UNITCOST ITEMS (Data Entry)'!I\",IFERROR(SUM(MATCH(A447,'UNITCOST ITEMS (Data Entry)'!$A$3:$A$504,0),2),\"\"))),\"\")=0,\"\",IFERROR(INDIRECT(CONCATENATE(\"'UNITCOST ITEMS (Data Entry)'!I\",IFERROR(SUM(MATCH(A447,'UNITCOST ITEMS (Data Entry)'!$A$3:$A$504,0),2),\"\"))),\"\"))","v":""},{"$f":"IF(K447=2,\"\",IF(IFERROR(INDIRECT(CONCATENATE(\"'UNITCOST ITEMS (Data Entry)'!J\",IFERROR(SUM(MATCH(A447,'UNITCOST ITEMS (Data Entry)'!$A$3:$A$504,0),2),\"\"))),\"\")=0,\"\",IFERROR(INDIRECT(CONCATENATE(\"'UNITCOST ITEMS (Data Entry)'!J\",IFERROR(SUM(MATCH(A447,'UNITCOST ITEMS (Data Entry)'!$A$3:$A$504,0),2),\"\"))),\"\")))","v":""},null,{"$f":"IF(IFERROR(INDIRECT(CONCATENATE(\"'UNITCOST ITEMS (Data Entry)'!C\",IFERROR(SUM(MATCH(A447,'UNITCOST ITEMS (Data Entry)'!$A$3:$A$504,0),2),\"\"))),\"\")=0,\"\",IFERROR(INDIRECT(CONCATENATE(\"'UNITCOST ITEMS (Data Entry)'!C\",IFERROR(SUM(MATCH(A447,'UNITCOST ITEMS (Data Entry)'!$A$3:$A$504,0),2),\"\"))),\"\"))","v":""},""]
[440,{"$f":"IF(IFERROR(INDIRECT(CONCATENATE(\"'UNITCOST ITEMS (Data Entry)'!D\",IFERROR(SUM(MATCH(A448,'UNITCOST ITEMS (Data Entry)'!$A$3:$A$504,0),2),\"\"))),\"\")=0,\"\",IFERROR(INDIRECT(CONCATENATE(\"'UNITCOST ITEMS (Data Entry)'!D\",IFERROR(SUM(MATCH(A448,'UNITCOST ITEMS (Data Entry)'!$A$3:$A$504,0),2),\"\"))),\"\"))","v":""},{"$f":"IF(IFERROR(INDIRECT(CONCATENATE(\"'UNITCOST ITEMS (Data Entry)'!E\",IFERROR(SUM(MATCH(A448,'UNITCOST ITEMS (Data Entry)'!$A$3:$A$504,0),2),\"\"))),\"\")=0,\"\",IFERROR(INDIRECT(CONCATENATE(\"'UNITCOST ITEMS (Data Entry)'!E\",IFERROR(SUM(MATCH(A448,'UNITCOST ITEMS (Data Entry)'!$A$3:$A$504,0),2),\"\"))),\"\"))","v":""},null,{"$f":"IF(IFERROR(INDIRECT(CONCATENATE(\"'UNITCOST ITEMS (Data Entry)'!F\",IFERROR(SUM(MATCH(A448,'UNITCOST ITEMS (Data Entry)'!$A$3:$A$504,0),2),\"\"))),\"\")=0,\"\",IFERROR(INDIRECT(CONCATENATE(\"'UNITCOST ITEMS (Data Entry)'!F\",IFERROR(SUM(MATCH(A448,'UNITCOST ITEMS (Data Entry)'!$A$3:$A$504,0),2),\"\"))),\"\"))","v":""},{"$f":"IF(IFERROR(INDIRECT(CONCATENATE(\"'UNITCOST ITEMS (Data Entry)'!G\",IFERROR(SUM(MATCH(A448,'UNITCOST ITEMS (Data Entry)'!$A$3:$A$504,0),2),\"\"))),\"\")=0,\"\",IFERROR(INDIRECT(CONCATENATE(\"'UNITCOST ITEMS (Data Entry)'!G\",IFERROR(SUM(MATCH(A448,'UNITCOST ITEMS (Data Entry)'!$A$3:$A$504,0),2),\"\"))),\"\"))","v":""},{"$f":"IF(IFERROR(INDIRECT(CONCATENATE(\"'UNITCOST ITEMS (Data Entry)'!H\",IFERROR(SUM(MATCH(A448,'UNITCOST ITEMS (Data Entry)'!$A$3:$A$504,0),2),\"\"))),\"\")=0,\"\",IFERROR(INDIRECT(CONCATENATE(\"'UNITCOST ITEMS (Data Entry)'!H\",IFERROR(SUM(MATCH(A448,'UNITCOST ITEMS (Data Entry)'!$A$3:$A$504,0),2),\"\"))),\"\"))","v":""},{"$f":"IF(IFERROR(INDIRECT(CONCATENATE(\"'UNITCOST ITEMS (Data Entry)'!I\",IFERROR(SUM(MATCH(A448,'UNITCOST ITEMS (Data Entry)'!$A$3:$A$504,0),2),\"\"))),\"\")=0,\"\",IFERROR(INDIRECT(CONCATENATE(\"'UNITCOST ITEMS (Data Entry)'!I\",IFERROR(SUM(MATCH(A448,'UNITCOST ITEMS (Data Entry)'!$A$3:$A$504,0),2),\"\"))),\"\"))","v":""},{"$f":"IF(K448=2,\"\",IF(IFERROR(INDIRECT(CONCATENATE(\"'UNITCOST ITEMS (Data Entry)'!J\",IFERROR(SUM(MATCH(A448,'UNITCOST ITEMS (Data Entry)'!$A$3:$A$504,0),2),\"\"))),\"\")=0,\"\",IFERROR(INDIRECT(CONCATENATE(\"'UNITCOST ITEMS (Data Entry)'!J\",IFERROR(SUM(MATCH(A448,'UNITCOST ITEMS (Data Entry)'!$A$3:$A$504,0),2),\"\"))),\"\")))","v":""},null,{"$f":"IF(IFERROR(INDIRECT(CONCATENATE(\"'UNITCOST ITEMS (Data Entry)'!C\",IFERROR(SUM(MATCH(A448,'UNITCOST ITEMS (Data Entry)'!$A$3:$A$504,0),2),\"\"))),\"\")=0,\"\",IFERROR(INDIRECT(CONCATENATE(\"'UNITCOST ITEMS (Data Entry)'!C\",IFERROR(SUM(MATCH(A448,'UNITCOST ITEMS (Data Entry)'!$A$3:$A$504,0),2),\"\"))),\"\"))","v":""},""]
[441,{"$f":"IF(IFERROR(INDIRECT(CONCATENATE(\"'UNITCOST ITEMS (Data Entry)'!D\",IFERROR(SUM(MATCH(A449,'UNITCOST ITEMS (Data Entry)'!$A$3:$A$504,0),2),\"\"))),\"\")=0,\"\",IFERROR(INDIRECT(CONCATENATE(\"'UNITCOST ITEMS (Data Entry)'!D\",IFERROR(SUM(MATCH(A449,'UNITCOST ITEMS (Data Entry)'!$A$3:$A$504,0),2),\"\"))),\"\"))","v":""},{"$f":"IF(IFERROR(INDIRECT(CONCATENATE(\"'UNITCOST ITEMS (Data Entry)'!E\",IFERROR(SUM(MATCH(A449,'UNITCOST ITEMS (Data Entry)'!$A$3:$A$504,0),2),\"\"))),\"\")=0,\"\",IFERROR(INDIRECT(CONCATENATE(\"'UNITCOST ITEMS (Data Entry)'!E\",IFERROR(SUM(MATCH(A449,'UNITCOST ITEMS (Data Entry)'!$A$3:$A$504,0),2),\"\"))),\"\"))","v":""},null,{"$f":"IF(IFERROR(INDIRECT(CONCATENATE(\"'UNITCOST ITEMS (Data Entry)'!F\",IFERROR(SUM(MATCH(A449,'UNITCOST ITEMS (Data Entry)'!$A$3:$A$504,0),2),\"\"))),\"\")=0,\"\",IFERROR(INDIRECT(CONCATENATE(\"'UNITCOST ITEMS (Data Entry)'!F\",IFERROR(SUM(MATCH(A449,'UNITCOST ITEMS (Data Entry)'!$A$3:$A$504,0),2),\"\"))),\"\"))","v":""},{"$f":"IF(IFERROR(INDIRECT(CONCATENATE(\"'UNITCOST ITEMS (Data Entry)'!G\",IFERROR(SUM(MATCH(A449,'UNITCOST ITEMS (Data Entry)'!$A$3:$A$504,0),2),\"\"))),\"\")=0,\"\",IFERROR(INDIRECT(CONCATENATE(\"'UNITCOST ITEMS (Data Entry)'!G\",IFERROR(SUM(MATCH(A449,'UNITCOST ITEMS (Data Entry)'!$A$3:$A$504,0),2),\"\"))),\"\"))","v":""},{"$f":"IF(IFERROR(INDIRECT(CONCATENATE(\"'UNITCOST ITEMS (Data Entry)'!H\",IFERROR(SUM(MATCH(A449,'UNITCOST ITEMS (Data Entry)'!$A$3:$A$504,0),2),\"\"))),\"\")=0,\"\",IFERROR(INDIRECT(CONCATENATE(\"'UNITCOST ITEMS (Data Entry)'!H\",IFERROR(SUM(MATCH(A449,'UNITCOST ITEMS (Data Entry)'!$A$3:$A$504,0),2),\"\"))),\"\"))","v":""},{"$f":"IF(IFERROR(INDIRECT(CONCATENATE(\"'UNITCOST ITEMS (Data Entry)'!I\",IFERROR(SUM(MATCH(A449,'UNITCOST ITEMS (Data Entry)'!$A$3:$A$504,0),2),\"\"))),\"\")=0,\"\",IFERROR(INDIRECT(CONCATENATE(\"'UNITCOST ITEMS (Data Entry)'!I\",IFERROR(SUM(MATCH(A449,'UNITCOST ITEMS (Data Entry)'!$A$3:$A$504,0),2),\"\"))),\"\"))","v":""},{"$f":"IF(K449=2,\"\",IF(IFERROR(INDIRECT(CONCATENATE(\"'UNITCOST ITEMS (Data Entry)'!J\",IFERROR(SUM(MATCH(A449,'UNITCOST ITEMS (Data Entry)'!$A$3:$A$504,0),2),\"\"))),\"\")=0,\"\",IFERROR(INDIRECT(CONCATENATE(\"'UNITCOST ITEMS (Data Entry)'!J\",IFERROR(SUM(MATCH(A449,'UNITCOST ITEMS (Data Entry)'!$A$3:$A$504,0),2),\"\"))),\"\")))","v":""},null,{"$f":"IF(IFERROR(INDIRECT(CONCATENATE(\"'UNITCOST ITEMS (Data Entry)'!C\",IFERROR(SUM(MATCH(A449,'UNITCOST ITEMS (Data Entry)'!$A$3:$A$504,0),2),\"\"))),\"\")=0,\"\",IFERROR(INDIRECT(CONCATENATE(\"'UNITCOST ITEMS (Data Entry)'!C\",IFERROR(SUM(MATCH(A449,'UNITCOST ITEMS (Data Entry)'!$A$3:$A$504,0),2),\"\"))),\"\"))","v":""},""]
[442,{"$f":"IF(IFERROR(INDIRECT(CONCATENATE(\"'UNITCOST ITEMS (Data Entry)'!D\",IFERROR(SUM(MATCH(A450,'UNITCOST ITEMS (Data Entry)'!$A$3:$A$504,0),2),\"\"))),\"\")=0,\"\",IFERROR(INDIRECT(CONCATENATE(\"'UNITCOST ITEMS (Data Entry)'!D\",IFERROR(SUM(MATCH(A450,'UNITCOST ITEMS (Data Entry)'!$A$3:$A$504,0),2),\"\"))),\"\"))","v":""},{"$f":"IF(IFERROR(INDIRECT(CONCATENATE(\"'UNITCOST ITEMS (Data Entry)'!E\",IFERROR(SUM(MATCH(A450,'UNITCOST ITEMS (Data Entry)'!$A$3:$A$504,0),2),\"\"))),\"\")=0,\"\",IFERROR(INDIRECT(CONCATENATE(\"'UNITCOST ITEMS (Data Entry)'!E\",IFERROR(SUM(MATCH(A450,'UNITCOST ITEMS (Data Entry)'!$A$3:$A$504,0),2),\"\"))),\"\"))","v":""},null,{"$f":"IF(IFERROR(INDIRECT(CONCATENATE(\"'UNITCOST ITEMS (Data Entry)'!F\",IFERROR(SUM(MATCH(A450,'UNITCOST ITEMS (Data Entry)'!$A$3:$A$504,0),2),\"\"))),\"\")=0,\"\",IFERROR(INDIRECT(CONCATENATE(\"'UNITCOST ITEMS (Data Entry)'!F\",IFERROR(SUM(MATCH(A450,'UNITCOST ITEMS (Data Entry)'!$A$3:$A$504,0),2),\"\"))),\"\"))","v":""},{"$f":"IF(IFERROR(INDIRECT(CONCATENATE(\"'UNITCOST ITEMS (Data Entry)'!G\",IFERROR(SUM(MATCH(A450,'UNITCOST ITEMS (Data Entry)'!$A$3:$A$504,0),2),\"\"))),\"\")=0,\"\",IFERROR(INDIRECT(CONCATENATE(\"'UNITCOST ITEMS (Data Entry)'!G\",IFERROR(SUM(MATCH(A450,'UNITCOST ITEMS (Data Entry)'!$A$3:$A$504,0),2),\"\"))),\"\"))","v":""},{"$f":"IF(IFERROR(INDIRECT(CONCATENATE(\"'UNITCOST ITEMS (Data Entry)'!H\",IFERROR(SUM(MATCH(A450,'UNITCOST ITEMS (Data Entry)'!$A$3:$A$504,0),2),\"\"))),\"\")=0,\"\",IFERROR(INDIRECT(CONCATENATE(\"'UNITCOST ITEMS (Data Entry)'!H\",IFERROR(SUM(MATCH(A450,'UNITCOST ITEMS (Data Entry)'!$A$3:$A$504,0),2),\"\"))),\"\"))","v":""},{"$f":"IF(IFERROR(INDIRECT(CONCATENATE(\"'UNITCOST ITEMS (Data Entry)'!I\",IFERROR(SUM(MATCH(A450,'UNITCOST ITEMS (Data Entry)'!$A$3:$A$504,0),2),\"\"))),\"\")=0,\"\",IFERROR(INDIRECT(CONCATENATE(\"'UNITCOST ITEMS (Data Entry)'!I\",IFERROR(SUM(MATCH(A450,'UNITCOST ITEMS (Data Entry)'!$A$3:$A$504,0),2),\"\"))),\"\"))","v":""},{"$f":"IF(K450=2,\"\",IF(IFERROR(INDIRECT(CONCATENATE(\"'UNITCOST ITEMS (Data Entry)'!J\",IFERROR(SUM(MATCH(A450,'UNITCOST ITEMS (Data Entry)'!$A$3:$A$504,0),2),\"\"))),\"\")=0,\"\",IFERROR(INDIRECT(CONCATENATE(\"'UNITCOST ITEMS (Data Entry)'!J\",IFERROR(SUM(MATCH(A450,'UNITCOST ITEMS (Data Entry)'!$A$3:$A$504,0),2),\"\"))),\"\")))","v":""},null,{"$f":"IF(IFERROR(INDIRECT(CONCATENATE(\"'UNITCOST ITEMS (Data Entry)'!C\",IFERROR(SUM(MATCH(A450,'UNITCOST ITEMS (Data Entry)'!$A$3:$A$504,0),2),\"\"))),\"\")=0,\"\",IFERROR(INDIRECT(CONCATENATE(\"'UNITCOST ITEMS (Data Entry)'!C\",IFERROR(SUM(MATCH(A450,'UNITCOST ITEMS (Data Entry)'!$A$3:$A$504,0),2),\"\"))),\"\"))","v":""},""]
[443,{"$f":"IF(IFERROR(INDIRECT(CONCATENATE(\"'UNITCOST ITEMS (Data Entry)'!D\",IFERROR(SUM(MATCH(A451,'UNITCOST ITEMS (Data Entry)'!$A$3:$A$504,0),2),\"\"))),\"\")=0,\"\",IFERROR(INDIRECT(CONCATENATE(\"'UNITCOST ITEMS (Data Entry)'!D\",IFERROR(SUM(MATCH(A451,'UNITCOST ITEMS (Data Entry)'!$A$3:$A$504,0),2),\"\"))),\"\"))","v":""},{"$f":"IF(IFERROR(INDIRECT(CONCATENATE(\"'UNITCOST ITEMS (Data Entry)'!E\",IFERROR(SUM(MATCH(A451,'UNITCOST ITEMS (Data Entry)'!$A$3:$A$504,0),2),\"\"))),\"\")=0,\"\",IFERROR(INDIRECT(CONCATENATE(\"'UNITCOST ITEMS (Data Entry)'!E\",IFERROR(SUM(MATCH(A451,'UNITCOST ITEMS (Data Entry)'!$A$3:$A$504,0),2),\"\"))),\"\"))","v":""},null,{"$f":"IF(IFERROR(INDIRECT(CONCATENATE(\"'UNITCOST ITEMS (Data Entry)'!F\",IFERROR(SUM(MATCH(A451,'UNITCOST ITEMS (Data Entry)'!$A$3:$A$504,0),2),\"\"))),\"\")=0,\"\",IFERROR(INDIRECT(CONCATENATE(\"'UNITCOST ITEMS (Data Entry)'!F\",IFERROR(SUM(MATCH(A451,'UNITCOST ITEMS (Data Entry)'!$A$3:$A$504,0),2),\"\"))),\"\"))","v":""},{"$f":"IF(IFERROR(INDIRECT(CONCATENATE(\"'UNITCOST ITEMS (Data Entry)'!G\",IFERROR(SUM(MATCH(A451,'UNITCOST ITEMS (Data Entry)'!$A$3:$A$504,0),2),\"\"))),\"\")=0,\"\",IFERROR(INDIRECT(CONCATENATE(\"'UNITCOST ITEMS (Data Entry)'!G\",IFERROR(SUM(MATCH(A451,'UNITCOST ITEMS (Data Entry)'!$A$3:$A$504,0),2),\"\"))),\"\"))","v":""},{"$f":"IF(IFERROR(INDIRECT(CONCATENATE(\"'UNITCOST ITEMS (Data Entry)'!H\",IFERROR(SUM(MATCH(A451,'UNITCOST ITEMS (Data Entry)'!$A$3:$A$504,0),2),\"\"))),\"\")=0,\"\",IFERROR(INDIRECT(CONCATENATE(\"'UNITCOST ITEMS (Data Entry)'!H\",IFERROR(SUM(MATCH(A451,'UNITCOST ITEMS (Data Entry)'!$A$3:$A$504,0),2),\"\"))),\"\"))","v":""},{"$f":"IF(IFERROR(INDIRECT(CONCATENATE(\"'UNITCOST ITEMS (Data Entry)'!I\",IFERROR(SUM(MATCH(A451,'UNITCOST ITEMS (Data Entry)'!$A$3:$A$504,0),2),\"\"))),\"\")=0,\"\",IFERROR(INDIRECT(CONCATENATE(\"'UNITCOST ITEMS (Data Entry)'!I\",IFERROR(SUM(MATCH(A451,'UNITCOST ITEMS (Data Entry)'!$A$3:$A$504,0),2),\"\"))),\"\"))","v":""},{"$f":"IF(K451=2,\"\",IF(IFERROR(INDIRECT(CONCATENATE(\"'UNITCOST ITEMS (Data Entry)'!J\",IFERROR(SUM(MATCH(A451,'UNITCOST ITEMS (Data Entry)'!$A$3:$A$504,0),2),\"\"))),\"\")=0,\"\",IFERROR(INDIRECT(CONCATENATE(\"'UNITCOST ITEMS (Data Entry)'!J\",IFERROR(SUM(MATCH(A451,'UNITCOST ITEMS (Data Entry)'!$A$3:$A$504,0),2),\"\"))),\"\")))","v":""},null,{"$f":"IF(IFERROR(INDIRECT(CONCATENATE(\"'UNITCOST ITEMS (Data Entry)'!C\",IFERROR(SUM(MATCH(A451,'UNITCOST ITEMS (Data Entry)'!$A$3:$A$504,0),2),\"\"))),\"\")=0,\"\",IFERROR(INDIRECT(CONCATENATE(\"'UNITCOST ITEMS (Data Entry)'!C\",IFERROR(SUM(MATCH(A451,'UNITCOST ITEMS (Data Entry)'!$A$3:$A$504,0),2),\"\"))),\"\"))","v":""},""]
[444,{"$f":"IF(IFERROR(INDIRECT(CONCATENATE(\"'UNITCOST ITEMS (Data Entry)'!D\",IFERROR(SUM(MATCH(A452,'UNITCOST ITEMS (Data Entry)'!$A$3:$A$504,0),2),\"\"))),\"\")=0,\"\",IFERROR(INDIRECT(CONCATENATE(\"'UNITCOST ITEMS (Data Entry)'!D\",IFERROR(SUM(MATCH(A452,'UNITCOST ITEMS (Data Entry)'!$A$3:$A$504,0),2),\"\"))),\"\"))","v":""},{"$f":"IF(IFERROR(INDIRECT(CONCATENATE(\"'UNITCOST ITEMS (Data Entry)'!E\",IFERROR(SUM(MATCH(A452,'UNITCOST ITEMS (Data Entry)'!$A$3:$A$504,0),2),\"\"))),\"\")=0,\"\",IFERROR(INDIRECT(CONCATENATE(\"'UNITCOST ITEMS (Data Entry)'!E\",IFERROR(SUM(MATCH(A452,'UNITCOST ITEMS (Data Entry)'!$A$3:$A$504,0),2),\"\"))),\"\"))","v":""},null,{"$f":"IF(IFERROR(INDIRECT(CONCATENATE(\"'UNITCOST ITEMS (Data Entry)'!F\",IFERROR(SUM(MATCH(A452,'UNITCOST ITEMS (Data Entry)'!$A$3:$A$504,0),2),\"\"))),\"\")=0,\"\",IFERROR(INDIRECT(CONCATENATE(\"'UNITCOST ITEMS (Data Entry)'!F\",IFERROR(SUM(MATCH(A452,'UNITCOST ITEMS (Data Entry)'!$A$3:$A$504,0),2),\"\"))),\"\"))","v":""},{"$f":"IF(IFERROR(INDIRECT(CONCATENATE(\"'UNITCOST ITEMS (Data Entry)'!G\",IFERROR(SUM(MATCH(A452,'UNITCOST ITEMS (Data Entry)'!$A$3:$A$504,0),2),\"\"))),\"\")=0,\"\",IFERROR(INDIRECT(CONCATENATE(\"'UNITCOST ITEMS (Data Entry)'!G\",IFERROR(SUM(MATCH(A452,'UNITCOST ITEMS (Data Entry)'!$A$3:$A$504,0),2),\"\"))),\"\"))","v":""},{"$f":"IF(IFERROR(INDIRECT(CONCATENATE(\"'UNITCOST ITEMS (Data Entry)'!H\",IFERROR(SUM(MATCH(A452,'UNITCOST ITEMS (Data Entry)'!$A$3:$A$504,0),2),\"\"))),\"\")=0,\"\",IFERROR(INDIRECT(CONCATENATE(\"'UNITCOST ITEMS (Data Entry)'!H\",IFERROR(SUM(MATCH(A452,'UNITCOST ITEMS (Data Entry)'!$A$3:$A$504,0),2),\"\"))),\"\"))","v":""},{"$f":"IF(IFERROR(INDIRECT(CONCATENATE(\"'UNITCOST ITEMS (Data Entry)'!I\",IFERROR(SUM(MATCH(A452,'UNITCOST ITEMS (Data Entry)'!$A$3:$A$504,0),2),\"\"))),\"\")=0,\"\",IFERROR(INDIRECT(CONCATENATE(\"'UNITCOST ITEMS (Data Entry)'!I\",IFERROR(SUM(MATCH(A452,'UNITCOST ITEMS (Data Entry)'!$A$3:$A$504,0),2),\"\"))),\"\"))","v":""},{"$f":"IF(K452=2,\"\",IF(IFERROR(INDIRECT(CONCATENATE(\"'UNITCOST ITEMS (Data Entry)'!J\",IFERROR(SUM(MATCH(A452,'UNITCOST ITEMS (Data Entry)'!$A$3:$A$504,0),2),\"\"))),\"\")=0,\"\",IFERROR(INDIRECT(CONCATENATE(\"'UNITCOST ITEMS (Data Entry)'!J\",IFERROR(SUM(MATCH(A452,'UNITCOST ITEMS (Data Entry)'!$A$3:$A$504,0),2),\"\"))),\"\")))","v":""},null,{"$f":"IF(IFERROR(INDIRECT(CONCATENATE(\"'UNITCOST ITEMS (Data Entry)'!C\",IFERROR(SUM(MATCH(A452,'UNITCOST ITEMS (Data Entry)'!$A$3:$A$504,0),2),\"\"))),\"\")=0,\"\",IFERROR(INDIRECT(CONCATENATE(\"'UNITCOST ITEMS (Data Entry)'!C\",IFERROR(SUM(MATCH(A452,'UNITCOST ITEMS (Data Entry)'!$A$3:$A$504,0),2),\"\"))),\"\"))","v":""},""]
[445,{"$f":"IF(IFERROR(INDIRECT(CONCATENATE(\"'UNITCOST ITEMS (Data Entry)'!D\",IFERROR(SUM(MATCH(A453,'UNITCOST ITEMS (Data Entry)'!$A$3:$A$504,0),2),\"\"))),\"\")=0,\"\",IFERROR(INDIRECT(CONCATENATE(\"'UNITCOST ITEMS (Data Entry)'!D\",IFERROR(SUM(MATCH(A453,'UNITCOST ITEMS (Data Entry)'!$A$3:$A$504,0),2),\"\"))),\"\"))","v":""},{"$f":"IF(IFERROR(INDIRECT(CONCATENATE(\"'UNITCOST ITEMS (Data Entry)'!E\",IFERROR(SUM(MATCH(A453,'UNITCOST ITEMS (Data Entry)'!$A$3:$A$504,0),2),\"\"))),\"\")=0,\"\",IFERROR(INDIRECT(CONCATENATE(\"'UNITCOST ITEMS (Data Entry)'!E\",IFERROR(SUM(MATCH(A453,'UNITCOST ITEMS (Data Entry)'!$A$3:$A$504,0),2),\"\"))),\"\"))","v":""},null,{"$f":"IF(IFERROR(INDIRECT(CONCATENATE(\"'UNITCOST ITEMS (Data Entry)'!F\",IFERROR(SUM(MATCH(A453,'UNITCOST ITEMS (Data Entry)'!$A$3:$A$504,0),2),\"\"))),\"\")=0,\"\",IFERROR(INDIRECT(CONCATENATE(\"'UNITCOST ITEMS (Data Entry)'!F\",IFERROR(SUM(MATCH(A453,'UNITCOST ITEMS (Data Entry)'!$A$3:$A$504,0),2),\"\"))),\"\"))","v":""},{"$f":"IF(IFERROR(INDIRECT(CONCATENATE(\"'UNITCOST ITEMS (Data Entry)'!G\",IFERROR(SUM(MATCH(A453,'UNITCOST ITEMS (Data Entry)'!$A$3:$A$504,0),2),\"\"))),\"\")=0,\"\",IFERROR(INDIRECT(CONCATENATE(\"'UNITCOST ITEMS (Data Entry)'!G\",IFERROR(SUM(MATCH(A453,'UNITCOST ITEMS (Data Entry)'!$A$3:$A$504,0),2),\"\"))),\"\"))","v":""},{"$f":"IF(IFERROR(INDIRECT(CONCATENATE(\"'UNITCOST ITEMS (Data Entry)'!H\",IFERROR(SUM(MATCH(A453,'UNITCOST ITEMS (Data Entry)'!$A$3:$A$504,0),2),\"\"))),\"\")=0,\"\",IFERROR(INDIRECT(CONCATENATE(\"'UNITCOST ITEMS (Data Entry)'!H\",IFERROR(SUM(MATCH(A453,'UNITCOST ITEMS (Data Entry)'!$A$3:$A$504,0),2),\"\"))),\"\"))","v":""},{"$f":"IF(IFERROR(INDIRECT(CONCATENATE(\"'UNITCOST ITEMS (Data Entry)'!I\",IFERROR(SUM(MATCH(A453,'UNITCOST ITEMS (Data Entry)'!$A$3:$A$504,0),2),\"\"))),\"\")=0,\"\",IFERROR(INDIRECT(CONCATENATE(\"'UNITCOST ITEMS (Data Entry)'!I\",IFERROR(SUM(MATCH(A453,'UNITCOST ITEMS (Data Entry)'!$A$3:$A$504,0),2),\"\"))),\"\"))","v":""},{"$f":"IF(K453=2,\"\",IF(IFERROR(INDIRECT(CONCATENATE(\"'UNITCOST ITEMS (Data Entry)'!J\",IFERROR(SUM(MATCH(A453,'UNITCOST ITEMS (Data Entry)'!$A$3:$A$504,0),2),\"\"))),\"\")=0,\"\",IFERROR(INDIRECT(CONCATENATE(\"'UNITCOST ITEMS (Data Entry)'!J\",IFERROR(SUM(MATCH(A453,'UNITCOST ITEMS (Data Entry)'!$A$3:$A$504,0),2),\"\"))),\"\")))","v":""},null,{"$f":"IF(IFERROR(INDIRECT(CONCATENATE(\"'UNITCOST ITEMS (Data Entry)'!C\",IFERROR(SUM(MATCH(A453,'UNITCOST ITEMS (Data Entry)'!$A$3:$A$504,0),2),\"\"))),\"\")=0,\"\",IFERROR(INDIRECT(CONCATENATE(\"'UNITCOST ITEMS (Data Entry)'!C\",IFERROR(SUM(MATCH(A453,'UNITCOST ITEMS (Data Entry)'!$A$3:$A$504,0),2),\"\"))),\"\"))","v":""},""]
[446,{"$f":"IF(IFERROR(INDIRECT(CONCATENATE(\"'UNITCOST ITEMS (Data Entry)'!D\",IFERROR(SUM(MATCH(A454,'UNITCOST ITEMS (Data Entry)'!$A$3:$A$504,0),2),\"\"))),\"\")=0,\"\",IFERROR(INDIRECT(CONCATENATE(\"'UNITCOST ITEMS (Data Entry)'!D\",IFERROR(SUM(MATCH(A454,'UNITCOST ITEMS (Data Entry)'!$A$3:$A$504,0),2),\"\"))),\"\"))","v":""},{"$f":"IF(IFERROR(INDIRECT(CONCATENATE(\"'UNITCOST ITEMS (Data Entry)'!E\",IFERROR(SUM(MATCH(A454,'UNITCOST ITEMS (Data Entry)'!$A$3:$A$504,0),2),\"\"))),\"\")=0,\"\",IFERROR(INDIRECT(CONCATENATE(\"'UNITCOST ITEMS (Data Entry)'!E\",IFERROR(SUM(MATCH(A454,'UNITCOST ITEMS (Data Entry)'!$A$3:$A$504,0),2),\"\"))),\"\"))","v":""},null,{"$f":"IF(IFERROR(INDIRECT(CONCATENATE(\"'UNITCOST ITEMS (Data Entry)'!F\",IFERROR(SUM(MATCH(A454,'UNITCOST ITEMS (Data Entry)'!$A$3:$A$504,0),2),\"\"))),\"\")=0,\"\",IFERROR(INDIRECT(CONCATENATE(\"'UNITCOST ITEMS (Data Entry)'!F\",IFERROR(SUM(MATCH(A454,'UNITCOST ITEMS (Data Entry)'!$A$3:$A$504,0),2),\"\"))),\"\"))","v":""},{"$f":"IF(IFERROR(INDIRECT(CONCATENATE(\"'UNITCOST ITEMS (Data Entry)'!G\",IFERROR(SUM(MATCH(A454,'UNITCOST ITEMS (Data Entry)'!$A$3:$A$504,0),2),\"\"))),\"\")=0,\"\",IFERROR(INDIRECT(CONCATENATE(\"'UNITCOST ITEMS (Data Entry)'!G\",IFERROR(SUM(MATCH(A454,'UNITCOST ITEMS (Data Entry)'!$A$3:$A$504,0),2),\"\"))),\"\"))","v":""},{"$f":"IF(IFERROR(INDIRECT(CONCATENATE(\"'UNITCOST ITEMS (Data Entry)'!H\",IFERROR(SUM(MATCH(A454,'UNITCOST ITEMS (Data Entry)'!$A$3:$A$504,0),2),\"\"))),\"\")=0,\"\",IFERROR(INDIRECT(CONCATENATE(\"'UNITCOST ITEMS (Data Entry)'!H\",IFERROR(SUM(MATCH(A454,'UNITCOST ITEMS (Data Entry)'!$A$3:$A$504,0),2),\"\"))),\"\"))","v":""},{"$f":"IF(IFERROR(INDIRECT(CONCATENATE(\"'UNITCOST ITEMS (Data Entry)'!I\",IFERROR(SUM(MATCH(A454,'UNITCOST ITEMS (Data Entry)'!$A$3:$A$504,0),2),\"\"))),\"\")=0,\"\",IFERROR(INDIRECT(CONCATENATE(\"'UNITCOST ITEMS (Data Entry)'!I\",IFERROR(SUM(MATCH(A454,'UNITCOST ITEMS (Data Entry)'!$A$3:$A$504,0),2),\"\"))),\"\"))","v":""},{"$f":"IF(K454=2,\"\",IF(IFERROR(INDIRECT(CONCATENATE(\"'UNITCOST ITEMS (Data Entry)'!J\",IFERROR(SUM(MATCH(A454,'UNITCOST ITEMS (Data Entry)'!$A$3:$A$504,0),2),\"\"))),\"\")=0,\"\",IFERROR(INDIRECT(CONCATENATE(\"'UNITCOST ITEMS (Data Entry)'!J\",IFERROR(SUM(MATCH(A454,'UNITCOST ITEMS (Data Entry)'!$A$3:$A$504,0),2),\"\"))),\"\")))","v":""},null,{"$f":"IF(IFERROR(INDIRECT(CONCATENATE(\"'UNITCOST ITEMS (Data Entry)'!C\",IFERROR(SUM(MATCH(A454,'UNITCOST ITEMS (Data Entry)'!$A$3:$A$504,0),2),\"\"))),\"\")=0,\"\",IFERROR(INDIRECT(CONCATENATE(\"'UNITCOST ITEMS (Data Entry)'!C\",IFERROR(SUM(MATCH(A454,'UNITCOST ITEMS (Data Entry)'!$A$3:$A$504,0),2),\"\"))),\"\"))","v":""},""]
[447,{"$f":"IF(IFERROR(INDIRECT(CONCATENATE(\"'UNITCOST ITEMS (Data Entry)'!D\",IFERROR(SUM(MATCH(A455,'UNITCOST ITEMS (Data Entry)'!$A$3:$A$504,0),2),\"\"))),\"\")=0,\"\",IFERROR(INDIRECT(CONCATENATE(\"'UNITCOST ITEMS (Data Entry)'!D\",IFERROR(SUM(MATCH(A455,'UNITCOST ITEMS (Data Entry)'!$A$3:$A$504,0),2),\"\"))),\"\"))","v":""},{"$f":"IF(IFERROR(INDIRECT(CONCATENATE(\"'UNITCOST ITEMS (Data Entry)'!E\",IFERROR(SUM(MATCH(A455,'UNITCOST ITEMS (Data Entry)'!$A$3:$A$504,0),2),\"\"))),\"\")=0,\"\",IFERROR(INDIRECT(CONCATENATE(\"'UNITCOST ITEMS (Data Entry)'!E\",IFERROR(SUM(MATCH(A455,'UNITCOST ITEMS (Data Entry)'!$A$3:$A$504,0),2),\"\"))),\"\"))","v":""},null,{"$f":"IF(IFERROR(INDIRECT(CONCATENATE(\"'UNITCOST ITEMS (Data Entry)'!F\",IFERROR(SUM(MATCH(A455,'UNITCOST ITEMS (Data Entry)'!$A$3:$A$504,0),2),\"\"))),\"\")=0,\"\",IFERROR(INDIRECT(CONCATENATE(\"'UNITCOST ITEMS (Data Entry)'!F\",IFERROR(SUM(MATCH(A455,'UNITCOST ITEMS (Data Entry)'!$A$3:$A$504,0),2),\"\"))),\"\"))","v":""},{"$f":"IF(IFERROR(INDIRECT(CONCATENATE(\"'UNITCOST ITEMS (Data Entry)'!G\",IFERROR(SUM(MATCH(A455,'UNITCOST ITEMS (Data Entry)'!$A$3:$A$504,0),2),\"\"))),\"\")=0,\"\",IFERROR(INDIRECT(CONCATENATE(\"'UNITCOST ITEMS (Data Entry)'!G\",IFERROR(SUM(MATCH(A455,'UNITCOST ITEMS (Data Entry)'!$A$3:$A$504,0),2),\"\"))),\"\"))","v":""},{"$f":"IF(IFERROR(INDIRECT(CONCATENATE(\"'UNITCOST ITEMS (Data Entry)'!H\",IFERROR(SUM(MATCH(A455,'UNITCOST ITEMS (Data Entry)'!$A$3:$A$504,0),2),\"\"))),\"\")=0,\"\",IFERROR(INDIRECT(CONCATENATE(\"'UNITCOST ITEMS (Data Entry)'!H\",IFERROR(SUM(MATCH(A455,'UNITCOST ITEMS (Data Entry)'!$A$3:$A$504,0),2),\"\"))),\"\"))","v":""},{"$f":"IF(IFERROR(INDIRECT(CONCATENATE(\"'UNITCOST ITEMS (Data Entry)'!I\",IFERROR(SUM(MATCH(A455,'UNITCOST ITEMS (Data Entry)'!$A$3:$A$504,0),2),\"\"))),\"\")=0,\"\",IFERROR(INDIRECT(CONCATENATE(\"'UNITCOST ITEMS (Data Entry)'!I\",IFERROR(SUM(MATCH(A455,'UNITCOST ITEMS (Data Entry)'!$A$3:$A$504,0),2),\"\"))),\"\"))","v":""},{"$f":"IF(K455=2,\"\",IF(IFERROR(INDIRECT(CONCATENATE(\"'UNITCOST ITEMS (Data Entry)'!J\",IFERROR(SUM(MATCH(A455,'UNITCOST ITEMS (Data Entry)'!$A$3:$A$504,0),2),\"\"))),\"\")=0,\"\",IFERROR(INDIRECT(CONCATENATE(\"'UNITCOST ITEMS (Data Entry)'!J\",IFERROR(SUM(MATCH(A455,'UNITCOST ITEMS (Data Entry)'!$A$3:$A$504,0),2),\"\"))),\"\")))","v":""},null,{"$f":"IF(IFERROR(INDIRECT(CONCATENATE(\"'UNITCOST ITEMS (Data Entry)'!C\",IFERROR(SUM(MATCH(A455,'UNITCOST ITEMS (Data Entry)'!$A$3:$A$504,0),2),\"\"))),\"\")=0,\"\",IFERROR(INDIRECT(CONCATENATE(\"'UNITCOST ITEMS (Data Entry)'!C\",IFERROR(SUM(MATCH(A455,'UNITCOST ITEMS (Data Entry)'!$A$3:$A$504,0),2),\"\"))),\"\"))","v":""},""]
[448,{"$f":"IF(IFERROR(INDIRECT(CONCATENATE(\"'UNITCOST ITEMS (Data Entry)'!D\",IFERROR(SUM(MATCH(A456,'UNITCOST ITEMS (Data Entry)'!$A$3:$A$504,0),2),\"\"))),\"\")=0,\"\",IFERROR(INDIRECT(CONCATENATE(\"'UNITCOST ITEMS (Data Entry)'!D\",IFERROR(SUM(MATCH(A456,'UNITCOST ITEMS (Data Entry)'!$A$3:$A$504,0),2),\"\"))),\"\"))","v":""},{"$f":"IF(IFERROR(INDIRECT(CONCATENATE(\"'UNITCOST ITEMS (Data Entry)'!E\",IFERROR(SUM(MATCH(A456,'UNITCOST ITEMS (Data Entry)'!$A$3:$A$504,0),2),\"\"))),\"\")=0,\"\",IFERROR(INDIRECT(CONCATENATE(\"'UNITCOST ITEMS (Data Entry)'!E\",IFERROR(SUM(MATCH(A456,'UNITCOST ITEMS (Data Entry)'!$A$3:$A$504,0),2),\"\"))),\"\"))","v":""},null,{"$f":"IF(IFERROR(INDIRECT(CONCATENATE(\"'UNITCOST ITEMS (Data Entry)'!F\",IFERROR(SUM(MATCH(A456,'UNITCOST ITEMS (Data Entry)'!$A$3:$A$504,0),2),\"\"))),\"\")=0,\"\",IFERROR(INDIRECT(CONCATENATE(\"'UNITCOST ITEMS (Data Entry)'!F\",IFERROR(SUM(MATCH(A456,'UNITCOST ITEMS (Data Entry)'!$A$3:$A$504,0),2),\"\"))),\"\"))","v":""},{"$f":"IF(IFERROR(INDIRECT(CONCATENATE(\"'UNITCOST ITEMS (Data Entry)'!G\",IFERROR(SUM(MATCH(A456,'UNITCOST ITEMS (Data Entry)'!$A$3:$A$504,0),2),\"\"))),\"\")=0,\"\",IFERROR(INDIRECT(CONCATENATE(\"'UNITCOST ITEMS (Data Entry)'!G\",IFERROR(SUM(MATCH(A456,'UNITCOST ITEMS (Data Entry)'!$A$3:$A$504,0),2),\"\"))),\"\"))","v":""},{"$f":"IF(IFERROR(INDIRECT(CONCATENATE(\"'UNITCOST ITEMS (Data Entry)'!H\",IFERROR(SUM(MATCH(A456,'UNITCOST ITEMS (Data Entry)'!$A$3:$A$504,0),2),\"\"))),\"\")=0,\"\",IFERROR(INDIRECT(CONCATENATE(\"'UNITCOST ITEMS (Data Entry)'!H\",IFERROR(SUM(MATCH(A456,'UNITCOST ITEMS (Data Entry)'!$A$3:$A$504,0),2),\"\"))),\"\"))","v":""},{"$f":"IF(IFERROR(INDIRECT(CONCATENATE(\"'UNITCOST ITEMS (Data Entry)'!I\",IFERROR(SUM(MATCH(A456,'UNITCOST ITEMS (Data Entry)'!$A$3:$A$504,0),2),\"\"))),\"\")=0,\"\",IFERROR(INDIRECT(CONCATENATE(\"'UNITCOST ITEMS (Data Entry)'!I\",IFERROR(SUM(MATCH(A456,'UNITCOST ITEMS (Data Entry)'!$A$3:$A$504,0),2),\"\"))),\"\"))","v":""},{"$f":"IF(K456=2,\"\",IF(IFERROR(INDIRECT(CONCATENATE(\"'UNITCOST ITEMS (Data Entry)'!J\",IFERROR(SUM(MATCH(A456,'UNITCOST ITEMS (Data Entry)'!$A$3:$A$504,0),2),\"\"))),\"\")=0,\"\",IFERROR(INDIRECT(CONCATENATE(\"'UNITCOST ITEMS (Data Entry)'!J\",IFERROR(SUM(MATCH(A456,'UNITCOST ITEMS (Data Entry)'!$A$3:$A$504,0),2),\"\"))),\"\")))","v":""},null,{"$f":"IF(IFERROR(INDIRECT(CONCATENATE(\"'UNITCOST ITEMS (Data Entry)'!C\",IFERROR(SUM(MATCH(A456,'UNITCOST ITEMS (Data Entry)'!$A$3:$A$504,0),2),\"\"))),\"\")=0,\"\",IFERROR(INDIRECT(CONCATENATE(\"'UNITCOST ITEMS (Data Entry)'!C\",IFERROR(SUM(MATCH(A456,'UNITCOST ITEMS (Data Entry)'!$A$3:$A$504,0),2),\"\"))),\"\"))","v":""},""]
[449,{"$f":"IF(IFERROR(INDIRECT(CONCATENATE(\"'UNITCOST ITEMS (Data Entry)'!D\",IFERROR(SUM(MATCH(A457,'UNITCOST ITEMS (Data Entry)'!$A$3:$A$504,0),2),\"\"))),\"\")=0,\"\",IFERROR(INDIRECT(CONCATENATE(\"'UNITCOST ITEMS (Data Entry)'!D\",IFERROR(SUM(MATCH(A457,'UNITCOST ITEMS (Data Entry)'!$A$3:$A$504,0),2),\"\"))),\"\"))","v":""},{"$f":"IF(IFERROR(INDIRECT(CONCATENATE(\"'UNITCOST ITEMS (Data Entry)'!E\",IFERROR(SUM(MATCH(A457,'UNITCOST ITEMS (Data Entry)'!$A$3:$A$504,0),2),\"\"))),\"\")=0,\"\",IFERROR(INDIRECT(CONCATENATE(\"'UNITCOST ITEMS (Data Entry)'!E\",IFERROR(SUM(MATCH(A457,'UNITCOST ITEMS (Data Entry)'!$A$3:$A$504,0),2),\"\"))),\"\"))","v":""},null,{"$f":"IF(IFERROR(INDIRECT(CONCATENATE(\"'UNITCOST ITEMS (Data Entry)'!F\",IFERROR(SUM(MATCH(A457,'UNITCOST ITEMS (Data Entry)'!$A$3:$A$504,0),2),\"\"))),\"\")=0,\"\",IFERROR(INDIRECT(CONCATENATE(\"'UNITCOST ITEMS (Data Entry)'!F\",IFERROR(SUM(MATCH(A457,'UNITCOST ITEMS (Data Entry)'!$A$3:$A$504,0),2),\"\"))),\"\"))","v":""},{"$f":"IF(IFERROR(INDIRECT(CONCATENATE(\"'UNITCOST ITEMS (Data Entry)'!G\",IFERROR(SUM(MATCH(A457,'UNITCOST ITEMS (Data Entry)'!$A$3:$A$504,0),2),\"\"))),\"\")=0,\"\",IFERROR(INDIRECT(CONCATENATE(\"'UNITCOST ITEMS (Data Entry)'!G\",IFERROR(SUM(MATCH(A457,'UNITCOST ITEMS (Data Entry)'!$A$3:$A$504,0),2),\"\"))),\"\"))","v":""},{"$f":"IF(IFERROR(INDIRECT(CONCATENATE(\"'UNITCOST ITEMS (Data Entry)'!H\",IFERROR(SUM(MATCH(A457,'UNITCOST ITEMS (Data Entry)'!$A$3:$A$504,0),2),\"\"))),\"\")=0,\"\",IFERROR(INDIRECT(CONCATENATE(\"'UNITCOST ITEMS (Data Entry)'!H\",IFERROR(SUM(MATCH(A457,'UNITCOST ITEMS (Data Entry)'!$A$3:$A$504,0),2),\"\"))),\"\"))","v":""},{"$f":"IF(IFERROR(INDIRECT(CONCATENATE(\"'UNITCOST ITEMS (Data Entry)'!I\",IFERROR(SUM(MATCH(A457,'UNITCOST ITEMS (Data Entry)'!$A$3:$A$504,0),2),\"\"))),\"\")=0,\"\",IFERROR(INDIRECT(CONCATENATE(\"'UNITCOST ITEMS (Data Entry)'!I\",IFERROR(SUM(MATCH(A457,'UNITCOST ITEMS (Data Entry)'!$A$3:$A$504,0),2),\"\"))),\"\"))","v":""},{"$f":"IF(K457=2,\"\",IF(IFERROR(INDIRECT(CONCATENATE(\"'UNITCOST ITEMS (Data Entry)'!J\",IFERROR(SUM(MATCH(A457,'UNITCOST ITEMS (Data Entry)'!$A$3:$A$504,0),2),\"\"))),\"\")=0,\"\",IFERROR(INDIRECT(CONCATENATE(\"'UNITCOST ITEMS (Data Entry)'!J\",IFERROR(SUM(MATCH(A457,'UNITCOST ITEMS (Data Entry)'!$A$3:$A$504,0),2),\"\"))),\"\")))","v":""},null,{"$f":"IF(IFERROR(INDIRECT(CONCATENATE(\"'UNITCOST ITEMS (Data Entry)'!C\",IFERROR(SUM(MATCH(A457,'UNITCOST ITEMS (Data Entry)'!$A$3:$A$504,0),2),\"\"))),\"\")=0,\"\",IFERROR(INDIRECT(CONCATENATE(\"'UNITCOST ITEMS (Data Entry)'!C\",IFERROR(SUM(MATCH(A457,'UNITCOST ITEMS (Data Entry)'!$A$3:$A$504,0),2),\"\"))),\"\"))","v":""},""]
[450,{"$f":"IF(IFERROR(INDIRECT(CONCATENATE(\"'UNITCOST ITEMS (Data Entry)'!D\",IFERROR(SUM(MATCH(A458,'UNITCOST ITEMS (Data Entry)'!$A$3:$A$504,0),2),\"\"))),\"\")=0,\"\",IFERROR(INDIRECT(CONCATENATE(\"'UNITCOST ITEMS (Data Entry)'!D\",IFERROR(SUM(MATCH(A458,'UNITCOST ITEMS (Data Entry)'!$A$3:$A$504,0),2),\"\"))),\"\"))","v":""},{"$f":"IF(IFERROR(INDIRECT(CONCATENATE(\"'UNITCOST ITEMS (Data Entry)'!E\",IFERROR(SUM(MATCH(A458,'UNITCOST ITEMS (Data Entry)'!$A$3:$A$504,0),2),\"\"))),\"\")=0,\"\",IFERROR(INDIRECT(CONCATENATE(\"'UNITCOST ITEMS (Data Entry)'!E\",IFERROR(SUM(MATCH(A458,'UNITCOST ITEMS (Data Entry)'!$A$3:$A$504,0),2),\"\"))),\"\"))","v":""},null,{"$f":"IF(IFERROR(INDIRECT(CONCATENATE(\"'UNITCOST ITEMS (Data Entry)'!F\",IFERROR(SUM(MATCH(A458,'UNITCOST ITEMS (Data Entry)'!$A$3:$A$504,0),2),\"\"))),\"\")=0,\"\",IFERROR(INDIRECT(CONCATENATE(\"'UNITCOST ITEMS (Data Entry)'!F\",IFERROR(SUM(MATCH(A458,'UNITCOST ITEMS (Data Entry)'!$A$3:$A$504,0),2),\"\"))),\"\"))","v":""},{"$f":"IF(IFERROR(INDIRECT(CONCATENATE(\"'UNITCOST ITEMS (Data Entry)'!G\",IFERROR(SUM(MATCH(A458,'UNITCOST ITEMS (Data Entry)'!$A$3:$A$504,0),2),\"\"))),\"\")=0,\"\",IFERROR(INDIRECT(CONCATENATE(\"'UNITCOST ITEMS (Data Entry)'!G\",IFERROR(SUM(MATCH(A458,'UNITCOST ITEMS (Data Entry)'!$A$3:$A$504,0),2),\"\"))),\"\"))","v":""},{"$f":"IF(IFERROR(INDIRECT(CONCATENATE(\"'UNITCOST ITEMS (Data Entry)'!H\",IFERROR(SUM(MATCH(A458,'UNITCOST ITEMS (Data Entry)'!$A$3:$A$504,0),2),\"\"))),\"\")=0,\"\",IFERROR(INDIRECT(CONCATENATE(\"'UNITCOST ITEMS (Data Entry)'!H\",IFERROR(SUM(MATCH(A458,'UNITCOST ITEMS (Data Entry)'!$A$3:$A$504,0),2),\"\"))),\"\"))","v":""},{"$f":"IF(IFERROR(INDIRECT(CONCATENATE(\"'UNITCOST ITEMS (Data Entry)'!I\",IFERROR(SUM(MATCH(A458,'UNITCOST ITEMS (Data Entry)'!$A$3:$A$504,0),2),\"\"))),\"\")=0,\"\",IFERROR(INDIRECT(CONCATENATE(\"'UNITCOST ITEMS (Data Entry)'!I\",IFERROR(SUM(MATCH(A458,'UNITCOST ITEMS (Data Entry)'!$A$3:$A$504,0),2),\"\"))),\"\"))","v":""},{"$f":"IF(K458=2,\"\",IF(IFERROR(INDIRECT(CONCATENATE(\"'UNITCOST ITEMS (Data Entry)'!J\",IFERROR(SUM(MATCH(A458,'UNITCOST ITEMS (Data Entry)'!$A$3:$A$504,0),2),\"\"))),\"\")=0,\"\",IFERROR(INDIRECT(CONCATENATE(\"'UNITCOST ITEMS (Data Entry)'!J\",IFERROR(SUM(MATCH(A458,'UNITCOST ITEMS (Data Entry)'!$A$3:$A$504,0),2),\"\"))),\"\")))","v":""},null,{"$f":"IF(IFERROR(INDIRECT(CONCATENATE(\"'UNITCOST ITEMS (Data Entry)'!C\",IFERROR(SUM(MATCH(A458,'UNITCOST ITEMS (Data Entry)'!$A$3:$A$504,0),2),\"\"))),\"\")=0,\"\",IFERROR(INDIRECT(CONCATENATE(\"'UNITCOST ITEMS (Data Entry)'!C\",IFERROR(SUM(MATCH(A458,'UNITCOST ITEMS (Data Entry)'!$A$3:$A$504,0),2),\"\"))),\"\"))","v":""},{"$f":"IF(K458<>\"\",ROW(),\"\")","v":""}]
[{"$f":"A458+1","v":451},{"$f":"IF(IFERROR(INDIRECT(CONCATENATE(\"'UNITCOST ITEMS (Data Entry)'!D\",IFERROR(SUM(MATCH(A459,'UNITCOST ITEMS (Data Entry)'!$A$3:$A$504,0),2),\"\"))),\"\")=0,\"\",IFERROR(INDIRECT(CONCATENATE(\"'UNITCOST ITEMS (Data Entry)'!D\",IFERROR(SUM(MATCH(A459,'UNITCOST ITEMS (Data Entry)'!$A$3:$A$504,0),2),\"\"))),\"\"))","v":""},{"$f":"IF(IFERROR(INDIRECT(CONCATENATE(\"'UNITCOST ITEMS (Data Entry)'!E\",IFERROR(SUM(MATCH(A459,'UNITCOST ITEMS (Data Entry)'!$A$3:$A$504,0),2),\"\"))),\"\")=0,\"\",IFERROR(INDIRECT(CONCATENATE(\"'UNITCOST ITEMS (Data Entry)'!E\",IFERROR(SUM(MATCH(A459,'UNITCOST ITEMS (Data Entry)'!$A$3:$A$504,0),2),\"\"))),\"\"))","v":""},null,{"$f":"IF(IFERROR(INDIRECT(CONCATENATE(\"'UNITCOST ITEMS (Data Entry)'!F\",IFERROR(SUM(MATCH(A459,'UNITCOST ITEMS (Data Entry)'!$A$3:$A$504,0),2),\"\"))),\"\")=0,\"\",IFERROR(INDIRECT(CONCATENATE(\"'UNITCOST ITEMS (Data Entry)'!F\",IFERROR(SUM(MATCH(A459,'UNITCOST ITEMS (Data Entry)'!$A$3:$A$504,0),2),\"\"))),\"\"))","v":""},{"$f":"IF(IFERROR(INDIRECT(CONCATENATE(\"'UNITCOST ITEMS (Data Entry)'!G\",IFERROR(SUM(MATCH(A459,'UNITCOST ITEMS (Data Entry)'!$A$3:$A$504,0),2),\"\"))),\"\")=0,\"\",IFERROR(INDIRECT(CONCATENATE(\"'UNITCOST ITEMS (Data Entry)'!G\",IFERROR(SUM(MATCH(A459,'UNITCOST ITEMS (Data Entry)'!$A$3:$A$504,0),2),\"\"))),\"\"))","v":""},{"$f":"IF(IFERROR(INDIRECT(CONCATENATE(\"'UNITCOST ITEMS (Data Entry)'!H\",IFERROR(SUM(MATCH(A459,'UNITCOST ITEMS (Data Entry)'!$A$3:$A$504,0),2),\"\"))),\"\")=0,\"\",IFERROR(INDIRECT(CONCATENATE(\"'UNITCOST ITEMS (Data Entry)'!H\",IFERROR(SUM(MATCH(A459,'UNITCOST ITEMS (Data Entry)'!$A$3:$A$504,0),2),\"\"))),\"\"))","v":""},{"$f":"IF(IFERROR(INDIRECT(CONCATENATE(\"'UNITCOST ITEMS (Data Entry)'!I\",IFERROR(SUM(MATCH(A459,'UNITCOST ITEMS (Data Entry)'!$A$3:$A$504,0),2),\"\"))),\"\")=0,\"\",IFERROR(INDIRECT(CONCATENATE(\"'UNITCOST ITEMS (Data Entry)'!I\",IFERROR(SUM(MATCH(A459,'UNITCOST ITEMS (Data Entry)'!$A$3:$A$504,0),2),\"\"))),\"\"))","v":""},{"$f":"IF(K459=2,\"\",IF(IFERROR(INDIRECT(CONCATENATE(\"'UNITCOST ITEMS (Data Entry)'!J\",IFERROR(SUM(MATCH(A459,'UNITCOST ITEMS (Data Entry)'!$A$3:$A$504,0),2),\"\"))),\"\")=0,\"\",IFERROR(INDIRECT(CONCATENATE(\"'UNITCOST ITEMS (Data Entry)'!J\",IFERROR(SUM(MATCH(A459,'UNITCOST ITEMS (Data Entry)'!$A$3:$A$504,0),2),\"\"))),\"\")))","v":""},null,{"$f":"IF(IFERROR(INDIRECT(CONCATENATE(\"'UNITCOST ITEMS (Data Entry)'!C\",IFERROR(SUM(MATCH(A459,'UNITCOST ITEMS (Data Entry)'!$A$3:$A$504,0),2),\"\"))),\"\")=0,\"\",IFERROR(INDIRECT(CONCATENATE(\"'UNITCOST ITEMS (Data Entry)'!C\",IFERROR(SUM(MATCH(A459,'UNITCOST ITEMS (Data Entry)'!$A$3:$A$504,0),2),\"\"))),\"\"))","v":""},""]
[452,{"$f":"IF(IFERROR(INDIRECT(CONCATENATE(\"'UNITCOST ITEMS (Data Entry)'!D\",IFERROR(SUM(MATCH(A460,'UNITCOST ITEMS (Data Entry)'!$A$3:$A$504,0),2),\"\"))),\"\")=0,\"\",IFERROR(INDIRECT(CONCATENATE(\"'UNITCOST ITEMS (Data Entry)'!D\",IFERROR(SUM(MATCH(A460,'UNITCOST ITEMS (Data Entry)'!$A$3:$A$504,0),2),\"\"))),\"\"))","v":""},{"$f":"IF(IFERROR(INDIRECT(CONCATENATE(\"'UNITCOST ITEMS (Data Entry)'!E\",IFERROR(SUM(MATCH(A460,'UNITCOST ITEMS (Data Entry)'!$A$3:$A$504,0),2),\"\"))),\"\")=0,\"\",IFERROR(INDIRECT(CONCATENATE(\"'UNITCOST ITEMS (Data Entry)'!E\",IFERROR(SUM(MATCH(A460,'UNITCOST ITEMS (Data Entry)'!$A$3:$A$504,0),2),\"\"))),\"\"))","v":""},null,{"$f":"IF(IFERROR(INDIRECT(CONCATENATE(\"'UNITCOST ITEMS (Data Entry)'!F\",IFERROR(SUM(MATCH(A460,'UNITCOST ITEMS (Data Entry)'!$A$3:$A$504,0),2),\"\"))),\"\")=0,\"\",IFERROR(INDIRECT(CONCATENATE(\"'UNITCOST ITEMS (Data Entry)'!F\",IFERROR(SUM(MATCH(A460,'UNITCOST ITEMS (Data Entry)'!$A$3:$A$504,0),2),\"\"))),\"\"))","v":""},{"$f":"IF(IFERROR(INDIRECT(CONCATENATE(\"'UNITCOST ITEMS (Data Entry)'!G\",IFERROR(SUM(MATCH(A460,'UNITCOST ITEMS (Data Entry)'!$A$3:$A$504,0),2),\"\"))),\"\")=0,\"\",IFERROR(INDIRECT(CONCATENATE(\"'UNITCOST ITEMS (Data Entry)'!G\",IFERROR(SUM(MATCH(A460,'UNITCOST ITEMS (Data Entry)'!$A$3:$A$504,0),2),\"\"))),\"\"))","v":""},{"$f":"IF(IFERROR(INDIRECT(CONCATENATE(\"'UNITCOST ITEMS (Data Entry)'!H\",IFERROR(SUM(MATCH(A460,'UNITCOST ITEMS (Data Entry)'!$A$3:$A$504,0),2),\"\"))),\"\")=0,\"\",IFERROR(INDIRECT(CONCATENATE(\"'UNITCOST ITEMS (Data Entry)'!H\",IFERROR(SUM(MATCH(A460,'UNITCOST ITEMS (Data Entry)'!$A$3:$A$504,0),2),\"\"))),\"\"))","v":""},{"$f":"IF(IFERROR(INDIRECT(CONCATENATE(\"'UNITCOST ITEMS (Data Entry)'!I\",IFERROR(SUM(MATCH(A460,'UNITCOST ITEMS (Data Entry)'!$A$3:$A$504,0),2),\"\"))),\"\")=0,\"\",IFERROR(INDIRECT(CONCATENATE(\"'UNITCOST ITEMS (Data Entry)'!I\",IFERROR(SUM(MATCH(A460,'UNITCOST ITEMS (Data Entry)'!$A$3:$A$504,0),2),\"\"))),\"\"))","v":""},{"$f":"IF(K460=2,\"\",IF(IFERROR(INDIRECT(CONCATENATE(\"'UNITCOST ITEMS (Data Entry)'!J\",IFERROR(SUM(MATCH(A460,'UNITCOST ITEMS (Data Entry)'!$A$3:$A$504,0),2),\"\"))),\"\")=0,\"\",IFERROR(INDIRECT(CONCATENATE(\"'UNITCOST ITEMS (Data Entry)'!J\",IFERROR(SUM(MATCH(A460,'UNITCOST ITEMS (Data Entry)'!$A$3:$A$504,0),2),\"\"))),\"\")))","v":""},null,{"$f":"IF(IFERROR(INDIRECT(CONCATENATE(\"'UNITCOST ITEMS (Data Entry)'!C\",IFERROR(SUM(MATCH(A460,'UNITCOST ITEMS (Data Entry)'!$A$3:$A$504,0),2),\"\"))),\"\")=0,\"\",IFERROR(INDIRECT(CONCATENATE(\"'UNITCOST ITEMS (Data Entry)'!C\",IFERROR(SUM(MATCH(A460,'UNITCOST ITEMS (Data Entry)'!$A$3:$A$504,0),2),\"\"))),\"\"))","v":""},""]
[453,{"$f":"IF(IFERROR(INDIRECT(CONCATENATE(\"'UNITCOST ITEMS (Data Entry)'!D\",IFERROR(SUM(MATCH(A461,'UNITCOST ITEMS (Data Entry)'!$A$3:$A$504,0),2),\"\"))),\"\")=0,\"\",IFERROR(INDIRECT(CONCATENATE(\"'UNITCOST ITEMS (Data Entry)'!D\",IFERROR(SUM(MATCH(A461,'UNITCOST ITEMS (Data Entry)'!$A$3:$A$504,0),2),\"\"))),\"\"))","v":""},{"$f":"IF(IFERROR(INDIRECT(CONCATENATE(\"'UNITCOST ITEMS (Data Entry)'!E\",IFERROR(SUM(MATCH(A461,'UNITCOST ITEMS (Data Entry)'!$A$3:$A$504,0),2),\"\"))),\"\")=0,\"\",IFERROR(INDIRECT(CONCATENATE(\"'UNITCOST ITEMS (Data Entry)'!E\",IFERROR(SUM(MATCH(A461,'UNITCOST ITEMS (Data Entry)'!$A$3:$A$504,0),2),\"\"))),\"\"))","v":""},null,{"$f":"IF(IFERROR(INDIRECT(CONCATENATE(\"'UNITCOST ITEMS (Data Entry)'!F\",IFERROR(SUM(MATCH(A461,'UNITCOST ITEMS (Data Entry)'!$A$3:$A$504,0),2),\"\"))),\"\")=0,\"\",IFERROR(INDIRECT(CONCATENATE(\"'UNITCOST ITEMS (Data Entry)'!F\",IFERROR(SUM(MATCH(A461,'UNITCOST ITEMS (Data Entry)'!$A$3:$A$504,0),2),\"\"))),\"\"))","v":""},{"$f":"IF(IFERROR(INDIRECT(CONCATENATE(\"'UNITCOST ITEMS (Data Entry)'!G\",IFERROR(SUM(MATCH(A461,'UNITCOST ITEMS (Data Entry)'!$A$3:$A$504,0),2),\"\"))),\"\")=0,\"\",IFERROR(INDIRECT(CONCATENATE(\"'UNITCOST ITEMS (Data Entry)'!G\",IFERROR(SUM(MATCH(A461,'UNITCOST ITEMS (Data Entry)'!$A$3:$A$504,0),2),\"\"))),\"\"))","v":""},{"$f":"IF(IFERROR(INDIRECT(CONCATENATE(\"'UNITCOST ITEMS (Data Entry)'!H\",IFERROR(SUM(MATCH(A461,'UNITCOST ITEMS (Data Entry)'!$A$3:$A$504,0),2),\"\"))),\"\")=0,\"\",IFERROR(INDIRECT(CONCATENATE(\"'UNITCOST ITEMS (Data Entry)'!H\",IFERROR(SUM(MATCH(A461,'UNITCOST ITEMS (Data Entry)'!$A$3:$A$504,0),2),\"\"))),\"\"))","v":""},{"$f":"IF(IFERROR(INDIRECT(CONCATENATE(\"'UNITCOST ITEMS (Data Entry)'!I\",IFERROR(SUM(MATCH(A461,'UNITCOST ITEMS (Data Entry)'!$A$3:$A$504,0),2),\"\"))),\"\")=0,\"\",IFERROR(INDIRECT(CONCATENATE(\"'UNITCOST ITEMS (Data Entry)'!I\",IFERROR(SUM(MATCH(A461,'UNITCOST ITEMS (Data Entry)'!$A$3:$A$504,0),2),\"\"))),\"\"))","v":""},{"$f":"IF(K461=2,\"\",IF(IFERROR(INDIRECT(CONCATENATE(\"'UNITCOST ITEMS (Data Entry)'!J\",IFERROR(SUM(MATCH(A461,'UNITCOST ITEMS (Data Entry)'!$A$3:$A$504,0),2),\"\"))),\"\")=0,\"\",IFERROR(INDIRECT(CONCATENATE(\"'UNITCOST ITEMS (Data Entry)'!J\",IFERROR(SUM(MATCH(A461,'UNITCOST ITEMS (Data Entry)'!$A$3:$A$504,0),2),\"\"))),\"\")))","v":""},null,{"$f":"IF(IFERROR(INDIRECT(CONCATENATE(\"'UNITCOST ITEMS (Data Entry)'!C\",IFERROR(SUM(MATCH(A461,'UNITCOST ITEMS (Data Entry)'!$A$3:$A$504,0),2),\"\"))),\"\")=0,\"\",IFERROR(INDIRECT(CONCATENATE(\"'UNITCOST ITEMS (Data Entry)'!C\",IFERROR(SUM(MATCH(A461,'UNITCOST ITEMS (Data Entry)'!$A$3:$A$504,0),2),\"\"))),\"\"))","v":""},""]
[454,{"$f":"IF(IFERROR(INDIRECT(CONCATENATE(\"'UNITCOST ITEMS (Data Entry)'!D\",IFERROR(SUM(MATCH(A462,'UNITCOST ITEMS (Data Entry)'!$A$3:$A$504,0),2),\"\"))),\"\")=0,\"\",IFERROR(INDIRECT(CONCATENATE(\"'UNITCOST ITEMS (Data Entry)'!D\",IFERROR(SUM(MATCH(A462,'UNITCOST ITEMS (Data Entry)'!$A$3:$A$504,0),2),\"\"))),\"\"))","v":""},{"$f":"IF(IFERROR(INDIRECT(CONCATENATE(\"'UNITCOST ITEMS (Data Entry)'!E\",IFERROR(SUM(MATCH(A462,'UNITCOST ITEMS (Data Entry)'!$A$3:$A$504,0),2),\"\"))),\"\")=0,\"\",IFERROR(INDIRECT(CONCATENATE(\"'UNITCOST ITEMS (Data Entry)'!E\",IFERROR(SUM(MATCH(A462,'UNITCOST ITEMS (Data Entry)'!$A$3:$A$504,0),2),\"\"))),\"\"))","v":""},null,{"$f":"IF(IFERROR(INDIRECT(CONCATENATE(\"'UNITCOST ITEMS (Data Entry)'!F\",IFERROR(SUM(MATCH(A462,'UNITCOST ITEMS (Data Entry)'!$A$3:$A$504,0),2),\"\"))),\"\")=0,\"\",IFERROR(INDIRECT(CONCATENATE(\"'UNITCOST ITEMS (Data Entry)'!F\",IFERROR(SUM(MATCH(A462,'UNITCOST ITEMS (Data Entry)'!$A$3:$A$504,0),2),\"\"))),\"\"))","v":""},{"$f":"IF(IFERROR(INDIRECT(CONCATENATE(\"'UNITCOST ITEMS (Data Entry)'!G\",IFERROR(SUM(MATCH(A462,'UNITCOST ITEMS (Data Entry)'!$A$3:$A$504,0),2),\"\"))),\"\")=0,\"\",IFERROR(INDIRECT(CONCATENATE(\"'UNITCOST ITEMS (Data Entry)'!G\",IFERROR(SUM(MATCH(A462,'UNITCOST ITEMS (Data Entry)'!$A$3:$A$504,0),2),\"\"))),\"\"))","v":""},{"$f":"IF(IFERROR(INDIRECT(CONCATENATE(\"'UNITCOST ITEMS (Data Entry)'!H\",IFERROR(SUM(MATCH(A462,'UNITCOST ITEMS (Data Entry)'!$A$3:$A$504,0),2),\"\"))),\"\")=0,\"\",IFERROR(INDIRECT(CONCATENATE(\"'UNITCOST ITEMS (Data Entry)'!H\",IFERROR(SUM(MATCH(A462,'UNITCOST ITEMS (Data Entry)'!$A$3:$A$504,0),2),\"\"))),\"\"))","v":""},{"$f":"IF(IFERROR(INDIRECT(CONCATENATE(\"'UNITCOST ITEMS (Data Entry)'!I\",IFERROR(SUM(MATCH(A462,'UNITCOST ITEMS (Data Entry)'!$A$3:$A$504,0),2),\"\"))),\"\")=0,\"\",IFERROR(INDIRECT(CONCATENATE(\"'UNITCOST ITEMS (Data Entry)'!I\",IFERROR(SUM(MATCH(A462,'UNITCOST ITEMS (Data Entry)'!$A$3:$A$504,0),2),\"\"))),\"\"))","v":""},{"$f":"IF(K462=2,\"\",IF(IFERROR(INDIRECT(CONCATENATE(\"'UNITCOST ITEMS (Data Entry)'!J\",IFERROR(SUM(MATCH(A462,'UNITCOST ITEMS (Data Entry)'!$A$3:$A$504,0),2),\"\"))),\"\")=0,\"\",IFERROR(INDIRECT(CONCATENATE(\"'UNITCOST ITEMS (Data Entry)'!J\",IFERROR(SUM(MATCH(A462,'UNITCOST ITEMS (Data Entry)'!$A$3:$A$504,0),2),\"\"))),\"\")))","v":""},null,{"$f":"IF(IFERROR(INDIRECT(CONCATENATE(\"'UNITCOST ITEMS (Data Entry)'!C\",IFERROR(SUM(MATCH(A462,'UNITCOST ITEMS (Data Entry)'!$A$3:$A$504,0),2),\"\"))),\"\")=0,\"\",IFERROR(INDIRECT(CONCATENATE(\"'UNITCOST ITEMS (Data Entry)'!C\",IFERROR(SUM(MATCH(A462,'UNITCOST ITEMS (Data Entry)'!$A$3:$A$504,0),2),\"\"))),\"\"))","v":""},""]
[455,{"$f":"IF(IFERROR(INDIRECT(CONCATENATE(\"'UNITCOST ITEMS (Data Entry)'!D\",IFERROR(SUM(MATCH(A463,'UNITCOST ITEMS (Data Entry)'!$A$3:$A$504,0),2),\"\"))),\"\")=0,\"\",IFERROR(INDIRECT(CONCATENATE(\"'UNITCOST ITEMS (Data Entry)'!D\",IFERROR(SUM(MATCH(A463,'UNITCOST ITEMS (Data Entry)'!$A$3:$A$504,0),2),\"\"))),\"\"))","v":""},{"$f":"IF(IFERROR(INDIRECT(CONCATENATE(\"'UNITCOST ITEMS (Data Entry)'!E\",IFERROR(SUM(MATCH(A463,'UNITCOST ITEMS (Data Entry)'!$A$3:$A$504,0),2),\"\"))),\"\")=0,\"\",IFERROR(INDIRECT(CONCATENATE(\"'UNITCOST ITEMS (Data Entry)'!E\",IFERROR(SUM(MATCH(A463,'UNITCOST ITEMS (Data Entry)'!$A$3:$A$504,0),2),\"\"))),\"\"))","v":""},null,{"$f":"IF(IFERROR(INDIRECT(CONCATENATE(\"'UNITCOST ITEMS (Data Entry)'!F\",IFERROR(SUM(MATCH(A463,'UNITCOST ITEMS (Data Entry)'!$A$3:$A$504,0),2),\"\"))),\"\")=0,\"\",IFERROR(INDIRECT(CONCATENATE(\"'UNITCOST ITEMS (Data Entry)'!F\",IFERROR(SUM(MATCH(A463,'UNITCOST ITEMS (Data Entry)'!$A$3:$A$504,0),2),\"\"))),\"\"))","v":""},{"$f":"IF(IFERROR(INDIRECT(CONCATENATE(\"'UNITCOST ITEMS (Data Entry)'!G\",IFERROR(SUM(MATCH(A463,'UNITCOST ITEMS (Data Entry)'!$A$3:$A$504,0),2),\"\"))),\"\")=0,\"\",IFERROR(INDIRECT(CONCATENATE(\"'UNITCOST ITEMS (Data Entry)'!G\",IFERROR(SUM(MATCH(A463,'UNITCOST ITEMS (Data Entry)'!$A$3:$A$504,0),2),\"\"))),\"\"))","v":""},{"$f":"IF(IFERROR(INDIRECT(CONCATENATE(\"'UNITCOST ITEMS (Data Entry)'!H\",IFERROR(SUM(MATCH(A463,'UNITCOST ITEMS (Data Entry)'!$A$3:$A$504,0),2),\"\"))),\"\")=0,\"\",IFERROR(INDIRECT(CONCATENATE(\"'UNITCOST ITEMS (Data Entry)'!H\",IFERROR(SUM(MATCH(A463,'UNITCOST ITEMS (Data Entry)'!$A$3:$A$504,0),2),\"\"))),\"\"))","v":""},{"$f":"IF(IFERROR(INDIRECT(CONCATENATE(\"'UNITCOST ITEMS (Data Entry)'!I\",IFERROR(SUM(MATCH(A463,'UNITCOST ITEMS (Data Entry)'!$A$3:$A$504,0),2),\"\"))),\"\")=0,\"\",IFERROR(INDIRECT(CONCATENATE(\"'UNITCOST ITEMS (Data Entry)'!I\",IFERROR(SUM(MATCH(A463,'UNITCOST ITEMS (Data Entry)'!$A$3:$A$504,0),2),\"\"))),\"\"))","v":""},{"$f":"IF(K463=2,\"\",IF(IFERROR(INDIRECT(CONCATENATE(\"'UNITCOST ITEMS (Data Entry)'!J\",IFERROR(SUM(MATCH(A463,'UNITCOST ITEMS (Data Entry)'!$A$3:$A$504,0),2),\"\"))),\"\")=0,\"\",IFERROR(INDIRECT(CONCATENATE(\"'UNITCOST ITEMS (Data Entry)'!J\",IFERROR(SUM(MATCH(A463,'UNITCOST ITEMS (Data Entry)'!$A$3:$A$504,0),2),\"\"))),\"\")))","v":""},null,{"$f":"IF(IFERROR(INDIRECT(CONCATENATE(\"'UNITCOST ITEMS (Data Entry)'!C\",IFERROR(SUM(MATCH(A463,'UNITCOST ITEMS (Data Entry)'!$A$3:$A$504,0),2),\"\"))),\"\")=0,\"\",IFERROR(INDIRECT(CONCATENATE(\"'UNITCOST ITEMS (Data Entry)'!C\",IFERROR(SUM(MATCH(A463,'UNITCOST ITEMS (Data Entry)'!$A$3:$A$504,0),2),\"\"))),\"\"))","v":""},""]
[456,{"$f":"IF(IFERROR(INDIRECT(CONCATENATE(\"'UNITCOST ITEMS (Data Entry)'!D\",IFERROR(SUM(MATCH(A464,'UNITCOST ITEMS (Data Entry)'!$A$3:$A$504,0),2),\"\"))),\"\")=0,\"\",IFERROR(INDIRECT(CONCATENATE(\"'UNITCOST ITEMS (Data Entry)'!D\",IFERROR(SUM(MATCH(A464,'UNITCOST ITEMS (Data Entry)'!$A$3:$A$504,0),2),\"\"))),\"\"))","v":""},{"$f":"IF(IFERROR(INDIRECT(CONCATENATE(\"'UNITCOST ITEMS (Data Entry)'!E\",IFERROR(SUM(MATCH(A464,'UNITCOST ITEMS (Data Entry)'!$A$3:$A$504,0),2),\"\"))),\"\")=0,\"\",IFERROR(INDIRECT(CONCATENATE(\"'UNITCOST ITEMS (Data Entry)'!E\",IFERROR(SUM(MATCH(A464,'UNITCOST ITEMS (Data Entry)'!$A$3:$A$504,0),2),\"\"))),\"\"))","v":""},null,{"$f":"IF(IFERROR(INDIRECT(CONCATENATE(\"'UNITCOST ITEMS (Data Entry)'!F\",IFERROR(SUM(MATCH(A464,'UNITCOST ITEMS (Data Entry)'!$A$3:$A$504,0),2),\"\"))),\"\")=0,\"\",IFERROR(INDIRECT(CONCATENATE(\"'UNITCOST ITEMS (Data Entry)'!F\",IFERROR(SUM(MATCH(A464,'UNITCOST ITEMS (Data Entry)'!$A$3:$A$504,0),2),\"\"))),\"\"))","v":""},{"$f":"IF(IFERROR(INDIRECT(CONCATENATE(\"'UNITCOST ITEMS (Data Entry)'!G\",IFERROR(SUM(MATCH(A464,'UNITCOST ITEMS (Data Entry)'!$A$3:$A$504,0),2),\"\"))),\"\")=0,\"\",IFERROR(INDIRECT(CONCATENATE(\"'UNITCOST ITEMS (Data Entry)'!G\",IFERROR(SUM(MATCH(A464,'UNITCOST ITEMS (Data Entry)'!$A$3:$A$504,0),2),\"\"))),\"\"))","v":""},{"$f":"IF(IFERROR(INDIRECT(CONCATENATE(\"'UNITCOST ITEMS (Data Entry)'!H\",IFERROR(SUM(MATCH(A464,'UNITCOST ITEMS (Data Entry)'!$A$3:$A$504,0),2),\"\"))),\"\")=0,\"\",IFERROR(INDIRECT(CONCATENATE(\"'UNITCOST ITEMS (Data Entry)'!H\",IFERROR(SUM(MATCH(A464,'UNITCOST ITEMS (Data Entry)'!$A$3:$A$504,0),2),\"\"))),\"\"))","v":""},{"$f":"IF(IFERROR(INDIRECT(CONCATENATE(\"'UNITCOST ITEMS (Data Entry)'!I\",IFERROR(SUM(MATCH(A464,'UNITCOST ITEMS (Data Entry)'!$A$3:$A$504,0),2),\"\"))),\"\")=0,\"\",IFERROR(INDIRECT(CONCATENATE(\"'UNITCOST ITEMS (Data Entry)'!I\",IFERROR(SUM(MATCH(A464,'UNITCOST ITEMS (Data Entry)'!$A$3:$A$504,0),2),\"\"))),\"\"))","v":""},{"$f":"IF(K464=2,\"\",IF(IFERROR(INDIRECT(CONCATENATE(\"'UNITCOST ITEMS (Data Entry)'!J\",IFERROR(SUM(MATCH(A464,'UNITCOST ITEMS (Data Entry)'!$A$3:$A$504,0),2),\"\"))),\"\")=0,\"\",IFERROR(INDIRECT(CONCATENATE(\"'UNITCOST ITEMS (Data Entry)'!J\",IFERROR(SUM(MATCH(A464,'UNITCOST ITEMS (Data Entry)'!$A$3:$A$504,0),2),\"\"))),\"\")))","v":""},null,{"$f":"IF(IFERROR(INDIRECT(CONCATENATE(\"'UNITCOST ITEMS (Data Entry)'!C\",IFERROR(SUM(MATCH(A464,'UNITCOST ITEMS (Data Entry)'!$A$3:$A$504,0),2),\"\"))),\"\")=0,\"\",IFERROR(INDIRECT(CONCATENATE(\"'UNITCOST ITEMS (Data Entry)'!C\",IFERROR(SUM(MATCH(A464,'UNITCOST ITEMS (Data Entry)'!$A$3:$A$504,0),2),\"\"))),\"\"))","v":""},""]
[457,{"$f":"IF(IFERROR(INDIRECT(CONCATENATE(\"'UNITCOST ITEMS (Data Entry)'!D\",IFERROR(SUM(MATCH(A465,'UNITCOST ITEMS (Data Entry)'!$A$3:$A$504,0),2),\"\"))),\"\")=0,\"\",IFERROR(INDIRECT(CONCATENATE(\"'UNITCOST ITEMS (Data Entry)'!D\",IFERROR(SUM(MATCH(A465,'UNITCOST ITEMS (Data Entry)'!$A$3:$A$504,0),2),\"\"))),\"\"))","v":""},{"$f":"IF(IFERROR(INDIRECT(CONCATENATE(\"'UNITCOST ITEMS (Data Entry)'!E\",IFERROR(SUM(MATCH(A465,'UNITCOST ITEMS (Data Entry)'!$A$3:$A$504,0),2),\"\"))),\"\")=0,\"\",IFERROR(INDIRECT(CONCATENATE(\"'UNITCOST ITEMS (Data Entry)'!E\",IFERROR(SUM(MATCH(A465,'UNITCOST ITEMS (Data Entry)'!$A$3:$A$504,0),2),\"\"))),\"\"))","v":""},null,{"$f":"IF(IFERROR(INDIRECT(CONCATENATE(\"'UNITCOST ITEMS (Data Entry)'!F\",IFERROR(SUM(MATCH(A465,'UNITCOST ITEMS (Data Entry)'!$A$3:$A$504,0),2),\"\"))),\"\")=0,\"\",IFERROR(INDIRECT(CONCATENATE(\"'UNITCOST ITEMS (Data Entry)'!F\",IFERROR(SUM(MATCH(A465,'UNITCOST ITEMS (Data Entry)'!$A$3:$A$504,0),2),\"\"))),\"\"))","v":""},{"$f":"IF(IFERROR(INDIRECT(CONCATENATE(\"'UNITCOST ITEMS (Data Entry)'!G\",IFERROR(SUM(MATCH(A465,'UNITCOST ITEMS (Data Entry)'!$A$3:$A$504,0),2),\"\"))),\"\")=0,\"\",IFERROR(INDIRECT(CONCATENATE(\"'UNITCOST ITEMS (Data Entry)'!G\",IFERROR(SUM(MATCH(A465,'UNITCOST ITEMS (Data Entry)'!$A$3:$A$504,0),2),\"\"))),\"\"))","v":""},{"$f":"IF(IFERROR(INDIRECT(CONCATENATE(\"'UNITCOST ITEMS (Data Entry)'!H\",IFERROR(SUM(MATCH(A465,'UNITCOST ITEMS (Data Entry)'!$A$3:$A$504,0),2),\"\"))),\"\")=0,\"\",IFERROR(INDIRECT(CONCATENATE(\"'UNITCOST ITEMS (Data Entry)'!H\",IFERROR(SUM(MATCH(A465,'UNITCOST ITEMS (Data Entry)'!$A$3:$A$504,0),2),\"\"))),\"\"))","v":""},{"$f":"IF(IFERROR(INDIRECT(CONCATENATE(\"'UNITCOST ITEMS (Data Entry)'!I\",IFERROR(SUM(MATCH(A465,'UNITCOST ITEMS (Data Entry)'!$A$3:$A$504,0),2),\"\"))),\"\")=0,\"\",IFERROR(INDIRECT(CONCATENATE(\"'UNITCOST ITEMS (Data Entry)'!I\",IFERROR(SUM(MATCH(A465,'UNITCOST ITEMS (Data Entry)'!$A$3:$A$504,0),2),\"\"))),\"\"))","v":""},{"$f":"IF(K465=2,\"\",IF(IFERROR(INDIRECT(CONCATENATE(\"'UNITCOST ITEMS (Data Entry)'!J\",IFERROR(SUM(MATCH(A465,'UNITCOST ITEMS (Data Entry)'!$A$3:$A$504,0),2),\"\"))),\"\")=0,\"\",IFERROR(INDIRECT(CONCATENATE(\"'UNITCOST ITEMS (Data Entry)'!J\",IFERROR(SUM(MATCH(A465,'UNITCOST ITEMS (Data Entry)'!$A$3:$A$504,0),2),\"\"))),\"\")))","v":""},null,{"$f":"IF(IFERROR(INDIRECT(CONCATENATE(\"'UNITCOST ITEMS (Data Entry)'!C\",IFERROR(SUM(MATCH(A465,'UNITCOST ITEMS (Data Entry)'!$A$3:$A$504,0),2),\"\"))),\"\")=0,\"\",IFERROR(INDIRECT(CONCATENATE(\"'UNITCOST ITEMS (Data Entry)'!C\",IFERROR(SUM(MATCH(A465,'UNITCOST ITEMS (Data Entry)'!$A$3:$A$504,0),2),\"\"))),\"\"))","v":""},""]
[458,{"$f":"IF(IFERROR(INDIRECT(CONCATENATE(\"'UNITCOST ITEMS (Data Entry)'!D\",IFERROR(SUM(MATCH(A466,'UNITCOST ITEMS (Data Entry)'!$A$3:$A$504,0),2),\"\"))),\"\")=0,\"\",IFERROR(INDIRECT(CONCATENATE(\"'UNITCOST ITEMS (Data Entry)'!D\",IFERROR(SUM(MATCH(A466,'UNITCOST ITEMS (Data Entry)'!$A$3:$A$504,0),2),\"\"))),\"\"))","v":""},{"$f":"IF(IFERROR(INDIRECT(CONCATENATE(\"'UNITCOST ITEMS (Data Entry)'!E\",IFERROR(SUM(MATCH(A466,'UNITCOST ITEMS (Data Entry)'!$A$3:$A$504,0),2),\"\"))),\"\")=0,\"\",IFERROR(INDIRECT(CONCATENATE(\"'UNITCOST ITEMS (Data Entry)'!E\",IFERROR(SUM(MATCH(A466,'UNITCOST ITEMS (Data Entry)'!$A$3:$A$504,0),2),\"\"))),\"\"))","v":""},null,{"$f":"IF(IFERROR(INDIRECT(CONCATENATE(\"'UNITCOST ITEMS (Data Entry)'!F\",IFERROR(SUM(MATCH(A466,'UNITCOST ITEMS (Data Entry)'!$A$3:$A$504,0),2),\"\"))),\"\")=0,\"\",IFERROR(INDIRECT(CONCATENATE(\"'UNITCOST ITEMS (Data Entry)'!F\",IFERROR(SUM(MATCH(A466,'UNITCOST ITEMS (Data Entry)'!$A$3:$A$504,0),2),\"\"))),\"\"))","v":""},{"$f":"IF(IFERROR(INDIRECT(CONCATENATE(\"'UNITCOST ITEMS (Data Entry)'!G\",IFERROR(SUM(MATCH(A466,'UNITCOST ITEMS (Data Entry)'!$A$3:$A$504,0),2),\"\"))),\"\")=0,\"\",IFERROR(INDIRECT(CONCATENATE(\"'UNITCOST ITEMS (Data Entry)'!G\",IFERROR(SUM(MATCH(A466,'UNITCOST ITEMS (Data Entry)'!$A$3:$A$504,0),2),\"\"))),\"\"))","v":""},{"$f":"IF(IFERROR(INDIRECT(CONCATENATE(\"'UNITCOST ITEMS (Data Entry)'!H\",IFERROR(SUM(MATCH(A466,'UNITCOST ITEMS (Data Entry)'!$A$3:$A$504,0),2),\"\"))),\"\")=0,\"\",IFERROR(INDIRECT(CONCATENATE(\"'UNITCOST ITEMS (Data Entry)'!H\",IFERROR(SUM(MATCH(A466,'UNITCOST ITEMS (Data Entry)'!$A$3:$A$504,0),2),\"\"))),\"\"))","v":""},{"$f":"IF(IFERROR(INDIRECT(CONCATENATE(\"'UNITCOST ITEMS (Data Entry)'!I\",IFERROR(SUM(MATCH(A466,'UNITCOST ITEMS (Data Entry)'!$A$3:$A$504,0),2),\"\"))),\"\")=0,\"\",IFERROR(INDIRECT(CONCATENATE(\"'UNITCOST ITEMS (Data Entry)'!I\",IFERROR(SUM(MATCH(A466,'UNITCOST ITEMS (Data Entry)'!$A$3:$A$504,0),2),\"\"))),\"\"))","v":""},{"$f":"IF(K466=2,\"\",IF(IFERROR(INDIRECT(CONCATENATE(\"'UNITCOST ITEMS (Data Entry)'!J\",IFERROR(SUM(MATCH(A466,'UNITCOST ITEMS (Data Entry)'!$A$3:$A$504,0),2),\"\"))),\"\")=0,\"\",IFERROR(INDIRECT(CONCATENATE(\"'UNITCOST ITEMS (Data Entry)'!J\",IFERROR(SUM(MATCH(A466,'UNITCOST ITEMS (Data Entry)'!$A$3:$A$504,0),2),\"\"))),\"\")))","v":""},null,{"$f":"IF(IFERROR(INDIRECT(CONCATENATE(\"'UNITCOST ITEMS (Data Entry)'!C\",IFERROR(SUM(MATCH(A466,'UNITCOST ITEMS (Data Entry)'!$A$3:$A$504,0),2),\"\"))),\"\")=0,\"\",IFERROR(INDIRECT(CONCATENATE(\"'UNITCOST ITEMS (Data Entry)'!C\",IFERROR(SUM(MATCH(A466,'UNITCOST ITEMS (Data Entry)'!$A$3:$A$504,0),2),\"\"))),\"\"))","v":""},""]
[459,{"$f":"IF(IFERROR(INDIRECT(CONCATENATE(\"'UNITCOST ITEMS (Data Entry)'!D\",IFERROR(SUM(MATCH(A467,'UNITCOST ITEMS (Data Entry)'!$A$3:$A$504,0),2),\"\"))),\"\")=0,\"\",IFERROR(INDIRECT(CONCATENATE(\"'UNITCOST ITEMS (Data Entry)'!D\",IFERROR(SUM(MATCH(A467,'UNITCOST ITEMS (Data Entry)'!$A$3:$A$504,0),2),\"\"))),\"\"))","v":""},{"$f":"IF(IFERROR(INDIRECT(CONCATENATE(\"'UNITCOST ITEMS (Data Entry)'!E\",IFERROR(SUM(MATCH(A467,'UNITCOST ITEMS (Data Entry)'!$A$3:$A$504,0),2),\"\"))),\"\")=0,\"\",IFERROR(INDIRECT(CONCATENATE(\"'UNITCOST ITEMS (Data Entry)'!E\",IFERROR(SUM(MATCH(A467,'UNITCOST ITEMS (Data Entry)'!$A$3:$A$504,0),2),\"\"))),\"\"))","v":""},null,{"$f":"IF(IFERROR(INDIRECT(CONCATENATE(\"'UNITCOST ITEMS (Data Entry)'!F\",IFERROR(SUM(MATCH(A467,'UNITCOST ITEMS (Data Entry)'!$A$3:$A$504,0),2),\"\"))),\"\")=0,\"\",IFERROR(INDIRECT(CONCATENATE(\"'UNITCOST ITEMS (Data Entry)'!F\",IFERROR(SUM(MATCH(A467,'UNITCOST ITEMS (Data Entry)'!$A$3:$A$504,0),2),\"\"))),\"\"))","v":""},{"$f":"IF(IFERROR(INDIRECT(CONCATENATE(\"'UNITCOST ITEMS (Data Entry)'!G\",IFERROR(SUM(MATCH(A467,'UNITCOST ITEMS (Data Entry)'!$A$3:$A$504,0),2),\"\"))),\"\")=0,\"\",IFERROR(INDIRECT(CONCATENATE(\"'UNITCOST ITEMS (Data Entry)'!G\",IFERROR(SUM(MATCH(A467,'UNITCOST ITEMS (Data Entry)'!$A$3:$A$504,0),2),\"\"))),\"\"))","v":""},{"$f":"IF(IFERROR(INDIRECT(CONCATENATE(\"'UNITCOST ITEMS (Data Entry)'!H\",IFERROR(SUM(MATCH(A467,'UNITCOST ITEMS (Data Entry)'!$A$3:$A$504,0),2),\"\"))),\"\")=0,\"\",IFERROR(INDIRECT(CONCATENATE(\"'UNITCOST ITEMS (Data Entry)'!H\",IFERROR(SUM(MATCH(A467,'UNITCOST ITEMS (Data Entry)'!$A$3:$A$504,0),2),\"\"))),\"\"))","v":""},{"$f":"IF(IFERROR(INDIRECT(CONCATENATE(\"'UNITCOST ITEMS (Data Entry)'!I\",IFERROR(SUM(MATCH(A467,'UNITCOST ITEMS (Data Entry)'!$A$3:$A$504,0),2),\"\"))),\"\")=0,\"\",IFERROR(INDIRECT(CONCATENATE(\"'UNITCOST ITEMS (Data Entry)'!I\",IFERROR(SUM(MATCH(A467,'UNITCOST ITEMS (Data Entry)'!$A$3:$A$504,0),2),\"\"))),\"\"))","v":""},{"$f":"IF(K467=2,\"\",IF(IFERROR(INDIRECT(CONCATENATE(\"'UNITCOST ITEMS (Data Entry)'!J\",IFERROR(SUM(MATCH(A467,'UNITCOST ITEMS (Data Entry)'!$A$3:$A$504,0),2),\"\"))),\"\")=0,\"\",IFERROR(INDIRECT(CONCATENATE(\"'UNITCOST ITEMS (Data Entry)'!J\",IFERROR(SUM(MATCH(A467,'UNITCOST ITEMS (Data Entry)'!$A$3:$A$504,0),2),\"\"))),\"\")))","v":""},null,{"$f":"IF(IFERROR(INDIRECT(CONCATENATE(\"'UNITCOST ITEMS (Data Entry)'!C\",IFERROR(SUM(MATCH(A467,'UNITCOST ITEMS (Data Entry)'!$A$3:$A$504,0),2),\"\"))),\"\")=0,\"\",IFERROR(INDIRECT(CONCATENATE(\"'UNITCOST ITEMS (Data Entry)'!C\",IFERROR(SUM(MATCH(A467,'UNITCOST ITEMS (Data Entry)'!$A$3:$A$504,0),2),\"\"))),\"\"))","v":""},""]
[460,{"$f":"IF(IFERROR(INDIRECT(CONCATENATE(\"'UNITCOST ITEMS (Data Entry)'!D\",IFERROR(SUM(MATCH(A468,'UNITCOST ITEMS (Data Entry)'!$A$3:$A$504,0),2),\"\"))),\"\")=0,\"\",IFERROR(INDIRECT(CONCATENATE(\"'UNITCOST ITEMS (Data Entry)'!D\",IFERROR(SUM(MATCH(A468,'UNITCOST ITEMS (Data Entry)'!$A$3:$A$504,0),2),\"\"))),\"\"))","v":""},{"$f":"IF(IFERROR(INDIRECT(CONCATENATE(\"'UNITCOST ITEMS (Data Entry)'!E\",IFERROR(SUM(MATCH(A468,'UNITCOST ITEMS (Data Entry)'!$A$3:$A$504,0),2),\"\"))),\"\")=0,\"\",IFERROR(INDIRECT(CONCATENATE(\"'UNITCOST ITEMS (Data Entry)'!E\",IFERROR(SUM(MATCH(A468,'UNITCOST ITEMS (Data Entry)'!$A$3:$A$504,0),2),\"\"))),\"\"))","v":""},null,{"$f":"IF(IFERROR(INDIRECT(CONCATENATE(\"'UNITCOST ITEMS (Data Entry)'!F\",IFERROR(SUM(MATCH(A468,'UNITCOST ITEMS (Data Entry)'!$A$3:$A$504,0),2),\"\"))),\"\")=0,\"\",IFERROR(INDIRECT(CONCATENATE(\"'UNITCOST ITEMS (Data Entry)'!F\",IFERROR(SUM(MATCH(A468,'UNITCOST ITEMS (Data Entry)'!$A$3:$A$504,0),2),\"\"))),\"\"))","v":""},{"$f":"IF(IFERROR(INDIRECT(CONCATENATE(\"'UNITCOST ITEMS (Data Entry)'!G\",IFERROR(SUM(MATCH(A468,'UNITCOST ITEMS (Data Entry)'!$A$3:$A$504,0),2),\"\"))),\"\")=0,\"\",IFERROR(INDIRECT(CONCATENATE(\"'UNITCOST ITEMS (Data Entry)'!G\",IFERROR(SUM(MATCH(A468,'UNITCOST ITEMS (Data Entry)'!$A$3:$A$504,0),2),\"\"))),\"\"))","v":""},{"$f":"IF(IFERROR(INDIRECT(CONCATENATE(\"'UNITCOST ITEMS (Data Entry)'!H\",IFERROR(SUM(MATCH(A468,'UNITCOST ITEMS (Data Entry)'!$A$3:$A$504,0),2),\"\"))),\"\")=0,\"\",IFERROR(INDIRECT(CONCATENATE(\"'UNITCOST ITEMS (Data Entry)'!H\",IFERROR(SUM(MATCH(A468,'UNITCOST ITEMS (Data Entry)'!$A$3:$A$504,0),2),\"\"))),\"\"))","v":""},{"$f":"IF(IFERROR(INDIRECT(CONCATENATE(\"'UNITCOST ITEMS (Data Entry)'!I\",IFERROR(SUM(MATCH(A468,'UNITCOST ITEMS (Data Entry)'!$A$3:$A$504,0),2),\"\"))),\"\")=0,\"\",IFERROR(INDIRECT(CONCATENATE(\"'UNITCOST ITEMS (Data Entry)'!I\",IFERROR(SUM(MATCH(A468,'UNITCOST ITEMS (Data Entry)'!$A$3:$A$504,0),2),\"\"))),\"\"))","v":""},{"$f":"IF(K468=2,\"\",IF(IFERROR(INDIRECT(CONCATENATE(\"'UNITCOST ITEMS (Data Entry)'!J\",IFERROR(SUM(MATCH(A468,'UNITCOST ITEMS (Data Entry)'!$A$3:$A$504,0),2),\"\"))),\"\")=0,\"\",IFERROR(INDIRECT(CONCATENATE(\"'UNITCOST ITEMS (Data Entry)'!J\",IFERROR(SUM(MATCH(A468,'UNITCOST ITEMS (Data Entry)'!$A$3:$A$504,0),2),\"\"))),\"\")))","v":""},null,{"$f":"IF(IFERROR(INDIRECT(CONCATENATE(\"'UNITCOST ITEMS (Data Entry)'!C\",IFERROR(SUM(MATCH(A468,'UNITCOST ITEMS (Data Entry)'!$A$3:$A$504,0),2),\"\"))),\"\")=0,\"\",IFERROR(INDIRECT(CONCATENATE(\"'UNITCOST ITEMS (Data Entry)'!C\",IFERROR(SUM(MATCH(A468,'UNITCOST ITEMS (Data Entry)'!$A$3:$A$504,0),2),\"\"))),\"\"))","v":""},""]
[461,{"$f":"IF(IFERROR(INDIRECT(CONCATENATE(\"'UNITCOST ITEMS (Data Entry)'!D\",IFERROR(SUM(MATCH(A469,'UNITCOST ITEMS (Data Entry)'!$A$3:$A$504,0),2),\"\"))),\"\")=0,\"\",IFERROR(INDIRECT(CONCATENATE(\"'UNITCOST ITEMS (Data Entry)'!D\",IFERROR(SUM(MATCH(A469,'UNITCOST ITEMS (Data Entry)'!$A$3:$A$504,0),2),\"\"))),\"\"))","v":""},{"$f":"IF(IFERROR(INDIRECT(CONCATENATE(\"'UNITCOST ITEMS (Data Entry)'!E\",IFERROR(SUM(MATCH(A469,'UNITCOST ITEMS (Data Entry)'!$A$3:$A$504,0),2),\"\"))),\"\")=0,\"\",IFERROR(INDIRECT(CONCATENATE(\"'UNITCOST ITEMS (Data Entry)'!E\",IFERROR(SUM(MATCH(A469,'UNITCOST ITEMS (Data Entry)'!$A$3:$A$504,0),2),\"\"))),\"\"))","v":""},null,{"$f":"IF(IFERROR(INDIRECT(CONCATENATE(\"'UNITCOST ITEMS (Data Entry)'!F\",IFERROR(SUM(MATCH(A469,'UNITCOST ITEMS (Data Entry)'!$A$3:$A$504,0),2),\"\"))),\"\")=0,\"\",IFERROR(INDIRECT(CONCATENATE(\"'UNITCOST ITEMS (Data Entry)'!F\",IFERROR(SUM(MATCH(A469,'UNITCOST ITEMS (Data Entry)'!$A$3:$A$504,0),2),\"\"))),\"\"))","v":""},{"$f":"IF(IFERROR(INDIRECT(CONCATENATE(\"'UNITCOST ITEMS (Data Entry)'!G\",IFERROR(SUM(MATCH(A469,'UNITCOST ITEMS (Data Entry)'!$A$3:$A$504,0),2),\"\"))),\"\")=0,\"\",IFERROR(INDIRECT(CONCATENATE(\"'UNITCOST ITEMS (Data Entry)'!G\",IFERROR(SUM(MATCH(A469,'UNITCOST ITEMS (Data Entry)'!$A$3:$A$504,0),2),\"\"))),\"\"))","v":""},{"$f":"IF(IFERROR(INDIRECT(CONCATENATE(\"'UNITCOST ITEMS (Data Entry)'!H\",IFERROR(SUM(MATCH(A469,'UNITCOST ITEMS (Data Entry)'!$A$3:$A$504,0),2),\"\"))),\"\")=0,\"\",IFERROR(INDIRECT(CONCATENATE(\"'UNITCOST ITEMS (Data Entry)'!H\",IFERROR(SUM(MATCH(A469,'UNITCOST ITEMS (Data Entry)'!$A$3:$A$504,0),2),\"\"))),\"\"))","v":""},{"$f":"IF(IFERROR(INDIRECT(CONCATENATE(\"'UNITCOST ITEMS (Data Entry)'!I\",IFERROR(SUM(MATCH(A469,'UNITCOST ITEMS (Data Entry)'!$A$3:$A$504,0),2),\"\"))),\"\")=0,\"\",IFERROR(INDIRECT(CONCATENATE(\"'UNITCOST ITEMS (Data Entry)'!I\",IFERROR(SUM(MATCH(A469,'UNITCOST ITEMS (Data Entry)'!$A$3:$A$504,0),2),\"\"))),\"\"))","v":""},{"$f":"IF(K469=2,\"\",IF(IFERROR(INDIRECT(CONCATENATE(\"'UNITCOST ITEMS (Data Entry)'!J\",IFERROR(SUM(MATCH(A469,'UNITCOST ITEMS (Data Entry)'!$A$3:$A$504,0),2),\"\"))),\"\")=0,\"\",IFERROR(INDIRECT(CONCATENATE(\"'UNITCOST ITEMS (Data Entry)'!J\",IFERROR(SUM(MATCH(A469,'UNITCOST ITEMS (Data Entry)'!$A$3:$A$504,0),2),\"\"))),\"\")))","v":""},null,{"$f":"IF(IFERROR(INDIRECT(CONCATENATE(\"'UNITCOST ITEMS (Data Entry)'!C\",IFERROR(SUM(MATCH(A469,'UNITCOST ITEMS (Data Entry)'!$A$3:$A$504,0),2),\"\"))),\"\")=0,\"\",IFERROR(INDIRECT(CONCATENATE(\"'UNITCOST ITEMS (Data Entry)'!C\",IFERROR(SUM(MATCH(A469,'UNITCOST ITEMS (Data Entry)'!$A$3:$A$504,0),2),\"\"))),\"\"))","v":""},""]
[462,{"$f":"IF(IFERROR(INDIRECT(CONCATENATE(\"'UNITCOST ITEMS (Data Entry)'!D\",IFERROR(SUM(MATCH(A470,'UNITCOST ITEMS (Data Entry)'!$A$3:$A$504,0),2),\"\"))),\"\")=0,\"\",IFERROR(INDIRECT(CONCATENATE(\"'UNITCOST ITEMS (Data Entry)'!D\",IFERROR(SUM(MATCH(A470,'UNITCOST ITEMS (Data Entry)'!$A$3:$A$504,0),2),\"\"))),\"\"))","v":""},{"$f":"IF(IFERROR(INDIRECT(CONCATENATE(\"'UNITCOST ITEMS (Data Entry)'!E\",IFERROR(SUM(MATCH(A470,'UNITCOST ITEMS (Data Entry)'!$A$3:$A$504,0),2),\"\"))),\"\")=0,\"\",IFERROR(INDIRECT(CONCATENATE(\"'UNITCOST ITEMS (Data Entry)'!E\",IFERROR(SUM(MATCH(A470,'UNITCOST ITEMS (Data Entry)'!$A$3:$A$504,0),2),\"\"))),\"\"))","v":""},null,{"$f":"IF(IFERROR(INDIRECT(CONCATENATE(\"'UNITCOST ITEMS (Data Entry)'!F\",IFERROR(SUM(MATCH(A470,'UNITCOST ITEMS (Data Entry)'!$A$3:$A$504,0),2),\"\"))),\"\")=0,\"\",IFERROR(INDIRECT(CONCATENATE(\"'UNITCOST ITEMS (Data Entry)'!F\",IFERROR(SUM(MATCH(A470,'UNITCOST ITEMS (Data Entry)'!$A$3:$A$504,0),2),\"\"))),\"\"))","v":""},{"$f":"IF(IFERROR(INDIRECT(CONCATENATE(\"'UNITCOST ITEMS (Data Entry)'!G\",IFERROR(SUM(MATCH(A470,'UNITCOST ITEMS (Data Entry)'!$A$3:$A$504,0),2),\"\"))),\"\")=0,\"\",IFERROR(INDIRECT(CONCATENATE(\"'UNITCOST ITEMS (Data Entry)'!G\",IFERROR(SUM(MATCH(A470,'UNITCOST ITEMS (Data Entry)'!$A$3:$A$504,0),2),\"\"))),\"\"))","v":""},{"$f":"IF(IFERROR(INDIRECT(CONCATENATE(\"'UNITCOST ITEMS (Data Entry)'!H\",IFERROR(SUM(MATCH(A470,'UNITCOST ITEMS (Data Entry)'!$A$3:$A$504,0),2),\"\"))),\"\")=0,\"\",IFERROR(INDIRECT(CONCATENATE(\"'UNITCOST ITEMS (Data Entry)'!H\",IFERROR(SUM(MATCH(A470,'UNITCOST ITEMS (Data Entry)'!$A$3:$A$504,0),2),\"\"))),\"\"))","v":""},{"$f":"IF(IFERROR(INDIRECT(CONCATENATE(\"'UNITCOST ITEMS (Data Entry)'!I\",IFERROR(SUM(MATCH(A470,'UNITCOST ITEMS (Data Entry)'!$A$3:$A$504,0),2),\"\"))),\"\")=0,\"\",IFERROR(INDIRECT(CONCATENATE(\"'UNITCOST ITEMS (Data Entry)'!I\",IFERROR(SUM(MATCH(A470,'UNITCOST ITEMS (Data Entry)'!$A$3:$A$504,0),2),\"\"))),\"\"))","v":""},{"$f":"IF(K470=2,\"\",IF(IFERROR(INDIRECT(CONCATENATE(\"'UNITCOST ITEMS (Data Entry)'!J\",IFERROR(SUM(MATCH(A470,'UNITCOST ITEMS (Data Entry)'!$A$3:$A$504,0),2),\"\"))),\"\")=0,\"\",IFERROR(INDIRECT(CONCATENATE(\"'UNITCOST ITEMS (Data Entry)'!J\",IFERROR(SUM(MATCH(A470,'UNITCOST ITEMS (Data Entry)'!$A$3:$A$504,0),2),\"\"))),\"\")))","v":""},null,{"$f":"IF(IFERROR(INDIRECT(CONCATENATE(\"'UNITCOST ITEMS (Data Entry)'!C\",IFERROR(SUM(MATCH(A470,'UNITCOST ITEMS (Data Entry)'!$A$3:$A$504,0),2),\"\"))),\"\")=0,\"\",IFERROR(INDIRECT(CONCATENATE(\"'UNITCOST ITEMS (Data Entry)'!C\",IFERROR(SUM(MATCH(A470,'UNITCOST ITEMS (Data Entry)'!$A$3:$A$504,0),2),\"\"))),\"\"))","v":""},""]
[463,{"$f":"IF(IFERROR(INDIRECT(CONCATENATE(\"'UNITCOST ITEMS (Data Entry)'!D\",IFERROR(SUM(MATCH(A471,'UNITCOST ITEMS (Data Entry)'!$A$3:$A$504,0),2),\"\"))),\"\")=0,\"\",IFERROR(INDIRECT(CONCATENATE(\"'UNITCOST ITEMS (Data Entry)'!D\",IFERROR(SUM(MATCH(A471,'UNITCOST ITEMS (Data Entry)'!$A$3:$A$504,0),2),\"\"))),\"\"))","v":""},{"$f":"IF(IFERROR(INDIRECT(CONCATENATE(\"'UNITCOST ITEMS (Data Entry)'!E\",IFERROR(SUM(MATCH(A471,'UNITCOST ITEMS (Data Entry)'!$A$3:$A$504,0),2),\"\"))),\"\")=0,\"\",IFERROR(INDIRECT(CONCATENATE(\"'UNITCOST ITEMS (Data Entry)'!E\",IFERROR(SUM(MATCH(A471,'UNITCOST ITEMS (Data Entry)'!$A$3:$A$504,0),2),\"\"))),\"\"))","v":""},null,{"$f":"IF(IFERROR(INDIRECT(CONCATENATE(\"'UNITCOST ITEMS (Data Entry)'!F\",IFERROR(SUM(MATCH(A471,'UNITCOST ITEMS (Data Entry)'!$A$3:$A$504,0),2),\"\"))),\"\")=0,\"\",IFERROR(INDIRECT(CONCATENATE(\"'UNITCOST ITEMS (Data Entry)'!F\",IFERROR(SUM(MATCH(A471,'UNITCOST ITEMS (Data Entry)'!$A$3:$A$504,0),2),\"\"))),\"\"))","v":""},{"$f":"IF(IFERROR(INDIRECT(CONCATENATE(\"'UNITCOST ITEMS (Data Entry)'!G\",IFERROR(SUM(MATCH(A471,'UNITCOST ITEMS (Data Entry)'!$A$3:$A$504,0),2),\"\"))),\"\")=0,\"\",IFERROR(INDIRECT(CONCATENATE(\"'UNITCOST ITEMS (Data Entry)'!G\",IFERROR(SUM(MATCH(A471,'UNITCOST ITEMS (Data Entry)'!$A$3:$A$504,0),2),\"\"))),\"\"))","v":""},{"$f":"IF(IFERROR(INDIRECT(CONCATENATE(\"'UNITCOST ITEMS (Data Entry)'!H\",IFERROR(SUM(MATCH(A471,'UNITCOST ITEMS (Data Entry)'!$A$3:$A$504,0),2),\"\"))),\"\")=0,\"\",IFERROR(INDIRECT(CONCATENATE(\"'UNITCOST ITEMS (Data Entry)'!H\",IFERROR(SUM(MATCH(A471,'UNITCOST ITEMS (Data Entry)'!$A$3:$A$504,0),2),\"\"))),\"\"))","v":""},{"$f":"IF(IFERROR(INDIRECT(CONCATENATE(\"'UNITCOST ITEMS (Data Entry)'!I\",IFERROR(SUM(MATCH(A471,'UNITCOST ITEMS (Data Entry)'!$A$3:$A$504,0),2),\"\"))),\"\")=0,\"\",IFERROR(INDIRECT(CONCATENATE(\"'UNITCOST ITEMS (Data Entry)'!I\",IFERROR(SUM(MATCH(A471,'UNITCOST ITEMS (Data Entry)'!$A$3:$A$504,0),2),\"\"))),\"\"))","v":""},{"$f":"IF(K471=2,\"\",IF(IFERROR(INDIRECT(CONCATENATE(\"'UNITCOST ITEMS (Data Entry)'!J\",IFERROR(SUM(MATCH(A471,'UNITCOST ITEMS (Data Entry)'!$A$3:$A$504,0),2),\"\"))),\"\")=0,\"\",IFERROR(INDIRECT(CONCATENATE(\"'UNITCOST ITEMS (Data Entry)'!J\",IFERROR(SUM(MATCH(A471,'UNITCOST ITEMS (Data Entry)'!$A$3:$A$504,0),2),\"\"))),\"\")))","v":""},null,{"$f":"IF(IFERROR(INDIRECT(CONCATENATE(\"'UNITCOST ITEMS (Data Entry)'!C\",IFERROR(SUM(MATCH(A471,'UNITCOST ITEMS (Data Entry)'!$A$3:$A$504,0),2),\"\"))),\"\")=0,\"\",IFERROR(INDIRECT(CONCATENATE(\"'UNITCOST ITEMS (Data Entry)'!C\",IFERROR(SUM(MATCH(A471,'UNITCOST ITEMS (Data Entry)'!$A$3:$A$504,0),2),\"\"))),\"\"))","v":""},""]
[464,{"$f":"IF(IFERROR(INDIRECT(CONCATENATE(\"'UNITCOST ITEMS (Data Entry)'!D\",IFERROR(SUM(MATCH(A472,'UNITCOST ITEMS (Data Entry)'!$A$3:$A$504,0),2),\"\"))),\"\")=0,\"\",IFERROR(INDIRECT(CONCATENATE(\"'UNITCOST ITEMS (Data Entry)'!D\",IFERROR(SUM(MATCH(A472,'UNITCOST ITEMS (Data Entry)'!$A$3:$A$504,0),2),\"\"))),\"\"))","v":""},{"$f":"IF(IFERROR(INDIRECT(CONCATENATE(\"'UNITCOST ITEMS (Data Entry)'!E\",IFERROR(SUM(MATCH(A472,'UNITCOST ITEMS (Data Entry)'!$A$3:$A$504,0),2),\"\"))),\"\")=0,\"\",IFERROR(INDIRECT(CONCATENATE(\"'UNITCOST ITEMS (Data Entry)'!E\",IFERROR(SUM(MATCH(A472,'UNITCOST ITEMS (Data Entry)'!$A$3:$A$504,0),2),\"\"))),\"\"))","v":""},null,{"$f":"IF(IFERROR(INDIRECT(CONCATENATE(\"'UNITCOST ITEMS (Data Entry)'!F\",IFERROR(SUM(MATCH(A472,'UNITCOST ITEMS (Data Entry)'!$A$3:$A$504,0),2),\"\"))),\"\")=0,\"\",IFERROR(INDIRECT(CONCATENATE(\"'UNITCOST ITEMS (Data Entry)'!F\",IFERROR(SUM(MATCH(A472,'UNITCOST ITEMS (Data Entry)'!$A$3:$A$504,0),2),\"\"))),\"\"))","v":""},{"$f":"IF(IFERROR(INDIRECT(CONCATENATE(\"'UNITCOST ITEMS (Data Entry)'!G\",IFERROR(SUM(MATCH(A472,'UNITCOST ITEMS (Data Entry)'!$A$3:$A$504,0),2),\"\"))),\"\")=0,\"\",IFERROR(INDIRECT(CONCATENATE(\"'UNITCOST ITEMS (Data Entry)'!G\",IFERROR(SUM(MATCH(A472,'UNITCOST ITEMS (Data Entry)'!$A$3:$A$504,0),2),\"\"))),\"\"))","v":""},{"$f":"IF(IFERROR(INDIRECT(CONCATENATE(\"'UNITCOST ITEMS (Data Entry)'!H\",IFERROR(SUM(MATCH(A472,'UNITCOST ITEMS (Data Entry)'!$A$3:$A$504,0),2),\"\"))),\"\")=0,\"\",IFERROR(INDIRECT(CONCATENATE(\"'UNITCOST ITEMS (Data Entry)'!H\",IFERROR(SUM(MATCH(A472,'UNITCOST ITEMS (Data Entry)'!$A$3:$A$504,0),2),\"\"))),\"\"))","v":""},{"$f":"IF(IFERROR(INDIRECT(CONCATENATE(\"'UNITCOST ITEMS (Data Entry)'!I\",IFERROR(SUM(MATCH(A472,'UNITCOST ITEMS (Data Entry)'!$A$3:$A$504,0),2),\"\"))),\"\")=0,\"\",IFERROR(INDIRECT(CONCATENATE(\"'UNITCOST ITEMS (Data Entry)'!I\",IFERROR(SUM(MATCH(A472,'UNITCOST ITEMS (Data Entry)'!$A$3:$A$504,0),2),\"\"))),\"\"))","v":""},{"$f":"IF(K472=2,\"\",IF(IFERROR(INDIRECT(CONCATENATE(\"'UNITCOST ITEMS (Data Entry)'!J\",IFERROR(SUM(MATCH(A472,'UNITCOST ITEMS (Data Entry)'!$A$3:$A$504,0),2),\"\"))),\"\")=0,\"\",IFERROR(INDIRECT(CONCATENATE(\"'UNITCOST ITEMS (Data Entry)'!J\",IFERROR(SUM(MATCH(A472,'UNITCOST ITEMS (Data Entry)'!$A$3:$A$504,0),2),\"\"))),\"\")))","v":""},null,{"$f":"IF(IFERROR(INDIRECT(CONCATENATE(\"'UNITCOST ITEMS (Data Entry)'!C\",IFERROR(SUM(MATCH(A472,'UNITCOST ITEMS (Data Entry)'!$A$3:$A$504,0),2),\"\"))),\"\")=0,\"\",IFERROR(INDIRECT(CONCATENATE(\"'UNITCOST ITEMS (Data Entry)'!C\",IFERROR(SUM(MATCH(A472,'UNITCOST ITEMS (Data Entry)'!$A$3:$A$504,0),2),\"\"))),\"\"))","v":""},""]
[465,{"$f":"IF(IFERROR(INDIRECT(CONCATENATE(\"'UNITCOST ITEMS (Data Entry)'!D\",IFERROR(SUM(MATCH(A473,'UNITCOST ITEMS (Data Entry)'!$A$3:$A$504,0),2),\"\"))),\"\")=0,\"\",IFERROR(INDIRECT(CONCATENATE(\"'UNITCOST ITEMS (Data Entry)'!D\",IFERROR(SUM(MATCH(A473,'UNITCOST ITEMS (Data Entry)'!$A$3:$A$504,0),2),\"\"))),\"\"))","v":""},{"$f":"IF(IFERROR(INDIRECT(CONCATENATE(\"'UNITCOST ITEMS (Data Entry)'!E\",IFERROR(SUM(MATCH(A473,'UNITCOST ITEMS (Data Entry)'!$A$3:$A$504,0),2),\"\"))),\"\")=0,\"\",IFERROR(INDIRECT(CONCATENATE(\"'UNITCOST ITEMS (Data Entry)'!E\",IFERROR(SUM(MATCH(A473,'UNITCOST ITEMS (Data Entry)'!$A$3:$A$504,0),2),\"\"))),\"\"))","v":""},null,{"$f":"IF(IFERROR(INDIRECT(CONCATENATE(\"'UNITCOST ITEMS (Data Entry)'!F\",IFERROR(SUM(MATCH(A473,'UNITCOST ITEMS (Data Entry)'!$A$3:$A$504,0),2),\"\"))),\"\")=0,\"\",IFERROR(INDIRECT(CONCATENATE(\"'UNITCOST ITEMS (Data Entry)'!F\",IFERROR(SUM(MATCH(A473,'UNITCOST ITEMS (Data Entry)'!$A$3:$A$504,0),2),\"\"))),\"\"))","v":""},{"$f":"IF(IFERROR(INDIRECT(CONCATENATE(\"'UNITCOST ITEMS (Data Entry)'!G\",IFERROR(SUM(MATCH(A473,'UNITCOST ITEMS (Data Entry)'!$A$3:$A$504,0),2),\"\"))),\"\")=0,\"\",IFERROR(INDIRECT(CONCATENATE(\"'UNITCOST ITEMS (Data Entry)'!G\",IFERROR(SUM(MATCH(A473,'UNITCOST ITEMS (Data Entry)'!$A$3:$A$504,0),2),\"\"))),\"\"))","v":""},{"$f":"IF(IFERROR(INDIRECT(CONCATENATE(\"'UNITCOST ITEMS (Data Entry)'!H\",IFERROR(SUM(MATCH(A473,'UNITCOST ITEMS (Data Entry)'!$A$3:$A$504,0),2),\"\"))),\"\")=0,\"\",IFERROR(INDIRECT(CONCATENATE(\"'UNITCOST ITEMS (Data Entry)'!H\",IFERROR(SUM(MATCH(A473,'UNITCOST ITEMS (Data Entry)'!$A$3:$A$504,0),2),\"\"))),\"\"))","v":""},{"$f":"IF(IFERROR(INDIRECT(CONCATENATE(\"'UNITCOST ITEMS (Data Entry)'!I\",IFERROR(SUM(MATCH(A473,'UNITCOST ITEMS (Data Entry)'!$A$3:$A$504,0),2),\"\"))),\"\")=0,\"\",IFERROR(INDIRECT(CONCATENATE(\"'UNITCOST ITEMS (Data Entry)'!I\",IFERROR(SUM(MATCH(A473,'UNITCOST ITEMS (Data Entry)'!$A$3:$A$504,0),2),\"\"))),\"\"))","v":""},{"$f":"IF(K473=2,\"\",IF(IFERROR(INDIRECT(CONCATENATE(\"'UNITCOST ITEMS (Data Entry)'!J\",IFERROR(SUM(MATCH(A473,'UNITCOST ITEMS (Data Entry)'!$A$3:$A$504,0),2),\"\"))),\"\")=0,\"\",IFERROR(INDIRECT(CONCATENATE(\"'UNITCOST ITEMS (Data Entry)'!J\",IFERROR(SUM(MATCH(A473,'UNITCOST ITEMS (Data Entry)'!$A$3:$A$504,0),2),\"\"))),\"\")))","v":""},null,{"$f":"IF(IFERROR(INDIRECT(CONCATENATE(\"'UNITCOST ITEMS (Data Entry)'!C\",IFERROR(SUM(MATCH(A473,'UNITCOST ITEMS (Data Entry)'!$A$3:$A$504,0),2),\"\"))),\"\")=0,\"\",IFERROR(INDIRECT(CONCATENATE(\"'UNITCOST ITEMS (Data Entry)'!C\",IFERROR(SUM(MATCH(A473,'UNITCOST ITEMS (Data Entry)'!$A$3:$A$504,0),2),\"\"))),\"\"))","v":""},""]
[466,{"$f":"IF(IFERROR(INDIRECT(CONCATENATE(\"'UNITCOST ITEMS (Data Entry)'!D\",IFERROR(SUM(MATCH(A474,'UNITCOST ITEMS (Data Entry)'!$A$3:$A$504,0),2),\"\"))),\"\")=0,\"\",IFERROR(INDIRECT(CONCATENATE(\"'UNITCOST ITEMS (Data Entry)'!D\",IFERROR(SUM(MATCH(A474,'UNITCOST ITEMS (Data Entry)'!$A$3:$A$504,0),2),\"\"))),\"\"))","v":""},{"$f":"IF(IFERROR(INDIRECT(CONCATENATE(\"'UNITCOST ITEMS (Data Entry)'!E\",IFERROR(SUM(MATCH(A474,'UNITCOST ITEMS (Data Entry)'!$A$3:$A$504,0),2),\"\"))),\"\")=0,\"\",IFERROR(INDIRECT(CONCATENATE(\"'UNITCOST ITEMS (Data Entry)'!E\",IFERROR(SUM(MATCH(A474,'UNITCOST ITEMS (Data Entry)'!$A$3:$A$504,0),2),\"\"))),\"\"))","v":""},null,{"$f":"IF(IFERROR(INDIRECT(CONCATENATE(\"'UNITCOST ITEMS (Data Entry)'!F\",IFERROR(SUM(MATCH(A474,'UNITCOST ITEMS (Data Entry)'!$A$3:$A$504,0),2),\"\"))),\"\")=0,\"\",IFERROR(INDIRECT(CONCATENATE(\"'UNITCOST ITEMS (Data Entry)'!F\",IFERROR(SUM(MATCH(A474,'UNITCOST ITEMS (Data Entry)'!$A$3:$A$504,0),2),\"\"))),\"\"))","v":""},{"$f":"IF(IFERROR(INDIRECT(CONCATENATE(\"'UNITCOST ITEMS (Data Entry)'!G\",IFERROR(SUM(MATCH(A474,'UNITCOST ITEMS (Data Entry)'!$A$3:$A$504,0),2),\"\"))),\"\")=0,\"\",IFERROR(INDIRECT(CONCATENATE(\"'UNITCOST ITEMS (Data Entry)'!G\",IFERROR(SUM(MATCH(A474,'UNITCOST ITEMS (Data Entry)'!$A$3:$A$504,0),2),\"\"))),\"\"))","v":""},{"$f":"IF(IFERROR(INDIRECT(CONCATENATE(\"'UNITCOST ITEMS (Data Entry)'!H\",IFERROR(SUM(MATCH(A474,'UNITCOST ITEMS (Data Entry)'!$A$3:$A$504,0),2),\"\"))),\"\")=0,\"\",IFERROR(INDIRECT(CONCATENATE(\"'UNITCOST ITEMS (Data Entry)'!H\",IFERROR(SUM(MATCH(A474,'UNITCOST ITEMS (Data Entry)'!$A$3:$A$504,0),2),\"\"))),\"\"))","v":""},{"$f":"IF(IFERROR(INDIRECT(CONCATENATE(\"'UNITCOST ITEMS (Data Entry)'!I\",IFERROR(SUM(MATCH(A474,'UNITCOST ITEMS (Data Entry)'!$A$3:$A$504,0),2),\"\"))),\"\")=0,\"\",IFERROR(INDIRECT(CONCATENATE(\"'UNITCOST ITEMS (Data Entry)'!I\",IFERROR(SUM(MATCH(A474,'UNITCOST ITEMS (Data Entry)'!$A$3:$A$504,0),2),\"\"))),\"\"))","v":""},{"$f":"IF(K474=2,\"\",IF(IFERROR(INDIRECT(CONCATENATE(\"'UNITCOST ITEMS (Data Entry)'!J\",IFERROR(SUM(MATCH(A474,'UNITCOST ITEMS (Data Entry)'!$A$3:$A$504,0),2),\"\"))),\"\")=0,\"\",IFERROR(INDIRECT(CONCATENATE(\"'UNITCOST ITEMS (Data Entry)'!J\",IFERROR(SUM(MATCH(A474,'UNITCOST ITEMS (Data Entry)'!$A$3:$A$504,0),2),\"\"))),\"\")))","v":""},null,{"$f":"IF(IFERROR(INDIRECT(CONCATENATE(\"'UNITCOST ITEMS (Data Entry)'!C\",IFERROR(SUM(MATCH(A474,'UNITCOST ITEMS (Data Entry)'!$A$3:$A$504,0),2),\"\"))),\"\")=0,\"\",IFERROR(INDIRECT(CONCATENATE(\"'UNITCOST ITEMS (Data Entry)'!C\",IFERROR(SUM(MATCH(A474,'UNITCOST ITEMS (Data Entry)'!$A$3:$A$504,0),2),\"\"))),\"\"))","v":""},""]
[467,{"$f":"IF(IFERROR(INDIRECT(CONCATENATE(\"'UNITCOST ITEMS (Data Entry)'!D\",IFERROR(SUM(MATCH(A475,'UNITCOST ITEMS (Data Entry)'!$A$3:$A$504,0),2),\"\"))),\"\")=0,\"\",IFERROR(INDIRECT(CONCATENATE(\"'UNITCOST ITEMS (Data Entry)'!D\",IFERROR(SUM(MATCH(A475,'UNITCOST ITEMS (Data Entry)'!$A$3:$A$504,0),2),\"\"))),\"\"))","v":""},{"$f":"IF(IFERROR(INDIRECT(CONCATENATE(\"'UNITCOST ITEMS (Data Entry)'!E\",IFERROR(SUM(MATCH(A475,'UNITCOST ITEMS (Data Entry)'!$A$3:$A$504,0),2),\"\"))),\"\")=0,\"\",IFERROR(INDIRECT(CONCATENATE(\"'UNITCOST ITEMS (Data Entry)'!E\",IFERROR(SUM(MATCH(A475,'UNITCOST ITEMS (Data Entry)'!$A$3:$A$504,0),2),\"\"))),\"\"))","v":""},null,{"$f":"IF(IFERROR(INDIRECT(CONCATENATE(\"'UNITCOST ITEMS (Data Entry)'!F\",IFERROR(SUM(MATCH(A475,'UNITCOST ITEMS (Data Entry)'!$A$3:$A$504,0),2),\"\"))),\"\")=0,\"\",IFERROR(INDIRECT(CONCATENATE(\"'UNITCOST ITEMS (Data Entry)'!F\",IFERROR(SUM(MATCH(A475,'UNITCOST ITEMS (Data Entry)'!$A$3:$A$504,0),2),\"\"))),\"\"))","v":""},{"$f":"IF(IFERROR(INDIRECT(CONCATENATE(\"'UNITCOST ITEMS (Data Entry)'!G\",IFERROR(SUM(MATCH(A475,'UNITCOST ITEMS (Data Entry)'!$A$3:$A$504,0),2),\"\"))),\"\")=0,\"\",IFERROR(INDIRECT(CONCATENATE(\"'UNITCOST ITEMS (Data Entry)'!G\",IFERROR(SUM(MATCH(A475,'UNITCOST ITEMS (Data Entry)'!$A$3:$A$504,0),2),\"\"))),\"\"))","v":""},{"$f":"IF(IFERROR(INDIRECT(CONCATENATE(\"'UNITCOST ITEMS (Data Entry)'!H\",IFERROR(SUM(MATCH(A475,'UNITCOST ITEMS (Data Entry)'!$A$3:$A$504,0),2),\"\"))),\"\")=0,\"\",IFERROR(INDIRECT(CONCATENATE(\"'UNITCOST ITEMS (Data Entry)'!H\",IFERROR(SUM(MATCH(A475,'UNITCOST ITEMS (Data Entry)'!$A$3:$A$504,0),2),\"\"))),\"\"))","v":""},{"$f":"IF(IFERROR(INDIRECT(CONCATENATE(\"'UNITCOST ITEMS (Data Entry)'!I\",IFERROR(SUM(MATCH(A475,'UNITCOST ITEMS (Data Entry)'!$A$3:$A$504,0),2),\"\"))),\"\")=0,\"\",IFERROR(INDIRECT(CONCATENATE(\"'UNITCOST ITEMS (Data Entry)'!I\",IFERROR(SUM(MATCH(A475,'UNITCOST ITEMS (Data Entry)'!$A$3:$A$504,0),2),\"\"))),\"\"))","v":""},{"$f":"IF(K475=2,\"\",IF(IFERROR(INDIRECT(CONCATENATE(\"'UNITCOST ITEMS (Data Entry)'!J\",IFERROR(SUM(MATCH(A475,'UNITCOST ITEMS (Data Entry)'!$A$3:$A$504,0),2),\"\"))),\"\")=0,\"\",IFERROR(INDIRECT(CONCATENATE(\"'UNITCOST ITEMS (Data Entry)'!J\",IFERROR(SUM(MATCH(A475,'UNITCOST ITEMS (Data Entry)'!$A$3:$A$504,0),2),\"\"))),\"\")))","v":""},null,{"$f":"IF(IFERROR(INDIRECT(CONCATENATE(\"'UNITCOST ITEMS (Data Entry)'!C\",IFERROR(SUM(MATCH(A475,'UNITCOST ITEMS (Data Entry)'!$A$3:$A$504,0),2),\"\"))),\"\")=0,\"\",IFERROR(INDIRECT(CONCATENATE(\"'UNITCOST ITEMS (Data Entry)'!C\",IFERROR(SUM(MATCH(A475,'UNITCOST ITEMS (Data Entry)'!$A$3:$A$504,0),2),\"\"))),\"\"))","v":""},""]
[468,{"$f":"IF(IFERROR(INDIRECT(CONCATENATE(\"'UNITCOST ITEMS (Data Entry)'!D\",IFERROR(SUM(MATCH(A476,'UNITCOST ITEMS (Data Entry)'!$A$3:$A$504,0),2),\"\"))),\"\")=0,\"\",IFERROR(INDIRECT(CONCATENATE(\"'UNITCOST ITEMS (Data Entry)'!D\",IFERROR(SUM(MATCH(A476,'UNITCOST ITEMS (Data Entry)'!$A$3:$A$504,0),2),\"\"))),\"\"))","v":""},{"$f":"IF(IFERROR(INDIRECT(CONCATENATE(\"'UNITCOST ITEMS (Data Entry)'!E\",IFERROR(SUM(MATCH(A476,'UNITCOST ITEMS (Data Entry)'!$A$3:$A$504,0),2),\"\"))),\"\")=0,\"\",IFERROR(INDIRECT(CONCATENATE(\"'UNITCOST ITEMS (Data Entry)'!E\",IFERROR(SUM(MATCH(A476,'UNITCOST ITEMS (Data Entry)'!$A$3:$A$504,0),2),\"\"))),\"\"))","v":""},null,{"$f":"IF(IFERROR(INDIRECT(CONCATENATE(\"'UNITCOST ITEMS (Data Entry)'!F\",IFERROR(SUM(MATCH(A476,'UNITCOST ITEMS (Data Entry)'!$A$3:$A$504,0),2),\"\"))),\"\")=0,\"\",IFERROR(INDIRECT(CONCATENATE(\"'UNITCOST ITEMS (Data Entry)'!F\",IFERROR(SUM(MATCH(A476,'UNITCOST ITEMS (Data Entry)'!$A$3:$A$504,0),2),\"\"))),\"\"))","v":""},{"$f":"IF(IFERROR(INDIRECT(CONCATENATE(\"'UNITCOST ITEMS (Data Entry)'!G\",IFERROR(SUM(MATCH(A476,'UNITCOST ITEMS (Data Entry)'!$A$3:$A$504,0),2),\"\"))),\"\")=0,\"\",IFERROR(INDIRECT(CONCATENATE(\"'UNITCOST ITEMS (Data Entry)'!G\",IFERROR(SUM(MATCH(A476,'UNITCOST ITEMS (Data Entry)'!$A$3:$A$504,0),2),\"\"))),\"\"))","v":""},{"$f":"IF(IFERROR(INDIRECT(CONCATENATE(\"'UNITCOST ITEMS (Data Entry)'!H\",IFERROR(SUM(MATCH(A476,'UNITCOST ITEMS (Data Entry)'!$A$3:$A$504,0),2),\"\"))),\"\")=0,\"\",IFERROR(INDIRECT(CONCATENATE(\"'UNITCOST ITEMS (Data Entry)'!H\",IFERROR(SUM(MATCH(A476,'UNITCOST ITEMS (Data Entry)'!$A$3:$A$504,0),2),\"\"))),\"\"))","v":""},{"$f":"IF(IFERROR(INDIRECT(CONCATENATE(\"'UNITCOST ITEMS (Data Entry)'!I\",IFERROR(SUM(MATCH(A476,'UNITCOST ITEMS (Data Entry)'!$A$3:$A$504,0),2),\"\"))),\"\")=0,\"\",IFERROR(INDIRECT(CONCATENATE(\"'UNITCOST ITEMS (Data Entry)'!I\",IFERROR(SUM(MATCH(A476,'UNITCOST ITEMS (Data Entry)'!$A$3:$A$504,0),2),\"\"))),\"\"))","v":""},{"$f":"IF(K476=2,\"\",IF(IFERROR(INDIRECT(CONCATENATE(\"'UNITCOST ITEMS (Data Entry)'!J\",IFERROR(SUM(MATCH(A476,'UNITCOST ITEMS (Data Entry)'!$A$3:$A$504,0),2),\"\"))),\"\")=0,\"\",IFERROR(INDIRECT(CONCATENATE(\"'UNITCOST ITEMS (Data Entry)'!J\",IFERROR(SUM(MATCH(A476,'UNITCOST ITEMS (Data Entry)'!$A$3:$A$504,0),2),\"\"))),\"\")))","v":""},null,{"$f":"IF(IFERROR(INDIRECT(CONCATENATE(\"'UNITCOST ITEMS (Data Entry)'!C\",IFERROR(SUM(MATCH(A476,'UNITCOST ITEMS (Data Entry)'!$A$3:$A$504,0),2),\"\"))),\"\")=0,\"\",IFERROR(INDIRECT(CONCATENATE(\"'UNITCOST ITEMS (Data Entry)'!C\",IFERROR(SUM(MATCH(A476,'UNITCOST ITEMS (Data Entry)'!$A$3:$A$504,0),2),\"\"))),\"\"))","v":""},""]
[469,{"$f":"IF(IFERROR(INDIRECT(CONCATENATE(\"'UNITCOST ITEMS (Data Entry)'!D\",IFERROR(SUM(MATCH(A477,'UNITCOST ITEMS (Data Entry)'!$A$3:$A$504,0),2),\"\"))),\"\")=0,\"\",IFERROR(INDIRECT(CONCATENATE(\"'UNITCOST ITEMS (Data Entry)'!D\",IFERROR(SUM(MATCH(A477,'UNITCOST ITEMS (Data Entry)'!$A$3:$A$504,0),2),\"\"))),\"\"))","v":""},{"$f":"IF(IFERROR(INDIRECT(CONCATENATE(\"'UNITCOST ITEMS (Data Entry)'!E\",IFERROR(SUM(MATCH(A477,'UNITCOST ITEMS (Data Entry)'!$A$3:$A$504,0),2),\"\"))),\"\")=0,\"\",IFERROR(INDIRECT(CONCATENATE(\"'UNITCOST ITEMS (Data Entry)'!E\",IFERROR(SUM(MATCH(A477,'UNITCOST ITEMS (Data Entry)'!$A$3:$A$504,0),2),\"\"))),\"\"))","v":""},null,{"$f":"IF(IFERROR(INDIRECT(CONCATENATE(\"'UNITCOST ITEMS (Data Entry)'!F\",IFERROR(SUM(MATCH(A477,'UNITCOST ITEMS (Data Entry)'!$A$3:$A$504,0),2),\"\"))),\"\")=0,\"\",IFERROR(INDIRECT(CONCATENATE(\"'UNITCOST ITEMS (Data Entry)'!F\",IFERROR(SUM(MATCH(A477,'UNITCOST ITEMS (Data Entry)'!$A$3:$A$504,0),2),\"\"))),\"\"))","v":""},{"$f":"IF(IFERROR(INDIRECT(CONCATENATE(\"'UNITCOST ITEMS (Data Entry)'!G\",IFERROR(SUM(MATCH(A477,'UNITCOST ITEMS (Data Entry)'!$A$3:$A$504,0),2),\"\"))),\"\")=0,\"\",IFERROR(INDIRECT(CONCATENATE(\"'UNITCOST ITEMS (Data Entry)'!G\",IFERROR(SUM(MATCH(A477,'UNITCOST ITEMS (Data Entry)'!$A$3:$A$504,0),2),\"\"))),\"\"))","v":""},{"$f":"IF(IFERROR(INDIRECT(CONCATENATE(\"'UNITCOST ITEMS (Data Entry)'!H\",IFERROR(SUM(MATCH(A477,'UNITCOST ITEMS (Data Entry)'!$A$3:$A$504,0),2),\"\"))),\"\")=0,\"\",IFERROR(INDIRECT(CONCATENATE(\"'UNITCOST ITEMS (Data Entry)'!H\",IFERROR(SUM(MATCH(A477,'UNITCOST ITEMS (Data Entry)'!$A$3:$A$504,0),2),\"\"))),\"\"))","v":""},{"$f":"IF(IFERROR(INDIRECT(CONCATENATE(\"'UNITCOST ITEMS (Data Entry)'!I\",IFERROR(SUM(MATCH(A477,'UNITCOST ITEMS (Data Entry)'!$A$3:$A$504,0),2),\"\"))),\"\")=0,\"\",IFERROR(INDIRECT(CONCATENATE(\"'UNITCOST ITEMS (Data Entry)'!I\",IFERROR(SUM(MATCH(A477,'UNITCOST ITEMS (Data Entry)'!$A$3:$A$504,0),2),\"\"))),\"\"))","v":""},{"$f":"IF(K477=2,\"\",IF(IFERROR(INDIRECT(CONCATENATE(\"'UNITCOST ITEMS (Data Entry)'!J\",IFERROR(SUM(MATCH(A477,'UNITCOST ITEMS (Data Entry)'!$A$3:$A$504,0),2),\"\"))),\"\")=0,\"\",IFERROR(INDIRECT(CONCATENATE(\"'UNITCOST ITEMS (Data Entry)'!J\",IFERROR(SUM(MATCH(A477,'UNITCOST ITEMS (Data Entry)'!$A$3:$A$504,0),2),\"\"))),\"\")))","v":""},null,{"$f":"IF(IFERROR(INDIRECT(CONCATENATE(\"'UNITCOST ITEMS (Data Entry)'!C\",IFERROR(SUM(MATCH(A477,'UNITCOST ITEMS (Data Entry)'!$A$3:$A$504,0),2),\"\"))),\"\")=0,\"\",IFERROR(INDIRECT(CONCATENATE(\"'UNITCOST ITEMS (Data Entry)'!C\",IFERROR(SUM(MATCH(A477,'UNITCOST ITEMS (Data Entry)'!$A$3:$A$504,0),2),\"\"))),\"\"))","v":""},""]
[470,{"$f":"IF(IFERROR(INDIRECT(CONCATENATE(\"'UNITCOST ITEMS (Data Entry)'!D\",IFERROR(SUM(MATCH(A478,'UNITCOST ITEMS (Data Entry)'!$A$3:$A$504,0),2),\"\"))),\"\")=0,\"\",IFERROR(INDIRECT(CONCATENATE(\"'UNITCOST ITEMS (Data Entry)'!D\",IFERROR(SUM(MATCH(A478,'UNITCOST ITEMS (Data Entry)'!$A$3:$A$504,0),2),\"\"))),\"\"))","v":""},{"$f":"IF(IFERROR(INDIRECT(CONCATENATE(\"'UNITCOST ITEMS (Data Entry)'!E\",IFERROR(SUM(MATCH(A478,'UNITCOST ITEMS (Data Entry)'!$A$3:$A$504,0),2),\"\"))),\"\")=0,\"\",IFERROR(INDIRECT(CONCATENATE(\"'UNITCOST ITEMS (Data Entry)'!E\",IFERROR(SUM(MATCH(A478,'UNITCOST ITEMS (Data Entry)'!$A$3:$A$504,0),2),\"\"))),\"\"))","v":""},null,{"$f":"IF(IFERROR(INDIRECT(CONCATENATE(\"'UNITCOST ITEMS (Data Entry)'!F\",IFERROR(SUM(MATCH(A478,'UNITCOST ITEMS (Data Entry)'!$A$3:$A$504,0),2),\"\"))),\"\")=0,\"\",IFERROR(INDIRECT(CONCATENATE(\"'UNITCOST ITEMS (Data Entry)'!F\",IFERROR(SUM(MATCH(A478,'UNITCOST ITEMS (Data Entry)'!$A$3:$A$504,0),2),\"\"))),\"\"))","v":""},{"$f":"IF(IFERROR(INDIRECT(CONCATENATE(\"'UNITCOST ITEMS (Data Entry)'!G\",IFERROR(SUM(MATCH(A478,'UNITCOST ITEMS (Data Entry)'!$A$3:$A$504,0),2),\"\"))),\"\")=0,\"\",IFERROR(INDIRECT(CONCATENATE(\"'UNITCOST ITEMS (Data Entry)'!G\",IFERROR(SUM(MATCH(A478,'UNITCOST ITEMS (Data Entry)'!$A$3:$A$504,0),2),\"\"))),\"\"))","v":""},{"$f":"IF(IFERROR(INDIRECT(CONCATENATE(\"'UNITCOST ITEMS (Data Entry)'!H\",IFERROR(SUM(MATCH(A478,'UNITCOST ITEMS (Data Entry)'!$A$3:$A$504,0),2),\"\"))),\"\")=0,\"\",IFERROR(INDIRECT(CONCATENATE(\"'UNITCOST ITEMS (Data Entry)'!H\",IFERROR(SUM(MATCH(A478,'UNITCOST ITEMS (Data Entry)'!$A$3:$A$504,0),2),\"\"))),\"\"))","v":""},{"$f":"IF(IFERROR(INDIRECT(CONCATENATE(\"'UNITCOST ITEMS (Data Entry)'!I\",IFERROR(SUM(MATCH(A478,'UNITCOST ITEMS (Data Entry)'!$A$3:$A$504,0),2),\"\"))),\"\")=0,\"\",IFERROR(INDIRECT(CONCATENATE(\"'UNITCOST ITEMS (Data Entry)'!I\",IFERROR(SUM(MATCH(A478,'UNITCOST ITEMS (Data Entry)'!$A$3:$A$504,0),2),\"\"))),\"\"))","v":""},{"$f":"IF(K478=2,\"\",IF(IFERROR(INDIRECT(CONCATENATE(\"'UNITCOST ITEMS (Data Entry)'!J\",IFERROR(SUM(MATCH(A478,'UNITCOST ITEMS (Data Entry)'!$A$3:$A$504,0),2),\"\"))),\"\")=0,\"\",IFERROR(INDIRECT(CONCATENATE(\"'UNITCOST ITEMS (Data Entry)'!J\",IFERROR(SUM(MATCH(A478,'UNITCOST ITEMS (Data Entry)'!$A$3:$A$504,0),2),\"\"))),\"\")))","v":""},null,{"$f":"IF(IFERROR(INDIRECT(CONCATENATE(\"'UNITCOST ITEMS (Data Entry)'!C\",IFERROR(SUM(MATCH(A478,'UNITCOST ITEMS (Data Entry)'!$A$3:$A$504,0),2),\"\"))),\"\")=0,\"\",IFERROR(INDIRECT(CONCATENATE(\"'UNITCOST ITEMS (Data Entry)'!C\",IFERROR(SUM(MATCH(A478,'UNITCOST ITEMS (Data Entry)'!$A$3:$A$504,0),2),\"\"))),\"\"))","v":""},""]
[471,{"$f":"IF(IFERROR(INDIRECT(CONCATENATE(\"'UNITCOST ITEMS (Data Entry)'!D\",IFERROR(SUM(MATCH(A479,'UNITCOST ITEMS (Data Entry)'!$A$3:$A$504,0),2),\"\"))),\"\")=0,\"\",IFERROR(INDIRECT(CONCATENATE(\"'UNITCOST ITEMS (Data Entry)'!D\",IFERROR(SUM(MATCH(A479,'UNITCOST ITEMS (Data Entry)'!$A$3:$A$504,0),2),\"\"))),\"\"))","v":""},{"$f":"IF(IFERROR(INDIRECT(CONCATENATE(\"'UNITCOST ITEMS (Data Entry)'!E\",IFERROR(SUM(MATCH(A479,'UNITCOST ITEMS (Data Entry)'!$A$3:$A$504,0),2),\"\"))),\"\")=0,\"\",IFERROR(INDIRECT(CONCATENATE(\"'UNITCOST ITEMS (Data Entry)'!E\",IFERROR(SUM(MATCH(A479,'UNITCOST ITEMS (Data Entry)'!$A$3:$A$504,0),2),\"\"))),\"\"))","v":""},null,{"$f":"IF(IFERROR(INDIRECT(CONCATENATE(\"'UNITCOST ITEMS (Data Entry)'!F\",IFERROR(SUM(MATCH(A479,'UNITCOST ITEMS (Data Entry)'!$A$3:$A$504,0),2),\"\"))),\"\")=0,\"\",IFERROR(INDIRECT(CONCATENATE(\"'UNITCOST ITEMS (Data Entry)'!F\",IFERROR(SUM(MATCH(A479,'UNITCOST ITEMS (Data Entry)'!$A$3:$A$504,0),2),\"\"))),\"\"))","v":""},{"$f":"IF(IFERROR(INDIRECT(CONCATENATE(\"'UNITCOST ITEMS (Data Entry)'!G\",IFERROR(SUM(MATCH(A479,'UNITCOST ITEMS (Data Entry)'!$A$3:$A$504,0),2),\"\"))),\"\")=0,\"\",IFERROR(INDIRECT(CONCATENATE(\"'UNITCOST ITEMS (Data Entry)'!G\",IFERROR(SUM(MATCH(A479,'UNITCOST ITEMS (Data Entry)'!$A$3:$A$504,0),2),\"\"))),\"\"))","v":""},{"$f":"IF(IFERROR(INDIRECT(CONCATENATE(\"'UNITCOST ITEMS (Data Entry)'!H\",IFERROR(SUM(MATCH(A479,'UNITCOST ITEMS (Data Entry)'!$A$3:$A$504,0),2),\"\"))),\"\")=0,\"\",IFERROR(INDIRECT(CONCATENATE(\"'UNITCOST ITEMS (Data Entry)'!H\",IFERROR(SUM(MATCH(A479,'UNITCOST ITEMS (Data Entry)'!$A$3:$A$504,0),2),\"\"))),\"\"))","v":""},{"$f":"IF(IFERROR(INDIRECT(CONCATENATE(\"'UNITCOST ITEMS (Data Entry)'!I\",IFERROR(SUM(MATCH(A479,'UNITCOST ITEMS (Data Entry)'!$A$3:$A$504,0),2),\"\"))),\"\")=0,\"\",IFERROR(INDIRECT(CONCATENATE(\"'UNITCOST ITEMS (Data Entry)'!I\",IFERROR(SUM(MATCH(A479,'UNITCOST ITEMS (Data Entry)'!$A$3:$A$504,0),2),\"\"))),\"\"))","v":""},{"$f":"IF(K479=2,\"\",IF(IFERROR(INDIRECT(CONCATENATE(\"'UNITCOST ITEMS (Data Entry)'!J\",IFERROR(SUM(MATCH(A479,'UNITCOST ITEMS (Data Entry)'!$A$3:$A$504,0),2),\"\"))),\"\")=0,\"\",IFERROR(INDIRECT(CONCATENATE(\"'UNITCOST ITEMS (Data Entry)'!J\",IFERROR(SUM(MATCH(A479,'UNITCOST ITEMS (Data Entry)'!$A$3:$A$504,0),2),\"\"))),\"\")))","v":""},null,{"$f":"IF(IFERROR(INDIRECT(CONCATENATE(\"'UNITCOST ITEMS (Data Entry)'!C\",IFERROR(SUM(MATCH(A479,'UNITCOST ITEMS (Data Entry)'!$A$3:$A$504,0),2),\"\"))),\"\")=0,\"\",IFERROR(INDIRECT(CONCATENATE(\"'UNITCOST ITEMS (Data Entry)'!C\",IFERROR(SUM(MATCH(A479,'UNITCOST ITEMS (Data Entry)'!$A$3:$A$504,0),2),\"\"))),\"\"))","v":""},""]
[472,{"$f":"IF(IFERROR(INDIRECT(CONCATENATE(\"'UNITCOST ITEMS (Data Entry)'!D\",IFERROR(SUM(MATCH(A480,'UNITCOST ITEMS (Data Entry)'!$A$3:$A$504,0),2),\"\"))),\"\")=0,\"\",IFERROR(INDIRECT(CONCATENATE(\"'UNITCOST ITEMS (Data Entry)'!D\",IFERROR(SUM(MATCH(A480,'UNITCOST ITEMS (Data Entry)'!$A$3:$A$504,0),2),\"\"))),\"\"))","v":""},{"$f":"IF(IFERROR(INDIRECT(CONCATENATE(\"'UNITCOST ITEMS (Data Entry)'!E\",IFERROR(SUM(MATCH(A480,'UNITCOST ITEMS (Data Entry)'!$A$3:$A$504,0),2),\"\"))),\"\")=0,\"\",IFERROR(INDIRECT(CONCATENATE(\"'UNITCOST ITEMS (Data Entry)'!E\",IFERROR(SUM(MATCH(A480,'UNITCOST ITEMS (Data Entry)'!$A$3:$A$504,0),2),\"\"))),\"\"))","v":""},null,{"$f":"IF(IFERROR(INDIRECT(CONCATENATE(\"'UNITCOST ITEMS (Data Entry)'!F\",IFERROR(SUM(MATCH(A480,'UNITCOST ITEMS (Data Entry)'!$A$3:$A$504,0),2),\"\"))),\"\")=0,\"\",IFERROR(INDIRECT(CONCATENATE(\"'UNITCOST ITEMS (Data Entry)'!F\",IFERROR(SUM(MATCH(A480,'UNITCOST ITEMS (Data Entry)'!$A$3:$A$504,0),2),\"\"))),\"\"))","v":""},{"$f":"IF(IFERROR(INDIRECT(CONCATENATE(\"'UNITCOST ITEMS (Data Entry)'!G\",IFERROR(SUM(MATCH(A480,'UNITCOST ITEMS (Data Entry)'!$A$3:$A$504,0),2),\"\"))),\"\")=0,\"\",IFERROR(INDIRECT(CONCATENATE(\"'UNITCOST ITEMS (Data Entry)'!G\",IFERROR(SUM(MATCH(A480,'UNITCOST ITEMS (Data Entry)'!$A$3:$A$504,0),2),\"\"))),\"\"))","v":""},{"$f":"IF(IFERROR(INDIRECT(CONCATENATE(\"'UNITCOST ITEMS (Data Entry)'!H\",IFERROR(SUM(MATCH(A480,'UNITCOST ITEMS (Data Entry)'!$A$3:$A$504,0),2),\"\"))),\"\")=0,\"\",IFERROR(INDIRECT(CONCATENATE(\"'UNITCOST ITEMS (Data Entry)'!H\",IFERROR(SUM(MATCH(A480,'UNITCOST ITEMS (Data Entry)'!$A$3:$A$504,0),2),\"\"))),\"\"))","v":""},{"$f":"IF(IFERROR(INDIRECT(CONCATENATE(\"'UNITCOST ITEMS (Data Entry)'!I\",IFERROR(SUM(MATCH(A480,'UNITCOST ITEMS (Data Entry)'!$A$3:$A$504,0),2),\"\"))),\"\")=0,\"\",IFERROR(INDIRECT(CONCATENATE(\"'UNITCOST ITEMS (Data Entry)'!I\",IFERROR(SUM(MATCH(A480,'UNITCOST ITEMS (Data Entry)'!$A$3:$A$504,0),2),\"\"))),\"\"))","v":""},{"$f":"IF(K480=2,\"\",IF(IFERROR(INDIRECT(CONCATENATE(\"'UNITCOST ITEMS (Data Entry)'!J\",IFERROR(SUM(MATCH(A480,'UNITCOST ITEMS (Data Entry)'!$A$3:$A$504,0),2),\"\"))),\"\")=0,\"\",IFERROR(INDIRECT(CONCATENATE(\"'UNITCOST ITEMS (Data Entry)'!J\",IFERROR(SUM(MATCH(A480,'UNITCOST ITEMS (Data Entry)'!$A$3:$A$504,0),2),\"\"))),\"\")))","v":""},null,{"$f":"IF(IFERROR(INDIRECT(CONCATENATE(\"'UNITCOST ITEMS (Data Entry)'!C\",IFERROR(SUM(MATCH(A480,'UNITCOST ITEMS (Data Entry)'!$A$3:$A$504,0),2),\"\"))),\"\")=0,\"\",IFERROR(INDIRECT(CONCATENATE(\"'UNITCOST ITEMS (Data Entry)'!C\",IFERROR(SUM(MATCH(A480,'UNITCOST ITEMS (Data Entry)'!$A$3:$A$504,0),2),\"\"))),\"\"))","v":""},""]

{"sheet":"Assessment Reimbursement Area","index":2,"n_rows":49,"n_cols":13,"rows_kept":49,"cut":false,"hidden":false,"merged":[[48,0,48,1],[43,0,43,4],[44,0,44,3],[22,0,22,1],[20,0,20,3],[25,0,27,9],[45,0,45,3],[20,5,21,10],[7,12,10,14],[0,0,0,9],[17,0,17,4],[46,5,47,10],[18,0,18,3],[46,0,46,3],[19,5,19,10]]}
["ASSESSMENT REIMBURSEMENT AREA PARCEL ROLL",null,null,null,null,null,null,null,null,null,"EXHIBIT B",{"$f":"IF(A17=10,0,A17)","v":0},{"$f":"CONCATENATE(\"'Assessment Reimbursement Area'!$A$1:$K$\",SUM(A17,16))","v":"'Assessment Reimbursement Area'!$A$1:$K$26"}]
["Ref No.","Exempt from Collection","Encumbrance Type","Tax/Parcel Number","Owner Name & Parcel Address","Legal Description (or Abbreviated Legal Description)","Parcel Area (sf)","Effective Parcel Area w/ half-shares","SqRt of Effective Parcel Area","Pro Rata\nShare (%)","Pro Rata of Construction Amount"]
[1,null,null,null,null,null,null,{"$f":"IF(OR(C3=\"Full-Share\",C3=\"N/A\"),G3,IF(C3=\"Half-Share\",G3/2,0))","v":0},{"$f":"SQRT(H3)","v":0},{"$f":"IFERROR(((I3/$I$16)*100),0)","v":0},{"$f":"IF(B3<>\"yes\",IFERROR($E$23*(J3/100),0),0)","v":0}]
[{"$f":"A3+1","v":2},null,null,null,null,null,null,0,0,0,0]
[3,null,null,null,null,null,null,0,0,0,0]
[4,null,null,null,null,null,null,0,0,0,0]
[5,null,null,null,null,null,null,0,0,0,0]
[6,null,null,null,null,null,null,0,0,0,0,null,"NOTE: Only rows beyond 10 will be deleted (if present). \n - The default 10 rows will remain static. \n - Rows beyond 10 will be deleted regardless of whether  data is \n    present if the macro button is used."]
[7,null,null,null,null,null,null,0,0,0,0]
[8,null,null,null,null,null,null,0,0,0,0]
[9,null,null,null,null,null,null,0,0,0,0]
[10,null,null,null,null,null,null,0,0,0,0]
[null,null,null,null,null,null,null,null,null,null,{"$f":"SUM(K3:K12)","v":0}]
[]
[null,null,null,null,null,null,"Total Area (sf)","Total Effective Area (sf)","Total SqRt Area",null,"Total Benefit\nCost"]
[null,null,null,null,null,null,{"$f":"SUM(G3:G12)","v":0},{"$f":"SUM(H3:H12)","v":0},{"$f":"SUM(I3:I12)","v":0},null,{"$f":"SUM(K3:K12)","v":0}]
[{"$f":"MAX(A3:A16)","v":10}]
["Cost of Construction"]
["Construction Cost"]
[null,null,null,"Latecomer Application Fee",{"$f":"IF(\nSUM(COUNT(ParcelRoll[Tax/Parcel Number]),\nSUM(E19:E19))>0,\nSUM(1090),0)","v":0}]
["Latecomer Recording Fees *",null,null,null,null,"* Recording Fees = [$303.50 + ($1 x # of additional pages)] x # of parcels\nThis is a pass through fee from SPU to the property owner for King County as required by RCW Chapter 36.18."]
[]
["Total",null,null,null,{"$f":"SUM(E19:E21)","v":0}]
[]
[]
["EXAMPLE ASSESSMENT REIMBURSEMENT AREA PARCEL ROLL"]
[]
[null,null,null,null,null,null,null,null,null,null,"EXHIBIT B"]
["Ref No.","Exempt from Collection\n(Yes/No)","Half-share (Yes/No)","Tax/Parcel\nNumber","Owner Name & Parcel Address","Legal Description (or Abbreviated Legal Description)","Parcel Area (sf)","Effective Parcel Area w/ half-shares","SqRt of Effective Parcel Area","Pro Rata\nShare (%)","Pro Rata of Construction Amount"]
[1,"yes",null,"123…","Mr. Developer <parcel street address>","Parcel xyz…",5000,{"$f":"IF(ISBLANK(C30), G30, G30/2)","v":5000},{"$f":"SQRT(H30)","v":70.710678118654755},{"$f":"IFERROR(((I30/$I$43)*100),\"\")","v":10.622236189720814},{"$f":"IF(B30<>\"yes\",IFERROR($E$49*(J30/100),\"\"),0)","v":0}]
[2,null,null,"234…","John Smith <parcel street address>","Parcel yza…",5000,{"$f":"IF(ISBLANK(C31), G31, G31/2)","v":5000},{"$f":"SQRT(H31)","v":70.710678118654755},{"$f":"IFERROR(((I31/$I$43)*100),\"\")","v":10.622236189720814},10958.429965125479]
[3,null,"yes","345…","Joe Smith <parcel street address>","Parcel zab…",5000,2500,50,7.5110552411167415,7748.7801394980861]
[4,null,null,"456…","Jane Smith <parcel street address>","Parcel abc…",5000,5000,70.710678118654755,10.622236189720814,10958.429965125479]
[5,null,null,"567…","John Smithee <parcel street address>","Parcel bcd…",5000,5000,70.710678118654755,10.622236189720814,10958.429965125479]
[6,null,"yes","678…","Jane Smithee <parcel street address>","Parcel cde…",5000,2500,50,7.5110552411167415,7748.7801394980861]
[7,null,null,"789…","Joe Smithee <parcel street address>","Parcel def…",5000,5000,70.710678118654755,10.622236189720814,10958.429965125479]
[8,null,null,"890…","John Smitho <parcel street address>","Parcel efg…",5000,5000,70.710678118654755,10.622236189720814,10958.429965125479]
[9,null,null,"901…","Joe Smitho <parcel street address>","Parcel fgh…",5000,5000,70.710678118654755,10.622236189720814,10958.429965125479]
[10,null,null,"012…","Jane Smitho <parcel street address>","Parcel ghi…",5000,5000,70.710678118654755,10.622236189720814,10958.429965125479]
[null,null,null,null,null,null,null,null,null,null,{"$f":"SUM(K30:K39)","v":92206.57003487453}]
[]
[null,"Total Recorded",null,null,null,null,"Total Area (sf)","Total Effective Area (sf)","Total SqRt Area",null,"Total Benefit\nCost"]
[20,"Pages:",50,"(enter total # pages for all the parcels above)   ** FOR INTERNAL USE ONLY **",null,null,50000,45000,665.68542494923804,null,{"$f":"SUM(K19:K39)","v":92206.57003487453}]
["Cost of Construction"]
["Construction Cost",null,null,null,100000]
["Latecomer Application Fee",null,null,"Latecomer Application Fee",{"$f":"IF(\nSUM(COUNT(ParcelRoll[Tax/Parcel Number]),\nSUM(E45:E45))>0,\nSUM(1090),0)","v":1090}]
["Latecomer Recording Fees *",null,null,null,2075,"* Recording Fees = [$303.50 + ($1 x # of additional pages)] x # of parcels\nThis is a pass through fee from SPU to the property owner for King County as required by RCW Chapter 36.18."]
[]
["Total",null,null,null,{"$f":"SUM(E45:E47)","v":103165}]

{"sheet":"Additional Parcel Owner Info","index":3,"n_rows":3,"n_cols":5,"rows_kept":3,"cut":false,"hidden":false,"merged":[[0,0,0,10]]}
["Supplemental Property Owner information"]
["Ref No.","Tax/Parcel\nNumber","Multiple Taxpayers?","Owner Name","Owner Contact Address"]
[1]

{"sheet":"Instructions","index":4,"n_rows":2,"n_cols":1,"rows_kept":2,"cut":false,"hidden":false,"merged":[[1,0,28,5]]}
[]
["\n\n INSTRUCTIONS:   \n\n   Starting with the project parcel(s), fill in the yellow cells (where applicable). The white cells are locked with formulas to calculate the ProRata amount based on data entered \n   in yellow cells. Refer to the example below for an overview of how your data and calculations will appear once you have completed the spreadsheet. Submit this form with   \n   your latecomer application package to the SPU Water Availability mailbox.\n\n PARCEL ROLL:\n\n    - Exempt from Collection - Select Originating, Exempt, or N/A. \n      Assign Originating to parcels that are initiating and entering the Latecomer Agreement. All parcels that are a part of the project installing the improvement must be listed as\n      Originating.\n      Assign Exempt to parcels that are contributing to the cost of constructing the improvement. \n      Assign N/A to parcels that are neither Originating or Exempt.\n\n    - Encumbrance Type - Select Full-Share, Half-Share, or N/A. \n      Assign Full-Share to parcels with frontage to the utility improvement and would be required to connect to this facility in the future.\n      Assign Half-Share to parcels with frontages to the utility improvement and an alternative public main approved for connection.\n      Assign N/A to parcels that Exempt from Collection (Originating or Exempt).\n\n    - Tax/Parcel Number - Enter the Tax/Parcel number for the benefitting parcels. For more information \n       on identifying Benefitting Parcels click on the link button.\n\n    - Owner Name & Parcel Address - Enter owner name & parcel address. If any parcel has more than one taxpayer, e.g. condominiums, or the taxpayer's mailing \n       address is different than the parcel address all owners must be identified on the Additional Parcel Owner Info Sheet.\n\n    - Legal Description (or Abbreviated Legal Description) - Refer to King County Parcel Viewer's website.\n\n    - Parcel Area (sf) - Refer to King County Parcel Viewer's website.\n\n COSTS:\n\n    - Construction Cost - Total costs for construction."]

{"sheet":"ADMIN USE ONLY - Fee Calculator","index":5,"n_rows":34,"n_cols":12,"rows_kept":34,"cut":false,"hidden":false,"merged":[[0,2,0,7],[3,11,32,21]]}
[null,null,"RECORDING FEE CALCULATOR",null,null,null,null,null,null,null,null,{"$f":"IF(A34=30,0,A34)","v":0}]
[null,null,null,null,null,"Enter Extra Page Count"]
["Ref No.","Exempt from Collection","Parcel","Page 1 Fee","Rate/page for\n Extra Pages","# Extra Pages \n(not including \nPage 1)","Fee for Extra Pages","Recording Fee"]
[1,null,null,{"$f":"IF(C4<>\"\",303.5,\"\")","v":""},{"$f":"IF(C4<>\"\",1,\"\")","v":""},null,{"$f":"IF(C4<>\"\",PRODUCT(E4,VALUE(F4)),\"\")","v":""},{"$f":"IF(C4<>\"\",SUM(D4,G4),\"\")","v":""},null,null,null,"Information:\n\n•   The King County cover sheet is the first page of a recording package.\n•   Remove non-essential pages from the recording package, such as pages intentionally left blank or contract administration pages.\n\nFormula: \n\nX = Number of pages\nBenefitting parcels: Final notification letter (X) + Last Amended Exhibit A (X) + Last Amended Exhibit B (X) = X total pages\nOriginating parcels: Contract & Exhibits (X) + All Contract Amendments & Exhibits (X) = X total pages\n\nStaff Instructions:\n\n1.   Copy columns B and D from the Assessment Reimbursement Area tab to columns B and C in this tab, respectively.\n             a.   Note that originating parcels are exempt from collections.\n2.   Use the formula to calculate the total number of pages for originating parcels and benefitting parcels. \n3.   Complete column F depending on the type of parcel.\n4.   Copy the Total Recording Fee and paste into Latecomer Recording Fees field on Assessment Reimbursement Area tab."]
[{"$f":"A4+1","v":2},null,null,"",{"$f":"IF(C5<>\"\",1,\"\")","v":""},null,{"$f":"IF(C5<>\"\",PRODUCT(E5,VALUE(F5)),\"\")","v":""},{"$f":"IF(C5<>\"\",SUM(D5,G5),\"\")","v":""}]
[{"$f":"A5+1","v":3},null,null,"","",null,{"$f":"IF(C6<>\"\",PRODUCT(E6,VALUE(F6)),\"\")","v":""},{"$f":"IF(C6<>\"\",SUM(D6,G6),\"\")","v":""}]
[4,null,null,"","",null,"",""]
[5,null,null,"","",null,"",""]
[6,null,null,"","",null,"",""]
[7,null,null,"","",null,"",""]
[8,null,null,"","",null,"",""]
[9,null,null,"","",null,"",""]
[10,null,null,"","",null,"",""]
[11,null,null,"","",null,"",""]
[12,null,null,"","",null,"",""]
[13,null,null,"","",null,"",""]
[14,null,null,"","",null,"",""]
[15,null,null,"","",null,"",""]
[16,null,null,"","",null,"",""]
[17,null,null,"","",null,"",""]
[18,null,null,"","",null,"",""]
[19,null,null,"","",null,"",""]
[20,null,null,"","",null,"",""]
[21,null,null,"","",null,"",""]
[22,null,null,"","",null,"",""]
[23,null,null,"","",null,"",""]
[24,null,null,"","",null,"",""]
[25,null,null,"","",null,"",""]
[26,null,null,"","",null,"",""]
[27,null,null,"","",null,"",""]
[28,null,null,"","",null,"",""]
[29,null,null,"","",null,"",""]
[30,null,null,"","",null,"",""]
[{"$f":"MAX(A$4:A33)","v":30},null,null,null,null,null,"Total Recording Fee:",{"$f":"SUM(H4:H33)","v":0}]

{"sheet":"REFERENCE SHEET","index":6,"n_rows":406,"n_cols":11,"rows_kept":406,"cut":false,"hidden":true,"merged":[]}
["BID ITEM","BID ITEM DESCRIPTION","UNIT","UNIT COST",null,null,null,null,null,null,"UNIT"]
[]
[110005,"MAINTENANCE AND PROTECTION OF TRAFFIC CONTROL","LS",null,null,null,null,null,null,null,"CY"]
[110020,"TRAFFIC CONTROL PEACE OFFICERS","HR",65,null,null,null,null,null,null,"EA"]
[201005,"CLEARING & GRUBBING","SF",1,null,null,null,null,null,null,"HR"]
[201010,"CLEARING & GRUBBING","LS",null,null,null,null,null,null,null,"LF"]
[201020,"CLEARING","SF",0.5,null,null,null,null,null,null,"LS"]
[201025,"CLEARING","LS",null,null,null,null,null,null,null,"SF"]
[201030,"GRUBBING","SF",0.5,null,null,null,null,null,null,"SY"]
[201035,"GRUBBING","LS",null,null,null,null,null,null,null,"TN"]
[202015,"REMOVE ROCK FACING","SF",9,null,null,null,null,null,null,"VF"]
[202025,"REMOVE ASPHALT OVERLAY ","SY",16]
[202030,"REMOVE ASPHALT PAVEMENT","SY",20]
[202035,"REMOVE CEM CONC SIDEWALK","SY",15]
[202045,"REMOVE PAVEMENT  { QTY >= 1000 }","SY",28]
[202062,"REMOVE PAVEMENT, OVER 14\" IN DEPTH, INCLUDING RAILS & TIES","SY",35]
[202064,"REMOVE PAVEMENT, OVER 14\" IN DEPTH, INCLUDING RAILROAD TIES","SY",35]
[202066,"REMOVE PAVEMENT, OVER 14\" IN DEPTH","SY",30]
[202125,"REMOVE BEAM GUARD RAIL","LF",15]
[202130,"REMOVE CONC TRAFFIC BARRIER","LF",15]
[202135,"REMOVE CONDUIT","LF",8]
[202140,"REMOVE CULVERT","LF",12]
[202145,"REMOVE CURB","LF",11]
[202155,"REMOVE CURB & GUTTER","LF",17]
[202165,"REMOVE FENCE, WOOD","LF",10]
[202170,"REMOVE FENCE, CHAIN LINK","LF",6]
[202180,"REMOVE PAVEMENT MARKING","LF",1]
[202190,"REMOVE PIPE","LF",17]
[202200,"REMOVE PAVEMENT MARKING, THERMOPLASTIC","LF",1.5]
[202250,"REMOVE BOLLARD","EA",100]
[202270,"REMOVE CATCH BASIN OR SAND BOX","EA",250]
[202275,"REMOVE CONDUIT RISER","EA",150]
[202305,"REMOVE FOUNDATION, METAL POLE","EA",1000]
[202325,"REMOVE GATE VALVE","EA",400]
[202330,"REMOVE HANDHOLE","EA",110]
[202335,"REMOVE HYDRANT","EA",800]
[202340,"REMOVE INLET","EA",240]
[202355,"REMOVE MAINTENANCE HOLE","EA",600]
[202365,"REMOVE PAVEMENT MARKING LEGEND/SYMBOL","EA",50]
[202395,"REMOVE POLE, WOOD","EA",450]
[202400,"REMOVE POST, BUS ZONE","EA",100]
[202405,"REMOVE POST, PARKING METER","EA",100]
[202410,"REMOVE POST, PEDESTRIAN PUSHBUTTON","EA",150]
[202415,"REMOVE POST, STREET NAME","EA",100]
[202420,"REMOVE POST, TRAFFIC SIGN","EA",100]
[202425,"REMOVE SHRUB","EA",100]
[202430,"REMOVE SIGN","EA",100]
[202435,"REMOVE SIGN, BUS ZONE","EA",100]
[202445,"REMOVE SIGN, OVERHEAD","EA",200]
[202450,"REMOVE SIGN, TRAFFIC","EA",100]
[202455,"REMOVE PAVEMENT MARKING LEGEND/SYMBOL, THERMOPLASTIC","EA",50]
[202480,"REMOVE TREE","EA",500]
[202500,"REMOVE VALVE BOX","EA",150]
[202505,"REMOVE VALVE CHAMBER","EA",800]
[202750,"SAWCUT ASPHALT CONCRETE, FULL DEPTH","LF",2.5]
[202767,"SAWCUT CEMENT CONCRETE SIDEWALK, FULL DEPTH","LF",5]
[202770,"SAWCUT RIGID PAVEMENT, FULL DEPTH","LF",5]
[202805,"ABANDON CATCH BASIN","EA",300]
[202812,"ABANDON EXISTING WATER SERVICE","EA",500]
[202815,"ABANDON INLET","EA",200]
[202820,"ABANDON MAINTENANCE HOLE","EA",600]
[202825,"ABANDON VALVE CHAMBER","EA",400]
[202850,"ABANDON AND FILL PIPE","LF",22]
[204005,"COMMON EXCAVATION","CY",28]
[204010,"SOLID ROCK EXCAVATION","CY",85]
[204020,"STRUCTURE EXCAVATION","CY",42]
[204025,"EXTRA EXCAVATION","CY",30]
[204030,"STEPPED SLOPE CONSTRUCTION","CY",10]
[204130,"UNSUITABLE FOUNDATION EXCAVATION","CY",35]
[205010,"DITCH EXCAVATION","CY",35]
[205020,"CHANNEL EXCAVATION","CY",35]
[205030,"SAFETY SYSTEM IN DITCH AND CHANNEL EXCAVATION","LS"]
[207010,"SAFETY SYSTEMS IN TRENCH EXCAVATION, MIN. BID = $0.80 PER SF","SF",1]
[207020,"SUPPORT AND SAFETY SYSTEM","SF",15]
[207030,"SAFETY SYSTEMS IN STRUCTURAL EXCAVATION","LS"]
[210005,"SELECT MATERIAL","CY",50]
[210010,"CONTROLLED DENSITY FILL","CY",125]
[210015,"UNCLASSIFIED BORROW","TN",28]
[210067,"BORROW, TYPE 17","TN",35]
[213005,"ROCK FACING","SF",15]
[213010,"REBUILD ROCK FACING","SF",20]
[213015,"RELOCATE ROCK FACING","SF",20]
[215010,"CONSTRUCTION GEOTEXTILE FOR UNDERGROUND DRAINAGE","SY",2]
[215020,"CONSTRUCTION GEOTEXTILE FOR SEPARATION","SY",2]
[215030,"CONSTRUCTION GEOTEXTILE FOR SOIL STABILIZATION","SY",1.5]
[215040,"CONSTRUCTION GEOTEXTILE FOR PERMANENT EROSION CONTROL","SY",2]
[401001,"MINERAL AGGREGATE, TYPE 1  ","TN",35]
[401002,"MINERAL AGGREGATE, TYPE 2   ","TN",26]
[401004,"MINERAL AGGREGATE, TYPE 4","TN",34]
[401010,"MINERAL AGGREGATE, TYPE 10","TN",44]
[401011,"MINERAL AGGREGATE, TYPE 11","TN",34]
[401013,"MINERAL AGGREGATE, TYPE 13","TN",38]
[401014,"MINERAL AGGREGATE, TYPE 14","TN",30]
[401017,"MINERAL AGGREGATE, TYPE 17 ","TN",24]
[401022,"MINERAL AGGREGATE, TYPE 22","TN",36]
[401026,"MINERAL AGGREGATE, TYPE 26","TN",29]
[401201,"MINERAL AGGREGATE, TYPE 1","CY",60]
[401202,"MINERAL AGGREGATE, TYPE 2","CY",62]
[401206,"MINERAL AGGREGATE, TYPE 6","CY",45]
[401207,"MINERAL AGGREGATE, TYPE 7","CY",45]
[401209,"MINERAL AGGREGATE, TYPE 9","CY",48]
[401210,"MINERAL AGGREGATE, TYPE 10","CY",72]
[401213,"MINERAL AGGREGATE, TYPE 13","CY",66]
[401214,"MINERAL AGGREGATE, TYPE 14","CY",40]
[401217,"MINERAL AGGREGATE, TYPE 17 ","CY",29]
[401221,"MINERAL AGGREGATE, TYPE 21","CY",50]
[504020,"SURFACE PREP, PRELEVEL","TN",100]
[504025,"SURFACE PREP, PLANE BITUMINOUS PAVEMENT   ","SY",6]
[504040,"PAVEMENT, HMA (CL 3/8 IN)","TN",200]
[504045,"PAVEMENT, HMA (CL 1/2 IN) ","TN",225]
[504050,"PAVEMENT, HMA (CL 3/4 IN) ","TN",200]
[504055,"PAVEMENT, HMA (CL 1 IN)","TN",200]
[504260,"PAVEMENT PATCH, TEMPORARY","TN",120]
[505120,"ROADWAY CEM CONC, 6 IN","SY",80]
[505121,"ROADWAY CEM CONC, 7 IN","SY",85]
[505122,"ROADWAY CEM CONC, 8 IN","SY",90]
[505123,"ROADWAY CEM CONC, 9 IN","SY",95]
[505124,"ROADWAY CEM CONC, 10 IN","SY",100]
[505125,"ROADWAY CEM CONC, 11 IN","SY",105]
[505126,"ROADWAY CEM CONC, 12 IN","SY",110]
[505130,"ROADWAY CEM CONC, HES (24 HR), 6 IN","SY",95]
[505131,"ROADWAY CEM CONC, HES (24 HR), 7 IN","SY",100]
[505132,"ROADWAY CEM CONC, HES (24 HR), 8 IN","SY",105]
[505133,"ROADWAY CEM CONC, HES (24 HR), 9 IN","SY",110]
[505134,"ROADWAY CEM CONC, HES (24 HR), 10 IN","SY",115]
[505135,"ROADWAY CEM CONC, HES (24 HR), 11 IN","SY",120]
[505136,"ROADWAY CEM CONC, HES (24 HR), 12 IN","SY",125]
[505140,"ROADWAY CEM CONC, HES (72 HR), 6 IN","SY",85]
[505141,"ROADWAY CEM CONC, HES (72 HR), 7 IN","SY",90]
[505142,"ROADWAY CEM CONC, HES (72 HR), 8 IN","SY",95]
[505143,"ROADWAY CEM CONC, HES (72 HR), 9 IN","SY",100]
[505144,"ROADWAY CEM CONC, HES (72 HR), 10 IN","SY",105]
[505145,"ROADWAY CEM CONC, HES (72 HR), 11 IN","SY",110]
[505146,"ROADWAY CEM CONC, HES (72 HR), 12 IN","SY",115]
[505220,"ROADWAY CEM CONC BASE, 6 IN","SY",75]
[505221,"ROADWAY CEM CONC BASE, 7 IN","SY",80]
[505222,"ROADWAY CEM CONC BASE, 8 IN","SY",85]
[505223,"ROADWAY CEM CONC BASE, 9 IN","SY",90]
[505224,"ROADWAY CEM CONC BASE, 10 IN","SY",90]
[505225,"ROADWAY CEM CONC BASE, 11 IN","SY",95]
[505226,"ROADWAY CEM CONC BASE, 12 IN","SY",100]
[505280,"ROADWAY CEM CONC BASE, HES (24 HR), 6 IN","SY",80]
[505281,"ROADWAY CEM CONC BASE, HES (24 HR), 7 IN","SY",90]
[505282,"ROADWAY CEM CONC BASE, HES (24 HR), 8 IN","SY",95]
[505283,"ROADWAY CEM CONC BASE, HES (24 HR), 9 IN","SY",100]
[505285,"ROADWAY CEM CONC BASE, HES (24 HR), 10 IN","SY",105]
[505287,"ROADWAY CEM CONC BASE, HES (24 HR), 11 IN","SY",110]
[505289,"ROADWAY CEM CONC BASE, HES (24 HR), 12 IN","SY",115]
[505290,"ROADWAY CEM CONC BASE, HES (72 HR), 6 IN","SY",75]
[505291,"ROADWAY CEM CONC BASE, HES (72 HR), 7 IN","SY",80]
[505292,"ROADWAY CEM CONC BASE, HES (72 HR), 8 IN","SY",85]
[505293,"ROADWAY CEM CONC BASE, HES (72 HR), 9 IN","SY",90]
[505295,"ROADWAY CEM CONC BASE, HES (72 HR), 10 IN","SY",95]
[505297,"ROADWAY CEM CONC BASE, HES (72 HR), 11 IN","SY",100]
[505299,"ROADWAY CEM CONC BASE, HES (72 HR), 12 IN","SY",105]
[505310,"DOWEL BAR","EA",2]
[505315,"TIE BAR WITH DRILL HOLE","EA",2]
[505330,"PATTERNED CEM CONC TREATMENT, ROADWAY PATTERNED","SY",20]
[505335,"PATTERNED CEM CONC TREATMENT, ROADWAY RUNNING BOND USED BRICK","SY",25]
[506005,"PERVIOUS CONCRETE SIDEWALK","SY",50]
[701106,"PIPE, SUBSURFACE DRAIN, PVC,  6 IN","LF",30]
[701108,"PIPE, SUBSURFACE DRAIN, PVC,  8 IN","LF",32]
[701110,"PIPE, SUBSURFACE DRAIN, PVC,  10 IN","LF",34]
[701450,"FILTER MATERIAL, TYPE 26","CY",50]
[701506,"SIDEWALK DRAIN, 6 IN, PVC","LF",30]
[701604,"GRAVEL DRAIN, TYPE 4","LF",2]
[701605,"GRAVEL DRAIN, TYPE 5","LF",2]
[701628,"GRAVEL DRAIN, TYPE 28","LF",2]
[702012,"PIPE, CULVERT, CONC REINF C76 CL V, 12 IN","LF",50]
[702015,"PIPE, CULVERT, CONC REINF C76 CL III, 15 IN","LF",55]
[702018,"PIPE, CULVERT, CONC REINF C76 CL III, 18 IN","LF",60]
[702024,"PIPE, CULVERT, CONC REINF C76 CL III, 24 IN","LF",80]
[702030,"PIPE, CULVERT, CONC REINF C76 CL III, 30 IN","LF",100]
[702310,"JUNCTION BOX","EA",1200]
[705008,"MAINTENANCE HOLE, TYPE 204A","EA",3200]
[705009,"MAINTENANCE HOLE, TYPE 204.5A","EA",3800]
[705010,"MAINTENANCE HOLE, TYPE 205A","EA",5000]
[705058,"MAINTENANCE HOLE, TYPE 204B","EA",3600]
[705059,"MAINTENANCE HOLE, TYPE 204.5B","EA",4100]
[705060,"MAINTENANCE HOLE, TYPE 205B","EA",5000]
[705108,"EXTRA DEPTH, TYPE 204A MAINTENANCE HOLE","VF",250]
[705109,"EXTRA DEPTH, TYPE 204.5A MAINTENANCE HOLE","VF",270]
[705110,"EXTRA DEPTH, TYPE 205A MAINTENANCE HOLE","VF",285]
[705158,"EXTRA DEPTH, TYPE 204B MAINTENANCE HOLE","VF",325]
[705159,"EXTRA DEPTH, TYPE 204.5B MAINTENANCE HOLE","VF",400]
[705160,"EXTRA DEPTH, TYPE 205B MAINTENANCE HOLE","VF",425]
[705300,"RECHANNEL MAINTENANCE HOLE","EA",750]
[705305,"REBUILD BRICK MAINTENANCE HOLE","EA",1600]
[705352,"CATCH BASIN, TYPE 240A","EA",2300]
[705353,"CATCH BASIN, TYPE 240B","EA",2300]
[705354,"CATCH BASIN, TYPE 241","EA",1600]
[705355,"CATCH BASIN, TYPE 242A","EA",2500]
[705356,"CATCH BASIN, TYPE 242B","EA",2500]
[705357,"CATCH BASIN, TYPE 240C","EA",2300]
[705358,"CATCH BASIN, TYPE 240D","EA",2300]
[705450,"INLET, TYPE 250A","EA",1300]
[705451,"INLET, TYPE 250B","EA",1300]
[705452,"INLET, TYPE 252","EA",1200]
[705510,"REBUILD CATCH BASIN","EA",1100]
[708006,"PIPE, CB CONN, CONC C14 CL 3, 6 IN","LF",45]
[708008,"PIPE, CB CONN, CONC C14 CL 3, 8 IN","LF",55]
[708056,"PIPE, CB CONN, D.I. CL 50, 6 IN","LF",65]
[708058,"PIPE, CB CONN, D.I. CL 50, 8 IN","LF",80]
[708062,"PIPE, CB CONN, D.I. CL 50, 12 IN","LF",100]
[708106,"PIPE, CB CONN, PVC, 6 IN","LF",40]
[708108,"PIPE, CB CONN, PVC, 8 IN","LF",50]
[708206,"PIPE, INLET CONN, CONC C14 CL 3, 6 IN","LF",45]
[708208,"PIPE, INLET CONN, CONC C14 CL 3, 8 IN","LF",55]
[708256,"PIPE, INLET CONN, D.I. CL 50, 6 IN","LF",65]
[708258,"PIPE, INLET CONN, D.I. CL 50, 8 IN","LF",75]
[708406,"DROP CONNECTION,  INSIDE, 6 IN","VF",300]
[708408,"DROP CONNECTION, INSIDE, 8 IN","VF",325]
[708412,"DROP CONNECTION, INSIDE, 12 IN","VF",375]
[711004,"PIPE, WM, D.I. CL 52, 4 IN, INCL. FITTINGS","LF",70]
[711006,"PIPE, WM, D.I. CL 52, 6 IN, INCL. FITTINGS","LF",80]
[711008,"PIPE, WM, D.I. CL 52, 8 IN, INCL. FITTINGS","LF",90]
[711010,"PIPE, WM, D.I. CL 52, 10 IN, INCL. FITTINGS","LF",100]
[711012,"PIPE, WM, D.I. CL 52, 12 IN, INCL. FITTINGS","LF",110]
[711106,"PIPE, WM, D.I. CL 52,  6 IN, RJ, INCL. FITTINGS","LF",85]
[711108,"PIPE, WM, D.I. CL 52,  8 IN, RJ, INCL. FITTINGS","LF",95]
[711112,"PIPE, WM, D.I. CL 52, 12 IN, RJ, INCL. FITTINGS","LF",115]
[711116,"PIPE, WM, D.I. CL 52, 16 IN, RJ, INCL. FITTINGS","LF",160]
[711206,"BEDDING, WATER MAIN, CL B, 6 IN PIPE","LF",6]
[711208,"BEDDING, WATER MAIN, CL B, 8 IN PIPE","LF",7]
[711210,"BEDDING, WATER MAIN, CL B, 10 IN PIPE","LF",8]
[711212,"BEDDING, WATER MAIN, CL B, 12 IN PIPE","LF",9]
[711400,"BLOCKING, CEMENT CONCRETE","CY",225]
[711402,"BLOWOFF ASSEMBLY, 2 IN","EA",1800]
[711500,"STATION, ELECTROLYSIS TEST","EA",1800]
[712004,"VALVE, GATE, 4 IN","EA",500]
[712006,"VALVE, GATE, 6 IN","EA",800]
[712008,"VALVE, GATE, 8 IN","EA",1100]
[712010,"VALVE, GATE, 10 IN","EA",1500]
[712012,"VALVE, GATE, 12 IN","EA",1900]
[712106,"VALVE, BUTTERFLY, 6 IN","EA",1500]
[712108,"VALVE, BUTTERFLY, 8 IN","EA",1800]
[712110,"VALVE, BUTTERFLY, 10 IN","EA",3000]
[712112,"VALVE, BUTTERFLY, 12 IN","EA",4000]
[712500,"VALVE BOX, CAST IRON","EA",400]
[714006,"HYDRANT, 6 IN CONN, INSTALL ONLY","EA",2400]
[717006,"BEDDING, CL B, 6 IN PIPE","LF",8]
[717008,"BEDDING, CL B, 8 IN PIPE","LF",10]
[717010,"BEDDING, CL B, 10 IN PIPE","LF",12]
[717012,"BEDDING, CL B, 12 IN PIPE","LF",13]
[717015,"BEDDING, CL B, 15 IN PIPE","LF",14]
[717018,"BEDDING, CL B, 18 IN PIPE","LF",18]
[717024,"BEDDING, CL B, 24 IN PIPE","LF",18]
[717208,"PIPE, PS, CONC C14 CL 3, 8 IN","LF",65]
[717210,"PIPE, PS, CONC C14 CL 3, 10 IN","LF",70]
[717213,"PIPE, PS, CONC REINF C76 CL IV, 12 IN","LF",75]
[717216,"PIPE, PS, CONC REINF C76 CL IV, 15 IN","LF",80]
[717218,"PIPE, PS, CONC REINF C76 CL III, 18 IN","LF",90]
[717221,"PIPE, PS, CONC REINF C76 CL III, 21 IN","LF",110]
[717224,"PIPE, PS, CONC REINF C76 CL III, 24 IN","LF",130]
[717308,"PIPE, PS, D.I., CL 50, 8 IN","LF",80]
[717310,"PIPE, PS, D.I., CL 50, 10 IN","LF",85]
[717312,"PIPE, PS, D.I., CL 50, 12 IN","LF",90]
[717314,"PIPE, PS, D.I., CL 50, 14 IN","LF",100]
[717316,"PIPE, PS, D.I., CL 50, 16 IN","LF",120]
[717318,"PIPE, PS, D.I., CL 50, 18 IN","LF",125]
[717324,"PIPE, PS, D.I., CL 50, 24 IN","LF",150]
[717358,"PIPE, PS, D.I., CL 52, 8 IN","LF",80]
[717360,"PIPE, PS, D.I., CL 52, 10 IN","LF",85]
[717362,"PIPE, PS, D.I., CL 52, 12 IN","LF",95]
[717368,"PIPE, PS, VCP, EXTRA STRENGTH, 8 IN","LF",80]
[717370,"PIPE, PS, VCP, EXTRA STRENGTH, 10 IN","LF",85]
[717372,"PIPE, PS, VCP, EXTRA STRENGTH, 12 IN","LF",90]
[717374,"PIPE, PS, VCP, EXTRA STRENGTH, 14 IN","LF",100]
[717376,"PIPE, PS, VCP, EXTRA STRENGTH, 16 IN","LF",120]
[717378,"PIPE, PS, VCP, EXTRA STRENGTH, 18 IN","LF",125]
[717384,"PIPE, PS, VCP, EXTRA STRENGTH, 24 IN","LF",150]
[717413,"PIPE, PSD, CONC REINF C76 CL IV, 12 IN","LF",75]
[717416,"PIPE, PSD, CONC REINF C76 CL IV, 15 IN","LF",80]
[717418,"PIPE, PSD, CONC REINF C76 CL III, 18 IN","LF",90]
[717421,"PIPE, PSD, CONC REINF C76 CL III, 21 IN","LF",110]
[717424,"PIPE, PSD, CONC REINF C76 CL III, 24 IN","LF",130]
[717608,"PIPE, PSD, D.I. CL 50, 8 IN","LF",80]
[717612,"PIPE, PSD, D.I., CL 50, 12 IN","LF",90]
[717614,"PIPE, PSD, D.I., CL 50, 14 IN","LF",100]
[717616,"PIPE, PSD, D.I., CL 50, 16 IN","LF",120]
[717618,"PIPE, PSD, D.I., CL 50, 18 IN","LF",125]
[717620,"PIPE, PSD, D.I., CL 50, 20 IN","LF",140]
[717624,"PIPE, PSD, D.I., CL 50, 24 IN","LF",150]
[717656,"PIPE, PSD, D.I., CL 52, 6 IN","LF",70]
[717658,"PIPE, PSD, D.I., CL 52, 8 IN","LF",80]
[717662,"PIPE, PSD, D.I., CL 52, 12 IN","LF",95]
[717708,"PIPE, PSS, CONC C14 CL 3, 8 IN","LF",55]
[717710,"PIPE, PSS, CONC C14 CL 3, 10 IN","LF",60]
[717712,"PIPE, PSS, CONC REINF C76 CL IV, 12 IN","LF",70]
[717716,"PIPE, PSS, CONC REINF C76 CL IV, 15 IN","LF",80]
[717728,"PIPE, PSS, VCP, EXTRA STRENGTH, 8 IN","LF",80]
[717730,"PIPE, PSS, VCP, EXTRA STRENGTH, 10 IN","LF",85]
[717732,"PIPE, PSS, VCP, EXTRA STRENGTH, 12 IN","LF",90]
[717735,"PIPE, PSS, VCP, EXTRA STRENGTH, 15 IN","LF",110]
[717738,"PIPE, PSS, VCP, EXTRA STRENGTH, 18 IN","LF",125]
[717744,"PIPE, PSS, VCP, EXTRA STRENGTH, 24 IN","LF",150]
[717748,"PIPE, PSS, D.I., CL 50, 8 IN","LF",80]
[717750,"PIPE, PSS, D.I., CL 50, 10 IN","LF",85]
[717752,"PIPE, PSS, D.I., CL 50, 12 IN","LF",90]
[717778,"PIPE, PSS, D.I., CL 52, 8 IN","LF",80]
[717780,"PIPE, PSS, D.I., CL 52, 10 IN","LF",90]
[717782,"PIPE, PSS, D.I., CL 52, 12 IN","LF",95]
[717784,"PIPE, PSS, D.I., CL 52, 14 IN","LF",100]
[717786,"PIPE, PSS, D.I., CL 52, 16 IN","LF",120]
[717788,"PIPE, PSS, D.I., CL 52, 18 IN","LF",150]
[717790,"PIPE, PS or PSS, PVC, D3034 SDR 35, 8 IN","LF",55]
[717792,"PIPE, PS or PSS, PVC, D3034 SDR 35, 12 IN","LF",65]
[717795,"PIPE, PS or PSS, PVC, D3034 SDR 35, 15 IN","LF",75]
[717826,"TEE, VCP, 6 IN","EA",500]
[717828,"TEE, VCP, 8 IN","EA",700]
[717830,"TEE, VCP, 10 IN","EA",900]
[717846,"TEE, D.I., 6 IN","EA",800]
[717848,"TEE, D.I., 8 IN","EA",1150]
[717850,"TEE, D.I., 10 IN","EA",1300]
[717852,"TEE, D.I., 12 IN","EA",1500]
[717866,"TEE, PVC, 6 IN","EA",150]
[717868,"TEE, PVC, 8 IN","EA",175]
[717870,"TEE, PVC, 10 IN","EA",200]
[717892,"TEE, 12 IN, CUT-IN EXISTING CONC PIPE","EA",1300]
[717896,"TEE, 16 IN, CUT-IN EXISTING CONC PIPE","EA",1500]
[717898,"TEE, 18 IN, CUT-IN EXISTING CONC PIPE","EA",2500]
[717899,"TEE, 24 IN, CUT-IN EXISTING CONC PIPE","EA",3000]
[717902,"DAM, CLAY TRENCH","EA",500]
[717985,"TEMPORARY SEWER BYPASS","LS"]
[717990,"TELEVISION INSPECTION","LF",4]
[719006,"SEWER CLEANOUT, 6 IN","EA",700]
[719008,"SEWER CLEANOUT, 8 IN","EA",800]
[720005,"ADJUST EXISTING MH, CB, OR VC","EA",350]
[720010,"ADJUST EXISTING INLET","EA",370]
[720015,"ADJUST EXISTING MON FRAME & COVER","EA",360]
[720020,"ADJUST EXISTING VALVE BOX","EA",340]
[720025,"ADJUST EXISTING MH, CB, OR VC W/RING EXT","EA",400]
[720030,"ADJUST EXISTING INLET W/RING EXT","EA",400]
[720045,"ADJUST EXISTING HANDHOLE","EA",400]
[720047,"ADJUST EXISTING VALVE BOX W/RING EXT","EA",400]
[720230,"UTILITY CASTING, TYPE 230","EA",500]
[720231,"UTILITY CASTING, TYPE 231 (RING EXTENSION)","EA",500]
[720235,"UTILITY CASTING, TYPE 230L","EA",600]
[720265,"UTILITY CASTING, TYPE 265, VANED GRATE","EA",550]
[720300,"UTILITY CASTING, TYPE 361","EA",650]
[720310,"INSTALL CASTING, UTILITY FURNISHED","EA",400]
[720320,"INSTALL GRATE/COVER, OWNER FURNISHED","EA",250]
[802214,"PLANTING SOIL","CY",42]
[802220,"MULCH, BARK","CY",43]
[802230,"MULCH, DECOMPOSED ORGANIC","CY",43]
[802600,"SODDING","SF",4.5]
[802610,"SEEDED LAWN INSTALLATION","SF",0.75]
[804005,"CURB, CEM CONC","LF",26]
[804010,"CURB, CEM CONC, MOUNTABLE","LF",24]
[804015,"CURB AND GUTTER, CEM CONC","LF",33]
[806002,"EXTRUDED CURB, HMA (CL 1/2 IN)","LF",14]
[806004,"EXTRUDED CURB, HMA (CL 1 IN)","LF",14]
[806010,"EXTRUDED CURB, CEM CONC","LF",12]
[806020,"EXTRUDED CURB, CEM CONC, HES (24 HR)","LF",16]
[807005,"CURB, TRAFFIC, PRECAST","LF",20]
[807010,"CURB, TRAFFIC, BLOCK","LF",15]
[808001,"LANE MARKER TYPE 1","EA",4]
[808002,"LANE MARKER TYPE 2","EA",5]
[808005,"PLASTIC TRAFFIC BUTTON","EA",5]
[813020,"MONUMENT FRAME AND COVER","EA",500]
[813030,"RELOCATE OR RESET MON AND MON FRAME AND COVER","EA",500]
[813120,"RESET MONUMENT FRAME AND COVER","EA",500]
[813125,"RELOCATE MONUMENT FRAME AND COVER","EA",500]
[814005,"SIDEWALK, CEM CONC","SY",50]
[814010,"SIDEWALK, THICKENED EDGE","LF",8]
[814020,"CURB RAMP (422A)","EA",1450]
[814022,"CURB RAMP (422B)","EA",1600]
[814023,"CURB RAMP (422C)","EA",1600]
[814024,"CURB RAMP, NON-STANDARD","SY",350]
[814025,"DETECTABLE WARNING PLATE RETROFIT","SF",100]
[814030,"DETECTABLE WARNING PLATE","SY",70]
[814234,"EXPOSED AGGREGATE CEM CONC TREATMENT, SIDEWALK","SY",60]
[814240,"SIX INCH SIDEWALK, CEM CONC","SY",60]
[814250,"PATTERNED CEM CONC TREATMENT, SIDEWALK, (PATTERNED)","SY",70]
[814251,"PATTERNED CEM CONC TREATMENT, SIDEWALK, (RUNNING BOND USED BRICK)","SY",70]
[818020,"STAIRWAY, CEM CONC, SPECIAL","SF",80]
[818030,"GUTTER, CEM CONC, TYPE 440","LF",200]
[818040,"STAIRWAY, CEM CONC, TYPE 440","LF",200]
[818140,"HANDRAIL, TYPE 440","LF",100]
[818142,"HANDRAIL, TYPE 442","LF",100]
[818143,"HANDRAIL, TYPE 443","LF",110]
[818241,"STEPS, CEM CONC","SF",80]
[819006,"DRIVEWAY, CEM CONC, 6 IN","SY",65]
[819008,"DRIVEWAY, CEM CONC, 8 IN","SY",80]
[819018,"DRIVEWAY, CEM CONC, HES (24 HR), 8 IN","SY",85]
[819020,"DRIVEWAY, CEM CONC, HES (72 HR), 8 IN","SY",80]
[821006,"INSTALL SIGN, TRAFFIC, OWNER FURNISHED","EA",100]
[821011,"INSTALL SIGN, STREET DESIGNATION, OWNER FURNISHED","EA",400]
[821015,"INSTALL SIGN, STREET NAME, OWNER FURNISHED, POST MT","EA",150]
[821025,"SIGN, BUS ZONE, OWNER FURNISHED","EA",150]
[821030,"POST, TRAFFIC SIGN","EA",170]
[821035,"POST, PARKING METER","EA",150]
[821040,"POST, STREET NAME","EA",150]
[821045,"POST, BUS ZONE","EA",140]
[821050,"RELOCATE SIGN, TRAFFIC","EA",150]
[821055,"RELOCATE SIGN, STREET NAME","EA",150]
[821060,"RELOCATE SIGN, BUS ZONE","EA",150]
[822004,"PAVEMENT MARKING, PAINT, 4 IN STRIPE   ","LF",1.5]
[822006,"PAVEMENT MARKING, PAINT, 6 IN STRIPE","LF",2]
[822008,"PAVEMENT MARKING, PAINT, 8 IN STRIPE","LF",2.5]
[822010,"PAVEMENT MARKING, PAINT, LEGEND/SYMBOL","EA",50]
[822018,"PAVEMENT MARKING, THERMO, 8 IN STRIPE    ","LF",5]
[822020,"PAVEMENT MARKING, THERMO, LEGEND/SYMBOL","EA",85]
[822025,"PAVEMENT MARKING, PRESSURE SENSITIVE TAPE","LF",0.5]
[822028,"SHARROW, INSTALL OWNER FURNISHED","EA",30]
[831306,"DETECTOR LOOP, 6 FT DIA.","EA",900]